{"text_format":"2","workbook":"xlsx","n_sheets":17,"sheets":["Open","Senior","Adult","Youth","Derby","Highstakes","Futurity","12 & Under","Future Champs","Future Champs-Saturday","Average","BFA 2D Payout","2D Payout","3D Payout","4D Payout BBR","5D Payout BBR","DON'T TOUCH"],"not_rendered":{"charts":0,"images":0,"macros":0,"external_links":0,"defined_names":7,"comments":0,"pivot_tables":0},"unopened":[],"bounds":{"document_bytes":16777216,"sheet_cells":100000,"run_cost":"one","rows_first":2000,"rows_last":500,"rows_between":2000,"halvings":0,"cell_chars":16384,"cell_head_chars":4096},"cells_cut":0,"cells_raw":0,"read":"whole","date_system":"1900"}

{"sheet":"Open","index":0,"n_rows":535,"n_cols":18,"rows_kept":535,"cut":false,"hidden":false,"merged":[[15,15,15,16],[16,15,16,16],[0,0,0,13],[2,15,2,16],[9,15,9,16],[10,15,10,16],[12,15,12,16],[13,15,13,16]]}
["CUBEIT $2000 added"]
[]
["Futurity","Der","HS","Age Inct.","Open C/O","YOU","Draw","Rider Name","Horse Name","Pen","Time","Final Time","Placing","Money Earned",null,"D Placing",null,"Split"]
[{"$nulls":6},37,"Kelly Bruner","Tuffernell",null,15.516,null,"1D 1st",1080,null,"1D",15.516]
[null,null,"X",null,null,null,83,"Shelley Holman","Red Hot N Burnin",null,15.535,null,"1D 2nd",900,null,"2D",{"$f":"SUM(Q4+0.5)","v":16.015999999999998},0.5]
[{"$nulls":6},1,"Kassidy Dennison","Sr Epic CEO",null,15.619,null,"1D 3rd",765,null,"3D",{"$f":"SUM(Q4+1)","v":16.515999999999998},0.5]
["X",null,"X","A",null,null,52,"Kylee Scribner","Firewater Cartel",null,15.622999999999999,null,"1D 4th",585,null,"4D",{"$f":"SUM(Q4+1.5)","v":17.015999999999998},0.5]
[null,null,null,"A",null,null,21,"Laine Whitmire","Bullseye Bullion",null,15.736000000000001,null,"1D 5th",450,null,"5D",{"$f":"SUM(Q4+2)","v":17.515999999999998},0.5]
[{"$nulls":6},239,"Megan Swint","Kickstart Ta Fame",null,15.77,null,"1D 6th",315.00000000000006]
[null,null,null,"S",null,null,153,"Tammy Rokus","Mitey Confederate",null,15.781000000000001,null,"1D 7th",225,null,"# Entered"]
[null,null,"X","A",null,null,182,"Jimmie Smith","Lever Action",null,15.782,null,"1D 8th",180,null,{"$f":"COUNTA(H4:H535)","v":330}]
["X",{"$nulls":5},77,"Stevi Hillman","DTF Texas Moon",null,15.83]
[{"$nulls":6},72,"Amberleigh Moore","CP Dark Moon",null,15.853,{"$nulls":4},"# Ran"]
[{"$nulls":6},26,"Camelia Jenkins",null,null,15.866,{"$nulls":4},{"$f":"COUNTA(K4:K535)","v":330}]
[null,null,"X",null,null,null,237,"Cranna Roberts","Ronnie",null,15.869]
[null,"X",null,"A",null,null,35,"Stephanie Fryar","Some Streakin French",null,15.885999999999999,{"$nulls":4},"# Left"]
[null,null,null,"A",null,null,254,"Jeanie McKee","Streak Of Pleasure",null,15.885999999999999,{"$nulls":4},{"$f":"$P$11-$P$14","v":0}]
[{"$nulls":6},118,"Brooke Alsup","Chickadees Hayday",null,15.904999999999999]
[null,null,null,"A",null,null,165,"Kristin Shoppa","JW Freeze Frame",null,15.916]
[null,null,null,"A",null,null,277,"Ashley Alligood","RB BullysIndian Outlaw",null,15.943]
[{"$nulls":6},19,"Mary Shae Hays","Streakin French MD",null,15.955]
[null,"X","X","A",null,null,234,"Kelsey Hayden","Buhbye",null,15.962999999999999]
[{"$nulls":6},317,"Lane Hadley","Tommy",null,15.964]
[{"$nulls":6},80,"Stevie Perkins","Django",null,15.975]
[{"$nulls":6},65,"Camelia Jenkins",null,null,16]
[{"$nulls":6},301,"Brittney Barnett","Chicks Keen O Poco Poo",null,16.001000000000001]
[{"$nulls":6},135,"Andrea Sewell","Abbysolutly Blitzed",null,16.003]
[{"$nulls":6},312,"Erin Reich","Sallee",null,16.027999999999999,null,"2D 1st",900]
[null,null,null,"A",null,null,192,"Kelsey Hayden","Skippa Ice Breaker",null,16.029,null,"2D 2nd",750]
[{"$nulls":6},74,"Kelly Bruner","LLP Shadrach",null,16.030999999999999,null,"2D 3rd",637.5]
[null,"X",{"$nulls":4},{"$f":"SUM(G30+1)","v":75},"Shelley Holman","Wood B Fun",null,16.036000000000001,null,"2D 4th",487.5]
[null,"X",null,"A",null,null,206,"Kara Large","RSL FirstroyalEddie",null,16.05,null,"2D 5th",375]
[{"$nulls":6},261,"Megan Swint","Krimes Sugar King",null,16.053000000000001,null,"2D 6th",262.5]
[{"$nulls":6},97,"Rylee Leach","NMD ChestersLilBunny",null,16.062999999999999,null,"2D 7th",187.5]
[null,null,"X","A",null,null,145,"Jimmie Smith","Marthas Bullion",null,16.071999999999999,null,"2D 8th",150]
[{"$nulls":6},8,"Sarah Rau","Her Perks R On Fire",null,16.076000000000001]
[{"$nulls":6},14,"Maci Berry","Shezamaximunbugleo",null,16.117000000000001]
[{"$nulls":6},4,"Lacy Billingsley","lvn watchmeneighneigh",null,16.119]
[{"$nulls":6},321,"Megan Swint","Oh No Frosty",null,16.119]
[{"$nulls":6},322,"Kristy Maxwell","KC Judge On Fire",null,16.119]
[{"$nulls":6},306,"Sydney Harris","Get Down Playboy",null,16.122]
[{"$nulls":6},133,"Jessica Beauvais","Eyes Okey Dokey",null,16.146000000000001]
[null,null,null,"A",null,null,242,"Phillip Kenyon","Tillies Hayday",null,16.149000000000001]
[{"$nulls":6},137,"Kortney Fisher","Stolin French Kisses",null,16.154]
[{"$nulls":6},{"$f":"SUM(G44+1)","v":138},"Kathy Warren","Promise Me Sunshine",null,16.155999999999999]
[{"$nulls":6},292,"Sommer Strain","Harems Scamp 229",null,16.166]
[{"$nulls":4},"X","X",245,"Micah Wallace","Zima",null,16.167999999999999]
[null,null,null,"A",null,null,11,"Bianca Dos Santos","One Famous Streaker",null,16.170000000000002]
[{"$nulls":6},283,"Wenda Johnson","Dreams First Flash",null,16.177]
[null,null,"X","A",null,null,172,"Lauren Whitmire","Fame Rox",null,16.187000000000001]
[null,"X",{"$nulls":4},252,"Kassidy McKee","Real EZ Fame",null,16.187000000000001]
[{"$nulls":6},9,"Lacy Schoenthal","Max",null,16.187999999999999]
[{"$nulls":6},258,"Riley Chown","Slate",null,16.190000000000001]
[null,null,null,"S",null,null,148,"Jenny Zant","Raise Me Ta Fame",null,16.190999999999999]
[{"$nulls":4},"X","X",307,"Savannah Dore","SR Jess So Special",null,16.193000000000001]
["X",null,"X","A",null,null,302,"Jennifer Kalafatic","Rockin The Guns",null,16.2]
[null,null,null,"A",null,null,31,"Tami Semas","Guys Drama Queen",null,16.204999999999998]
[{"$nulls":6},183,"Lauren Howe","A Hero Spotted",null,16.210999999999999]
[{"$nulls":6},253,"Denny Ralls","SV Southern Comfort",null,16.212]
["X",null,null,"S",null,null,143,"Jolene Jones","Peppys Streakof Fame",null,16.228000000000002]
[{"$nulls":6},208,"Jennifer Cook","MeanCheerleader",null,16.23]
[{"$nulls":6},173,"Judy Melvin","Famous Kid Rock",null,16.234999999999999]
[{"$nulls":6},40,"Meridith Davis","Blushing Fame",null,16.248999999999999]
[{"$nulls":6},136,"Karlee Kalberer","Turbo Streaker",null,16.263000000000002]
[null,null,null,"S",null,null,84,"Lisa Wernli","Flashs Fine Effort",null,16.265999999999998]
[{"$nulls":6},191,"Kiley Dalchow","Vegus First Snow",null,16.273]
[null,null,null,"S",null,null,44,"Laura Creel","Frenchmans Docs RX",null,16.28]
[{"$nulls":6},279,"Kinzer Simmons","Jetta",null,16.289000000000001]
[null,null,null,"A",null,null,95,"Sarah Rau","Cinnamon On Top",null,16.292999999999999]
[null,"X",null,"A",null,null,273,"Phillip Kenyon","MakeitaMojito",null,16.295000000000002]
[null,null,null,"A",null,null,323,"Jennifer Abbott","Wendell Jackson",null,16.3]
[null,null,null,"A",null,null,23,"Tawnie Vanderlans","TS Return N Hayday",null,16.300999999999998]
[{"$nulls":6},244,"Misty Peek","Amos",null,16.303999999999998]
[null,null,null,"A",null,null,150,"Mindy Holloway","Sweetmovinfirewater",null,16.309999999999999]
[null,null,null,"A",null,null,180,"Mechelle Tyler","Kissesforcaris",null,16.343]
["X",{"$nulls":5},45,"Dawn Link","Dominnator",null,16.350999999999999]
[{"$nulls":6},151,"Jo Fisher","Fancy",null,16.38]
[{"$nulls":6},86,"Terri Ford","Injun Needs Cash",null,16.382000000000001]
[{"$nulls":6},58,"Mary Shae Hays","Streaks French Flit",null,16.384]
[null,null,null,"A",null,null,162,"Jessie King","Sophie SO Sweet",null,16.396999999999998]
[{"$nulls":6},314,"Adeline Navala","Showinoffintheknud",null,16.399999999999999]
[null,null,null,"A",null,null,142,"Teneille Angland","KN Famous Ever After",null,16.402999999999999]
[{"$nulls":6},146,"Shannon Pearson","Reds Roany Pony",null,16.405999999999999]
[{"$nulls":6},94,"Brooke Sully","EZ Shake EM",null,16.41]
[{"$nulls":6},218,"Taryn Parsonage","Jo Fame",null,16.411000000000001]
[null,null,null,"A",null,null,73,"Stephanie Fryar","The Red Maserati",null,16.414999999999999]
[{"$nulls":6},214,"Kevin Springer","Miss Little Honey",null,16.417000000000002]
["X",{"$nulls":5},99,"Hallie Hanssen","Jesswatchmestreak",null,16.439]
[{"$nulls":6},16,"Kyra Boling","Teninas Hayday",null,16.440999999999999]
[{"$nulls":6},176,"Andrea Sewell","Uptown Fame",null,16.443999999999999]
[null,null,null,"S",null,null,140,"Debbie Richardson","VF Going Big Time",null,16.452000000000002]
[{"$nulls":6},50,"Connie Randolf","Hot Rod Kitty Catt",null,16.454999999999998]
[{"$nulls":6},48,"Lacy Billingsley","Dirty Dizco Diane 37",null,16.463000000000001]
[{"$nulls":6},{"$f":"SUM(G93+1)","v":49},"Geneva Roberton","Kick Some Dust Up",null,16.477]
[{"$nulls":6},200,"Benjamin Beall","VF I Will B Famous",null,16.481000000000002]
[null,null,null,"S",null,null,138,"Starla Fitzgerald","Famous Gem",null,16.495999999999999]
[{"$nulls":4},"X","X",290,"Leddy Hill","Cashs Lil Dollie",null,16.516999999999999,null,"3D 1st",720]
[{"$nulls":6},291,"Chenessa McGraw","The Flit To Kill For",null,16.526,null,"3D 2nd",600]
[{"$nulls":6},350,"Savannah Dore","Faith",null,16.527000000000001,null,"3D 3rd",510.00000000000006]
[null,null,null,"S",null,null,159,"Mary Carter","Bully Bully Fame",null,16.545999999999999,null,"3D 4th",390]
[{"$nulls":6},305,"Blythe Beshears","Lion To The Guys",null,16.553000000000001,null,"3D 5th",300]
[{"$nulls":6},267,"Jordan Swan","Storms A Shakin",null,16.556000000000001,null,"3D 6th",210.00000000000003]
[null,null,null,"A",null,null,115,"Jennifer Cullen","HLC Pretty Lil Sugar",null,16.559999999999999,null,"3D 7th",150]
[{"$nulls":6},204,"Nisa Berry","Luv That Cool Corona",null,16.567,null,"3D 8th",120]
[{"$nulls":6},293,"Sage Tomeu","Stella",null,16.568999999999999]
[{"$nulls":6},268,"Sara Reed","Rattle Me Too",null,16.574999999999999]
[{"$nulls":6},{"$f":"SUM(G106+1)","v":269},"Irene Feaser","Cant Bye Fame",null,16.577999999999999]
[null,null,null,"S",null,null,78,"Jo Kirby","Heavenly Joak",null,16.579999999999998]
[{"$nulls":6},276,"Shelby Curry","Katie",null,16.597999999999999]
[null,null,null,"S",null,null,90,"Johnell Ray","Smooth Your Jets",null,16.602]
[{"$nulls":6},105,"Lee Baron","Xtra Splash N Go",null,16.603000000000002]
[{"$nulls":6},122,"Stevie Perkins","A Fun Frenchman",null,16.614000000000001]
[{"$nulls":6},316,"Sydnee Carter","Frenchmans Royal",null,16.617000000000001]
[{"$nulls":4},"X","X",233,"Savannah Dore","The Great Gatsby",null,16.622]
[{"$nulls":6},222,"Alleigh Harper","HW Hesa Blurr",null,16.622]
["X",null,null,"A",null,null,149,"Stephanie Fryar","Cant Stop The Feeling",null,16.64]
[{"$nulls":6},181,"Dawn Fryar","Special Bid Of Frost",null,16.646999999999998]
[{"$nulls":6},249,"Brittney Barnett","Frostys Sugar Peppy",null,16.648]
[null,null,null,"A",null,null,79,"Laine Whitmire","Ms Carrie Lou",null,16.655999999999999]
[{"$nulls":6},331,"Carlee Otero","Citron",null,16.658000000000001]
[{"$nulls":6},139,"Bailey Yaussi","Flippin Terrific",null,16.66]
[{"$nulls":6},171,"Shaun Sandoval","Machine Gun Kelli",null,16.661000000000001]
[null,null,null,"S",null,null,185,"Terry Vogel","BB Boogyingfrenchman",null,16.664000000000001]
[{"$nulls":6},167,"Shea Durfey","Betty",null,16.664000000000001]
[{"$nulls":6},17,"Casey Hammons","BH Trip Ta Fame",null,16.672999999999998]
[{"$nulls":6},116,"Christi Durfey","Jess Blazin Otoe",null,16.673999999999999]
[null,null,null,"A",null,null,27,"Sydney Swatsell","Smalls",null,16.696999999999999]
[null,null,null,"A",null,null,174,"Tiffany Durham","Dual Reys Win Money",null,16.7]
[{"$nulls":6},246,"Kinzer Simmons","Skeeter",null,16.704000000000001]
[null,null,null,"A",null,null,69,"Sydney Swatsell","Feature Me Firin",null,16.713999999999999]
[{"$nulls":6},298,"Megan Swint","Special Dances",null,16.718]
[null,null,null,"A",null,null,318,"Madison Wright","Manchita",null,16.722000000000001]
[{"$nulls":6},112,"Kristen Dorman","Easy",null,16.724]
[{"$nulls":6},188,"Felesha Smith","Chicks Shawnee Bug",null,16.731000000000002]
[null,null,null,"A",null,null,215,"Caitlyn Schievink","KN Mojita Over Rocks",null,16.731999999999999]
[null,null,null,"S",null,null,131,"Mary McLiney","Banking Ta Fame",null,16.739999999999998]
[null,null,null,"A",null,null,93,"Daisy Baird","Teninas Smart Cookie",null,16.756]
[{"$nulls":6},308,"Makala Pierce","Melman",null,16.765999999999998]
["X",null,null,"S",null,null,243,"Julie Knox","Talented Streaker",null,16.785]
[{"$nulls":4},"X","X",266,"Stormi Branch","Demon",null,16.789000000000001]
[null,null,null,"A",null,null,163,"Lindsey Stevens","JM I Got Faith",null,16.791]
[{"$nulls":6},46,"Lacy Matthews","Shilohs Perky Pistol",null,16.792000000000002]
[null,null,null,"S",null,null,127,"Lisa Wernli","Babe On the Run",null,16.8]
[{"$nulls":6},262,"Gretchen Goedeken","Fine Whatever",null,16.811]
[{"$nulls":6},297,"Mike Lackey","Eazy Bling Bling",null,16.821999999999999]
[{"$nulls":6},190,"Kendra Feaser","She Run For Cash",null,16.827000000000002]
[null,null,null,"S",null,null,221,"Terry Vogel","Dinky Jets Famous Jr",null,16.829999999999998]
[null,null,null,"A",null,null,170,"Alleigh Harper","Rockette Aflame ",null,16.835999999999999]
[{"$nulls":6},2,"Wyatt Paul","Hurricane Harvey",null,16.841999999999999]
[{"$nulls":6},55,"Nisa Berry","NB Keep N Time",null,16.856999999999999]
[{"$nulls":6},184,"Taryn Parsonage","Quick Ta CASh In",null,16.856999999999999]
[{"$nulls":6},212,"Matt Bancroft","Toms Texas Cash",null,16.861000000000001]
["X",null,null,"A",null,null,47,"Sarah Rau","MV Famous Margarita",null,16.881]
[{"$nulls":6},194,"Liz Gundersen","Spinning Cookies",null,16.895]
[{"$nulls":6},24,"Kristi Tuinei","Zippys Cash Ta Fame",null,16.899999999999999]
[{"$nulls":6},34,"Shannon Black","Mr Rambo Remedy",null,16.902999999999999]
[{"$nulls":6},230,"Felesha Smith","Frostbidden Leo",null,16.907]
[null,null,null,"A",null,null,64,"Lorinda Van Newkirk","Rare Shake CEO",null,16.908000000000001]
[{"$nulls":6},147,"Jessica Mohr","KN Chattin Bout Fame",null,16.908000000000001]
[{"$nulls":6},60,"Kortney Fisher","Tres For Me",null,16.914999999999999]
[{"$nulls":6},28,"Andrea Cline","The Fame Is Serious",null,16.919]
[{"$nulls":6},160,"Gretchen Goedeken","Pretty Bay Pony",null,16.931999999999999]
["X",null,null,"A",null,null,13,"Tiffany Durham","Midge Ridge",null,16.940999999999999]
[{"$nulls":6},228,"Meredith Telford","Whos Winning",null,16.946999999999999]
[{"$nulls":6},179,"Jo FIsher","Rockette",null,16.952999999999999]
[{"$nulls":6},270,"Kendall Jordan","Fern",null,16.98]
[{"$nulls":6},123,"Delaney Siebert","Streakin N Blazin",null,16.983000000000001]
[null,null,null,"S",null,null,114,"Patti Reardon","HeCome Dun",null,16.991]
[{"$nulls":6},33,"Anna Barker","TK Fire N Fame",null,16.994]
[{"$nulls":6},30,"Amberleigh Moore","Blue Duck Down",null,17.007999999999999]
[null,null,null,"S",null,null,70,"Jolene Jones","Capone",null,17.021000000000001,null,"4D 1st",540]
[{"$nulls":4},"X","X",224,"Avery Childers","Circle Y Doc",null,17.042000000000002,null,"4D 2nd",450]
[{"$nulls":6},281,"Brinley Howard","Reds Western Flit",null,17.052,null,"4D 3rd",383]
[null,null,null,"S",null,null,29,"Veronica Williams","Tri War Leo",null,17.058,null,"4D 4th",292.5]
[{"$nulls":6},196,"Lolita Long","Streakin Summer Bugs",null,17.067,null,"4D 5th",225]
[{"$nulls":6},189,"Roberta Chott","Guys Hot Frost",null,17.074000000000002,null,"4D 6th",157.50000000000003]
[{"$nulls":6},272,"Brittney Barnett","Frenchmans Pick",null,17.085000000000001,null,"4D 7th",113]
[null,null,null,"A",null,null,62,"Tiffany Durham","Dashin Luke Perry",null,17.097999999999999,null,"4D 8th",90]
[{"$nulls":6},59,"Heavenli Scribner","JSH Lucky Bottom Roy",null,17.102]
[null,null,null,"S",null,null,161,"Dee Dee Jordan","Lil Yella Draw",null,17.129000000000001]
[{"$nulls":6},71,"Olivia Largent",null,null,17.143999999999998]
[{"$nulls":6},210,"Judy Melvin","Flits Ruby Shine",null,17.152000000000001]
[{"$nulls":6},287,"McKenzie Morgan","Streak",null,17.152999999999999]
[null,null,null,"S",null,null,38,"Trina Murray","Fuel For Dash",null,17.163]
[{"$nulls":6},144,"Camelia Jenkins",null,null,17.163]
[{"$nulls":6},20,"Anisa Coates","Blazin Nike",null,17.170000000000002]
[{"$nulls":6},10,"Lisa Corey","Beda Dream",null,17.181000000000001]
[{"$nulls":6},211,"Gretchen Goedeken","Spots in my Dreams",null,17.198]
[{"$nulls":4},"x","x",36,"Taylor Hice","Mack Daddy",null,17.218]
[{"$nulls":6},51,"Kyle Etchart","Panfis Corona",null,17.219000000000001]
[{"$nulls":6},108,"Shantell Hayes","Cougar",null,17.22]
[{"$nulls":6},41,"Mandi Cleveland","Rare Corona Gone",null,17.231000000000002]
[{"$nulls":6},284,"Sherry Alligood","Peppy Cherokee King",null,17.245000000000001]
[null,null,null,"A",null,null,7,"Jesse Budd","Flicker Nic",null,17.262]
[{"$nulls":6},278,"Carole Lynn Newsome","SA Docs Dual Ruby",null,17.271999999999998]
[{"$nulls":6},320,"Allie Zant","DB Sweet N Smooth",null,17.277000000000001]
[{"$nulls":6},168,"Nisa Berry","Woodya Luk At Me Now",null,17.285]
[{"$nulls":6},102,"Whitney Fisher","BB French N Easy",null,17.291]
[null,null,null,"S",null,null,213,"Lee Vogel","Super Frosted Bug",null,17.312999999999999]
[{"$nulls":4},"X","X",109,"Hadley Durfey","One Smooth Kelly",null,17.315999999999999]
[null,null,null,"A",null,null,303,"Nicole Buell"," Dirty Money",null,17.338000000000001]
[null,null,null,"S",null,null,134,"Kathy Cribbs","playboy Arrow",null,17.341000000000001]
[null,null,null,"A",null,null,125,"Rogena Richard","Colt",null,17.356000000000002]
[{"$nulls":6},169,"Marilyn Melvin","Flits SOul SIster",null,17.361000000000001]
[{"$nulls":6},193,"Ella Barch","JK Drop Dead Red",null,17.363]
[{"$nulls":6},{"$f":"SUM(G205+1)","v":194},"Kaitlyn Garcia","Just A Dry Doc",null,17.364999999999998]
[{"$nulls":6},235,"Lolita Long","Jagerita Lita",null,17.37]
[{"$nulls":6},88,"Shelly Morgan","Carchy Cat",null,17.370999999999999]
[{"$nulls":5},"X",248,"Cooper Peek","Dolly",null,17.373000000000001]
[null,null,null,"A",null,null,{"$f":"SUM(G209+1)","v":249},"Timberly Erickson","Mines Fast",null,17.385000000000002]
[null,null,null,"A",null,null,236,"Jessica Crouch","Vito",null,17.385999999999999]
[{"$nulls":6},311,"Carole Lynn Newsome","Pistol",null,17.396999999999998]
[{"$nulls":6},294,"Aimee Williams","DSC Woody Be Blue",null,17.428999999999998]
[{"$nulls":6},315,"Michaela Robertson","EZ On The Dynamite",null,17.472000000000001]
[{"$nulls":6},154,"Missy Piper","Roosters Rockin Fame",null,17.507999999999999]
[null,null,null,"S",null,null,263,"Terry Vogel","Imablueyedblondbitz",null,17.510000000000002]
[{"$nulls":6},56,"Sydney Swatsell","Mack Daddy",null,17.53,null,"5D 1st",360]
[{"$nulls":6},280,"Amy Reed","JWG Driftwood Gypsy",null,17.536999999999999,null,"5D 2nd",300]
[{"$nulls":6},351,"Kati Trimmell","Jake",null,17.553999999999998,null,"5D 3rd",255.00000000000003]
[{"$nulls":6},89,"Krista Lucas Wynn","Crown Royal Jet",null,17.565000000000001,null,"5D 4th",195]
[{"$nulls":6},251,"Danielle Richards","Wanda",null,17.603000000000002,null,"5D 5th",150]
[{"$nulls":6},260,"Annabelle Martin","Posh",null,17.628,null,"5D 6th",105.00000000000001]
[{"$nulls":6},120,"Shambrae Williams","Sakem Frost",null,17.638000000000002,null,"5D 7th",75]
[{"$nulls":6},103,"Camelia Jenkins",null,null,17.686,null,"5D 8th",60]
[{"$nulls":6},6,"Kathie Walker","The Last Prince",null,17.712]
[{"$nulls":6},300,"Jacy Pierce","Brookstone Reba",null,17.75]
[{"$nulls":6},76,"Linda Serinaldi","Full Moons Alive",null,17.757999999999999]
[null,null,null,"S",null,null,75,"Trina Murray","JL Fourtafame",null,17.779]
[{"$nulls":6},286,"Sierra Clanton","Fulla Bull N Cactus",null,17.827999999999999]
[{"$nulls":6},348,"Adeline Navala","Live Lucky",null,17.834]
[{"$nulls":6},{"$f":"SUM(G230+1)","v":349},"Lee Ann Guilkey","Blazin Gator",null,17.841000000000001]
[{"$nulls":6},43,"Wyatt Paul","Strait TO Dallas By 6",null,17.856999999999999]
[{"$nulls":6},274,"Grace Ornelas","Bubba",null,17.863]
[{"$nulls":6},304,"BeckyDockery","PapasFaith Boy",null,17.872]
[null,null,null,"A",null,null,113,"Tiffany Durham","Colonels Kerosene",null,17.876999999999999]
[{"$nulls":6},201,"Aimee Williams","Dashin Quick N Royal",null,17.920000000000002]
[{"$nulls":6},61,"Ashley truman","flaming okey",null,17.933]
["X",null,null,"A",null,null,157,"Jennifer Cullen","Chasin Annies Fame",null,17.978000000000002]
[{"$nulls":6},128,"Krista Lucas Wynn","TBR Streak Of Perks",null,17.992999999999999]
[{"$nulls":6},223,"Dawn Fryar","Litem Up On Fire",null,18.042000000000002]
["X",null,null,"A",null,null,32,"Randi Roberts","Boom Slicka Boom",null,18.085999999999999]
[{"$nulls":6},202,"Lauren Howe","Marla",null,18.222999999999999]
[{"$nulls":6},107,"Jolene Jones","Kate",null,18.225999999999999]
[{"$nulls":6},285,"Carrol Abendroth","Bolo",null,18.225999999999999]
[{"$nulls":6},92,"Sally Fitzpatrick","GBH Zip Jesse",null,18.280999999999999]
[{"$nulls":6},310,"Kaytie Zuidema","Misty K Quioxte",null,18.367000000000001]
[null,null,null,"S",null,null,219,"Marj Dahle",null,null,18.449000000000002]
[null,null,null,"A",null,null,{"$f":"SUM(G247+1)","v":220},"Kolleen Wilchenski","Bugsy",null,18.687000000000001]
[{"$nulls":6},156,"Shambrae Williams","Mels Famous Hayday",null,18.806999999999999]
[{"$nulls":6},104,"Chelan Pimental","Guys Minnie Jet",null,19.035]
[{"$nulls":5},"X",309,"Jayde Peters","Katy Done Did It",null,19.233000000000001]
[{"$nulls":6},226,"Sarah Cearley","Cool Man",null,19.27]
[{"$nulls":6},110,"Paige Wiseman","Foxy",null,19.803000000000001]
[{"$nulls":6},129,"Jen Doplika","Arrow",null,20.254999999999999]
[{"$nulls":6},53,"Wendy Martin","Rita",null,20.268000000000001]
[null,null,null,"A",null,null,100,"Amber Wagner","Nordis Dash",null,20.77]
[{"$nulls":6},175,"Jessica Beauvais","DL Miss Feintastic",null,20.901]
[{"$nulls":6},295,"Les Lujan","Peanut",null,20.966999999999999]
[{"$nulls":5},"X",141,"Lillian Doplika",null,null,21.07]
["X",{"$nulls":5},5,"Shelley Holman","Phrozen",null,"broken"]
[null,null,null,"A",null,null,241,"Kolleen Wilchenski","Ima Mighty One",null,"broken"]
[{"$nulls":6},85,"Wyatt Paul","FC Strait Cajun",null,"broken"]
[{"$nulls":6},282,"Kylie Munson","Breaker",null,"broken"]
[{"$nulls":6},288,"Tara Hill","Buckle Bunny",null,"broken"]
[{"$nulls":6},299,"Carlee Otero","T",null,"broken"]
[{"$nulls":6},319,"Ashley Gowens","Hank",null,"broken"]
[{"$nulls":6},349,"Lane Hadley","FL Baby Blue Bugs",null,"broken"]
[null,null,null,"A",null,null,275,"Jessica Crouch ","Vinny",null,"nt"]
[{"$nulls":6},54,"Kristy Scribner","Beggars Rockette",null,"nt"]
[null,"X",{"$nulls":4},231,"Wenda Johnson","Macgyver Moonflash",null,"nt15.569"]
[{"$nulls":6},257,"Molly Childers","Smooth Movin Guy",null,"nt15.672"]
[null,null,"X",null,null,null,57,"Hallie Hanssen","Tres Movidas",null,"nt15.784"]
[null,"X",{"$nulls":4},81,"SheaLynn McConnell","Smooth N Heavenly",null,"nt15.873"]
[null,null,null,"S",null,null,22,"Martha Jordan","MV Fury Of The Fame",null,"nt15.879"]
[{"$nulls":6},250,"McKenzie Morgan","H2",null,"nt15.879"]
[{"$nulls":6},155,"Cheyenne Wimberley","KN Fabs Mist Of Fame",null,"nt15.889"]
[{"$nulls":6},289,"Jimmie Smith",null,null,"nt15.907"]
[{"$nulls":6},232,"Natalie Zuccone","Technistones",null,"nt15.931"]
[null,null,null,"A",null,null,203,"Shelby Janssen","Shes A Man Eater",null,"nt15.966"]
[{"$nulls":6},186,"Molly Childers","Just My Choice",null,"nt15.990"]
[{"$nulls":6},117,"Cheyenne Wimberley","VQ Sucker Punch",null,"nt16.042"]
[{"$nulls":6},119,"SheaLynn McConnel","Louie Bug",null,"nt16.065"]
[{"$nulls":6},166,"Benjamin Beall","Kissme Frenchman",null,"nt16.095"]
[{"$nulls":6},87,"Tristan Parrish","Happy N Famous",null,"nt16.105"]
[{"$nulls":6},341,"Makala Pierce","Trooper ",null,"nt16.231"]
[{"$nulls":6},126,"Wyatt Paul","World Famous Louise",null,"nt16.244"]
[{"$nulls":6},130,"Paige Wiseman","Tarley",null,"nt16.262"]
[{"$nulls":6},229,"Kiley Dalchow","Nick Of Guy",null,"nt16.291"]
[{"$nulls":6},296,"Kassidy McKee","KN Mister Fabulous",null,"nt16.311"]
[{"$nulls":6},352,"Michelle Darling","Bianca",null,"nt16.314"]
[{"$nulls":6},91,"Nisa Berry","A Corona Royale",null,"nt16.333"]
[null,null,"X","A",null,null,269,"Jennifer Kalafatic","CM Spotlight",null,"nt16.385"]
[null,"X","X","A",null,null,121,"Lauren Whitmire","Dash Down Anytime",null,"nt16.447"]
["X",{"$nulls":5},{"$f":"SUM(G293+1)","v":122},"Hallie Hanssen","Blazin Matilda",null,"nt16.492"]
["X",null,null,"A",null,null,111,"Stephanie Fryar","Can I Get a Hallelujah",null,"nt16.502"]
[{"$nulls":4},"X","X",271,"Savannah Dore","Smokin Hot Lady Cat",null,"nt16.576"]
[null,null,null,"A",null,null,205,"Lindsey Stevens","Miss America Fame",null,"nt16.621"]
[{"$nulls":6},178,"Tesha Fredricks","Krazy Karen",null,"nt16.628"]
[{"$nulls":6},238,"Shelly Mull","Hallelujah Epic",null,"nt16.640"]
[null,null,null,"S",null,null,197,"Debbie Richardson","Jessd Streakin Again",null,"nt16.649"]
[{"$nulls":6},96,"Kortney Fisher","Cowboy Ta Fame",null,"nt16.667"]
[null,"X",{"$nulls":4},132,"Nisa Berry","A Kings Famous Fling",null,"nt16.699"]
[null,"X",null,"A",null,null,15,"Lauren Whitmire","WR Famous Maverick",null,"nt16.774"]
[{"$nulls":6},106,"Jana Kurosky","Winnies Red Kai",null,"nt16.795"]
[null,null,null,"A",null,null,68,"Lauren Whitmire","WR Famous Amigo",null,"nt16.801"]
[{"$nulls":6},227,"Kendra Feaser","TU Lackanookie",null,"nt16.817"]
[null,"X",null,"A",null,null,313,"Sarah Peters","Rockin My Fame",null,"nt16.924"]
[{"$nulls":6},225,"Lauren Howe","Bitas Cash Popper",null,"nt16.985"]
[{"$nulls":6},217,"Pattie Mackie","Flitter Fuel Lad",null,"nt16.991"]
[{"$nulls":6},216,"Jimmie Smith","Annie Guys Easy Jet",null,"nt17.103"]
[null,null,null,"S",null,null,195,"Tammy Rokus","Rugged Frenchman",null,"nt17.125"]
[{"$nulls":6},207,"Ashley Murray","Romancing the Smoke",null,"nt17.197"]
[{"$nulls":6},259,"Jaidyn Ornelas","Firstee",null,"nt17.209"]
[null,null,null,"A",null,null,101,"Katie Kapanick","Pistol Packin Lark",null,"nt17.211"]
[{"$nulls":6},82,"Hannah Hertel","Lenas Dash Ta Victory",null,"nt17.239"]
[{"$nulls":6},63,"Anisa Coates","Confederate Promise",null,"nt17.539"]
[{"$nulls":6},98,"Judi Veeder","GL Tuff",null,"nt17.658"]
[{"$nulls":6},247,"Kylie Munson","T",null,"nt17.758"]
[null,null,null,"S",null,null,152,"Debra Cooper","Hugginanativepepto",null,"nt18.036"]
[{"$nulls":6},240,"Breanna Walker","Ruby Red Booty",null,"nt18.198"]
[{"$nulls":6},255,"Brinley Howard","WhoneedsfameImFrench",null,"nt18.340"]
[null,null,null,"A",null,null,265,"Serena Jenkins","Top Money Dude",null,"nt19.030"]
[{"$nulls":6},199,"Clarissa Kopchak","Pistols Shining Star",null,"nt19.460"]
[{"$nulls":6},177,"Carol Buffington","ZanNex",null,"nt19.910"]
["X",{"$nulls":5},220,"Molly Childers","Dash Ta Special",null,"nt20.284"]
[null,null,null,"A",null,null,187,"Mindy Holloway","Flame Flinging Rebel",null,"nt20.480"]
[{"$nulls":6},12,"Lisa Lucia ",null,null,"nt20.595"]
[{"$nulls":6},158,"Hailey Beauvais","This Marvs Rockin",null,"nt22.217"]
[null,"X",{"$nulls":4},67,"Brandi Felder","Graves Leavin Tucson",null,"scratch"]
[null,null,null,"S",null,null,164,"Waynella Spurgeon","CCCWranglers Glory",null,"scratch"]
[{"$nulls":6},25,"Brandi Felder","MP Haydays Chickadee",null,"scratch"]
[{"$nulls":6},39,"Cassidy Thomas","Ladys Moon Fire",null,"scratch"]
[{"$nulls":6},66,"Cassidy Thomas","MC Miss Windy",null,"scratch"]
[{"$nulls":6},324]
[{"$nulls":6},325]
[{"$nulls":6},326]
[{"$nulls":6},327]
[{"$nulls":6},328]
[{"$nulls":6},329]
[{"$nulls":6},330]
[{"$nulls":6},332]
[{"$nulls":6},333]
[{"$nulls":6},334]
[{"$nulls":6},335]
[{"$nulls":6},336]
[{"$nulls":6},337]
[{"$nulls":6},338]
[{"$nulls":6},339]
[{"$nulls":6},340]
[{"$nulls":6},342]
[{"$nulls":6},343]
[{"$nulls":6},344]
[{"$nulls":6},345]
[{"$nulls":6},346]
[{"$nulls":6},347]
[{"$nulls":6},353]
[{"$nulls":6},354]
[{"$nulls":6},355]
[{"$nulls":6},356]
[{"$nulls":6},357]
[{"$nulls":6},358]
[{"$nulls":6},359]
[{"$nulls":6},360]
[{"$nulls":6},361]
[{"$nulls":6},362]
[{"$nulls":6},363]
[{"$nulls":6},{"$f":"SUM(G366+1)","v":364}]
[{"$nulls":6},364]
[{"$nulls":6},365]
[{"$nulls":6},{"$f":"SUM(G369+1)","v":366}]
[{"$nulls":6},366]
[{"$nulls":6},367]
[{"$nulls":6},368]
[{"$nulls":6},369]
[{"$nulls":6},370]
[{"$nulls":6},371]
[{"$nulls":6},372]
[{"$nulls":6},373]
[{"$nulls":6},374]
[{"$nulls":6},375]
[{"$nulls":6},376]
[{"$nulls":6},377]
[{"$nulls":6},378]
[{"$nulls":6},379]
[{"$nulls":6},380]
[{"$nulls":6},381]
[{"$nulls":6},382]
[{"$nulls":6},383]
[{"$nulls":6},384]
[{"$nulls":6},385]
[{"$nulls":6},386]
[{"$nulls":6},387]
[{"$nulls":6},388]
[{"$nulls":6},389]
[{"$nulls":6},390]
[{"$nulls":6},391]
[{"$nulls":6},392]
[{"$nulls":6},393]
[{"$nulls":6},394]
[{"$nulls":6},{"$f":"SUM(G399+1)","v":395}]
[{"$nulls":6},395]
[{"$nulls":6},396]
[{"$nulls":6},397]
[{"$nulls":6},398]
[{"$nulls":6},399]
[{"$nulls":6},400]
[{"$nulls":6},401]
[{"$nulls":6},{"$f":"SUM(G407+1)","v":402}]
[{"$nulls":6},402]
[{"$nulls":6},403]
[{"$nulls":6},404]
[{"$nulls":6},405]
[{"$nulls":6},406]
[{"$nulls":6},{"$f":"SUM(G413+1)","v":407}]
[{"$nulls":6},407]
[{"$nulls":6},408]
[{"$nulls":6},409]
[{"$nulls":6},410]
[{"$nulls":6},411]
[{"$nulls":6},412]
[{"$nulls":6},413]
[{"$nulls":6},414]
[{"$nulls":6},{"$f":"SUM(G422+1)","v":415}]
[{"$nulls":6},415]
[{"$nulls":6},416]
[{"$nulls":6},417]
[{"$nulls":6},418]
[{"$nulls":6},419]
[{"$nulls":6},420]
[{"$nulls":6},421]
[{"$nulls":6},422]
[{"$nulls":6},423]
[{"$nulls":6},424]
[{"$nulls":6},425]
[{"$nulls":6},426]
[{"$nulls":6},{"$f":"SUM(G435+1)","v":427}]
[{"$nulls":6},427]
[{"$nulls":6},428]
[{"$nulls":6},429]
[{"$nulls":6},430]
[{"$nulls":6},431]
[{"$nulls":6},432]
[{"$nulls":6},{"$f":"SUM(G442+1)","v":433}]
[{"$nulls":6},433]
[{"$nulls":6},434]
[{"$nulls":6},435]
[{"$nulls":6},436]
[{"$nulls":6},437]
[{"$nulls":6},438]
[{"$nulls":6},439]
[{"$nulls":6},440]
[{"$nulls":6},441]
[{"$nulls":6},442]
[{"$nulls":6},443]
[{"$nulls":6},444]
[{"$nulls":6},445]
[{"$nulls":6},446]
[{"$nulls":6},447]
[{"$nulls":6},448]
[{"$nulls":6},449]
[{"$nulls":6},450]
[{"$nulls":6},451]
[{"$nulls":6},452]
[{"$nulls":6},453]
[{"$nulls":6},454]
[{"$nulls":6},455]
[{"$nulls":6},456]
[{"$nulls":6},457]
[{"$nulls":6},458]
[{"$nulls":6},459]
[{"$nulls":6},460]
[{"$nulls":6},461]
[{"$nulls":6},462]
[{"$nulls":6},{"$f":"SUM(G473+1)","v":463}]
[{"$nulls":6},463]
[{"$nulls":6},464]
[{"$nulls":6},465]
[{"$nulls":6},{"$f":"SUM(G477+1)","v":466}]
[{"$nulls":6},466]
[{"$nulls":6},467]
[{"$nulls":6},{"$f":"SUM(G480+1)","v":468}]
[{"$nulls":6},468]
[{"$nulls":6},469]
[{"$nulls":6},470]
[{"$nulls":6},471]
[{"$nulls":6},472]
[{"$nulls":6},473]
[{"$nulls":6},474]
[{"$nulls":6},{"$f":"SUM(G488+1)","v":475}]
[{"$nulls":6},475]
[{"$nulls":6},476]
[{"$nulls":6},477]
[{"$nulls":6},478]
[{"$nulls":6},{"$f":"SUM(G493+1)","v":479}]
[{"$nulls":6},479]
[{"$nulls":6},480]
[{"$nulls":6},481]
[{"$nulls":6},482]
[{"$nulls":6},483]
[{"$nulls":6},484]
[{"$nulls":6},485]
[{"$nulls":6},486]
[{"$nulls":6},487]
[{"$nulls":6},488]
[{"$nulls":6},489]
[{"$nulls":6},490]
[{"$nulls":6},491]
[{"$nulls":6},492]
[{"$nulls":6},493]
[{"$nulls":6},494]
[{"$nulls":6},495]
[{"$nulls":6},496]
[{"$nulls":6},497]
[{"$nulls":6},498]
[{"$nulls":6},499]
[{"$nulls":6},500]
[{"$nulls":6},{"$f":"SUM(G516+1)","v":501}]
[{"$nulls":6},{"$f":"SUM(G517+1)","v":502}]
[{"$nulls":6},{"$f":"SUM(G518+1)","v":503}]
[{"$nulls":6},{"$f":"SUM(G519+1)","v":504}]
[{"$nulls":6},{"$f":"SUM(G520+1)","v":505}]
[{"$nulls":6},{"$f":"SUM(G521+1)","v":506}]
[{"$nulls":6},{"$f":"SUM(G522+1)","v":507}]
[{"$nulls":6},{"$f":"SUM(G523+1)","v":508}]
[{"$nulls":6},{"$f":"SUM(G524+1)","v":509}]
[{"$nulls":6},{"$f":"SUM(G525+1)","v":510}]
[{"$nulls":6},{"$f":"SUM(G526+1)","v":511}]
[{"$nulls":6},{"$f":"SUM(G527+1)","v":512}]
[{"$nulls":6},{"$f":"SUM(G528+1)","v":513}]
[{"$nulls":6},{"$f":"SUM(G529+1)","v":514}]
[{"$nulls":6},{"$f":"SUM(G530+1)","v":515}]
[{"$nulls":6},{"$f":"SUM(G531+1)","v":516}]
[{"$nulls":6},{"$f":"SUM(G532+1)","v":517}]
[{"$nulls":6},{"$f":"SUM(G533+1)","v":518}]
[{"$nulls":6},{"$f":"SUM(G534+1)","v":519}]

{"sheet":"Senior","index":1,"n_rows":301,"n_cols":11,"rows_kept":301,"cut":false,"hidden":false,"merged":[]}
["Futurity","Der","Senior","BBR","Draw","Rider Name","Horse Name","Time","Final Time","Placing","Money Earned"]
[{"$nulls":4},1,"Tammy Rokus","Mitey Confederate",null,15.781000000000001,"1D 1st",121.8]
[{"$nulls":4},2,"Jenny Zant","Raise Me Ta Fame",null,16.190999999999999,"1D 2nd",81.2]
[{"$nulls":4},3,"Jolene Jones","Peppys Streakof Fame",null,16.228000000000002]
[{"$nulls":4},4,"Lisa Wernli","Flashs Fine Effort",null,16.265999999999998]
[{"$nulls":4},5,"Laura Creel","Frenchmans Docs RX",null,16.28]
[{"$nulls":4},6,"Debbie Richardson","VF Going Big Time",null,16.452000000000002,"2D 1st",104.39999999999999]
[{"$nulls":4},7,"Starla Fitzgerald","Famous Gem",null,16.495999999999999,"2D 2nd",69.600000000000009]
[{"$nulls":4},8,"Mary Carter","Bully Bully Fame",null,16.545999999999999]
[{"$nulls":4},9,"Jo Kirby","Heavenly Joak",null,16.579999999999998]
[{"$nulls":4},10,"Johnell Ray","Smooth Your Jets",null,16.602]
[{"$nulls":4},11,"Terry Vogel","BB Boogyingfrenchman",null,16.664000000000001]
[{"$nulls":4},12,"Mary McLiney","Banking Ta Fame",null,16.739999999999998]
[{"$nulls":4},13,"Julie Knox","Talented Streaker",null,16.785,"3D 1st",69.599999999999994]
[{"$nulls":4},14,"Lisa Wernli","Babe On the Run",null,16.8,"3D 2nd",46.400000000000006]
[{"$nulls":4},15,"Terry Vogel","Dinky Jets Famous Jr",null,16.829999999999998]
[{"$nulls":4},16,"Patti Reardon","HeCome Dun",null,16.991]
[{"$nulls":4},17,"Jolene Jones","Capone",null,17.021000000000001]
[{"$nulls":4},18,"Veronica Williams","Tri War Leo",null,17.058]
[{"$nulls":4},19,"Dee Dee Jordan","Lil Yella Draw",null,17.129000000000001]
[{"$nulls":4},20,"Trina Murray","Fuel For Dash",null,17.163]
[{"$nulls":4},21,"Lee Vogel","Super Frosted Bug",null,17.312999999999999,"4D 1st",52.199999999999996]
[{"$nulls":4},22,"Kathy Cribbs","playboy Arrow",null,17.341000000000001,"4D 2nd",34.800000000000004]
[{"$nulls":4},23,"Terry Vogel","Imablueyedblondbitz",null,17.510000000000002]
[{"$nulls":4},24,"Trina Murray","JL Fourtafame",null,17.779]
[{"$nulls":4},25,"Marj Dahle",null,null,18.449000000000002]
[{"$nulls":4},26,"Martha Jordan","MV Fury Of The Fame",null,"nt15.879"]
[{"$nulls":4},27,"Debbie Richardson","Jessd Streakin Again",null,"nt16.649"]
[{"$nulls":4},28,"Tammy Rokus","Rugged Frenchman",null,"nt17.125"]
[{"$nulls":4},29,"Debra Cooper","Hugginanativepepto",null,"nt18.036"]
[{"$nulls":4},30]
[{"$nulls":4},31]
[{"$nulls":4},32]
[{"$nulls":4},33]
[{"$nulls":4},34]
[{"$nulls":4},35]
[{"$nulls":4},36]
[{"$nulls":4},37]
[{"$nulls":4},38]
[{"$nulls":4},39]
[{"$nulls":4},40]
[{"$nulls":4},41]
[{"$nulls":4},42]
[{"$nulls":4},43]
[{"$nulls":4},44]
[{"$nulls":4},45]
[{"$nulls":4},46]
[{"$nulls":4},47]
[{"$nulls":4},48]
[{"$nulls":4},49]
[{"$nulls":4},50]
[{"$nulls":4},51]
[{"$nulls":4},52]
[{"$nulls":4},53]
[{"$nulls":4},54]
[{"$nulls":4},55]
[{"$nulls":4},56]
[{"$nulls":4},57]
[{"$nulls":4},58]
[{"$nulls":4},59]
[{"$nulls":4},60]
[{"$nulls":4},61]
[{"$nulls":4},62]
[{"$nulls":4},63]
[{"$nulls":4},64]
[{"$nulls":4},65]
[{"$nulls":4},66]
[{"$nulls":4},67]
[{"$nulls":4},68]
[{"$nulls":4},69]
[{"$nulls":4},70]
[{"$nulls":4},71]
[{"$nulls":4},72]
[{"$nulls":4},73]
[{"$nulls":4},74]
[{"$nulls":4},75]
[{"$nulls":4},76]
[{"$nulls":4},77]
[{"$nulls":4},78]
[{"$nulls":4},79]
[{"$nulls":4},80]
[{"$nulls":4},81]
[{"$nulls":4},82]
[{"$nulls":4},83]
[{"$nulls":4},84]
[{"$nulls":4},85]
[{"$nulls":4},86]
[{"$nulls":4},87]
[{"$nulls":4},88]
[{"$nulls":4},89]
[{"$nulls":4},90]
[{"$nulls":4},91]
[{"$nulls":4},92]
[{"$nulls":4},93]
[{"$nulls":4},94]
[{"$nulls":4},95]
[{"$nulls":4},96]
[{"$nulls":4},97]
[{"$nulls":4},98]
[{"$nulls":4},99]
[{"$nulls":4},100]
[{"$nulls":4},101]
[{"$nulls":4},102]
[{"$nulls":4},103]
[{"$nulls":4},104]
[{"$nulls":4},105]
[{"$nulls":4},106]
[{"$nulls":4},107]
[{"$nulls":4},108]
[{"$nulls":4},109]
[{"$nulls":4},110]
[{"$nulls":4},111]
[{"$nulls":4},112]
[{"$nulls":4},113]
[{"$nulls":4},114]
[{"$nulls":4},115,null,null,null,{"$f":"IF(OR(#REF!=5,#REF!=10,#REF!= 15,#REF!= \"BP\",#REF!=\"SCR\"),\"NT\",H116)","v":{"$error":"#REF!"}}]
[{"$nulls":4},116,null,null,null,{"$f":"IF(OR(#REF!=5,#REF!=10,#REF!= 15,#REF!= \"BP\",#REF!=\"SCR\"),\"NT\",H117)","v":{"$error":"#REF!"}}]
[{"$nulls":4},117,null,null,null,{"$f":"IF(OR(#REF!=5,#REF!=10,#REF!= 15,#REF!= \"BP\",#REF!=\"SCR\"),\"NT\",H118)","v":{"$error":"#REF!"}}]
[{"$nulls":4},118,null,null,null,{"$f":"IF(OR(#REF!=5,#REF!=10,#REF!= 15,#REF!= \"BP\",#REF!=\"SCR\"),\"NT\",H119)","v":{"$error":"#REF!"}}]
[{"$nulls":4},119,null,null,null,{"$f":"IF(OR(#REF!=5,#REF!=10,#REF!= 15,#REF!= \"BP\",#REF!=\"SCR\"),\"NT\",H120)","v":{"$error":"#REF!"}}]
[{"$nulls":4},120,null,null,null,{"$f":"IF(OR(#REF!=5,#REF!=10,#REF!= 15,#REF!= \"BP\",#REF!=\"SCR\"),\"NT\",H121)","v":{"$error":"#REF!"}}]
[{"$nulls":4},121,null,null,null,{"$f":"IF(OR(#REF!=5,#REF!=10,#REF!= 15,#REF!= \"BP\",#REF!=\"SCR\"),\"NT\",H122)","v":{"$error":"#REF!"}}]
[{"$nulls":4},122,null,null,null,{"$f":"IF(OR(#REF!=5,#REF!=10,#REF!= 15,#REF!= \"BP\",#REF!=\"SCR\"),\"NT\",H123)","v":{"$error":"#REF!"}}]
[{"$nulls":4},123,null,null,null,{"$f":"IF(OR(#REF!=5,#REF!=10,#REF!= 15,#REF!= \"BP\",#REF!=\"SCR\"),\"NT\",H124)","v":{"$error":"#REF!"}}]
[{"$nulls":4},124,null,null,null,{"$f":"IF(OR(#REF!=5,#REF!=10,#REF!= 15,#REF!= \"BP\",#REF!=\"SCR\"),\"NT\",H125)","v":{"$error":"#REF!"}}]
[{"$nulls":4},125,null,null,null,{"$f":"IF(OR(#REF!=5,#REF!=10,#REF!= 15,#REF!= \"BP\",#REF!=\"SCR\"),\"NT\",H126)","v":{"$error":"#REF!"}}]
[{"$nulls":4},126,null,null,null,{"$f":"IF(OR(#REF!=5,#REF!=10,#REF!= 15,#REF!= \"BP\",#REF!=\"SCR\"),\"NT\",H127)","v":{"$error":"#REF!"}}]
[{"$nulls":4},127,null,null,null,{"$f":"IF(OR(#REF!=5,#REF!=10,#REF!= 15,#REF!= \"BP\",#REF!=\"SCR\"),\"NT\",H128)","v":{"$error":"#REF!"}}]
[{"$nulls":4},128,null,null,null,{"$f":"IF(OR(#REF!=5,#REF!=10,#REF!= 15,#REF!= \"BP\",#REF!=\"SCR\"),\"NT\",H129)","v":{"$error":"#REF!"}}]
[{"$nulls":4},129,null,null,null,{"$f":"IF(OR(#REF!=5,#REF!=10,#REF!= 15,#REF!= \"BP\",#REF!=\"SCR\"),\"NT\",H130)","v":{"$error":"#REF!"}}]
[{"$nulls":4},130,null,null,null,{"$f":"IF(OR(#REF!=5,#REF!=10,#REF!= 15,#REF!= \"BP\",#REF!=\"SCR\"),\"NT\",H131)","v":{"$error":"#REF!"}}]
[{"$nulls":4},131,null,null,null,{"$f":"IF(OR(#REF!=5,#REF!=10,#REF!= 15,#REF!= \"BP\",#REF!=\"SCR\"),\"NT\",H132)","v":{"$error":"#REF!"}}]
[{"$nulls":4},132,null,null,null,{"$f":"IF(OR(#REF!=5,#REF!=10,#REF!= 15,#REF!= \"BP\",#REF!=\"SCR\"),\"NT\",H133)","v":{"$error":"#REF!"}}]
[{"$nulls":4},133,null,null,null,{"$f":"IF(OR(#REF!=5,#REF!=10,#REF!= 15,#REF!= \"BP\",#REF!=\"SCR\"),\"NT\",H134)","v":{"$error":"#REF!"}}]
[{"$nulls":4},134,null,null,null,{"$f":"IF(OR(#REF!=5,#REF!=10,#REF!= 15,#REF!= \"BP\",#REF!=\"SCR\"),\"NT\",H135)","v":{"$error":"#REF!"}}]
[{"$nulls":4},135,null,null,null,{"$f":"IF(OR(#REF!=5,#REF!=10,#REF!= 15,#REF!= \"BP\",#REF!=\"SCR\"),\"NT\",H136)","v":{"$error":"#REF!"}}]
[{"$nulls":4},136,null,null,null,{"$f":"IF(OR(#REF!=5,#REF!=10,#REF!= 15,#REF!= \"BP\",#REF!=\"SCR\"),\"NT\",H137)","v":{"$error":"#REF!"}}]
[{"$nulls":4},137,null,null,null,{"$f":"IF(OR(#REF!=5,#REF!=10,#REF!= 15,#REF!= \"BP\",#REF!=\"SCR\"),\"NT\",H138)","v":{"$error":"#REF!"}}]
[{"$nulls":4},138,null,null,null,{"$f":"IF(OR(#REF!=5,#REF!=10,#REF!= 15,#REF!= \"BP\",#REF!=\"SCR\"),\"NT\",H139)","v":{"$error":"#REF!"}}]
[{"$nulls":4},139,null,null,null,{"$f":"IF(OR(#REF!=5,#REF!=10,#REF!= 15,#REF!= \"BP\",#REF!=\"SCR\"),\"NT\",H140)","v":{"$error":"#REF!"}}]
[{"$nulls":4},140,null,null,null,{"$f":"IF(OR(#REF!=5,#REF!=10,#REF!= 15,#REF!= \"BP\",#REF!=\"SCR\"),\"NT\",H141)","v":{"$error":"#REF!"}}]
[{"$nulls":4},141,null,null,null,{"$f":"IF(OR(#REF!=5,#REF!=10,#REF!= 15,#REF!= \"BP\",#REF!=\"SCR\"),\"NT\",H142)","v":{"$error":"#REF!"}}]
[{"$nulls":4},142,null,null,null,{"$f":"IF(OR(#REF!=5,#REF!=10,#REF!= 15,#REF!= \"BP\",#REF!=\"SCR\"),\"NT\",H143)","v":{"$error":"#REF!"}}]
[{"$nulls":4},143,null,null,null,{"$f":"IF(OR(#REF!=5,#REF!=10,#REF!= 15,#REF!= \"BP\",#REF!=\"SCR\"),\"NT\",H144)","v":{"$error":"#REF!"}}]
[{"$nulls":4},144,null,null,null,{"$f":"IF(OR(#REF!=5,#REF!=10,#REF!= 15,#REF!= \"BP\",#REF!=\"SCR\"),\"NT\",H145)","v":{"$error":"#REF!"}}]
[{"$nulls":4},145,null,null,null,{"$f":"IF(OR(#REF!=5,#REF!=10,#REF!= 15,#REF!= \"BP\",#REF!=\"SCR\"),\"NT\",H146)","v":{"$error":"#REF!"}}]
[{"$nulls":4},146,null,null,null,{"$f":"IF(OR(#REF!=5,#REF!=10,#REF!= 15,#REF!= \"BP\",#REF!=\"SCR\"),\"NT\",H147)","v":{"$error":"#REF!"}}]
[{"$nulls":4},147,null,null,null,{"$f":"IF(OR(#REF!=5,#REF!=10,#REF!= 15,#REF!= \"BP\",#REF!=\"SCR\"),\"NT\",H148)","v":{"$error":"#REF!"}}]
[{"$nulls":4},148,null,null,null,{"$f":"IF(OR(#REF!=5,#REF!=10,#REF!= 15,#REF!= \"BP\",#REF!=\"SCR\"),\"NT\",H149)","v":{"$error":"#REF!"}}]
[{"$nulls":4},149,null,null,null,{"$f":"IF(OR(#REF!=5,#REF!=10,#REF!= 15,#REF!= \"BP\",#REF!=\"SCR\"),\"NT\",H150)","v":{"$error":"#REF!"}}]
[{"$nulls":4},150,null,null,null,{"$f":"IF(OR(#REF!=5,#REF!=10,#REF!= 15,#REF!= \"BP\",#REF!=\"SCR\"),\"NT\",H151)","v":{"$error":"#REF!"}}]
[{"$nulls":4},151,null,null,null,{"$f":"IF(OR(#REF!=5,#REF!=10,#REF!= 15,#REF!= \"BP\",#REF!=\"SCR\"),\"NT\",H152)","v":{"$error":"#REF!"}}]
[{"$nulls":4},152,null,null,null,{"$f":"IF(OR(#REF!=5,#REF!=10,#REF!= 15,#REF!= \"BP\",#REF!=\"SCR\"),\"NT\",H153)","v":{"$error":"#REF!"}}]
[{"$nulls":4},153,null,null,null,{"$f":"IF(OR(#REF!=5,#REF!=10,#REF!= 15,#REF!= \"BP\",#REF!=\"SCR\"),\"NT\",H154)","v":{"$error":"#REF!"}}]
[{"$nulls":4},154,null,null,null,{"$f":"IF(OR(#REF!=5,#REF!=10,#REF!= 15,#REF!= \"BP\",#REF!=\"SCR\"),\"NT\",H155)","v":{"$error":"#REF!"}}]
[{"$nulls":4},155,null,null,null,{"$f":"IF(OR(#REF!=5,#REF!=10,#REF!= 15,#REF!= \"BP\",#REF!=\"SCR\"),\"NT\",H156)","v":{"$error":"#REF!"}}]
[{"$nulls":4},156,null,null,null,{"$f":"IF(OR(#REF!=5,#REF!=10,#REF!= 15,#REF!= \"BP\",#REF!=\"SCR\"),\"NT\",H157)","v":{"$error":"#REF!"}}]
[{"$nulls":4},157,null,null,null,{"$f":"IF(OR(#REF!=5,#REF!=10,#REF!= 15,#REF!= \"BP\",#REF!=\"SCR\"),\"NT\",H158)","v":{"$error":"#REF!"}}]
[{"$nulls":4},158,null,null,null,{"$f":"IF(OR(#REF!=5,#REF!=10,#REF!= 15,#REF!= \"BP\",#REF!=\"SCR\"),\"NT\",H159)","v":{"$error":"#REF!"}}]
[{"$nulls":4},159,null,null,null,{"$f":"IF(OR(#REF!=5,#REF!=10,#REF!= 15,#REF!= \"BP\",#REF!=\"SCR\"),\"NT\",H160)","v":{"$error":"#REF!"}}]
[{"$nulls":4},160,null,null,null,{"$f":"IF(OR(#REF!=5,#REF!=10,#REF!= 15,#REF!= \"BP\",#REF!=\"SCR\"),\"NT\",H161)","v":{"$error":"#REF!"}}]
[{"$nulls":4},161,null,null,null,{"$f":"IF(OR(#REF!=5,#REF!=10,#REF!= 15,#REF!= \"BP\",#REF!=\"SCR\"),\"NT\",H162)","v":{"$error":"#REF!"}}]
[{"$nulls":4},162,null,null,null,{"$f":"IF(OR(#REF!=5,#REF!=10,#REF!= 15,#REF!= \"BP\",#REF!=\"SCR\"),\"NT\",H163)","v":{"$error":"#REF!"}}]
[{"$nulls":4},163,null,null,null,{"$f":"IF(OR(#REF!=5,#REF!=10,#REF!= 15,#REF!= \"BP\",#REF!=\"SCR\"),\"NT\",H164)","v":{"$error":"#REF!"}}]
[{"$nulls":4},164,null,null,null,{"$f":"IF(OR(#REF!=5,#REF!=10,#REF!= 15,#REF!= \"BP\",#REF!=\"SCR\"),\"NT\",H165)","v":{"$error":"#REF!"}}]
[{"$nulls":4},165,null,null,null,{"$f":"IF(OR(#REF!=5,#REF!=10,#REF!= 15,#REF!= \"BP\",#REF!=\"SCR\"),\"NT\",H166)","v":{"$error":"#REF!"}}]
[{"$nulls":4},166,null,null,null,{"$f":"IF(OR(#REF!=5,#REF!=10,#REF!= 15,#REF!= \"BP\",#REF!=\"SCR\"),\"NT\",H167)","v":{"$error":"#REF!"}}]
[{"$nulls":4},167,null,null,null,{"$f":"IF(OR(#REF!=5,#REF!=10,#REF!= 15,#REF!= \"BP\",#REF!=\"SCR\"),\"NT\",H168)","v":{"$error":"#REF!"}}]
[{"$nulls":4},168,null,null,null,{"$f":"IF(OR(#REF!=5,#REF!=10,#REF!= 15,#REF!= \"BP\",#REF!=\"SCR\"),\"NT\",H169)","v":{"$error":"#REF!"}}]
[{"$nulls":4},169,null,null,null,{"$f":"IF(OR(#REF!=5,#REF!=10,#REF!= 15,#REF!= \"BP\",#REF!=\"SCR\"),\"NT\",H170)","v":{"$error":"#REF!"}}]
[{"$nulls":4},170,null,null,null,{"$f":"IF(OR(#REF!=5,#REF!=10,#REF!= 15,#REF!= \"BP\",#REF!=\"SCR\"),\"NT\",H171)","v":{"$error":"#REF!"}}]
[{"$nulls":4},171,null,null,null,{"$f":"IF(OR(#REF!=5,#REF!=10,#REF!= 15,#REF!= \"BP\",#REF!=\"SCR\"),\"NT\",H172)","v":{"$error":"#REF!"}}]
[{"$nulls":4},172,null,null,null,{"$f":"IF(OR(#REF!=5,#REF!=10,#REF!= 15,#REF!= \"BP\",#REF!=\"SCR\"),\"NT\",H173)","v":{"$error":"#REF!"}}]
[{"$nulls":4},173,null,null,null,{"$f":"IF(OR(#REF!=5,#REF!=10,#REF!= 15,#REF!= \"BP\",#REF!=\"SCR\"),\"NT\",H174)","v":{"$error":"#REF!"}}]
[{"$nulls":4},174,null,null,null,{"$f":"IF(OR(#REF!=5,#REF!=10,#REF!= 15,#REF!= \"BP\",#REF!=\"SCR\"),\"NT\",H175)","v":{"$error":"#REF!"}}]
[{"$nulls":4},175,null,null,null,{"$f":"IF(OR(#REF!=5,#REF!=10,#REF!= 15,#REF!= \"BP\",#REF!=\"SCR\"),\"NT\",H176)","v":{"$error":"#REF!"}}]
[{"$nulls":4},176,null,null,null,{"$f":"IF(OR(#REF!=5,#REF!=10,#REF!= 15,#REF!= \"BP\",#REF!=\"SCR\"),\"NT\",H177)","v":{"$error":"#REF!"}}]
[{"$nulls":4},177,null,null,null,{"$f":"IF(OR(#REF!=5,#REF!=10,#REF!= 15,#REF!= \"BP\",#REF!=\"SCR\"),\"NT\",H178)","v":{"$error":"#REF!"}}]
[{"$nulls":4},178,null,null,null,{"$f":"IF(OR(#REF!=5,#REF!=10,#REF!= 15,#REF!= \"BP\",#REF!=\"SCR\"),\"NT\",H179)","v":{"$error":"#REF!"}}]
[{"$nulls":4},179,null,null,null,{"$f":"IF(OR(#REF!=5,#REF!=10,#REF!= 15,#REF!= \"BP\",#REF!=\"SCR\"),\"NT\",H180)","v":{"$error":"#REF!"}}]
[{"$nulls":4},180,null,null,null,{"$f":"IF(OR(#REF!=5,#REF!=10,#REF!= 15,#REF!= \"BP\",#REF!=\"SCR\"),\"NT\",H181)","v":{"$error":"#REF!"}}]
[{"$nulls":4},181,null,null,null,{"$f":"IF(OR(#REF!=5,#REF!=10,#REF!= 15,#REF!= \"BP\",#REF!=\"SCR\"),\"NT\",H182)","v":{"$error":"#REF!"}}]
[{"$nulls":4},182,null,null,null,{"$f":"IF(OR(#REF!=5,#REF!=10,#REF!= 15,#REF!= \"BP\",#REF!=\"SCR\"),\"NT\",H183)","v":{"$error":"#REF!"}}]
[{"$nulls":4},183,null,null,null,{"$f":"IF(OR(#REF!=5,#REF!=10,#REF!= 15,#REF!= \"BP\",#REF!=\"SCR\"),\"NT\",H184)","v":{"$error":"#REF!"}}]
[{"$nulls":4},184,null,null,null,{"$f":"IF(OR(#REF!=5,#REF!=10,#REF!= 15,#REF!= \"BP\",#REF!=\"SCR\"),\"NT\",H185)","v":{"$error":"#REF!"}}]
[{"$nulls":4},185,null,null,null,{"$f":"IF(OR(#REF!=5,#REF!=10,#REF!= 15,#REF!= \"BP\",#REF!=\"SCR\"),\"NT\",H186)","v":{"$error":"#REF!"}}]
[{"$nulls":4},186,null,null,null,{"$f":"IF(OR(#REF!=5,#REF!=10,#REF!= 15,#REF!= \"BP\",#REF!=\"SCR\"),\"NT\",H187)","v":{"$error":"#REF!"}}]
[{"$nulls":4},187,null,null,null,{"$f":"IF(OR(#REF!=5,#REF!=10,#REF!= 15,#REF!= \"BP\",#REF!=\"SCR\"),\"NT\",H188)","v":{"$error":"#REF!"}}]
[{"$nulls":4},188,null,null,null,{"$f":"IF(OR(#REF!=5,#REF!=10,#REF!= 15,#REF!= \"BP\",#REF!=\"SCR\"),\"NT\",H189)","v":{"$error":"#REF!"}}]
[{"$nulls":4},189,null,null,null,{"$f":"IF(OR(#REF!=5,#REF!=10,#REF!= 15,#REF!= \"BP\",#REF!=\"SCR\"),\"NT\",H190)","v":{"$error":"#REF!"}}]
[{"$nulls":4},190,null,null,null,{"$f":"IF(OR(#REF!=5,#REF!=10,#REF!= 15,#REF!= \"BP\",#REF!=\"SCR\"),\"NT\",H191)","v":{"$error":"#REF!"}}]
[{"$nulls":4},191,null,null,null,{"$f":"IF(OR(#REF!=5,#REF!=10,#REF!= 15,#REF!= \"BP\",#REF!=\"SCR\"),\"NT\",H192)","v":{"$error":"#REF!"}}]
[{"$nulls":4},192,null,null,null,{"$f":"IF(OR(#REF!=5,#REF!=10,#REF!= 15,#REF!= \"BP\",#REF!=\"SCR\"),\"NT\",H193)","v":{"$error":"#REF!"}}]
[{"$nulls":4},193,null,null,null,{"$f":"IF(OR(#REF!=5,#REF!=10,#REF!= 15,#REF!= \"BP\",#REF!=\"SCR\"),\"NT\",H194)","v":{"$error":"#REF!"}}]
[{"$nulls":4},194,null,null,null,{"$f":"IF(OR(#REF!=5,#REF!=10,#REF!= 15,#REF!= \"BP\",#REF!=\"SCR\"),\"NT\",H195)","v":{"$error":"#REF!"}}]
[{"$nulls":4},195,null,null,null,{"$f":"IF(OR(#REF!=5,#REF!=10,#REF!= 15,#REF!= \"BP\",#REF!=\"SCR\"),\"NT\",H196)","v":{"$error":"#REF!"}}]
[{"$nulls":4},196,null,null,null,{"$f":"IF(OR(#REF!=5,#REF!=10,#REF!= 15,#REF!= \"BP\",#REF!=\"SCR\"),\"NT\",H197)","v":{"$error":"#REF!"}}]
[{"$nulls":4},197,null,null,null,{"$f":"IF(OR(#REF!=5,#REF!=10,#REF!= 15,#REF!= \"BP\",#REF!=\"SCR\"),\"NT\",H198)","v":{"$error":"#REF!"}}]
[{"$nulls":4},198,null,null,null,{"$f":"IF(OR(#REF!=5,#REF!=10,#REF!= 15,#REF!= \"BP\",#REF!=\"SCR\"),\"NT\",H199)","v":{"$error":"#REF!"}}]
[{"$nulls":4},199,null,null,null,{"$f":"IF(OR(#REF!=5,#REF!=10,#REF!= 15,#REF!= \"BP\",#REF!=\"SCR\"),\"NT\",H200)","v":{"$error":"#REF!"}}]
[{"$nulls":4},200,null,null,null,{"$f":"IF(OR(#REF!=5,#REF!=10,#REF!= 15,#REF!= \"BP\",#REF!=\"SCR\"),\"NT\",H201)","v":{"$error":"#REF!"}}]
[{"$nulls":4},201,null,null,null,{"$f":"IF(OR(#REF!=5,#REF!=10,#REF!= 15,#REF!= \"BP\",#REF!=\"SCR\"),\"NT\",H202)","v":{"$error":"#REF!"}}]
[{"$nulls":4},202,null,null,null,{"$f":"IF(OR(#REF!=5,#REF!=10,#REF!= 15,#REF!= \"BP\",#REF!=\"SCR\"),\"NT\",H203)","v":{"$error":"#REF!"}}]
[{"$nulls":4},203,null,null,null,{"$f":"IF(OR(#REF!=5,#REF!=10,#REF!= 15,#REF!= \"BP\",#REF!=\"SCR\"),\"NT\",H204)","v":{"$error":"#REF!"}}]
[{"$nulls":4},204,null,null,null,{"$f":"IF(OR(#REF!=5,#REF!=10,#REF!= 15,#REF!= \"BP\",#REF!=\"SCR\"),\"NT\",H205)","v":{"$error":"#REF!"}}]
[{"$nulls":4},205,null,null,null,{"$f":"IF(OR(#REF!=5,#REF!=10,#REF!= 15,#REF!= \"BP\",#REF!=\"SCR\"),\"NT\",H206)","v":{"$error":"#REF!"}}]
[{"$nulls":4},206,null,null,null,{"$f":"IF(OR(#REF!=5,#REF!=10,#REF!= 15,#REF!= \"BP\",#REF!=\"SCR\"),\"NT\",H207)","v":{"$error":"#REF!"}}]
[{"$nulls":4},207,null,null,null,{"$f":"IF(OR(#REF!=5,#REF!=10,#REF!= 15,#REF!= \"BP\",#REF!=\"SCR\"),\"NT\",H208)","v":{"$error":"#REF!"}}]
[{"$nulls":4},208,null,null,null,{"$f":"IF(OR(#REF!=5,#REF!=10,#REF!= 15,#REF!= \"BP\",#REF!=\"SCR\"),\"NT\",H209)","v":{"$error":"#REF!"}}]
[{"$nulls":4},209,null,null,null,{"$f":"IF(OR(#REF!=5,#REF!=10,#REF!= 15,#REF!= \"BP\",#REF!=\"SCR\"),\"NT\",H210)","v":{"$error":"#REF!"}}]
[{"$nulls":4},210,null,null,null,{"$f":"IF(OR(#REF!=5,#REF!=10,#REF!= 15,#REF!= \"BP\",#REF!=\"SCR\"),\"NT\",H211)","v":{"$error":"#REF!"}}]
[{"$nulls":4},211,null,null,null,{"$f":"IF(OR(#REF!=5,#REF!=10,#REF!= 15,#REF!= \"BP\",#REF!=\"SCR\"),\"NT\",H212)","v":{"$error":"#REF!"}}]
[{"$nulls":4},212,null,null,null,{"$f":"IF(OR(#REF!=5,#REF!=10,#REF!= 15,#REF!= \"BP\",#REF!=\"SCR\"),\"NT\",H213)","v":{"$error":"#REF!"}}]
[{"$nulls":4},213,null,null,null,{"$f":"IF(OR(#REF!=5,#REF!=10,#REF!= 15,#REF!= \"BP\",#REF!=\"SCR\"),\"NT\",H214)","v":{"$error":"#REF!"}}]
[{"$nulls":4},214,null,null,null,{"$f":"IF(OR(#REF!=5,#REF!=10,#REF!= 15,#REF!= \"BP\",#REF!=\"SCR\"),\"NT\",H215)","v":{"$error":"#REF!"}}]
[{"$nulls":4},215,null,null,null,{"$f":"IF(OR(#REF!=5,#REF!=10,#REF!= 15,#REF!= \"BP\",#REF!=\"SCR\"),\"NT\",H216)","v":{"$error":"#REF!"}}]
[{"$nulls":4},216,null,null,null,{"$f":"IF(OR(#REF!=5,#REF!=10,#REF!= 15,#REF!= \"BP\",#REF!=\"SCR\"),\"NT\",H217)","v":{"$error":"#REF!"}}]
[{"$nulls":4},217,null,null,null,{"$f":"IF(OR(#REF!=5,#REF!=10,#REF!= 15,#REF!= \"BP\",#REF!=\"SCR\"),\"NT\",H218)","v":{"$error":"#REF!"}}]
[{"$nulls":4},218,null,null,null,{"$f":"IF(OR(#REF!=5,#REF!=10,#REF!= 15,#REF!= \"BP\",#REF!=\"SCR\"),\"NT\",H219)","v":{"$error":"#REF!"}}]
[{"$nulls":4},219,null,null,null,{"$f":"IF(OR(#REF!=5,#REF!=10,#REF!= 15,#REF!= \"BP\",#REF!=\"SCR\"),\"NT\",H220)","v":{"$error":"#REF!"}}]
[{"$nulls":4},220,null,null,null,{"$f":"IF(OR(#REF!=5,#REF!=10,#REF!= 15,#REF!= \"BP\",#REF!=\"SCR\"),\"NT\",H221)","v":{"$error":"#REF!"}}]
[{"$nulls":4},221,null,null,null,{"$f":"IF(OR(#REF!=5,#REF!=10,#REF!= 15,#REF!= \"BP\",#REF!=\"SCR\"),\"NT\",H222)","v":{"$error":"#REF!"}}]
[{"$nulls":4},222,null,null,null,{"$f":"IF(OR(#REF!=5,#REF!=10,#REF!= 15,#REF!= \"BP\",#REF!=\"SCR\"),\"NT\",H223)","v":{"$error":"#REF!"}}]
[{"$nulls":4},223,null,null,null,{"$f":"IF(OR(#REF!=5,#REF!=10,#REF!= 15,#REF!= \"BP\",#REF!=\"SCR\"),\"NT\",H224)","v":{"$error":"#REF!"}}]
[{"$nulls":4},224,null,null,null,{"$f":"IF(OR(#REF!=5,#REF!=10,#REF!= 15,#REF!= \"BP\",#REF!=\"SCR\"),\"NT\",H225)","v":{"$error":"#REF!"}}]
[{"$nulls":4},225,null,null,null,{"$f":"IF(OR(#REF!=5,#REF!=10,#REF!= 15,#REF!= \"BP\",#REF!=\"SCR\"),\"NT\",H226)","v":{"$error":"#REF!"}}]
[{"$nulls":4},226,null,null,null,{"$f":"IF(OR(#REF!=5,#REF!=10,#REF!= 15,#REF!= \"BP\",#REF!=\"SCR\"),\"NT\",H227)","v":{"$error":"#REF!"}}]
[{"$nulls":4},227,null,null,null,{"$f":"IF(OR(#REF!=5,#REF!=10,#REF!= 15,#REF!= \"BP\",#REF!=\"SCR\"),\"NT\",H228)","v":{"$error":"#REF!"}}]
[{"$nulls":4},228,null,null,null,{"$f":"IF(OR(#REF!=5,#REF!=10,#REF!= 15,#REF!= \"BP\",#REF!=\"SCR\"),\"NT\",H229)","v":{"$error":"#REF!"}}]
[{"$nulls":4},229,null,null,null,{"$f":"IF(OR(#REF!=5,#REF!=10,#REF!= 15,#REF!= \"BP\",#REF!=\"SCR\"),\"NT\",H230)","v":{"$error":"#REF!"}}]
[{"$nulls":4},230,null,null,null,{"$f":"IF(OR(#REF!=5,#REF!=10,#REF!= 15,#REF!= \"BP\",#REF!=\"SCR\"),\"NT\",H231)","v":{"$error":"#REF!"}}]
[{"$nulls":4},231,null,null,null,{"$f":"IF(OR(#REF!=5,#REF!=10,#REF!= 15,#REF!= \"BP\",#REF!=\"SCR\"),\"NT\",H232)","v":{"$error":"#REF!"}}]
[{"$nulls":4},232,null,null,null,{"$f":"IF(OR(#REF!=5,#REF!=10,#REF!= 15,#REF!= \"BP\",#REF!=\"SCR\"),\"NT\",H233)","v":{"$error":"#REF!"}}]
[{"$nulls":4},233,null,null,null,{"$f":"IF(OR(#REF!=5,#REF!=10,#REF!= 15,#REF!= \"BP\",#REF!=\"SCR\"),\"NT\",H234)","v":{"$error":"#REF!"}}]
[{"$nulls":4},234,null,null,null,{"$f":"IF(OR(#REF!=5,#REF!=10,#REF!= 15,#REF!= \"BP\",#REF!=\"SCR\"),\"NT\",H235)","v":{"$error":"#REF!"}}]
[{"$nulls":4},235,null,null,null,{"$f":"IF(OR(#REF!=5,#REF!=10,#REF!= 15,#REF!= \"BP\",#REF!=\"SCR\"),\"NT\",H236)","v":{"$error":"#REF!"}}]
[{"$nulls":4},236,null,null,null,{"$f":"IF(OR(#REF!=5,#REF!=10,#REF!= 15,#REF!= \"BP\",#REF!=\"SCR\"),\"NT\",H237)","v":{"$error":"#REF!"}}]
[{"$nulls":4},237,null,null,null,{"$f":"IF(OR(#REF!=5,#REF!=10,#REF!= 15,#REF!= \"BP\",#REF!=\"SCR\"),\"NT\",H238)","v":{"$error":"#REF!"}}]
[{"$nulls":4},238,null,null,null,{"$f":"IF(OR(#REF!=5,#REF!=10,#REF!= 15,#REF!= \"BP\",#REF!=\"SCR\"),\"NT\",H239)","v":{"$error":"#REF!"}}]
[{"$nulls":4},239,null,null,null,{"$f":"IF(OR(#REF!=5,#REF!=10,#REF!= 15,#REF!= \"BP\",#REF!=\"SCR\"),\"NT\",H240)","v":{"$error":"#REF!"}}]
[{"$nulls":4},240,null,null,null,{"$f":"IF(OR(#REF!=5,#REF!=10,#REF!= 15,#REF!= \"BP\",#REF!=\"SCR\"),\"NT\",H241)","v":{"$error":"#REF!"}}]
[{"$nulls":4},241,null,null,null,{"$f":"IF(OR(#REF!=5,#REF!=10,#REF!= 15,#REF!= \"BP\",#REF!=\"SCR\"),\"NT\",H242)","v":{"$error":"#REF!"}}]
[{"$nulls":4},242,null,null,null,{"$f":"IF(OR(#REF!=5,#REF!=10,#REF!= 15,#REF!= \"BP\",#REF!=\"SCR\"),\"NT\",H243)","v":{"$error":"#REF!"}}]
[{"$nulls":4},243,null,null,null,{"$f":"IF(OR(#REF!=5,#REF!=10,#REF!= 15,#REF!= \"BP\",#REF!=\"SCR\"),\"NT\",H244)","v":{"$error":"#REF!"}}]
[{"$nulls":4},244,null,null,null,{"$f":"IF(OR(#REF!=5,#REF!=10,#REF!= 15,#REF!= \"BP\",#REF!=\"SCR\"),\"NT\",H245)","v":{"$error":"#REF!"}}]
[{"$nulls":4},245,null,null,null,{"$f":"IF(OR(#REF!=5,#REF!=10,#REF!= 15,#REF!= \"BP\",#REF!=\"SCR\"),\"NT\",H246)","v":{"$error":"#REF!"}}]
[{"$nulls":4},246,null,null,null,{"$f":"IF(OR(#REF!=5,#REF!=10,#REF!= 15,#REF!= \"BP\",#REF!=\"SCR\"),\"NT\",H247)","v":{"$error":"#REF!"}}]
[{"$nulls":4},247,null,null,null,{"$f":"IF(OR(#REF!=5,#REF!=10,#REF!= 15,#REF!= \"BP\",#REF!=\"SCR\"),\"NT\",H248)","v":{"$error":"#REF!"}}]
[{"$nulls":4},248,null,null,null,{"$f":"IF(OR(#REF!=5,#REF!=10,#REF!= 15,#REF!= \"BP\",#REF!=\"SCR\"),\"NT\",H249)","v":{"$error":"#REF!"}}]
[{"$nulls":4},249,null,null,null,{"$f":"IF(OR(#REF!=5,#REF!=10,#REF!= 15,#REF!= \"BP\",#REF!=\"SCR\"),\"NT\",H250)","v":{"$error":"#REF!"}}]
[{"$nulls":4},250,null,null,null,{"$f":"IF(OR(#REF!=5,#REF!=10,#REF!= 15,#REF!= \"BP\",#REF!=\"SCR\"),\"NT\",H251)","v":{"$error":"#REF!"}}]
[{"$nulls":4},251,null,null,null,{"$f":"IF(OR(#REF!=5,#REF!=10,#REF!= 15,#REF!= \"BP\",#REF!=\"SCR\"),\"NT\",H252)","v":{"$error":"#REF!"}}]
[{"$nulls":4},252,null,null,null,{"$f":"IF(OR(#REF!=5,#REF!=10,#REF!= 15,#REF!= \"BP\",#REF!=\"SCR\"),\"NT\",H253)","v":{"$error":"#REF!"}}]
[{"$nulls":4},253,null,null,null,{"$f":"IF(OR(#REF!=5,#REF!=10,#REF!= 15,#REF!= \"BP\",#REF!=\"SCR\"),\"NT\",H254)","v":{"$error":"#REF!"}}]
[{"$nulls":4},254,null,null,null,{"$f":"IF(OR(#REF!=5,#REF!=10,#REF!= 15,#REF!= \"BP\",#REF!=\"SCR\"),\"NT\",H255)","v":{"$error":"#REF!"}}]
[{"$nulls":4},255,null,null,null,{"$f":"IF(OR(#REF!=5,#REF!=10,#REF!= 15,#REF!= \"BP\",#REF!=\"SCR\"),\"NT\",H256)","v":{"$error":"#REF!"}}]
[{"$nulls":4},256,null,null,null,{"$f":"IF(OR(#REF!=5,#REF!=10,#REF!= 15,#REF!= \"BP\",#REF!=\"SCR\"),\"NT\",H257)","v":{"$error":"#REF!"}}]
[{"$nulls":4},257,null,null,null,{"$f":"IF(OR(#REF!=5,#REF!=10,#REF!= 15,#REF!= \"BP\",#REF!=\"SCR\"),\"NT\",H258)","v":{"$error":"#REF!"}}]
[{"$nulls":4},258,null,null,null,{"$f":"IF(OR(#REF!=5,#REF!=10,#REF!= 15,#REF!= \"BP\",#REF!=\"SCR\"),\"NT\",H259)","v":{"$error":"#REF!"}}]
[{"$nulls":4},259,null,null,null,{"$f":"IF(OR(#REF!=5,#REF!=10,#REF!= 15,#REF!= \"BP\",#REF!=\"SCR\"),\"NT\",H260)","v":{"$error":"#REF!"}}]
[{"$nulls":4},260,null,null,null,{"$f":"IF(OR(#REF!=5,#REF!=10,#REF!= 15,#REF!= \"BP\",#REF!=\"SCR\"),\"NT\",H261)","v":{"$error":"#REF!"}}]
[{"$nulls":4},261,null,null,null,{"$f":"IF(OR(#REF!=5,#REF!=10,#REF!= 15,#REF!= \"BP\",#REF!=\"SCR\"),\"NT\",H262)","v":{"$error":"#REF!"}}]
[{"$nulls":4},262,null,null,null,{"$f":"IF(OR(#REF!=5,#REF!=10,#REF!= 15,#REF!= \"BP\",#REF!=\"SCR\"),\"NT\",H263)","v":{"$error":"#REF!"}}]
[{"$nulls":4},263,null,null,null,{"$f":"IF(OR(#REF!=5,#REF!=10,#REF!= 15,#REF!= \"BP\",#REF!=\"SCR\"),\"NT\",H264)","v":{"$error":"#REF!"}}]
[{"$nulls":4},264,null,null,null,{"$f":"IF(OR(#REF!=5,#REF!=10,#REF!= 15,#REF!= \"BP\",#REF!=\"SCR\"),\"NT\",H265)","v":{"$error":"#REF!"}}]
[{"$nulls":4},265,null,null,null,{"$f":"IF(OR(#REF!=5,#REF!=10,#REF!= 15,#REF!= \"BP\",#REF!=\"SCR\"),\"NT\",H266)","v":{"$error":"#REF!"}}]
[{"$nulls":4},266,null,null,null,{"$f":"IF(OR(#REF!=5,#REF!=10,#REF!= 15,#REF!= \"BP\",#REF!=\"SCR\"),\"NT\",H267)","v":{"$error":"#REF!"}}]
[{"$nulls":4},267,null,null,null,{"$f":"IF(OR(#REF!=5,#REF!=10,#REF!= 15,#REF!= \"BP\",#REF!=\"SCR\"),\"NT\",H268)","v":{"$error":"#REF!"}}]
[{"$nulls":4},268,null,null,null,{"$f":"IF(OR(#REF!=5,#REF!=10,#REF!= 15,#REF!= \"BP\",#REF!=\"SCR\"),\"NT\",H269)","v":{"$error":"#REF!"}}]
[{"$nulls":4},269,null,null,null,{"$f":"IF(OR(#REF!=5,#REF!=10,#REF!= 15,#REF!= \"BP\",#REF!=\"SCR\"),\"NT\",H270)","v":{"$error":"#REF!"}}]
[{"$nulls":4},270,null,null,null,{"$f":"IF(OR(#REF!=5,#REF!=10,#REF!= 15,#REF!= \"BP\",#REF!=\"SCR\"),\"NT\",H271)","v":{"$error":"#REF!"}}]
[{"$nulls":4},271,null,null,null,{"$f":"IF(OR(#REF!=5,#REF!=10,#REF!= 15,#REF!= \"BP\",#REF!=\"SCR\"),\"NT\",H272)","v":{"$error":"#REF!"}}]
[{"$nulls":4},272,null,null,null,{"$f":"IF(OR(#REF!=5,#REF!=10,#REF!= 15,#REF!= \"BP\",#REF!=\"SCR\"),\"NT\",H273)","v":{"$error":"#REF!"}}]
[{"$nulls":4},273,null,null,null,{"$f":"IF(OR(#REF!=5,#REF!=10,#REF!= 15,#REF!= \"BP\",#REF!=\"SCR\"),\"NT\",H274)","v":{"$error":"#REF!"}}]
[{"$nulls":4},274,null,null,null,{"$f":"IF(OR(#REF!=5,#REF!=10,#REF!= 15,#REF!= \"BP\",#REF!=\"SCR\"),\"NT\",H275)","v":{"$error":"#REF!"}}]
[{"$nulls":4},275,null,null,null,{"$f":"IF(OR(#REF!=5,#REF!=10,#REF!= 15,#REF!= \"BP\",#REF!=\"SCR\"),\"NT\",H276)","v":{"$error":"#REF!"}}]
[{"$nulls":4},276,null,null,null,{"$f":"IF(OR(#REF!=5,#REF!=10,#REF!= 15,#REF!= \"BP\",#REF!=\"SCR\"),\"NT\",H277)","v":{"$error":"#REF!"}}]
[{"$nulls":4},277,null,null,null,{"$f":"IF(OR(#REF!=5,#REF!=10,#REF!= 15,#REF!= \"BP\",#REF!=\"SCR\"),\"NT\",H278)","v":{"$error":"#REF!"}}]
[{"$nulls":4},278,null,null,null,{"$f":"IF(OR(#REF!=5,#REF!=10,#REF!= 15,#REF!= \"BP\",#REF!=\"SCR\"),\"NT\",H279)","v":{"$error":"#REF!"}}]
[{"$nulls":4},279,null,null,null,{"$f":"IF(OR(#REF!=5,#REF!=10,#REF!= 15,#REF!= \"BP\",#REF!=\"SCR\"),\"NT\",H280)","v":{"$error":"#REF!"}}]
[{"$nulls":4},280,null,null,null,{"$f":"IF(OR(#REF!=5,#REF!=10,#REF!= 15,#REF!= \"BP\",#REF!=\"SCR\"),\"NT\",H281)","v":{"$error":"#REF!"}}]
[{"$nulls":4},281,null,null,null,{"$f":"IF(OR(#REF!=5,#REF!=10,#REF!= 15,#REF!= \"BP\",#REF!=\"SCR\"),\"NT\",H282)","v":{"$error":"#REF!"}}]
[{"$nulls":4},282,null,null,null,{"$f":"IF(OR(#REF!=5,#REF!=10,#REF!= 15,#REF!= \"BP\",#REF!=\"SCR\"),\"NT\",H283)","v":{"$error":"#REF!"}}]
[{"$nulls":4},283,null,null,null,{"$f":"IF(OR(#REF!=5,#REF!=10,#REF!= 15,#REF!= \"BP\",#REF!=\"SCR\"),\"NT\",H284)","v":{"$error":"#REF!"}}]
[{"$nulls":4},284,null,null,null,{"$f":"IF(OR(#REF!=5,#REF!=10,#REF!= 15,#REF!= \"BP\",#REF!=\"SCR\"),\"NT\",H285)","v":{"$error":"#REF!"}}]
[{"$nulls":4},285,null,null,null,{"$f":"IF(OR(#REF!=5,#REF!=10,#REF!= 15,#REF!= \"BP\",#REF!=\"SCR\"),\"NT\",H286)","v":{"$error":"#REF!"}}]
[{"$nulls":4},286,null,null,null,{"$f":"IF(OR(#REF!=5,#REF!=10,#REF!= 15,#REF!= \"BP\",#REF!=\"SCR\"),\"NT\",H287)","v":{"$error":"#REF!"}}]
[{"$nulls":4},287,null,null,null,{"$f":"IF(OR(#REF!=5,#REF!=10,#REF!= 15,#REF!= \"BP\",#REF!=\"SCR\"),\"NT\",H288)","v":{"$error":"#REF!"}}]
[{"$nulls":4},288,null,null,null,{"$f":"IF(OR(#REF!=5,#REF!=10,#REF!= 15,#REF!= \"BP\",#REF!=\"SCR\"),\"NT\",H289)","v":{"$error":"#REF!"}}]
[{"$nulls":4},289,null,null,null,{"$f":"IF(OR(#REF!=5,#REF!=10,#REF!= 15,#REF!= \"BP\",#REF!=\"SCR\"),\"NT\",H290)","v":{"$error":"#REF!"}}]
[{"$nulls":4},290,null,null,null,{"$f":"IF(OR(#REF!=5,#REF!=10,#REF!= 15,#REF!= \"BP\",#REF!=\"SCR\"),\"NT\",H291)","v":{"$error":"#REF!"}}]
[{"$nulls":4},291,null,null,null,{"$f":"IF(OR(#REF!=5,#REF!=10,#REF!= 15,#REF!= \"BP\",#REF!=\"SCR\"),\"NT\",H292)","v":{"$error":"#REF!"}}]
[{"$nulls":4},292,null,null,null,{"$f":"IF(OR(#REF!=5,#REF!=10,#REF!= 15,#REF!= \"BP\",#REF!=\"SCR\"),\"NT\",H293)","v":{"$error":"#REF!"}}]
[{"$nulls":4},293,null,null,null,{"$f":"IF(OR(#REF!=5,#REF!=10,#REF!= 15,#REF!= \"BP\",#REF!=\"SCR\"),\"NT\",H294)","v":{"$error":"#REF!"}}]
[{"$nulls":4},294,null,null,null,{"$f":"IF(OR(#REF!=5,#REF!=10,#REF!= 15,#REF!= \"BP\",#REF!=\"SCR\"),\"NT\",H295)","v":{"$error":"#REF!"}}]
[{"$nulls":4},295,null,null,null,{"$f":"IF(OR(#REF!=5,#REF!=10,#REF!= 15,#REF!= \"BP\",#REF!=\"SCR\"),\"NT\",H296)","v":{"$error":"#REF!"}}]
[{"$nulls":4},296,null,null,null,{"$f":"IF(OR(#REF!=5,#REF!=10,#REF!= 15,#REF!= \"BP\",#REF!=\"SCR\"),\"NT\",H297)","v":{"$error":"#REF!"}}]
[{"$nulls":4},297,null,null,null,{"$f":"IF(OR(#REF!=5,#REF!=10,#REF!= 15,#REF!= \"BP\",#REF!=\"SCR\"),\"NT\",H298)","v":{"$error":"#REF!"}}]
[{"$nulls":4},298,null,null,null,{"$f":"IF(OR(#REF!=5,#REF!=10,#REF!= 15,#REF!= \"BP\",#REF!=\"SCR\"),\"NT\",H299)","v":{"$error":"#REF!"}}]
[{"$nulls":4},299,null,null,null,{"$f":"IF(OR(#REF!=5,#REF!=10,#REF!= 15,#REF!= \"BP\",#REF!=\"SCR\"),\"NT\",H300)","v":{"$error":"#REF!"}}]
[{"$nulls":4},300,null,null,null,{"$f":"IF(OR(#REF!=5,#REF!=10,#REF!= 15,#REF!= \"BP\",#REF!=\"SCR\"),\"NT\",H301)","v":{"$error":"#REF!"}}]

{"sheet":"Adult","index":2,"n_rows":301,"n_cols":12,"rows_kept":301,"cut":false,"hidden":false,"merged":[]}
["Futurity","Der","Adult","BBR","Draw","Rider Name","Horse Name","Pen","Time","Final Time","Placing","Money Earned"]
[{"$nulls":4},1,"Kylee Scribner","Firewater Cartel",null,15.622999999999999,null,"1D 1st",220.5]
[{"$nulls":4},2,"Laine Whitmire","Bullseye Bullion",null,15.736000000000001,null,"1D 2nd",132.29999999999998]
[{"$nulls":4},3,"Jimmie Smith","Lever Action",null,15.782,null,"1D 3rd",88.2]
[{"$nulls":4},4,"Stephanie Fryar","Some Streakin French",null,15.885999999999999]
[{"$nulls":4},5,"Jeanie McKee","Streak Of Pleasure",null,15.885999999999999]
[{"$nulls":4},6,"Kristin Shoppa","JW Freeze Frame",null,15.916]
[{"$nulls":4},7,"Ashley Alligood","RB BullysIndian Outlaw",null,15.943]
[{"$nulls":4},8,"Kelsey Hayden","Buhbye",null,15.962999999999999]
[{"$nulls":4},9,"Kelsey Hayden","Skippa Ice Breaker",null,16.029]
[{"$nulls":4},10,"Kara Large","RSL FirstroyalEddie",null,16.05]
[{"$nulls":4},11,"Jimmie Smith","Marthas Bullion",null,16.071999999999999]
[{"$nulls":4},12,"Phillip Kenyon","Tillies Hayday",null,16.149000000000001,null,"2D 1st",189]
[{"$nulls":4},13,"Bianca Dos Santos","One Famous Streaker",null,16.170000000000002,null,"2D 2nd",113.39999999999999]
[{"$nulls":4},14,"Lauren Whitmire","Fame Rox",null,16.187000000000001,null,"2D 3rd",75.600000000000009]
[{"$nulls":4},15,"Jennifer Kalafatic","Rockin The Guns",null,16.2]
[{"$nulls":4},16,"Tami Semas","Guys Drama Queen",null,16.204999999999998]
[{"$nulls":4},17,"Sarah Rau","Cinnamon On Top",null,16.292999999999999]
[{"$nulls":4},18,"Phillip Kenyon","MakeitaMojito",null,16.295000000000002]
[{"$nulls":4},19,"Jennifer Abbott","Wendell Jackson",null,16.3]
[{"$nulls":4},20,"Tawnie Vanderlans","TS Return N Hayday",null,16.300999999999998]
[{"$nulls":4},21,"Mindy Holloway","Sweetmovinfirewater",null,16.309999999999999]
[{"$nulls":4},22,"Mechelle Tyler","Kissesforcaris",null,16.343]
[{"$nulls":4},23,"Jessie King","Sophie SO Sweet",null,16.396999999999998]
[{"$nulls":4},24,"Teneille Angland","KN Famous Ever After",null,16.402999999999999]
[{"$nulls":4},25,"Stephanie Fryar","The Red Maserati",null,16.414999999999999]
[{"$nulls":4},26,"Jennifer Cullen","HLC Pretty Lil Sugar",null,16.559999999999999]
[{"$nulls":4},27,"Stephanie Fryar","Cant Stop The Feeling",null,16.64,null,"3D 1st",126]
[{"$nulls":4},28,"Laine Whitmire","Ms Carrie Lou",null,16.655999999999999,null,"3D 2nd",75.599999999999994]
[{"$nulls":4},29,"Sydney Swatsell","Smalls",null,16.696999999999999,null,"3D 3rd",50.400000000000006]
[{"$nulls":4},30,"Tiffany Durham","Dual Reys Win Money",null,16.7]
[{"$nulls":4},31,"Sydney Swatsell","Feature Me Firin",null,16.713999999999999]
[{"$nulls":4},32,"Madison Wright","Manchita",null,16.722000000000001]
[{"$nulls":4},33,"Caitlyn Schievink","KN Mojita Over Rocks",null,16.731999999999999]
[{"$nulls":4},34,"Daisy Baird","Teninas Smart Cookie",null,16.756]
[{"$nulls":4},35,"Lindsey Stevens","JM I Got Faith",null,16.791]
[{"$nulls":4},36,"Alleigh Harper","Rockette Aflame ",null,16.835999999999999]
[{"$nulls":4},37,"Sarah Rau","MV Famous Margarita",null,16.881]
[{"$nulls":4},38,"Lorinda Van Newkirk","Rare Shake CEO",null,16.908000000000001]
[{"$nulls":4},39,"Tiffany Durham","Midge Ridge",null,16.940999999999999]
[{"$nulls":4},40,"Tiffany Durham","Dashin Luke Perry",null,17.097999999999999]
[{"$nulls":4},42,"Jesse Budd","Flicker Nic",null,17.262,null,"4D 1st",94.5]
[{"$nulls":4},43,"Nicole Buell"," Dirty Money",null,17.338000000000001,null,"4D 2nd",56.699999999999996]
[{"$nulls":4},44,"Rogena Richard","Colt",null,17.356000000000002,null,"4D 3rd",37.800000000000004]
[{"$nulls":4},45,"Timberly Erickson","Mines Fast",null,17.385000000000002]
[{"$nulls":4},46,"Jessica Crouch","Vito",null,17.385999999999999]
[{"$nulls":4},47,"Tiffany Durham","Colonels Kerosene",null,17.876999999999999]
[{"$nulls":4},48,"Jennifer Cullen","Chasin Annies Fame",null,17.978000000000002]
[{"$nulls":4},49,"Randi Roberts","Boom Slicka Boom",null,18.085999999999999]
[{"$nulls":4},50,"Kolleen Wilchenski","Bugsy",null,18.687000000000001]
[{"$nulls":4},51,"Amber Wagner","Nordis Dash",null,20.77]
[{"$nulls":4},52,"Kolleen Wilchenski","Ima Mighty One",null,"broken"]
[{"$nulls":4},53,"Jessica Crouch ","Vinny",null,"nt"]
[{"$nulls":4},54,"Shelby Janssen","Shes A Man Eater",null,"nt15.966"]
[{"$nulls":4},55,"Jennifer Kalafatic","CM Spotlight",null,"nt16.385"]
[{"$nulls":4},56,"Lauren Whitmire","Dash Down Anytime",null,"nt16.447"]
[{"$nulls":4},57,"Stephanie Fryar","Can I Get a Hallelujah",null,"nt16.502"]
[{"$nulls":4},58,"Lindsey Stevens","Miss America Fame",null,"nt16.621"]
[{"$nulls":4},59,"Lauren Whitmire","WR Famous Maverick",null,"nt16.774"]
[{"$nulls":4},60,"Lauren Whitmire","WR Famous Amigo",null,"nt16.801"]
[{"$nulls":4},61,"Sarah Peters","Rockin My Fame",null,"nt16.924"]
[{"$nulls":4},41,"Katie Kapanick","Pistol Packin Lark",null,"nt17.211"]
[{"$nulls":4},62,"Serena Jenkins","Top Money Dude",null,"nt19.030"]
[{"$nulls":4},63,"Mindy Holloway","Flame Flinging Rebel",null,"nt20.480",{"$f":"IF(OR(H64=5,H64=10, H64=15, H64=\"BP\",H64=\"SCR\"),\"NT\",I64)","v":"nt20.480"}]
[{"$nulls":4},64,{"$nulls":4},{"$f":"IF(OR(H65=5,H65=10, H65=15, H65=\"BP\",H65=\"SCR\"),\"NT\",I65)","v":0}]
[{"$nulls":4},65,{"$nulls":4},{"$f":"IF(OR(H66=5,H66=10, H66=15, H66=\"BP\",H66=\"SCR\"),\"NT\",I66)","v":0}]
[{"$nulls":4},66,{"$nulls":4},{"$f":"IF(OR(H67=5,H67=10, H67=15, H67=\"BP\",H67=\"SCR\"),\"NT\",I67)","v":0}]
[{"$nulls":4},67,{"$nulls":4},{"$f":"IF(OR(H68=5,H68=10, H68=15, H68=\"BP\",H68=\"SCR\"),\"NT\",I68)","v":0}]
[{"$nulls":4},68,{"$nulls":4},{"$f":"IF(OR(H69=5,H69=10, H69=15, H69=\"BP\",H69=\"SCR\"),\"NT\",I69)","v":0}]
[{"$nulls":4},69,{"$nulls":4},{"$f":"IF(OR(H70=5,H70=10, H70=15, H70=\"BP\",H70=\"SCR\"),\"NT\",I70)","v":0}]
[{"$nulls":4},70,{"$nulls":4},{"$f":"IF(OR(H71=5,H71=10, H71=15, H71=\"BP\",H71=\"SCR\"),\"NT\",I71)","v":0}]
[{"$nulls":4},71,{"$nulls":4},{"$f":"IF(OR(H72=5,H72=10, H72=15, H72=\"BP\",H72=\"SCR\"),\"NT\",I72)","v":0}]
[{"$nulls":4},72,{"$nulls":4},{"$f":"IF(OR(H73=5,H73=10, H73=15, H73=\"BP\",H73=\"SCR\"),\"NT\",I73)","v":0}]
[{"$nulls":4},73,{"$nulls":4},{"$f":"IF(OR(H74=5,H74=10, H74=15, H74=\"BP\",H74=\"SCR\"),\"NT\",I74)","v":0}]
[{"$nulls":4},74,{"$nulls":4},{"$f":"IF(OR(H75=5,H75=10, H75=15, H75=\"BP\",H75=\"SCR\"),\"NT\",I75)","v":0}]
[{"$nulls":4},75,{"$nulls":4},{"$f":"IF(OR(H76=5,H76=10, H76=15, H76=\"BP\",H76=\"SCR\"),\"NT\",I76)","v":0}]
[{"$nulls":4},76,{"$nulls":4},{"$f":"IF(OR(H77=5,H77=10, H77=15, H77=\"BP\",H77=\"SCR\"),\"NT\",I77)","v":0}]
[{"$nulls":4},77,{"$nulls":4},{"$f":"IF(OR(H78=5,H78=10, H78=15, H78=\"BP\",H78=\"SCR\"),\"NT\",I78)","v":0}]
[{"$nulls":4},78,{"$nulls":4},{"$f":"IF(OR(H79=5,H79=10, H79=15, H79=\"BP\",H79=\"SCR\"),\"NT\",I79)","v":0}]
[{"$nulls":4},79,{"$nulls":4},{"$f":"IF(OR(H80=5,H80=10, H80=15, H80=\"BP\",H80=\"SCR\"),\"NT\",I80)","v":0}]
[{"$nulls":4},80,{"$nulls":4},{"$f":"IF(OR(H81=5,H81=10, H81=15, H81=\"BP\",H81=\"SCR\"),\"NT\",I81)","v":0}]
[{"$nulls":4},81,{"$nulls":4},{"$f":"IF(OR(H82=5,H82=10, H82=15, H82=\"BP\",H82=\"SCR\"),\"NT\",I82)","v":0}]
[{"$nulls":4},82,{"$nulls":4},{"$f":"IF(OR(H83=5,H83=10, H83=15, H83=\"BP\",H83=\"SCR\"),\"NT\",I83)","v":0}]
[{"$nulls":4},83,{"$nulls":4},{"$f":"IF(OR(H84=5,H84=10, H84=15, H84=\"BP\",H84=\"SCR\"),\"NT\",I84)","v":0}]
[{"$nulls":4},84,{"$nulls":4},{"$f":"IF(OR(H85=5,H85=10, H85=15, H85=\"BP\",H85=\"SCR\"),\"NT\",I85)","v":0}]
[{"$nulls":4},85,{"$nulls":4},{"$f":"IF(OR(H86=5,H86=10, H86=15, H86=\"BP\",H86=\"SCR\"),\"NT\",I86)","v":0}]
[{"$nulls":4},86,{"$nulls":4},{"$f":"IF(OR(H87=5,H87=10, H87=15, H87=\"BP\",H87=\"SCR\"),\"NT\",I87)","v":0}]
[{"$nulls":4},87,{"$nulls":4},{"$f":"IF(OR(H88=5,H88=10, H88=15, H88=\"BP\",H88=\"SCR\"),\"NT\",I88)","v":0}]
[{"$nulls":4},88,{"$nulls":4},{"$f":"IF(OR(H89=5,H89=10, H89=15, H89=\"BP\",H89=\"SCR\"),\"NT\",I89)","v":0}]
[{"$nulls":4},89,{"$nulls":4},{"$f":"IF(OR(H90=5,H90=10, H90=15, H90=\"BP\",H90=\"SCR\"),\"NT\",I90)","v":0}]
[{"$nulls":4},90,{"$nulls":4},{"$f":"IF(OR(H91=5,H91=10, H91=15, H91=\"BP\",H91=\"SCR\"),\"NT\",I91)","v":0}]
[{"$nulls":4},91,{"$nulls":4},{"$f":"IF(OR(H92=5,H92=10, H92=15, H92=\"BP\",H92=\"SCR\"),\"NT\",I92)","v":0}]
[{"$nulls":4},92,{"$nulls":4},{"$f":"IF(OR(H93=5,H93=10, H93=15, H93=\"BP\",H93=\"SCR\"),\"NT\",I93)","v":0}]
[{"$nulls":4},93,{"$nulls":4},{"$f":"IF(OR(H94=5,H94=10, H94=15, H94=\"BP\",H94=\"SCR\"),\"NT\",I94)","v":0}]
[{"$nulls":4},94,{"$nulls":4},{"$f":"IF(OR(H95=5,H95=10, H95=15, H95=\"BP\",H95=\"SCR\"),\"NT\",I95)","v":0}]
[{"$nulls":4},95,{"$nulls":4},{"$f":"IF(OR(H96=5,H96=10, H96=15, H96=\"BP\",H96=\"SCR\"),\"NT\",I96)","v":0}]
[{"$nulls":4},96,{"$nulls":4},{"$f":"IF(OR(H97=5,H97=10, H97=15, H97=\"BP\",H97=\"SCR\"),\"NT\",I97)","v":0}]
[{"$nulls":4},97,{"$nulls":4},{"$f":"IF(OR(H98=5,H98=10, H98=15, H98=\"BP\",H98=\"SCR\"),\"NT\",I98)","v":0}]
[{"$nulls":4},98,{"$nulls":4},{"$f":"IF(OR(H99=5,H99=10, H99=15, H99=\"BP\",H99=\"SCR\"),\"NT\",I99)","v":0}]
[{"$nulls":4},99,{"$nulls":4},{"$f":"IF(OR(H100=5,H100=10, H100=15, H100=\"BP\",H100=\"SCR\"),\"NT\",I100)","v":0}]
[{"$nulls":4},100,{"$nulls":4},{"$f":"IF(OR(H101=5,H101=10, H101=15, H101=\"BP\",H101=\"SCR\"),\"NT\",I101)","v":0}]
[{"$nulls":4},101,{"$nulls":4},{"$f":"IF(OR(H102=5,H102=10, H102=15, H102=\"BP\",H102=\"SCR\"),\"NT\",I102)","v":0}]
[{"$nulls":4},102,{"$nulls":4},{"$f":"IF(OR(H103=5,H103=10, H103=15, H103=\"BP\",H103=\"SCR\"),\"NT\",I103)","v":0}]
[{"$nulls":4},103,{"$nulls":4},{"$f":"IF(OR(H104=5,H104=10, H104=15, H104=\"BP\",H104=\"SCR\"),\"NT\",I104)","v":0}]
[{"$nulls":4},104,{"$nulls":4},{"$f":"IF(OR(H105=5,H105=10, H105=15, H105=\"BP\",H105=\"SCR\"),\"NT\",I105)","v":0}]
[{"$nulls":4},105,{"$nulls":4},{"$f":"IF(OR(H106=5,H106=10, H106=15, H106=\"BP\",H106=\"SCR\"),\"NT\",I106)","v":0}]
[{"$nulls":4},106,{"$nulls":4},{"$f":"IF(OR(H107=5,H107=10, H107=15, H107=\"BP\",H107=\"SCR\"),\"NT\",I107)","v":0}]
[{"$nulls":4},107,{"$nulls":4},{"$f":"IF(OR(H108=5,H108=10, H108=15, H108=\"BP\",H108=\"SCR\"),\"NT\",I108)","v":0}]
[{"$nulls":4},108,{"$nulls":4},{"$f":"IF(OR(H109=5,H109=10, H109=15, H109=\"BP\",H109=\"SCR\"),\"NT\",I109)","v":0}]
[{"$nulls":4},109,{"$nulls":4},{"$f":"IF(OR(H110=5,H110=10, H110=15, H110=\"BP\",H110=\"SCR\"),\"NT\",I110)","v":0}]
[{"$nulls":4},110,{"$nulls":4},{"$f":"IF(OR(H111=5,H111=10, H111=15, H111=\"BP\",H111=\"SCR\"),\"NT\",I111)","v":0}]
[{"$nulls":4},111,{"$nulls":4},{"$f":"IF(OR(H112=5,H112=10, H112=15, H112=\"BP\",H112=\"SCR\"),\"NT\",I112)","v":0}]
[{"$nulls":4},112,{"$nulls":4},{"$f":"IF(OR(H113=5,H113=10, H113=15, H113=\"BP\",H113=\"SCR\"),\"NT\",I113)","v":0}]
[{"$nulls":4},113,{"$nulls":4},{"$f":"IF(OR(H114=5,H114=10, H114=15, H114=\"BP\",H114=\"SCR\"),\"NT\",I114)","v":0}]
[{"$nulls":4},114,{"$nulls":4},{"$f":"IF(OR(H115=5,H115=10, H115=15, H115=\"BP\",H115=\"SCR\"),\"NT\",I115)","v":0}]
[{"$nulls":4},115,{"$nulls":4},{"$f":"IF(OR(H116=5,H116=10, H116=15, H116=\"BP\",H116=\"SCR\"),\"NT\",I116)","v":0}]
[{"$nulls":4},116,{"$nulls":4},{"$f":"IF(OR(H117=5,H117=10, H117=15, H117=\"BP\",H117=\"SCR\"),\"NT\",I117)","v":0}]
[{"$nulls":4},117,{"$nulls":4},{"$f":"IF(OR(H118=5,H118=10, H118=15, H118=\"BP\",H118=\"SCR\"),\"NT\",I118)","v":0}]
[{"$nulls":4},118,{"$nulls":4},{"$f":"IF(OR(H119=5,H119=10, H119=15, H119=\"BP\",H119=\"SCR\"),\"NT\",I119)","v":0}]
[{"$nulls":4},119,{"$nulls":4},{"$f":"IF(OR(H120=5,H120=10, H120=15, H120=\"BP\",H120=\"SCR\"),\"NT\",I120)","v":0}]
[{"$nulls":4},120,{"$nulls":4},{"$f":"IF(OR(H121=5,H121=10, H121=15, H121=\"BP\",H121=\"SCR\"),\"NT\",I121)","v":0}]
[{"$nulls":4},121,{"$nulls":4},{"$f":"IF(OR(H122=5,H122=10, H122=15, H122=\"BP\",H122=\"SCR\"),\"NT\",I122)","v":0}]
[{"$nulls":4},122,{"$nulls":4},{"$f":"IF(OR(H123=5,H123=10, H123=15, H123=\"BP\",H123=\"SCR\"),\"NT\",I123)","v":0}]
[{"$nulls":4},123,{"$nulls":4},{"$f":"IF(OR(H124=5,H124=10, H124=15, H124=\"BP\",H124=\"SCR\"),\"NT\",I124)","v":0}]
[{"$nulls":4},124,{"$nulls":4},{"$f":"IF(OR(H125=5,H125=10, H125=15, H125=\"BP\",H125=\"SCR\"),\"NT\",I125)","v":0}]
[{"$nulls":4},125,{"$nulls":4},{"$f":"IF(OR(H126=5,H126=10, H126=15, H126=\"BP\",H126=\"SCR\"),\"NT\",I126)","v":0}]
[{"$nulls":4},126,{"$nulls":4},{"$f":"IF(OR(H127=5,H127=10, H127=15, H127=\"BP\",H127=\"SCR\"),\"NT\",I127)","v":0}]
[{"$nulls":4},127,{"$nulls":4},{"$f":"IF(OR(H128=5,H128=10, H128=15, H128=\"BP\",H128=\"SCR\"),\"NT\",I128)","v":0}]
[{"$nulls":4},128,{"$nulls":4},{"$f":"IF(OR(H129=5,H129=10, H129=15, H129=\"BP\",H129=\"SCR\"),\"NT\",I129)","v":0}]
[{"$nulls":4},129,{"$nulls":4},{"$f":"IF(OR(H130=5,H130=10, H130=15, H130=\"BP\",H130=\"SCR\"),\"NT\",I130)","v":0}]
[{"$nulls":4},130,{"$nulls":4},{"$f":"IF(OR(H131=5,H131=10, H131=15, H131=\"BP\",H131=\"SCR\"),\"NT\",I131)","v":0}]
[{"$nulls":4},131,{"$nulls":4},{"$f":"IF(OR(H132=5,H132=10, H132=15, H132=\"BP\",H132=\"SCR\"),\"NT\",I132)","v":0}]
[{"$nulls":4},132,{"$nulls":4},{"$f":"IF(OR(H133=5,H133=10, H133=15, H133=\"BP\",H133=\"SCR\"),\"NT\",I133)","v":0}]
[{"$nulls":4},133,{"$nulls":4},{"$f":"IF(OR(H134=5,H134=10, H134=15, H134=\"BP\",H134=\"SCR\"),\"NT\",I134)","v":0}]
[{"$nulls":4},134,{"$nulls":4},{"$f":"IF(OR(H135=5,H135=10, H135=15, H135=\"BP\",H135=\"SCR\"),\"NT\",I135)","v":0}]
[{"$nulls":4},135,{"$nulls":4},{"$f":"IF(OR(H136=5,H136=10, H136=15, H136=\"BP\",H136=\"SCR\"),\"NT\",I136)","v":0}]
[{"$nulls":4},136,{"$nulls":4},{"$f":"IF(OR(H137=5,H137=10, H137=15, H137=\"BP\",H137=\"SCR\"),\"NT\",I137)","v":0}]
[{"$nulls":4},137,{"$nulls":4},{"$f":"IF(OR(H138=5,H138=10, H138=15, H138=\"BP\",H138=\"SCR\"),\"NT\",I138)","v":0}]
[{"$nulls":4},138,{"$nulls":4},{"$f":"IF(OR(H139=5,H139=10, H139=15, H139=\"BP\",H139=\"SCR\"),\"NT\",I139)","v":0}]
[{"$nulls":4},139,{"$nulls":4},{"$f":"IF(OR(H140=5,H140=10, H140=15, H140=\"BP\",H140=\"SCR\"),\"NT\",I140)","v":0}]
[{"$nulls":4},140,{"$nulls":4},{"$f":"IF(OR(H141=5,H141=10, H141=15, H141=\"BP\",H141=\"SCR\"),\"NT\",I141)","v":0}]
[{"$nulls":4},141,{"$nulls":4},{"$f":"IF(OR(H142=5,H142=10, H142=15, H142=\"BP\",H142=\"SCR\"),\"NT\",I142)","v":0}]
[{"$nulls":4},142,{"$nulls":4},{"$f":"IF(OR(H143=5,H143=10, H143=15, H143=\"BP\",H143=\"SCR\"),\"NT\",I143)","v":0}]
[{"$nulls":4},143,{"$nulls":4},{"$f":"IF(OR(H144=5,H144=10, H144=15, H144=\"BP\",H144=\"SCR\"),\"NT\",I144)","v":0}]
[{"$nulls":4},144,{"$nulls":4},{"$f":"IF(OR(H145=5,H145=10, H145=15, H145=\"BP\",H145=\"SCR\"),\"NT\",I145)","v":0}]
[{"$nulls":4},145,{"$nulls":4},{"$f":"IF(OR(H146=5,H146=10, H146=15, H146=\"BP\",H146=\"SCR\"),\"NT\",I146)","v":0}]
[{"$nulls":4},146,{"$nulls":4},{"$f":"IF(OR(H147=5,H147=10, H147=15, H147=\"BP\",H147=\"SCR\"),\"NT\",I147)","v":0}]
[{"$nulls":4},147,{"$nulls":4},{"$f":"IF(OR(H148=5,H148=10, H148=15, H148=\"BP\",H148=\"SCR\"),\"NT\",I148)","v":0}]
[{"$nulls":4},148,{"$nulls":4},{"$f":"IF(OR(H149=5,H149=10, H149=15, H149=\"BP\",H149=\"SCR\"),\"NT\",I149)","v":0}]
[{"$nulls":4},149,{"$nulls":4},{"$f":"IF(OR(H150=5,H150=10, H150=15, H150=\"BP\",H150=\"SCR\"),\"NT\",I150)","v":0}]
[{"$nulls":4},150,{"$nulls":4},{"$f":"IF(OR(H151=5,H151=10, H151=15, H151=\"BP\",H151=\"SCR\"),\"NT\",I151)","v":0}]
[{"$nulls":4},151,{"$nulls":4},{"$f":"IF(OR(H152=5,H152=10, H152=15, H152=\"BP\",H152=\"SCR\"),\"NT\",I152)","v":0}]
[{"$nulls":4},152,{"$nulls":4},{"$f":"IF(OR(H153=5,H153=10, H153=15, H153=\"BP\",H153=\"SCR\"),\"NT\",I153)","v":0}]
[{"$nulls":4},153,{"$nulls":4},{"$f":"IF(OR(H154=5,H154=10, H154=15, H154=\"BP\",H154=\"SCR\"),\"NT\",I154)","v":0}]
[{"$nulls":4},154,{"$nulls":4},{"$f":"IF(OR(H155=5,H155=10, H155=15, H155=\"BP\",H155=\"SCR\"),\"NT\",I155)","v":0}]
[{"$nulls":4},155,{"$nulls":4},{"$f":"IF(OR(H156=5,H156=10, H156=15, H156=\"BP\",H156=\"SCR\"),\"NT\",I156)","v":0}]
[{"$nulls":4},156,{"$nulls":4},{"$f":"IF(OR(H157=5,H157=10, H157=15, H157=\"BP\",H157=\"SCR\"),\"NT\",I157)","v":0}]
[{"$nulls":4},157,{"$nulls":4},{"$f":"IF(OR(H158=5,H158=10, H158=15, H158=\"BP\",H158=\"SCR\"),\"NT\",I158)","v":0}]
[{"$nulls":4},158,{"$nulls":4},{"$f":"IF(OR(H159=5,H159=10, H159=15, H159=\"BP\",H159=\"SCR\"),\"NT\",I159)","v":0}]
[{"$nulls":4},159,{"$nulls":4},{"$f":"IF(OR(H160=5,H160=10, H160=15, H160=\"BP\",H160=\"SCR\"),\"NT\",I160)","v":0}]
[{"$nulls":4},160,{"$nulls":4},{"$f":"IF(OR(H161=5,H161=10, H161=15, H161=\"BP\",H161=\"SCR\"),\"NT\",I161)","v":0}]
[{"$nulls":4},161,{"$nulls":4},{"$f":"IF(OR(H162=5,H162=10, H162=15, H162=\"BP\",H162=\"SCR\"),\"NT\",I162)","v":0}]
[{"$nulls":4},162,{"$nulls":4},{"$f":"IF(OR(H163=5,H163=10, H163=15, H163=\"BP\",H163=\"SCR\"),\"NT\",I163)","v":0}]
[{"$nulls":4},163,{"$nulls":4},{"$f":"IF(OR(H164=5,H164=10, H164=15, H164=\"BP\",H164=\"SCR\"),\"NT\",I164)","v":0}]
[{"$nulls":4},164,{"$nulls":4},{"$f":"IF(OR(H165=5,H165=10, H165=15, H165=\"BP\",H165=\"SCR\"),\"NT\",I165)","v":0}]
[{"$nulls":4},165,{"$nulls":4},{"$f":"IF(OR(H166=5,H166=10, H166=15, H166=\"BP\",H166=\"SCR\"),\"NT\",I166)","v":0}]
[{"$nulls":4},166,{"$nulls":4},{"$f":"IF(OR(H167=5,H167=10, H167=15, H167=\"BP\",H167=\"SCR\"),\"NT\",I167)","v":0}]
[{"$nulls":4},167,{"$nulls":4},{"$f":"IF(OR(H168=5,H168=10, H168=15, H168=\"BP\",H168=\"SCR\"),\"NT\",I168)","v":0}]
[{"$nulls":4},168,{"$nulls":4},{"$f":"IF(OR(H169=5,H169=10, H169=15, H169=\"BP\",H169=\"SCR\"),\"NT\",I169)","v":0}]
[{"$nulls":4},169,{"$nulls":4},{"$f":"IF(OR(H170=5,H170=10, H170=15, H170=\"BP\",H170=\"SCR\"),\"NT\",I170)","v":0}]
[{"$nulls":4},170,{"$nulls":4},{"$f":"IF(OR(H171=5,H171=10, H171=15, H171=\"BP\",H171=\"SCR\"),\"NT\",I171)","v":0}]
[{"$nulls":4},171,{"$nulls":4},{"$f":"IF(OR(H172=5,H172=10, H172=15, H172=\"BP\",H172=\"SCR\"),\"NT\",I172)","v":0}]
[{"$nulls":4},172,{"$nulls":4},{"$f":"IF(OR(H173=5,H173=10, H173=15, H173=\"BP\",H173=\"SCR\"),\"NT\",I173)","v":0}]
[{"$nulls":4},173,{"$nulls":4},{"$f":"IF(OR(H174=5,H174=10, H174=15, H174=\"BP\",H174=\"SCR\"),\"NT\",I174)","v":0}]
[{"$nulls":4},174,{"$nulls":4},{"$f":"IF(OR(H175=5,H175=10, H175=15, H175=\"BP\",H175=\"SCR\"),\"NT\",I175)","v":0}]
[{"$nulls":4},175,{"$nulls":4},{"$f":"IF(OR(H176=5,H176=10, H176=15, H176=\"BP\",H176=\"SCR\"),\"NT\",I176)","v":0}]
[{"$nulls":4},176,{"$nulls":4},{"$f":"IF(OR(H177=5,H177=10, H177=15, H177=\"BP\",H177=\"SCR\"),\"NT\",I177)","v":0}]
[{"$nulls":4},177,{"$nulls":4},{"$f":"IF(OR(H178=5,H178=10, H178=15, H178=\"BP\",H178=\"SCR\"),\"NT\",I178)","v":0}]
[{"$nulls":4},178,{"$nulls":4},{"$f":"IF(OR(H179=5,H179=10, H179=15, H179=\"BP\",H179=\"SCR\"),\"NT\",I179)","v":0}]
[{"$nulls":4},179,{"$nulls":4},{"$f":"IF(OR(H180=5,H180=10, H180=15, H180=\"BP\",H180=\"SCR\"),\"NT\",I180)","v":0}]
[{"$nulls":4},180,{"$nulls":4},{"$f":"IF(OR(H181=5,H181=10, H181=15, H181=\"BP\",H181=\"SCR\"),\"NT\",I181)","v":0}]
[{"$nulls":4},181,{"$nulls":4},{"$f":"IF(OR(H182=5,H182=10, H182=15, H182=\"BP\",H182=\"SCR\"),\"NT\",I182)","v":0}]
[{"$nulls":4},182,{"$nulls":4},{"$f":"IF(OR(H183=5,H183=10, H183=15, H183=\"BP\",H183=\"SCR\"),\"NT\",I183)","v":0}]
[{"$nulls":4},183,{"$nulls":4},{"$f":"IF(OR(H184=5,H184=10, H184=15, H184=\"BP\",H184=\"SCR\"),\"NT\",I184)","v":0}]
[{"$nulls":4},184,{"$nulls":4},{"$f":"IF(OR(H185=5,H185=10, H185=15, H185=\"BP\",H185=\"SCR\"),\"NT\",I185)","v":0}]
[{"$nulls":4},185,{"$nulls":4},{"$f":"IF(OR(H186=5,H186=10, H186=15, H186=\"BP\",H186=\"SCR\"),\"NT\",I186)","v":0}]
[{"$nulls":4},186,{"$nulls":4},{"$f":"IF(OR(H187=5,H187=10, H187=15, H187=\"BP\",H187=\"SCR\"),\"NT\",I187)","v":0}]
[{"$nulls":4},187,{"$nulls":4},{"$f":"IF(OR(H188=5,H188=10, H188=15, H188=\"BP\",H188=\"SCR\"),\"NT\",I188)","v":0}]
[{"$nulls":4},188,{"$nulls":4},{"$f":"IF(OR(H189=5,H189=10, H189=15, H189=\"BP\",H189=\"SCR\"),\"NT\",I189)","v":0}]
[{"$nulls":4},189,{"$nulls":4},{"$f":"IF(OR(H190=5,H190=10, H190=15, H190=\"BP\",H190=\"SCR\"),\"NT\",I190)","v":0}]
[{"$nulls":4},190,{"$nulls":4},{"$f":"IF(OR(H191=5,H191=10, H191=15, H191=\"BP\",H191=\"SCR\"),\"NT\",I191)","v":0}]
[{"$nulls":4},191,{"$nulls":4},{"$f":"IF(OR(H192=5,H192=10, H192=15, H192=\"BP\",H192=\"SCR\"),\"NT\",I192)","v":0}]
[{"$nulls":4},192,{"$nulls":4},{"$f":"IF(OR(H193=5,H193=10, H193=15, H193=\"BP\",H193=\"SCR\"),\"NT\",I193)","v":0}]
[{"$nulls":4},193,{"$nulls":4},{"$f":"IF(OR(H194=5,H194=10, H194=15, H194=\"BP\",H194=\"SCR\"),\"NT\",I194)","v":0}]
[{"$nulls":4},194,{"$nulls":4},{"$f":"IF(OR(H195=5,H195=10, H195=15, H195=\"BP\",H195=\"SCR\"),\"NT\",I195)","v":0}]
[{"$nulls":4},195,{"$nulls":4},{"$f":"IF(OR(H196=5,H196=10, H196=15, H196=\"BP\",H196=\"SCR\"),\"NT\",I196)","v":0}]
[{"$nulls":4},196,{"$nulls":4},{"$f":"IF(OR(H197=5,H197=10, H197=15, H197=\"BP\",H197=\"SCR\"),\"NT\",I197)","v":0}]
[{"$nulls":4},197,{"$nulls":4},{"$f":"IF(OR(H198=5,H198=10, H198=15, H198=\"BP\",H198=\"SCR\"),\"NT\",I198)","v":0}]
[{"$nulls":4},198,{"$nulls":4},{"$f":"IF(OR(H199=5,H199=10, H199=15, H199=\"BP\",H199=\"SCR\"),\"NT\",I199)","v":0}]
[{"$nulls":4},199,{"$nulls":4},{"$f":"IF(OR(H200=5,H200=10, H200=15, H200=\"BP\",H200=\"SCR\"),\"NT\",I200)","v":0}]
[{"$nulls":4},200,{"$nulls":4},{"$f":"IF(OR(H201=5,H201=10, H201=15, H201=\"BP\",H201=\"SCR\"),\"NT\",I201)","v":0}]
[{"$nulls":4},201,{"$nulls":4},{"$f":"IF(OR(H202=5,H202=10, H202=15, H202=\"BP\",H202=\"SCR\"),\"NT\",I202)","v":0}]
[{"$nulls":4},202,{"$nulls":4},{"$f":"IF(OR(H203=5,H203=10, H203=15, H203=\"BP\",H203=\"SCR\"),\"NT\",I203)","v":0}]
[{"$nulls":4},203,{"$nulls":4},{"$f":"IF(OR(H204=5,H204=10, H204=15, H204=\"BP\",H204=\"SCR\"),\"NT\",I204)","v":0}]
[{"$nulls":4},204,{"$nulls":4},{"$f":"IF(OR(H205=5,H205=10, H205=15, H205=\"BP\",H205=\"SCR\"),\"NT\",I205)","v":0}]
[{"$nulls":4},205,{"$nulls":4},{"$f":"IF(OR(H206=5,H206=10, H206=15, H206=\"BP\",H206=\"SCR\"),\"NT\",I206)","v":0}]
[{"$nulls":4},206,{"$nulls":4},{"$f":"IF(OR(H207=5,H207=10, H207=15, H207=\"BP\",H207=\"SCR\"),\"NT\",I207)","v":0}]
[{"$nulls":4},207,{"$nulls":4},{"$f":"IF(OR(H208=5,H208=10, H208=15, H208=\"BP\",H208=\"SCR\"),\"NT\",I208)","v":0}]
[{"$nulls":4},208,{"$nulls":4},{"$f":"IF(OR(H209=5,H209=10, H209=15, H209=\"BP\",H209=\"SCR\"),\"NT\",I209)","v":0}]
[{"$nulls":4},209,{"$nulls":4},{"$f":"IF(OR(H210=5,H210=10, H210=15, H210=\"BP\",H210=\"SCR\"),\"NT\",I210)","v":0}]
[{"$nulls":4},210,{"$nulls":4},{"$f":"IF(OR(H211=5,H211=10, H211=15, H211=\"BP\",H211=\"SCR\"),\"NT\",I211)","v":0}]
[{"$nulls":4},211,{"$nulls":4},{"$f":"IF(OR(H212=5,H212=10, H212=15, H212=\"BP\",H212=\"SCR\"),\"NT\",I212)","v":0}]
[{"$nulls":4},212,{"$nulls":4},{"$f":"IF(OR(H213=5,H213=10, H213=15, H213=\"BP\",H213=\"SCR\"),\"NT\",I213)","v":0}]
[{"$nulls":4},213,{"$nulls":4},{"$f":"IF(OR(H214=5,H214=10, H214=15, H214=\"BP\",H214=\"SCR\"),\"NT\",I214)","v":0}]
[{"$nulls":4},214,{"$nulls":4},{"$f":"IF(OR(H215=5,H215=10, H215=15, H215=\"BP\",H215=\"SCR\"),\"NT\",I215)","v":0}]
[{"$nulls":4},215,{"$nulls":4},{"$f":"IF(OR(H216=5,H216=10, H216=15, H216=\"BP\",H216=\"SCR\"),\"NT\",I216)","v":0}]
[{"$nulls":4},216,{"$nulls":4},{"$f":"IF(OR(H217=5,H217=10, H217=15, H217=\"BP\",H217=\"SCR\"),\"NT\",I217)","v":0}]
[{"$nulls":4},217,{"$nulls":4},{"$f":"IF(OR(H218=5,H218=10, H218=15, H218=\"BP\",H218=\"SCR\"),\"NT\",I218)","v":0}]
[{"$nulls":4},218,{"$nulls":4},{"$f":"IF(OR(H219=5,H219=10, H219=15, H219=\"BP\",H219=\"SCR\"),\"NT\",I219)","v":0}]
[{"$nulls":4},219,{"$nulls":4},{"$f":"IF(OR(H220=5,H220=10, H220=15, H220=\"BP\",H220=\"SCR\"),\"NT\",I220)","v":0}]
[{"$nulls":4},220,{"$nulls":4},{"$f":"IF(OR(H221=5,H221=10, H221=15, H221=\"BP\",H221=\"SCR\"),\"NT\",I221)","v":0}]
[{"$nulls":4},221,{"$nulls":4},{"$f":"IF(OR(H222=5,H222=10, H222=15, H222=\"BP\",H222=\"SCR\"),\"NT\",I222)","v":0}]
[{"$nulls":4},222,{"$nulls":4},{"$f":"IF(OR(H223=5,H223=10, H223=15, H223=\"BP\",H223=\"SCR\"),\"NT\",I223)","v":0}]
[{"$nulls":4},223,{"$nulls":4},{"$f":"IF(OR(H224=5,H224=10, H224=15, H224=\"BP\",H224=\"SCR\"),\"NT\",I224)","v":0}]
[{"$nulls":4},224,{"$nulls":4},{"$f":"IF(OR(H225=5,H225=10, H225=15, H225=\"BP\",H225=\"SCR\"),\"NT\",I225)","v":0}]
[{"$nulls":4},225,{"$nulls":4},{"$f":"IF(OR(H226=5,H226=10, H226=15, H226=\"BP\",H226=\"SCR\"),\"NT\",I226)","v":0}]
[{"$nulls":4},226,{"$nulls":4},{"$f":"IF(OR(H227=5,H227=10, H227=15, H227=\"BP\",H227=\"SCR\"),\"NT\",I227)","v":0}]
[{"$nulls":4},227,{"$nulls":4},{"$f":"IF(OR(H228=5,H228=10, H228=15, H228=\"BP\",H228=\"SCR\"),\"NT\",I228)","v":0}]
[{"$nulls":4},228,{"$nulls":4},{"$f":"IF(OR(H229=5,H229=10, H229=15, H229=\"BP\",H229=\"SCR\"),\"NT\",I229)","v":0}]
[{"$nulls":4},229,{"$nulls":4},{"$f":"IF(OR(H230=5,H230=10, H230=15, H230=\"BP\",H230=\"SCR\"),\"NT\",I230)","v":0}]
[{"$nulls":4},230,{"$nulls":4},{"$f":"IF(OR(H231=5,H231=10, H231=15, H231=\"BP\",H231=\"SCR\"),\"NT\",I231)","v":0}]
[{"$nulls":4},231,{"$nulls":4},{"$f":"IF(OR(H232=5,H232=10, H232=15, H232=\"BP\",H232=\"SCR\"),\"NT\",I232)","v":0}]
[{"$nulls":4},232,{"$nulls":4},{"$f":"IF(OR(H233=5,H233=10, H233=15, H233=\"BP\",H233=\"SCR\"),\"NT\",I233)","v":0}]
[{"$nulls":4},233,{"$nulls":4},{"$f":"IF(OR(H234=5,H234=10, H234=15, H234=\"BP\",H234=\"SCR\"),\"NT\",I234)","v":0}]
[{"$nulls":4},234,{"$nulls":4},{"$f":"IF(OR(H235=5,H235=10, H235=15, H235=\"BP\",H235=\"SCR\"),\"NT\",I235)","v":0}]
[{"$nulls":4},235,{"$nulls":4},{"$f":"IF(OR(H236=5,H236=10, H236=15, H236=\"BP\",H236=\"SCR\"),\"NT\",I236)","v":0}]
[{"$nulls":4},236,{"$nulls":4},{"$f":"IF(OR(H237=5,H237=10, H237=15, H237=\"BP\",H237=\"SCR\"),\"NT\",I237)","v":0}]
[{"$nulls":4},237,{"$nulls":4},{"$f":"IF(OR(H238=5,H238=10, H238=15, H238=\"BP\",H238=\"SCR\"),\"NT\",I238)","v":0}]
[{"$nulls":4},238,{"$nulls":4},{"$f":"IF(OR(H239=5,H239=10, H239=15, H239=\"BP\",H239=\"SCR\"),\"NT\",I239)","v":0}]
[{"$nulls":4},239,{"$nulls":4},{"$f":"IF(OR(H240=5,H240=10, H240=15, H240=\"BP\",H240=\"SCR\"),\"NT\",I240)","v":0}]
[{"$nulls":4},240,{"$nulls":4},{"$f":"IF(OR(H241=5,H241=10, H241=15, H241=\"BP\",H241=\"SCR\"),\"NT\",I241)","v":0}]
[{"$nulls":4},241,{"$nulls":4},{"$f":"IF(OR(H242=5,H242=10, H242=15, H242=\"BP\",H242=\"SCR\"),\"NT\",I242)","v":0}]
[{"$nulls":4},242,{"$nulls":4},{"$f":"IF(OR(H243=5,H243=10, H243=15, H243=\"BP\",H243=\"SCR\"),\"NT\",I243)","v":0}]
[{"$nulls":4},243,{"$nulls":4},{"$f":"IF(OR(H244=5,H244=10, H244=15, H244=\"BP\",H244=\"SCR\"),\"NT\",I244)","v":0}]
[{"$nulls":4},244,{"$nulls":4},{"$f":"IF(OR(H245=5,H245=10, H245=15, H245=\"BP\",H245=\"SCR\"),\"NT\",I245)","v":0}]
[{"$nulls":4},245,{"$nulls":4},{"$f":"IF(OR(H246=5,H246=10, H246=15, H246=\"BP\",H246=\"SCR\"),\"NT\",I246)","v":0}]
[{"$nulls":4},246,{"$nulls":4},{"$f":"IF(OR(H247=5,H247=10, H247=15, H247=\"BP\",H247=\"SCR\"),\"NT\",I247)","v":0}]
[{"$nulls":4},247,{"$nulls":4},{"$f":"IF(OR(H248=5,H248=10, H248=15, H248=\"BP\",H248=\"SCR\"),\"NT\",I248)","v":0}]
[{"$nulls":4},248,{"$nulls":4},{"$f":"IF(OR(H249=5,H249=10, H249=15, H249=\"BP\",H249=\"SCR\"),\"NT\",I249)","v":0}]
[{"$nulls":4},249,{"$nulls":4},{"$f":"IF(OR(H250=5,H250=10, H250=15, H250=\"BP\",H250=\"SCR\"),\"NT\",I250)","v":0}]
[{"$nulls":4},250,{"$nulls":4},{"$f":"IF(OR(H251=5,H251=10, H251=15, H251=\"BP\",H251=\"SCR\"),\"NT\",I251)","v":0}]
[{"$nulls":4},251,{"$nulls":4},{"$f":"IF(OR(H252=5,H252=10, H252=15, H252=\"BP\",H252=\"SCR\"),\"NT\",I252)","v":0}]
[{"$nulls":4},252,{"$nulls":4},{"$f":"IF(OR(H253=5,H253=10, H253=15, H253=\"BP\",H253=\"SCR\"),\"NT\",I253)","v":0}]
[{"$nulls":4},253,{"$nulls":4},{"$f":"IF(OR(H254=5,H254=10, H254=15, H254=\"BP\",H254=\"SCR\"),\"NT\",I254)","v":0}]
[{"$nulls":4},254,{"$nulls":4},{"$f":"IF(OR(H255=5,H255=10, H255=15, H255=\"BP\",H255=\"SCR\"),\"NT\",I255)","v":0}]
[{"$nulls":4},255,{"$nulls":4},{"$f":"IF(OR(H256=5,H256=10, H256=15, H256=\"BP\",H256=\"SCR\"),\"NT\",I256)","v":0}]
[{"$nulls":4},256,{"$nulls":4},{"$f":"IF(OR(H257=5,H257=10, H257=15, H257=\"BP\",H257=\"SCR\"),\"NT\",I257)","v":0}]
[{"$nulls":4},257,{"$nulls":4},{"$f":"IF(OR(H258=5,H258=10, H258=15, H258=\"BP\",H258=\"SCR\"),\"NT\",I258)","v":0}]
[{"$nulls":4},258,{"$nulls":4},{"$f":"IF(OR(H259=5,H259=10, H259=15, H259=\"BP\",H259=\"SCR\"),\"NT\",I259)","v":0}]
[{"$nulls":4},259,{"$nulls":4},{"$f":"IF(OR(H260=5,H260=10, H260=15, H260=\"BP\",H260=\"SCR\"),\"NT\",I260)","v":0}]
[{"$nulls":4},260,{"$nulls":4},{"$f":"IF(OR(H261=5,H261=10, H261=15, H261=\"BP\",H261=\"SCR\"),\"NT\",I261)","v":0}]
[{"$nulls":4},261,{"$nulls":4},{"$f":"IF(OR(H262=5,H262=10, H262=15, H262=\"BP\",H262=\"SCR\"),\"NT\",I262)","v":0}]
[{"$nulls":4},262,{"$nulls":4},{"$f":"IF(OR(H263=5,H263=10, H263=15, H263=\"BP\",H263=\"SCR\"),\"NT\",I263)","v":0}]
[{"$nulls":4},263,{"$nulls":4},{"$f":"IF(OR(H264=5,H264=10, H264=15, H264=\"BP\",H264=\"SCR\"),\"NT\",I264)","v":0}]
[{"$nulls":4},264,{"$nulls":4},{"$f":"IF(OR(H265=5,H265=10, H265=15, H265=\"BP\",H265=\"SCR\"),\"NT\",I265)","v":0}]
[{"$nulls":4},265,{"$nulls":4},{"$f":"IF(OR(H266=5,H266=10, H266=15, H266=\"BP\",H266=\"SCR\"),\"NT\",I266)","v":0}]
[{"$nulls":4},266,{"$nulls":4},{"$f":"IF(OR(H267=5,H267=10, H267=15, H267=\"BP\",H267=\"SCR\"),\"NT\",I267)","v":0}]
[{"$nulls":4},267,{"$nulls":4},{"$f":"IF(OR(H268=5,H268=10, H268=15, H268=\"BP\",H268=\"SCR\"),\"NT\",I268)","v":0}]
[{"$nulls":4},268,{"$nulls":4},{"$f":"IF(OR(H269=5,H269=10, H269=15, H269=\"BP\",H269=\"SCR\"),\"NT\",I269)","v":0}]
[{"$nulls":4},269,{"$nulls":4},{"$f":"IF(OR(H270=5,H270=10, H270=15, H270=\"BP\",H270=\"SCR\"),\"NT\",I270)","v":0}]
[{"$nulls":4},270,{"$nulls":4},{"$f":"IF(OR(H271=5,H271=10, H271=15, H271=\"BP\",H271=\"SCR\"),\"NT\",I271)","v":0}]
[{"$nulls":4},271,{"$nulls":4},{"$f":"IF(OR(H272=5,H272=10, H272=15, H272=\"BP\",H272=\"SCR\"),\"NT\",I272)","v":0}]
[{"$nulls":4},272,{"$nulls":4},{"$f":"IF(OR(H273=5,H273=10, H273=15, H273=\"BP\",H273=\"SCR\"),\"NT\",I273)","v":0}]
[{"$nulls":4},273,{"$nulls":4},{"$f":"IF(OR(H274=5,H274=10, H274=15, H274=\"BP\",H274=\"SCR\"),\"NT\",I274)","v":0}]
[{"$nulls":4},274,{"$nulls":4},{"$f":"IF(OR(H275=5,H275=10, H275=15, H275=\"BP\",H275=\"SCR\"),\"NT\",I275)","v":0}]
[{"$nulls":4},275,{"$nulls":4},{"$f":"IF(OR(H276=5,H276=10, H276=15, H276=\"BP\",H276=\"SCR\"),\"NT\",I276)","v":0}]
[{"$nulls":4},276,{"$nulls":4},{"$f":"IF(OR(H277=5,H277=10, H277=15, H277=\"BP\",H277=\"SCR\"),\"NT\",I277)","v":0}]
[{"$nulls":4},277,{"$nulls":4},{"$f":"IF(OR(H278=5,H278=10, H278=15, H278=\"BP\",H278=\"SCR\"),\"NT\",I278)","v":0}]
[{"$nulls":4},278,{"$nulls":4},{"$f":"IF(OR(H279=5,H279=10, H279=15, H279=\"BP\",H279=\"SCR\"),\"NT\",I279)","v":0}]
[{"$nulls":4},279,{"$nulls":4},{"$f":"IF(OR(H280=5,H280=10, H280=15, H280=\"BP\",H280=\"SCR\"),\"NT\",I280)","v":0}]
[{"$nulls":4},280,{"$nulls":4},{"$f":"IF(OR(H281=5,H281=10, H281=15, H281=\"BP\",H281=\"SCR\"),\"NT\",I281)","v":0}]
[{"$nulls":4},281,{"$nulls":4},{"$f":"IF(OR(H282=5,H282=10, H282=15, H282=\"BP\",H282=\"SCR\"),\"NT\",I282)","v":0}]
[{"$nulls":4},282,{"$nulls":4},{"$f":"IF(OR(H283=5,H283=10, H283=15, H283=\"BP\",H283=\"SCR\"),\"NT\",I283)","v":0}]
[{"$nulls":4},283,{"$nulls":4},{"$f":"IF(OR(H284=5,H284=10, H284=15, H284=\"BP\",H284=\"SCR\"),\"NT\",I284)","v":0}]
[{"$nulls":4},284,{"$nulls":4},{"$f":"IF(OR(H285=5,H285=10, H285=15, H285=\"BP\",H285=\"SCR\"),\"NT\",I285)","v":0}]
[{"$nulls":4},285,{"$nulls":4},{"$f":"IF(OR(H286=5,H286=10, H286=15, H286=\"BP\",H286=\"SCR\"),\"NT\",I286)","v":0}]
[{"$nulls":4},286,{"$nulls":4},{"$f":"IF(OR(H287=5,H287=10, H287=15, H287=\"BP\",H287=\"SCR\"),\"NT\",I287)","v":0}]
[{"$nulls":4},287,{"$nulls":4},{"$f":"IF(OR(H288=5,H288=10, H288=15, H288=\"BP\",H288=\"SCR\"),\"NT\",I288)","v":0}]
[{"$nulls":4},288,{"$nulls":4},{"$f":"IF(OR(H289=5,H289=10, H289=15, H289=\"BP\",H289=\"SCR\"),\"NT\",I289)","v":0}]
[{"$nulls":4},289,{"$nulls":4},{"$f":"IF(OR(H290=5,H290=10, H290=15, H290=\"BP\",H290=\"SCR\"),\"NT\",I290)","v":0}]
[{"$nulls":4},290,{"$nulls":4},{"$f":"IF(OR(H291=5,H291=10, H291=15, H291=\"BP\",H291=\"SCR\"),\"NT\",I291)","v":0}]
[{"$nulls":4},291,{"$nulls":4},{"$f":"IF(OR(H292=5,H292=10, H292=15, H292=\"BP\",H292=\"SCR\"),\"NT\",I292)","v":0}]
[{"$nulls":4},292,{"$nulls":4},{"$f":"IF(OR(H293=5,H293=10, H293=15, H293=\"BP\",H293=\"SCR\"),\"NT\",I293)","v":0}]
[{"$nulls":4},293,{"$nulls":4},{"$f":"IF(OR(H294=5,H294=10, H294=15, H294=\"BP\",H294=\"SCR\"),\"NT\",I294)","v":0}]
[{"$nulls":4},294,{"$nulls":4},{"$f":"IF(OR(H295=5,H295=10, H295=15, H295=\"BP\",H295=\"SCR\"),\"NT\",I295)","v":0}]
[{"$nulls":4},295,{"$nulls":4},{"$f":"IF(OR(H296=5,H296=10, H296=15, H296=\"BP\",H296=\"SCR\"),\"NT\",I296)","v":0}]
[{"$nulls":4},296,{"$nulls":4},{"$f":"IF(OR(H297=5,H297=10, H297=15, H297=\"BP\",H297=\"SCR\"),\"NT\",I297)","v":0}]
[{"$nulls":4},297,{"$nulls":4},{"$f":"IF(OR(H298=5,H298=10, H298=15, H298=\"BP\",H298=\"SCR\"),\"NT\",I298)","v":0}]
[{"$nulls":4},298,{"$nulls":4},{"$f":"IF(OR(H299=5,H299=10, H299=15, H299=\"BP\",H299=\"SCR\"),\"NT\",I299)","v":0}]
[{"$nulls":4},299,{"$nulls":4},{"$f":"IF(OR(H300=5,H300=10, H300=15, H300=\"BP\",H300=\"SCR\"),\"NT\",I300)","v":0}]
[{"$nulls":4},300,{"$nulls":4},{"$f":"IF(OR(H301=5,H301=10, H301=15, H301=\"BP\",H301=\"SCR\"),\"NT\",I301)","v":0}]

{"sheet":"Youth","index":3,"n_rows":301,"n_cols":11,"rows_kept":301,"cut":false,"hidden":false,"merged":[]}
["Futurity","Der","Youth","BBR","Draw","Rider Name","Horse Name","Pen","Time","Placing","Money Earned"]
[{"$nulls":4},1,"Micah Wallace","Zima",null,16.167999999999999,"1D 1st",118]
[{"$nulls":4},2,"Savannah Dore","SR Jess So Special",null,16.193000000000001]
[{"$nulls":4},3,"Leddy Hill","Cashs Lil Dollie",null,16.516999999999999]
[{"$nulls":4},4,"Savannah Dore","The Great Gatsby",null,16.622]
[{"$nulls":4},5,"Stormi Branch","Demon",null,16.789000000000001,"2D 1st",101]
[{"$nulls":4},6,"Avery Childers","Circle Y Doc",null,17.042000000000002]
[{"$nulls":4},7,"Taylor Hice","Mack Daddy",null,17.218,"3D 1st",67]
[{"$nulls":4},8,"Hadley Durfey","One Smooth Kelly",null,17.315999999999999]
[{"$nulls":4},9,"Cooper Peek","Dolly",null,17.373000000000001]
[{"$nulls":4},10,"Jayde Peters","Katy Done Did It",null,19.233000000000001,"4D 1st",50]
[{"$nulls":4},11,"Lillian Doplika",null,null,21.07]
[{"$nulls":4},12,"Savannah Dore","Smokin Hot Lady Cat",null,"nt16.576"]
[{"$nulls":4},13]
[{"$nulls":4},14]
[{"$nulls":4},15]
[{"$nulls":4},16]
[{"$nulls":4},17]
[{"$nulls":4},18]
[{"$nulls":4},19]
[{"$nulls":4},20]
[{"$nulls":4},21]
[{"$nulls":4},22]
[{"$nulls":4},23]
[{"$nulls":4},24]
[{"$nulls":4},25]
[{"$nulls":4},26]
[{"$nulls":4},27]
[{"$nulls":4},28]
[{"$nulls":4},29]
[{"$nulls":4},30]
[{"$nulls":4},31]
[{"$nulls":4},32]
[{"$nulls":4},33]
[{"$nulls":4},34]
[{"$nulls":4},35]
[{"$nulls":4},36]
[{"$nulls":4},37]
[{"$nulls":4},38]
[{"$nulls":4},39]
[{"$nulls":4},40]
[{"$nulls":4},41]
[{"$nulls":4},42]
[{"$nulls":4},43]
[{"$nulls":4},44]
[{"$nulls":4},45]
[{"$nulls":4},46]
[{"$nulls":4},47]
[{"$nulls":4},48]
[{"$nulls":4},49]
[{"$nulls":4},50]
[{"$nulls":4},51]
[{"$nulls":4},52]
[{"$nulls":4},53]
[{"$nulls":4},54]
[{"$nulls":4},55]
[{"$nulls":4},56]
[{"$nulls":4},57]
[{"$nulls":4},58]
[{"$nulls":4},59]
[{"$nulls":4},60]
[{"$nulls":4},61]
[{"$nulls":4},62]
[{"$nulls":4},63]
[{"$nulls":4},64]
[{"$nulls":4},65]
[{"$nulls":4},66]
[{"$nulls":4},67]
[{"$nulls":4},68]
[{"$nulls":4},69]
[{"$nulls":4},70]
[{"$nulls":4},71]
[{"$nulls":4},72]
[{"$nulls":4},73]
[{"$nulls":4},74]
[{"$nulls":4},75]
[{"$nulls":4},76]
[{"$nulls":4},77]
[{"$nulls":4},78]
[{"$nulls":4},79]
[{"$nulls":4},80]
[{"$nulls":4},81]
[{"$nulls":4},82]
[{"$nulls":4},83]
[{"$nulls":4},84]
[{"$nulls":4},85]
[{"$nulls":4},86]
[{"$nulls":4},87]
[{"$nulls":4},88]
[{"$nulls":4},89]
[{"$nulls":4},90]
[{"$nulls":4},91]
[{"$nulls":4},92]
[{"$nulls":4},93]
[{"$nulls":4},94]
[{"$nulls":4},95]
[{"$nulls":4},96]
[{"$nulls":4},97]
[{"$nulls":4},98]
[{"$nulls":4},99]
[{"$nulls":4},100]
[{"$nulls":4},101]
[{"$nulls":4},102]
[{"$nulls":4},103]
[{"$nulls":4},104]
[{"$nulls":4},105]
[{"$nulls":4},106]
[{"$nulls":4},107]
[{"$nulls":4},108]
[{"$nulls":4},109]
[{"$nulls":4},110]
[{"$nulls":4},111]
[{"$nulls":4},112]
[{"$nulls":4},113]
[{"$nulls":4},114]
[{"$nulls":4},115]
[{"$nulls":4},116]
[{"$nulls":4},117]
[{"$nulls":4},118]
[{"$nulls":4},119]
[{"$nulls":4},120]
[{"$nulls":4},121]
[{"$nulls":4},122]
[{"$nulls":4},123]
[{"$nulls":4},124]
[{"$nulls":4},125]
[{"$nulls":4},126]
[{"$nulls":4},127]
[{"$nulls":4},128]
[{"$nulls":4},129]
[{"$nulls":4},130]
[{"$nulls":4},131]
[{"$nulls":4},132]
[{"$nulls":4},133]
[{"$nulls":4},134]
[{"$nulls":4},135]
[{"$nulls":4},136]
[{"$nulls":4},137]
[{"$nulls":4},138]
[{"$nulls":4},139]
[{"$nulls":4},140]
[{"$nulls":4},141]
[{"$nulls":4},142]
[{"$nulls":4},143]
[{"$nulls":4},144]
[{"$nulls":4},145]
[{"$nulls":4},146]
[{"$nulls":4},147]
[{"$nulls":4},148]
[{"$nulls":4},149]
[{"$nulls":4},150]
[{"$nulls":4},151]
[{"$nulls":4},152]
[{"$nulls":4},153]
[{"$nulls":4},154]
[{"$nulls":4},155]
[{"$nulls":4},156]
[{"$nulls":4},157]
[{"$nulls":4},158]
[{"$nulls":4},159]
[{"$nulls":4},160]
[{"$nulls":4},161]
[{"$nulls":4},162]
[{"$nulls":4},163]
[{"$nulls":4},164]
[{"$nulls":4},165]
[{"$nulls":4},166]
[{"$nulls":4},167]
[{"$nulls":4},168]
[{"$nulls":4},169]
[{"$nulls":4},170]
[{"$nulls":4},171]
[{"$nulls":4},172]
[{"$nulls":4},173]
[{"$nulls":4},174]
[{"$nulls":4},175]
[{"$nulls":4},176]
[{"$nulls":4},177]
[{"$nulls":4},178]
[{"$nulls":4},179]
[{"$nulls":4},180]
[{"$nulls":4},181]
[{"$nulls":4},182]
[{"$nulls":4},183]
[{"$nulls":4},184]
[{"$nulls":4},185]
[{"$nulls":4},186]
[{"$nulls":4},187]
[{"$nulls":4},188]
[{"$nulls":4},189]
[{"$nulls":4},190]
[{"$nulls":4},191]
[{"$nulls":4},192]
[{"$nulls":4},193]
[{"$nulls":4},194]
[{"$nulls":4},195]
[{"$nulls":4},196]
[{"$nulls":4},197]
[{"$nulls":4},198]
[{"$nulls":4},199]
[{"$nulls":4},200]
[{"$nulls":4},201]
[{"$nulls":4},202]
[{"$nulls":4},203]
[{"$nulls":4},204]
[{"$nulls":4},205]
[{"$nulls":4},206]
[{"$nulls":4},207]
[{"$nulls":4},208]
[{"$nulls":4},209]
[{"$nulls":4},210]
[{"$nulls":4},211]
[{"$nulls":4},212]
[{"$nulls":4},213]
[{"$nulls":4},214]
[{"$nulls":4},215]
[{"$nulls":4},216]
[{"$nulls":4},217]
[{"$nulls":4},218]
[{"$nulls":4},219]
[{"$nulls":4},220]
[{"$nulls":4},221]
[{"$nulls":4},222]
[{"$nulls":4},223]
[{"$nulls":4},224]
[{"$nulls":4},225]
[{"$nulls":4},226]
[{"$nulls":4},227]
[{"$nulls":4},228]
[{"$nulls":4},229]
[{"$nulls":4},230]
[{"$nulls":4},231]
[{"$nulls":4},232]
[{"$nulls":4},233]
[{"$nulls":4},234]
[{"$nulls":4},235]
[{"$nulls":4},236]
[{"$nulls":4},237]
[{"$nulls":4},238]
[{"$nulls":4},239]
[{"$nulls":4},240]
[{"$nulls":4},241]
[{"$nulls":4},242]
[{"$nulls":4},243]
[{"$nulls":4},244]
[{"$nulls":4},245]
[{"$nulls":4},246]
[{"$nulls":4},247]
[{"$nulls":4},248]
[{"$nulls":4},249]
[{"$nulls":4},250]
[{"$nulls":4},251]
[{"$nulls":4},252]
[{"$nulls":4},253]
[{"$nulls":4},254]
[{"$nulls":4},255]
[{"$nulls":4},256]
[{"$nulls":4},257]
[{"$nulls":4},258]
[{"$nulls":4},259]
[{"$nulls":4},260]
[{"$nulls":4},261]
[{"$nulls":4},262]
[{"$nulls":4},263]
[{"$nulls":4},264]
[{"$nulls":4},265]
[{"$nulls":4},266]
[{"$nulls":4},267]
[{"$nulls":4},268]
[{"$nulls":4},269]
[{"$nulls":4},270]
[{"$nulls":4},271]
[{"$nulls":4},272]
[{"$nulls":4},273]
[{"$nulls":4},274]
[{"$nulls":4},275]
[{"$nulls":4},276]
[{"$nulls":4},277]
[{"$nulls":4},278]
[{"$nulls":4},279]
[{"$nulls":4},280]
[{"$nulls":4},281]
[{"$nulls":4},282]
[{"$nulls":4},283]
[{"$nulls":4},284]
[{"$nulls":4},285]
[{"$nulls":4},286]
[{"$nulls":4},287]
[{"$nulls":4},288]
[{"$nulls":4},289]
[{"$nulls":4},290]
[{"$nulls":4},291]
[{"$nulls":4},292]
[{"$nulls":4},293]
[{"$nulls":4},294]
[{"$nulls":4},295]
[{"$nulls":4},296]
[{"$nulls":4},297]
[{"$nulls":4},298]
[{"$nulls":4},299]
[{"$nulls":4},300]

{"sheet":"Derby","index":4,"n_rows":300,"n_cols":11,"rows_kept":300,"cut":false,"hidden":false,"merged":[]}
["Futurity","Derby","Age Inct.","BBR","Draw","Rider Name","Horse Name","Time","Final Time","Placing","Money Earned"]
[{"$nulls":4},1,"Stephanie Fryar","Some Streakin French",null,15.885999999999999,"1st",260]
[{"$nulls":4},2,"Kelsey Hayden","Buhbye",null,15.962999999999999,"2nd",156]
[{"$nulls":4},3,"Shelley Holman","Wood B Fun",null,16.036000000000001,"3rd",104]
[{"$nulls":4},4,"Kara Large","RSL FirstroyalEddie",null,16.05]
[{"$nulls":4},5,"Kassidy McKee","Real EZ Fame",null,16.187000000000001]
[{"$nulls":4},6,"Phillip Kenyon","MakeitaMojito",null,16.295000000000002]
[{"$nulls":4},7,"Wenda Johnson","Macgyver Moonflash",null,"nt15.569"]
[{"$nulls":4},8,"SheaLynn McConnell","Smooth N Heavenly",null,"nt15.873"]
[{"$nulls":4},9,"Lauren Whitmire","Dash Down Anytime",null,"nt16.447"]
[{"$nulls":4},10,"Nisa Berry","A Kings Famous Fling",null,"nt16.699"]
[{"$nulls":4},11,"Lauren Whitmire","WR Famous Maverick",null,"nt16.774"]
[{"$nulls":4},13,"Sarah Peters","Rockin My Fame",null,"nt16.924"]
[{"$nulls":4},14]
[{"$nulls":4},15]
[{"$nulls":4},16]
[{"$nulls":4},17]
[{"$nulls":4},18]
[{"$nulls":4},19]
[{"$nulls":4},20]
[{"$nulls":4},21]
[{"$nulls":4},22]
[{"$nulls":4},23]
[{"$nulls":4},24,null,null,null,{"$f":"IF(OR(#REF!=5,#REF!=10,#REF!= 15,#REF!= \"BP\",#REF!=\"SCR\"),\"NT\",H24)","v":{"$error":"#REF!"}}]
[{"$nulls":4},25,null,null,null,{"$f":"IF(OR(#REF!=5,#REF!=10,#REF!= 15,#REF!= \"BP\",#REF!=\"SCR\"),\"NT\",H25)","v":{"$error":"#REF!"}}]
[{"$nulls":4},26,null,null,null,{"$f":"IF(OR(#REF!=5,#REF!=10,#REF!= 15,#REF!= \"BP\",#REF!=\"SCR\"),\"NT\",H26)","v":{"$error":"#REF!"}}]
[{"$nulls":4},27,null,null,null,{"$f":"IF(OR(#REF!=5,#REF!=10,#REF!= 15,#REF!= \"BP\",#REF!=\"SCR\"),\"NT\",H27)","v":{"$error":"#REF!"}}]
[{"$nulls":4},28,null,null,null,{"$f":"IF(OR(#REF!=5,#REF!=10,#REF!= 15,#REF!= \"BP\",#REF!=\"SCR\"),\"NT\",H28)","v":{"$error":"#REF!"}}]
[{"$nulls":4},29,null,null,null,{"$f":"IF(OR(#REF!=5,#REF!=10,#REF!= 15,#REF!= \"BP\",#REF!=\"SCR\"),\"NT\",H29)","v":{"$error":"#REF!"}}]
[{"$nulls":4},30,null,null,null,{"$f":"IF(OR(#REF!=5,#REF!=10,#REF!= 15,#REF!= \"BP\",#REF!=\"SCR\"),\"NT\",H30)","v":{"$error":"#REF!"}}]
[{"$nulls":4},31,null,null,null,{"$f":"IF(OR(#REF!=5,#REF!=10,#REF!= 15,#REF!= \"BP\",#REF!=\"SCR\"),\"NT\",H31)","v":{"$error":"#REF!"}}]
[{"$nulls":4},32,null,null,null,{"$f":"IF(OR(#REF!=5,#REF!=10,#REF!= 15,#REF!= \"BP\",#REF!=\"SCR\"),\"NT\",H32)","v":{"$error":"#REF!"}}]
[{"$nulls":4},33,null,null,null,{"$f":"IF(OR(#REF!=5,#REF!=10,#REF!= 15,#REF!= \"BP\",#REF!=\"SCR\"),\"NT\",H33)","v":{"$error":"#REF!"}}]
[{"$nulls":4},34,null,null,null,{"$f":"IF(OR(#REF!=5,#REF!=10,#REF!= 15,#REF!= \"BP\",#REF!=\"SCR\"),\"NT\",H34)","v":{"$error":"#REF!"}}]
[{"$nulls":4},35,null,null,null,{"$f":"IF(OR(#REF!=5,#REF!=10,#REF!= 15,#REF!= \"BP\",#REF!=\"SCR\"),\"NT\",H35)","v":{"$error":"#REF!"}}]
[{"$nulls":4},36,null,null,null,{"$f":"IF(OR(#REF!=5,#REF!=10,#REF!= 15,#REF!= \"BP\",#REF!=\"SCR\"),\"NT\",H36)","v":{"$error":"#REF!"}}]
[{"$nulls":4},37,null,null,null,{"$f":"IF(OR(#REF!=5,#REF!=10,#REF!= 15,#REF!= \"BP\",#REF!=\"SCR\"),\"NT\",H37)","v":{"$error":"#REF!"}}]
[{"$nulls":4},38,null,null,null,{"$f":"IF(OR(#REF!=5,#REF!=10,#REF!= 15,#REF!= \"BP\",#REF!=\"SCR\"),\"NT\",H38)","v":{"$error":"#REF!"}}]
[{"$nulls":4},39,null,null,null,{"$f":"IF(OR(#REF!=5,#REF!=10,#REF!= 15,#REF!= \"BP\",#REF!=\"SCR\"),\"NT\",H39)","v":{"$error":"#REF!"}}]
[{"$nulls":4},40,null,null,null,{"$f":"IF(OR(#REF!=5,#REF!=10,#REF!= 15,#REF!= \"BP\",#REF!=\"SCR\"),\"NT\",H40)","v":{"$error":"#REF!"}}]
[{"$nulls":4},41,null,null,null,{"$f":"IF(OR(#REF!=5,#REF!=10,#REF!= 15,#REF!= \"BP\",#REF!=\"SCR\"),\"NT\",H41)","v":{"$error":"#REF!"}}]
[{"$nulls":4},42,null,null,null,{"$f":"IF(OR(#REF!=5,#REF!=10,#REF!= 15,#REF!= \"BP\",#REF!=\"SCR\"),\"NT\",H42)","v":{"$error":"#REF!"}}]
[{"$nulls":4},43,null,null,null,{"$f":"IF(OR(#REF!=5,#REF!=10,#REF!= 15,#REF!= \"BP\",#REF!=\"SCR\"),\"NT\",H43)","v":{"$error":"#REF!"}}]
[{"$nulls":4},44,null,null,null,{"$f":"IF(OR(#REF!=5,#REF!=10,#REF!= 15,#REF!= \"BP\",#REF!=\"SCR\"),\"NT\",H44)","v":{"$error":"#REF!"}}]
[{"$nulls":4},45,null,null,null,{"$f":"IF(OR(#REF!=5,#REF!=10,#REF!= 15,#REF!= \"BP\",#REF!=\"SCR\"),\"NT\",H45)","v":{"$error":"#REF!"}}]
[{"$nulls":4},46,null,null,null,{"$f":"IF(OR(#REF!=5,#REF!=10,#REF!= 15,#REF!= \"BP\",#REF!=\"SCR\"),\"NT\",H46)","v":{"$error":"#REF!"}}]
[{"$nulls":4},47,null,null,null,{"$f":"IF(OR(#REF!=5,#REF!=10,#REF!= 15,#REF!= \"BP\",#REF!=\"SCR\"),\"NT\",H47)","v":{"$error":"#REF!"}}]
[{"$nulls":4},48,null,null,null,{"$f":"IF(OR(#REF!=5,#REF!=10,#REF!= 15,#REF!= \"BP\",#REF!=\"SCR\"),\"NT\",H48)","v":{"$error":"#REF!"}}]
[{"$nulls":4},49,null,null,null,{"$f":"IF(OR(#REF!=5,#REF!=10,#REF!= 15,#REF!= \"BP\",#REF!=\"SCR\"),\"NT\",H49)","v":{"$error":"#REF!"}}]
[{"$nulls":4},50,null,null,null,{"$f":"IF(OR(#REF!=5,#REF!=10,#REF!= 15,#REF!= \"BP\",#REF!=\"SCR\"),\"NT\",H50)","v":{"$error":"#REF!"}}]
[{"$nulls":4},51,null,null,null,{"$f":"IF(OR(#REF!=5,#REF!=10,#REF!= 15,#REF!= \"BP\",#REF!=\"SCR\"),\"NT\",H51)","v":{"$error":"#REF!"}}]
[{"$nulls":4},52,null,null,null,{"$f":"IF(OR(#REF!=5,#REF!=10,#REF!= 15,#REF!= \"BP\",#REF!=\"SCR\"),\"NT\",H52)","v":{"$error":"#REF!"}}]
[{"$nulls":4},53,null,null,null,{"$f":"IF(OR(#REF!=5,#REF!=10,#REF!= 15,#REF!= \"BP\",#REF!=\"SCR\"),\"NT\",H53)","v":{"$error":"#REF!"}}]
[{"$nulls":4},54,null,null,null,{"$f":"IF(OR(#REF!=5,#REF!=10,#REF!= 15,#REF!= \"BP\",#REF!=\"SCR\"),\"NT\",H54)","v":{"$error":"#REF!"}}]
[{"$nulls":4},55,null,null,null,{"$f":"IF(OR(#REF!=5,#REF!=10,#REF!= 15,#REF!= \"BP\",#REF!=\"SCR\"),\"NT\",H55)","v":{"$error":"#REF!"}}]
[{"$nulls":4},56,null,null,null,{"$f":"IF(OR(#REF!=5,#REF!=10,#REF!= 15,#REF!= \"BP\",#REF!=\"SCR\"),\"NT\",H56)","v":{"$error":"#REF!"}}]
[{"$nulls":4},57,null,null,null,{"$f":"IF(OR(#REF!=5,#REF!=10,#REF!= 15,#REF!= \"BP\",#REF!=\"SCR\"),\"NT\",H57)","v":{"$error":"#REF!"}}]
[{"$nulls":4},58,null,null,null,{"$f":"IF(OR(#REF!=5,#REF!=10,#REF!= 15,#REF!= \"BP\",#REF!=\"SCR\"),\"NT\",H58)","v":{"$error":"#REF!"}}]
[{"$nulls":4},59,null,null,null,{"$f":"IF(OR(#REF!=5,#REF!=10,#REF!= 15,#REF!= \"BP\",#REF!=\"SCR\"),\"NT\",H59)","v":{"$error":"#REF!"}}]
[{"$nulls":4},60,null,null,null,{"$f":"IF(OR(#REF!=5,#REF!=10,#REF!= 15,#REF!= \"BP\",#REF!=\"SCR\"),\"NT\",H60)","v":{"$error":"#REF!"}}]
[{"$nulls":4},61,null,null,null,{"$f":"IF(OR(#REF!=5,#REF!=10,#REF!= 15,#REF!= \"BP\",#REF!=\"SCR\"),\"NT\",H61)","v":{"$error":"#REF!"}}]
[{"$nulls":4},62,null,null,null,{"$f":"IF(OR(#REF!=5,#REF!=10,#REF!= 15,#REF!= \"BP\",#REF!=\"SCR\"),\"NT\",H62)","v":{"$error":"#REF!"}}]
[{"$nulls":4},63,null,null,null,{"$f":"IF(OR(#REF!=5,#REF!=10,#REF!= 15,#REF!= \"BP\",#REF!=\"SCR\"),\"NT\",H63)","v":{"$error":"#REF!"}}]
[{"$nulls":4},64,null,null,null,{"$f":"IF(OR(#REF!=5,#REF!=10,#REF!= 15,#REF!= \"BP\",#REF!=\"SCR\"),\"NT\",H64)","v":{"$error":"#REF!"}}]
[{"$nulls":4},65,null,null,null,{"$f":"IF(OR(#REF!=5,#REF!=10,#REF!= 15,#REF!= \"BP\",#REF!=\"SCR\"),\"NT\",H65)","v":{"$error":"#REF!"}}]
[{"$nulls":4},66,null,null,null,{"$f":"IF(OR(#REF!=5,#REF!=10,#REF!= 15,#REF!= \"BP\",#REF!=\"SCR\"),\"NT\",H66)","v":{"$error":"#REF!"}}]
[{"$nulls":4},67,null,null,null,{"$f":"IF(OR(#REF!=5,#REF!=10,#REF!= 15,#REF!= \"BP\",#REF!=\"SCR\"),\"NT\",H67)","v":{"$error":"#REF!"}}]
[{"$nulls":4},68,null,null,null,{"$f":"IF(OR(#REF!=5,#REF!=10,#REF!= 15,#REF!= \"BP\",#REF!=\"SCR\"),\"NT\",H68)","v":{"$error":"#REF!"}}]
[{"$nulls":4},69,null,null,null,{"$f":"IF(OR(#REF!=5,#REF!=10,#REF!= 15,#REF!= \"BP\",#REF!=\"SCR\"),\"NT\",H69)","v":{"$error":"#REF!"}}]
[{"$nulls":4},70,null,null,null,{"$f":"IF(OR(#REF!=5,#REF!=10,#REF!= 15,#REF!= \"BP\",#REF!=\"SCR\"),\"NT\",H70)","v":{"$error":"#REF!"}}]
[{"$nulls":4},71,null,null,null,{"$f":"IF(OR(#REF!=5,#REF!=10,#REF!= 15,#REF!= \"BP\",#REF!=\"SCR\"),\"NT\",H71)","v":{"$error":"#REF!"}}]
[{"$nulls":4},72,null,null,null,{"$f":"IF(OR(#REF!=5,#REF!=10,#REF!= 15,#REF!= \"BP\",#REF!=\"SCR\"),\"NT\",H72)","v":{"$error":"#REF!"}}]
[{"$nulls":4},73,null,null,null,{"$f":"IF(OR(#REF!=5,#REF!=10,#REF!= 15,#REF!= \"BP\",#REF!=\"SCR\"),\"NT\",H73)","v":{"$error":"#REF!"}}]
[{"$nulls":4},74,null,null,null,{"$f":"IF(OR(#REF!=5,#REF!=10,#REF!= 15,#REF!= \"BP\",#REF!=\"SCR\"),\"NT\",H74)","v":{"$error":"#REF!"}}]
[{"$nulls":4},75,null,null,null,{"$f":"IF(OR(#REF!=5,#REF!=10,#REF!= 15,#REF!= \"BP\",#REF!=\"SCR\"),\"NT\",H75)","v":{"$error":"#REF!"}}]
[{"$nulls":4},76,null,null,null,{"$f":"IF(OR(#REF!=5,#REF!=10,#REF!= 15,#REF!= \"BP\",#REF!=\"SCR\"),\"NT\",H76)","v":{"$error":"#REF!"}}]
[{"$nulls":4},77,null,null,null,{"$f":"IF(OR(#REF!=5,#REF!=10,#REF!= 15,#REF!= \"BP\",#REF!=\"SCR\"),\"NT\",H77)","v":{"$error":"#REF!"}}]
[{"$nulls":4},78,null,null,null,{"$f":"IF(OR(#REF!=5,#REF!=10,#REF!= 15,#REF!= \"BP\",#REF!=\"SCR\"),\"NT\",H78)","v":{"$error":"#REF!"}}]
[{"$nulls":4},79,null,null,null,{"$f":"IF(OR(#REF!=5,#REF!=10,#REF!= 15,#REF!= \"BP\",#REF!=\"SCR\"),\"NT\",H79)","v":{"$error":"#REF!"}}]
[{"$nulls":4},80,null,null,null,{"$f":"IF(OR(#REF!=5,#REF!=10,#REF!= 15,#REF!= \"BP\",#REF!=\"SCR\"),\"NT\",H80)","v":{"$error":"#REF!"}}]
[{"$nulls":4},81,null,null,null,{"$f":"IF(OR(#REF!=5,#REF!=10,#REF!= 15,#REF!= \"BP\",#REF!=\"SCR\"),\"NT\",H81)","v":{"$error":"#REF!"}}]
[{"$nulls":4},82,null,null,null,{"$f":"IF(OR(#REF!=5,#REF!=10,#REF!= 15,#REF!= \"BP\",#REF!=\"SCR\"),\"NT\",H82)","v":{"$error":"#REF!"}}]
[{"$nulls":4},83,null,null,null,{"$f":"IF(OR(#REF!=5,#REF!=10,#REF!= 15,#REF!= \"BP\",#REF!=\"SCR\"),\"NT\",H83)","v":{"$error":"#REF!"}}]
[{"$nulls":4},84,null,null,null,{"$f":"IF(OR(#REF!=5,#REF!=10,#REF!= 15,#REF!= \"BP\",#REF!=\"SCR\"),\"NT\",H84)","v":{"$error":"#REF!"}}]
[{"$nulls":4},85,null,null,null,{"$f":"IF(OR(#REF!=5,#REF!=10,#REF!= 15,#REF!= \"BP\",#REF!=\"SCR\"),\"NT\",H85)","v":{"$error":"#REF!"}}]
[{"$nulls":4},86,null,null,null,{"$f":"IF(OR(#REF!=5,#REF!=10,#REF!= 15,#REF!= \"BP\",#REF!=\"SCR\"),\"NT\",H86)","v":{"$error":"#REF!"}}]
[{"$nulls":4},87,null,null,null,{"$f":"IF(OR(#REF!=5,#REF!=10,#REF!= 15,#REF!= \"BP\",#REF!=\"SCR\"),\"NT\",H87)","v":{"$error":"#REF!"}}]
[{"$nulls":4},88,null,null,null,{"$f":"IF(OR(#REF!=5,#REF!=10,#REF!= 15,#REF!= \"BP\",#REF!=\"SCR\"),\"NT\",H88)","v":{"$error":"#REF!"}}]
[{"$nulls":4},89,null,null,null,{"$f":"IF(OR(#REF!=5,#REF!=10,#REF!= 15,#REF!= \"BP\",#REF!=\"SCR\"),\"NT\",H89)","v":{"$error":"#REF!"}}]
[{"$nulls":4},90,null,null,null,{"$f":"IF(OR(#REF!=5,#REF!=10,#REF!= 15,#REF!= \"BP\",#REF!=\"SCR\"),\"NT\",H90)","v":{"$error":"#REF!"}}]
[{"$nulls":4},91,null,null,null,{"$f":"IF(OR(#REF!=5,#REF!=10,#REF!= 15,#REF!= \"BP\",#REF!=\"SCR\"),\"NT\",H91)","v":{"$error":"#REF!"}}]
[{"$nulls":4},92,null,null,null,{"$f":"IF(OR(#REF!=5,#REF!=10,#REF!= 15,#REF!= \"BP\",#REF!=\"SCR\"),\"NT\",H92)","v":{"$error":"#REF!"}}]
[{"$nulls":4},93,null,null,null,{"$f":"IF(OR(#REF!=5,#REF!=10,#REF!= 15,#REF!= \"BP\",#REF!=\"SCR\"),\"NT\",H93)","v":{"$error":"#REF!"}}]
[{"$nulls":4},94,null,null,null,{"$f":"IF(OR(#REF!=5,#REF!=10,#REF!= 15,#REF!= \"BP\",#REF!=\"SCR\"),\"NT\",H94)","v":{"$error":"#REF!"}}]
[{"$nulls":4},95,null,null,null,{"$f":"IF(OR(#REF!=5,#REF!=10,#REF!= 15,#REF!= \"BP\",#REF!=\"SCR\"),\"NT\",H95)","v":{"$error":"#REF!"}}]
[{"$nulls":4},96,null,null,null,{"$f":"IF(OR(#REF!=5,#REF!=10,#REF!= 15,#REF!= \"BP\",#REF!=\"SCR\"),\"NT\",H96)","v":{"$error":"#REF!"}}]
[{"$nulls":4},97,null,null,null,{"$f":"IF(OR(#REF!=5,#REF!=10,#REF!= 15,#REF!= \"BP\",#REF!=\"SCR\"),\"NT\",H97)","v":{"$error":"#REF!"}}]
[{"$nulls":4},98,null,null,null,{"$f":"IF(OR(#REF!=5,#REF!=10,#REF!= 15,#REF!= \"BP\",#REF!=\"SCR\"),\"NT\",H98)","v":{"$error":"#REF!"}}]
[{"$nulls":4},99,null,null,null,{"$f":"IF(OR(#REF!=5,#REF!=10,#REF!= 15,#REF!= \"BP\",#REF!=\"SCR\"),\"NT\",H99)","v":{"$error":"#REF!"}}]
[{"$nulls":4},100,null,null,null,{"$f":"IF(OR(#REF!=5,#REF!=10,#REF!= 15,#REF!= \"BP\",#REF!=\"SCR\"),\"NT\",H100)","v":{"$error":"#REF!"}}]
[{"$nulls":4},101,null,null,null,{"$f":"IF(OR(#REF!=5,#REF!=10,#REF!= 15,#REF!= \"BP\",#REF!=\"SCR\"),\"NT\",H101)","v":{"$error":"#REF!"}}]
[{"$nulls":4},102,null,null,null,{"$f":"IF(OR(#REF!=5,#REF!=10,#REF!= 15,#REF!= \"BP\",#REF!=\"SCR\"),\"NT\",H102)","v":{"$error":"#REF!"}}]
[{"$nulls":4},103,null,null,null,{"$f":"IF(OR(#REF!=5,#REF!=10,#REF!= 15,#REF!= \"BP\",#REF!=\"SCR\"),\"NT\",H103)","v":{"$error":"#REF!"}}]
[{"$nulls":4},104,null,null,null,{"$f":"IF(OR(#REF!=5,#REF!=10,#REF!= 15,#REF!= \"BP\",#REF!=\"SCR\"),\"NT\",H104)","v":{"$error":"#REF!"}}]
[{"$nulls":4},105,null,null,null,{"$f":"IF(OR(#REF!=5,#REF!=10,#REF!= 15,#REF!= \"BP\",#REF!=\"SCR\"),\"NT\",H105)","v":{"$error":"#REF!"}}]
[{"$nulls":4},106,null,null,null,{"$f":"IF(OR(#REF!=5,#REF!=10,#REF!= 15,#REF!= \"BP\",#REF!=\"SCR\"),\"NT\",H106)","v":{"$error":"#REF!"}}]
[{"$nulls":4},107,null,null,null,{"$f":"IF(OR(#REF!=5,#REF!=10,#REF!= 15,#REF!= \"BP\",#REF!=\"SCR\"),\"NT\",H107)","v":{"$error":"#REF!"}}]
[{"$nulls":4},108,null,null,null,{"$f":"IF(OR(#REF!=5,#REF!=10,#REF!= 15,#REF!= \"BP\",#REF!=\"SCR\"),\"NT\",H108)","v":{"$error":"#REF!"}}]
[{"$nulls":4},109,null,null,null,{"$f":"IF(OR(#REF!=5,#REF!=10,#REF!= 15,#REF!= \"BP\",#REF!=\"SCR\"),\"NT\",H109)","v":{"$error":"#REF!"}}]
[{"$nulls":4},110,null,null,null,{"$f":"IF(OR(#REF!=5,#REF!=10,#REF!= 15,#REF!= \"BP\",#REF!=\"SCR\"),\"NT\",H110)","v":{"$error":"#REF!"}}]
[{"$nulls":4},111,null,null,null,{"$f":"IF(OR(#REF!=5,#REF!=10,#REF!= 15,#REF!= \"BP\",#REF!=\"SCR\"),\"NT\",H111)","v":{"$error":"#REF!"}}]
[{"$nulls":4},112,null,null,null,{"$f":"IF(OR(#REF!=5,#REF!=10,#REF!= 15,#REF!= \"BP\",#REF!=\"SCR\"),\"NT\",H112)","v":{"$error":"#REF!"}}]
[{"$nulls":4},113,null,null,null,{"$f":"IF(OR(#REF!=5,#REF!=10,#REF!= 15,#REF!= \"BP\",#REF!=\"SCR\"),\"NT\",H113)","v":{"$error":"#REF!"}}]
[{"$nulls":4},114,null,null,null,{"$f":"IF(OR(#REF!=5,#REF!=10,#REF!= 15,#REF!= \"BP\",#REF!=\"SCR\"),\"NT\",H114)","v":{"$error":"#REF!"}}]
[{"$nulls":4},115,null,null,null,{"$f":"IF(OR(#REF!=5,#REF!=10,#REF!= 15,#REF!= \"BP\",#REF!=\"SCR\"),\"NT\",H115)","v":{"$error":"#REF!"}}]
[{"$nulls":4},116,null,null,null,{"$f":"IF(OR(#REF!=5,#REF!=10,#REF!= 15,#REF!= \"BP\",#REF!=\"SCR\"),\"NT\",H116)","v":{"$error":"#REF!"}}]
[{"$nulls":4},117,null,null,null,{"$f":"IF(OR(#REF!=5,#REF!=10,#REF!= 15,#REF!= \"BP\",#REF!=\"SCR\"),\"NT\",H117)","v":{"$error":"#REF!"}}]
[{"$nulls":4},118,null,null,null,{"$f":"IF(OR(#REF!=5,#REF!=10,#REF!= 15,#REF!= \"BP\",#REF!=\"SCR\"),\"NT\",H118)","v":{"$error":"#REF!"}}]
[{"$nulls":4},119,null,null,null,{"$f":"IF(OR(#REF!=5,#REF!=10,#REF!= 15,#REF!= \"BP\",#REF!=\"SCR\"),\"NT\",H119)","v":{"$error":"#REF!"}}]
[{"$nulls":4},120,null,null,null,{"$f":"IF(OR(#REF!=5,#REF!=10,#REF!= 15,#REF!= \"BP\",#REF!=\"SCR\"),\"NT\",H120)","v":{"$error":"#REF!"}}]
[{"$nulls":4},121,null,null,null,{"$f":"IF(OR(#REF!=5,#REF!=10,#REF!= 15,#REF!= \"BP\",#REF!=\"SCR\"),\"NT\",H121)","v":{"$error":"#REF!"}}]
[{"$nulls":4},122,null,null,null,{"$f":"IF(OR(#REF!=5,#REF!=10,#REF!= 15,#REF!= \"BP\",#REF!=\"SCR\"),\"NT\",H122)","v":{"$error":"#REF!"}}]
[{"$nulls":4},123,null,null,null,{"$f":"IF(OR(#REF!=5,#REF!=10,#REF!= 15,#REF!= \"BP\",#REF!=\"SCR\"),\"NT\",H123)","v":{"$error":"#REF!"}}]
[{"$nulls":4},124,null,null,null,{"$f":"IF(OR(#REF!=5,#REF!=10,#REF!= 15,#REF!= \"BP\",#REF!=\"SCR\"),\"NT\",H124)","v":{"$error":"#REF!"}}]
[{"$nulls":4},125,null,null,null,{"$f":"IF(OR(#REF!=5,#REF!=10,#REF!= 15,#REF!= \"BP\",#REF!=\"SCR\"),\"NT\",H125)","v":{"$error":"#REF!"}}]
[{"$nulls":4},126,null,null,null,{"$f":"IF(OR(#REF!=5,#REF!=10,#REF!= 15,#REF!= \"BP\",#REF!=\"SCR\"),\"NT\",H126)","v":{"$error":"#REF!"}}]
[{"$nulls":4},127,null,null,null,{"$f":"IF(OR(#REF!=5,#REF!=10,#REF!= 15,#REF!= \"BP\",#REF!=\"SCR\"),\"NT\",H127)","v":{"$error":"#REF!"}}]
[{"$nulls":4},128,null,null,null,{"$f":"IF(OR(#REF!=5,#REF!=10,#REF!= 15,#REF!= \"BP\",#REF!=\"SCR\"),\"NT\",H128)","v":{"$error":"#REF!"}}]
[{"$nulls":4},129,null,null,null,{"$f":"IF(OR(#REF!=5,#REF!=10,#REF!= 15,#REF!= \"BP\",#REF!=\"SCR\"),\"NT\",H129)","v":{"$error":"#REF!"}}]
[{"$nulls":4},130,null,null,null,{"$f":"IF(OR(#REF!=5,#REF!=10,#REF!= 15,#REF!= \"BP\",#REF!=\"SCR\"),\"NT\",H130)","v":{"$error":"#REF!"}}]
[{"$nulls":4},131,null,null,null,{"$f":"IF(OR(#REF!=5,#REF!=10,#REF!= 15,#REF!= \"BP\",#REF!=\"SCR\"),\"NT\",H131)","v":{"$error":"#REF!"}}]
[{"$nulls":4},132,null,null,null,{"$f":"IF(OR(#REF!=5,#REF!=10,#REF!= 15,#REF!= \"BP\",#REF!=\"SCR\"),\"NT\",H132)","v":{"$error":"#REF!"}}]
[{"$nulls":4},133,null,null,null,{"$f":"IF(OR(#REF!=5,#REF!=10,#REF!= 15,#REF!= \"BP\",#REF!=\"SCR\"),\"NT\",H133)","v":{"$error":"#REF!"}}]
[{"$nulls":4},134,null,null,null,{"$f":"IF(OR(#REF!=5,#REF!=10,#REF!= 15,#REF!= \"BP\",#REF!=\"SCR\"),\"NT\",H134)","v":{"$error":"#REF!"}}]
[{"$nulls":4},135,null,null,null,{"$f":"IF(OR(#REF!=5,#REF!=10,#REF!= 15,#REF!= \"BP\",#REF!=\"SCR\"),\"NT\",H135)","v":{"$error":"#REF!"}}]
[{"$nulls":4},136,null,null,null,{"$f":"IF(OR(#REF!=5,#REF!=10,#REF!= 15,#REF!= \"BP\",#REF!=\"SCR\"),\"NT\",H136)","v":{"$error":"#REF!"}}]
[{"$nulls":4},137,null,null,null,{"$f":"IF(OR(#REF!=5,#REF!=10,#REF!= 15,#REF!= \"BP\",#REF!=\"SCR\"),\"NT\",H137)","v":{"$error":"#REF!"}}]
[{"$nulls":4},138,null,null,null,{"$f":"IF(OR(#REF!=5,#REF!=10,#REF!= 15,#REF!= \"BP\",#REF!=\"SCR\"),\"NT\",H138)","v":{"$error":"#REF!"}}]
[{"$nulls":4},139,null,null,null,{"$f":"IF(OR(#REF!=5,#REF!=10,#REF!= 15,#REF!= \"BP\",#REF!=\"SCR\"),\"NT\",H139)","v":{"$error":"#REF!"}}]
[{"$nulls":4},140,null,null,null,{"$f":"IF(OR(#REF!=5,#REF!=10,#REF!= 15,#REF!= \"BP\",#REF!=\"SCR\"),\"NT\",H140)","v":{"$error":"#REF!"}}]
[{"$nulls":4},141,null,null,null,{"$f":"IF(OR(#REF!=5,#REF!=10,#REF!= 15,#REF!= \"BP\",#REF!=\"SCR\"),\"NT\",H141)","v":{"$error":"#REF!"}}]
[{"$nulls":4},142,null,null,null,{"$f":"IF(OR(#REF!=5,#REF!=10,#REF!= 15,#REF!= \"BP\",#REF!=\"SCR\"),\"NT\",H142)","v":{"$error":"#REF!"}}]
[{"$nulls":4},143,null,null,null,{"$f":"IF(OR(#REF!=5,#REF!=10,#REF!= 15,#REF!= \"BP\",#REF!=\"SCR\"),\"NT\",H143)","v":{"$error":"#REF!"}}]
[{"$nulls":4},144,null,null,null,{"$f":"IF(OR(#REF!=5,#REF!=10,#REF!= 15,#REF!= \"BP\",#REF!=\"SCR\"),\"NT\",H144)","v":{"$error":"#REF!"}}]
[{"$nulls":4},145,null,null,null,{"$f":"IF(OR(#REF!=5,#REF!=10,#REF!= 15,#REF!= \"BP\",#REF!=\"SCR\"),\"NT\",H145)","v":{"$error":"#REF!"}}]
[{"$nulls":4},146,null,null,null,{"$f":"IF(OR(#REF!=5,#REF!=10,#REF!= 15,#REF!= \"BP\",#REF!=\"SCR\"),\"NT\",H146)","v":{"$error":"#REF!"}}]
[{"$nulls":4},147,null,null,null,{"$f":"IF(OR(#REF!=5,#REF!=10,#REF!= 15,#REF!= \"BP\",#REF!=\"SCR\"),\"NT\",H147)","v":{"$error":"#REF!"}}]
[{"$nulls":4},148,null,null,null,{"$f":"IF(OR(#REF!=5,#REF!=10,#REF!= 15,#REF!= \"BP\",#REF!=\"SCR\"),\"NT\",H148)","v":{"$error":"#REF!"}}]
[{"$nulls":4},149,null,null,null,{"$f":"IF(OR(#REF!=5,#REF!=10,#REF!= 15,#REF!= \"BP\",#REF!=\"SCR\"),\"NT\",H149)","v":{"$error":"#REF!"}}]
[{"$nulls":4},150,null,null,null,{"$f":"IF(OR(#REF!=5,#REF!=10,#REF!= 15,#REF!= \"BP\",#REF!=\"SCR\"),\"NT\",H150)","v":{"$error":"#REF!"}}]
[{"$nulls":4},151,null,null,null,{"$f":"IF(OR(#REF!=5,#REF!=10,#REF!= 15,#REF!= \"BP\",#REF!=\"SCR\"),\"NT\",H151)","v":{"$error":"#REF!"}}]
[{"$nulls":4},152,null,null,null,{"$f":"IF(OR(#REF!=5,#REF!=10,#REF!= 15,#REF!= \"BP\",#REF!=\"SCR\"),\"NT\",H152)","v":{"$error":"#REF!"}}]
[{"$nulls":4},153,null,null,null,{"$f":"IF(OR(#REF!=5,#REF!=10,#REF!= 15,#REF!= \"BP\",#REF!=\"SCR\"),\"NT\",H153)","v":{"$error":"#REF!"}}]
[{"$nulls":4},154,null,null,null,{"$f":"IF(OR(#REF!=5,#REF!=10,#REF!= 15,#REF!= \"BP\",#REF!=\"SCR\"),\"NT\",H154)","v":{"$error":"#REF!"}}]
[{"$nulls":4},155,null,null,null,{"$f":"IF(OR(#REF!=5,#REF!=10,#REF!= 15,#REF!= \"BP\",#REF!=\"SCR\"),\"NT\",H155)","v":{"$error":"#REF!"}}]
[{"$nulls":4},156,null,null,null,{"$f":"IF(OR(#REF!=5,#REF!=10,#REF!= 15,#REF!= \"BP\",#REF!=\"SCR\"),\"NT\",H156)","v":{"$error":"#REF!"}}]
[{"$nulls":4},157,null,null,null,{"$f":"IF(OR(#REF!=5,#REF!=10,#REF!= 15,#REF!= \"BP\",#REF!=\"SCR\"),\"NT\",H157)","v":{"$error":"#REF!"}}]
[{"$nulls":4},158,null,null,null,{"$f":"IF(OR(#REF!=5,#REF!=10,#REF!= 15,#REF!= \"BP\",#REF!=\"SCR\"),\"NT\",H158)","v":{"$error":"#REF!"}}]
[{"$nulls":4},159,null,null,null,{"$f":"IF(OR(#REF!=5,#REF!=10,#REF!= 15,#REF!= \"BP\",#REF!=\"SCR\"),\"NT\",H159)","v":{"$error":"#REF!"}}]
[{"$nulls":4},160,null,null,null,{"$f":"IF(OR(#REF!=5,#REF!=10,#REF!= 15,#REF!= \"BP\",#REF!=\"SCR\"),\"NT\",H160)","v":{"$error":"#REF!"}}]
[{"$nulls":4},161,null,null,null,{"$f":"IF(OR(#REF!=5,#REF!=10,#REF!= 15,#REF!= \"BP\",#REF!=\"SCR\"),\"NT\",H161)","v":{"$error":"#REF!"}}]
[{"$nulls":4},162,null,null,null,{"$f":"IF(OR(#REF!=5,#REF!=10,#REF!= 15,#REF!= \"BP\",#REF!=\"SCR\"),\"NT\",H162)","v":{"$error":"#REF!"}}]
[{"$nulls":4},163,null,null,null,{"$f":"IF(OR(#REF!=5,#REF!=10,#REF!= 15,#REF!= \"BP\",#REF!=\"SCR\"),\"NT\",H163)","v":{"$error":"#REF!"}}]
[{"$nulls":4},164,null,null,null,{"$f":"IF(OR(#REF!=5,#REF!=10,#REF!= 15,#REF!= \"BP\",#REF!=\"SCR\"),\"NT\",H164)","v":{"$error":"#REF!"}}]
[{"$nulls":4},165,null,null,null,{"$f":"IF(OR(#REF!=5,#REF!=10,#REF!= 15,#REF!= \"BP\",#REF!=\"SCR\"),\"NT\",H165)","v":{"$error":"#REF!"}}]
[{"$nulls":4},166,null,null,null,{"$f":"IF(OR(#REF!=5,#REF!=10,#REF!= 15,#REF!= \"BP\",#REF!=\"SCR\"),\"NT\",H166)","v":{"$error":"#REF!"}}]
[{"$nulls":4},167,null,null,null,{"$f":"IF(OR(#REF!=5,#REF!=10,#REF!= 15,#REF!= \"BP\",#REF!=\"SCR\"),\"NT\",H167)","v":{"$error":"#REF!"}}]
[{"$nulls":4},168,null,null,null,{"$f":"IF(OR(#REF!=5,#REF!=10,#REF!= 15,#REF!= \"BP\",#REF!=\"SCR\"),\"NT\",H168)","v":{"$error":"#REF!"}}]
[{"$nulls":4},169,null,null,null,{"$f":"IF(OR(#REF!=5,#REF!=10,#REF!= 15,#REF!= \"BP\",#REF!=\"SCR\"),\"NT\",H169)","v":{"$error":"#REF!"}}]
[{"$nulls":4},170,null,null,null,{"$f":"IF(OR(#REF!=5,#REF!=10,#REF!= 15,#REF!= \"BP\",#REF!=\"SCR\"),\"NT\",H170)","v":{"$error":"#REF!"}}]
[{"$nulls":4},171,null,null,null,{"$f":"IF(OR(#REF!=5,#REF!=10,#REF!= 15,#REF!= \"BP\",#REF!=\"SCR\"),\"NT\",H171)","v":{"$error":"#REF!"}}]
[{"$nulls":4},172,null,null,null,{"$f":"IF(OR(#REF!=5,#REF!=10,#REF!= 15,#REF!= \"BP\",#REF!=\"SCR\"),\"NT\",H172)","v":{"$error":"#REF!"}}]
[{"$nulls":4},173,null,null,null,{"$f":"IF(OR(#REF!=5,#REF!=10,#REF!= 15,#REF!= \"BP\",#REF!=\"SCR\"),\"NT\",H173)","v":{"$error":"#REF!"}}]
[{"$nulls":4},174,null,null,null,{"$f":"IF(OR(#REF!=5,#REF!=10,#REF!= 15,#REF!= \"BP\",#REF!=\"SCR\"),\"NT\",H174)","v":{"$error":"#REF!"}}]
[{"$nulls":4},175,null,null,null,{"$f":"IF(OR(#REF!=5,#REF!=10,#REF!= 15,#REF!= \"BP\",#REF!=\"SCR\"),\"NT\",H175)","v":{"$error":"#REF!"}}]
[{"$nulls":4},176,null,null,null,{"$f":"IF(OR(#REF!=5,#REF!=10,#REF!= 15,#REF!= \"BP\",#REF!=\"SCR\"),\"NT\",H176)","v":{"$error":"#REF!"}}]
[{"$nulls":4},177,null,null,null,{"$f":"IF(OR(#REF!=5,#REF!=10,#REF!= 15,#REF!= \"BP\",#REF!=\"SCR\"),\"NT\",H177)","v":{"$error":"#REF!"}}]
[{"$nulls":4},178,null,null,null,{"$f":"IF(OR(#REF!=5,#REF!=10,#REF!= 15,#REF!= \"BP\",#REF!=\"SCR\"),\"NT\",H178)","v":{"$error":"#REF!"}}]
[{"$nulls":4},179,null,null,null,{"$f":"IF(OR(#REF!=5,#REF!=10,#REF!= 15,#REF!= \"BP\",#REF!=\"SCR\"),\"NT\",H179)","v":{"$error":"#REF!"}}]
[{"$nulls":4},180,null,null,null,{"$f":"IF(OR(#REF!=5,#REF!=10,#REF!= 15,#REF!= \"BP\",#REF!=\"SCR\"),\"NT\",H180)","v":{"$error":"#REF!"}}]
[{"$nulls":4},181,null,null,null,{"$f":"IF(OR(#REF!=5,#REF!=10,#REF!= 15,#REF!= \"BP\",#REF!=\"SCR\"),\"NT\",H181)","v":{"$error":"#REF!"}}]
[{"$nulls":4},182,null,null,null,{"$f":"IF(OR(#REF!=5,#REF!=10,#REF!= 15,#REF!= \"BP\",#REF!=\"SCR\"),\"NT\",H182)","v":{"$error":"#REF!"}}]
[{"$nulls":4},183,null,null,null,{"$f":"IF(OR(#REF!=5,#REF!=10,#REF!= 15,#REF!= \"BP\",#REF!=\"SCR\"),\"NT\",H183)","v":{"$error":"#REF!"}}]
[{"$nulls":4},184,null,null,null,{"$f":"IF(OR(#REF!=5,#REF!=10,#REF!= 15,#REF!= \"BP\",#REF!=\"SCR\"),\"NT\",H184)","v":{"$error":"#REF!"}}]
[{"$nulls":4},185,null,null,null,{"$f":"IF(OR(#REF!=5,#REF!=10,#REF!= 15,#REF!= \"BP\",#REF!=\"SCR\"),\"NT\",H185)","v":{"$error":"#REF!"}}]
[{"$nulls":4},186,null,null,null,{"$f":"IF(OR(#REF!=5,#REF!=10,#REF!= 15,#REF!= \"BP\",#REF!=\"SCR\"),\"NT\",H186)","v":{"$error":"#REF!"}}]
[{"$nulls":4},187,null,null,null,{"$f":"IF(OR(#REF!=5,#REF!=10,#REF!= 15,#REF!= \"BP\",#REF!=\"SCR\"),\"NT\",H187)","v":{"$error":"#REF!"}}]
[{"$nulls":4},188,null,null,null,{"$f":"IF(OR(#REF!=5,#REF!=10,#REF!= 15,#REF!= \"BP\",#REF!=\"SCR\"),\"NT\",H188)","v":{"$error":"#REF!"}}]
[{"$nulls":4},189,null,null,null,{"$f":"IF(OR(#REF!=5,#REF!=10,#REF!= 15,#REF!= \"BP\",#REF!=\"SCR\"),\"NT\",H189)","v":{"$error":"#REF!"}}]
[{"$nulls":4},190,null,null,null,{"$f":"IF(OR(#REF!=5,#REF!=10,#REF!= 15,#REF!= \"BP\",#REF!=\"SCR\"),\"NT\",H190)","v":{"$error":"#REF!"}}]
[{"$nulls":4},191,null,null,null,{"$f":"IF(OR(#REF!=5,#REF!=10,#REF!= 15,#REF!= \"BP\",#REF!=\"SCR\"),\"NT\",H191)","v":{"$error":"#REF!"}}]
[{"$nulls":4},192,null,null,null,{"$f":"IF(OR(#REF!=5,#REF!=10,#REF!= 15,#REF!= \"BP\",#REF!=\"SCR\"),\"NT\",H192)","v":{"$error":"#REF!"}}]
[{"$nulls":4},193,null,null,null,{"$f":"IF(OR(#REF!=5,#REF!=10,#REF!= 15,#REF!= \"BP\",#REF!=\"SCR\"),\"NT\",H193)","v":{"$error":"#REF!"}}]
[{"$nulls":4},194,null,null,null,{"$f":"IF(OR(#REF!=5,#REF!=10,#REF!= 15,#REF!= \"BP\",#REF!=\"SCR\"),\"NT\",H194)","v":{"$error":"#REF!"}}]
[{"$nulls":4},195,null,null,null,{"$f":"IF(OR(#REF!=5,#REF!=10,#REF!= 15,#REF!= \"BP\",#REF!=\"SCR\"),\"NT\",H195)","v":{"$error":"#REF!"}}]
[{"$nulls":4},196,null,null,null,{"$f":"IF(OR(#REF!=5,#REF!=10,#REF!= 15,#REF!= \"BP\",#REF!=\"SCR\"),\"NT\",H196)","v":{"$error":"#REF!"}}]
[{"$nulls":4},197,null,null,null,{"$f":"IF(OR(#REF!=5,#REF!=10,#REF!= 15,#REF!= \"BP\",#REF!=\"SCR\"),\"NT\",H197)","v":{"$error":"#REF!"}}]
[{"$nulls":4},198,null,null,null,{"$f":"IF(OR(#REF!=5,#REF!=10,#REF!= 15,#REF!= \"BP\",#REF!=\"SCR\"),\"NT\",H198)","v":{"$error":"#REF!"}}]
[{"$nulls":4},199,null,null,null,{"$f":"IF(OR(#REF!=5,#REF!=10,#REF!= 15,#REF!= \"BP\",#REF!=\"SCR\"),\"NT\",H199)","v":{"$error":"#REF!"}}]
[{"$nulls":4},200,null,null,null,{"$f":"IF(OR(#REF!=5,#REF!=10,#REF!= 15,#REF!= \"BP\",#REF!=\"SCR\"),\"NT\",H200)","v":{"$error":"#REF!"}}]
[{"$nulls":4},201,null,null,null,{"$f":"IF(OR(#REF!=5,#REF!=10,#REF!= 15,#REF!= \"BP\",#REF!=\"SCR\"),\"NT\",H201)","v":{"$error":"#REF!"}}]
[{"$nulls":4},202,null,null,null,{"$f":"IF(OR(#REF!=5,#REF!=10,#REF!= 15,#REF!= \"BP\",#REF!=\"SCR\"),\"NT\",H202)","v":{"$error":"#REF!"}}]
[{"$nulls":4},203,null,null,null,{"$f":"IF(OR(#REF!=5,#REF!=10,#REF!= 15,#REF!= \"BP\",#REF!=\"SCR\"),\"NT\",H203)","v":{"$error":"#REF!"}}]
[{"$nulls":4},204,null,null,null,{"$f":"IF(OR(#REF!=5,#REF!=10,#REF!= 15,#REF!= \"BP\",#REF!=\"SCR\"),\"NT\",H204)","v":{"$error":"#REF!"}}]
[{"$nulls":4},205,null,null,null,{"$f":"IF(OR(#REF!=5,#REF!=10,#REF!= 15,#REF!= \"BP\",#REF!=\"SCR\"),\"NT\",H205)","v":{"$error":"#REF!"}}]
[{"$nulls":4},206,null,null,null,{"$f":"IF(OR(#REF!=5,#REF!=10,#REF!= 15,#REF!= \"BP\",#REF!=\"SCR\"),\"NT\",H206)","v":{"$error":"#REF!"}}]
[{"$nulls":4},207,null,null,null,{"$f":"IF(OR(#REF!=5,#REF!=10,#REF!= 15,#REF!= \"BP\",#REF!=\"SCR\"),\"NT\",H207)","v":{"$error":"#REF!"}}]
[{"$nulls":4},208,null,null,null,{"$f":"IF(OR(#REF!=5,#REF!=10,#REF!= 15,#REF!= \"BP\",#REF!=\"SCR\"),\"NT\",H208)","v":{"$error":"#REF!"}}]
[{"$nulls":4},209,null,null,null,{"$f":"IF(OR(#REF!=5,#REF!=10,#REF!= 15,#REF!= \"BP\",#REF!=\"SCR\"),\"NT\",H209)","v":{"$error":"#REF!"}}]
[{"$nulls":4},210,null,null,null,{"$f":"IF(OR(#REF!=5,#REF!=10,#REF!= 15,#REF!= \"BP\",#REF!=\"SCR\"),\"NT\",H210)","v":{"$error":"#REF!"}}]
[{"$nulls":4},211,null,null,null,{"$f":"IF(OR(#REF!=5,#REF!=10,#REF!= 15,#REF!= \"BP\",#REF!=\"SCR\"),\"NT\",H211)","v":{"$error":"#REF!"}}]
[{"$nulls":4},212,null,null,null,{"$f":"IF(OR(#REF!=5,#REF!=10,#REF!= 15,#REF!= \"BP\",#REF!=\"SCR\"),\"NT\",H212)","v":{"$error":"#REF!"}}]
[{"$nulls":4},213,null,null,null,{"$f":"IF(OR(#REF!=5,#REF!=10,#REF!= 15,#REF!= \"BP\",#REF!=\"SCR\"),\"NT\",H213)","v":{"$error":"#REF!"}}]
[{"$nulls":4},214,null,null,null,{"$f":"IF(OR(#REF!=5,#REF!=10,#REF!= 15,#REF!= \"BP\",#REF!=\"SCR\"),\"NT\",H214)","v":{"$error":"#REF!"}}]
[{"$nulls":4},215,null,null,null,{"$f":"IF(OR(#REF!=5,#REF!=10,#REF!= 15,#REF!= \"BP\",#REF!=\"SCR\"),\"NT\",H215)","v":{"$error":"#REF!"}}]
[{"$nulls":4},216,null,null,null,{"$f":"IF(OR(#REF!=5,#REF!=10,#REF!= 15,#REF!= \"BP\",#REF!=\"SCR\"),\"NT\",H216)","v":{"$error":"#REF!"}}]
[{"$nulls":4},217,null,null,null,{"$f":"IF(OR(#REF!=5,#REF!=10,#REF!= 15,#REF!= \"BP\",#REF!=\"SCR\"),\"NT\",H217)","v":{"$error":"#REF!"}}]
[{"$nulls":4},218,null,null,null,{"$f":"IF(OR(#REF!=5,#REF!=10,#REF!= 15,#REF!= \"BP\",#REF!=\"SCR\"),\"NT\",H218)","v":{"$error":"#REF!"}}]
[{"$nulls":4},219,null,null,null,{"$f":"IF(OR(#REF!=5,#REF!=10,#REF!= 15,#REF!= \"BP\",#REF!=\"SCR\"),\"NT\",H219)","v":{"$error":"#REF!"}}]
[{"$nulls":4},220,null,null,null,{"$f":"IF(OR(#REF!=5,#REF!=10,#REF!= 15,#REF!= \"BP\",#REF!=\"SCR\"),\"NT\",H220)","v":{"$error":"#REF!"}}]
[{"$nulls":4},221,null,null,null,{"$f":"IF(OR(#REF!=5,#REF!=10,#REF!= 15,#REF!= \"BP\",#REF!=\"SCR\"),\"NT\",H221)","v":{"$error":"#REF!"}}]
[{"$nulls":4},222,null,null,null,{"$f":"IF(OR(#REF!=5,#REF!=10,#REF!= 15,#REF!= \"BP\",#REF!=\"SCR\"),\"NT\",H222)","v":{"$error":"#REF!"}}]
[{"$nulls":4},223,null,null,null,{"$f":"IF(OR(#REF!=5,#REF!=10,#REF!= 15,#REF!= \"BP\",#REF!=\"SCR\"),\"NT\",H223)","v":{"$error":"#REF!"}}]
[{"$nulls":4},224,null,null,null,{"$f":"IF(OR(#REF!=5,#REF!=10,#REF!= 15,#REF!= \"BP\",#REF!=\"SCR\"),\"NT\",H224)","v":{"$error":"#REF!"}}]
[{"$nulls":4},225,null,null,null,{"$f":"IF(OR(#REF!=5,#REF!=10,#REF!= 15,#REF!= \"BP\",#REF!=\"SCR\"),\"NT\",H225)","v":{"$error":"#REF!"}}]
[{"$nulls":4},226,null,null,null,{"$f":"IF(OR(#REF!=5,#REF!=10,#REF!= 15,#REF!= \"BP\",#REF!=\"SCR\"),\"NT\",H226)","v":{"$error":"#REF!"}}]
[{"$nulls":4},227,null,null,null,{"$f":"IF(OR(#REF!=5,#REF!=10,#REF!= 15,#REF!= \"BP\",#REF!=\"SCR\"),\"NT\",H227)","v":{"$error":"#REF!"}}]
[{"$nulls":4},228,null,null,null,{"$f":"IF(OR(#REF!=5,#REF!=10,#REF!= 15,#REF!= \"BP\",#REF!=\"SCR\"),\"NT\",H228)","v":{"$error":"#REF!"}}]
[{"$nulls":4},229,null,null,null,{"$f":"IF(OR(#REF!=5,#REF!=10,#REF!= 15,#REF!= \"BP\",#REF!=\"SCR\"),\"NT\",H229)","v":{"$error":"#REF!"}}]
[{"$nulls":4},230,null,null,null,{"$f":"IF(OR(#REF!=5,#REF!=10,#REF!= 15,#REF!= \"BP\",#REF!=\"SCR\"),\"NT\",H230)","v":{"$error":"#REF!"}}]
[{"$nulls":4},231,null,null,null,{"$f":"IF(OR(#REF!=5,#REF!=10,#REF!= 15,#REF!= \"BP\",#REF!=\"SCR\"),\"NT\",H231)","v":{"$error":"#REF!"}}]
[{"$nulls":4},232,null,null,null,{"$f":"IF(OR(#REF!=5,#REF!=10,#REF!= 15,#REF!= \"BP\",#REF!=\"SCR\"),\"NT\",H232)","v":{"$error":"#REF!"}}]
[{"$nulls":4},233,null,null,null,{"$f":"IF(OR(#REF!=5,#REF!=10,#REF!= 15,#REF!= \"BP\",#REF!=\"SCR\"),\"NT\",H233)","v":{"$error":"#REF!"}}]
[{"$nulls":4},234,null,null,null,{"$f":"IF(OR(#REF!=5,#REF!=10,#REF!= 15,#REF!= \"BP\",#REF!=\"SCR\"),\"NT\",H234)","v":{"$error":"#REF!"}}]
[{"$nulls":4},235,null,null,null,{"$f":"IF(OR(#REF!=5,#REF!=10,#REF!= 15,#REF!= \"BP\",#REF!=\"SCR\"),\"NT\",H235)","v":{"$error":"#REF!"}}]
[{"$nulls":4},236,null,null,null,{"$f":"IF(OR(#REF!=5,#REF!=10,#REF!= 15,#REF!= \"BP\",#REF!=\"SCR\"),\"NT\",H236)","v":{"$error":"#REF!"}}]
[{"$nulls":4},237,null,null,null,{"$f":"IF(OR(#REF!=5,#REF!=10,#REF!= 15,#REF!= \"BP\",#REF!=\"SCR\"),\"NT\",H237)","v":{"$error":"#REF!"}}]
[{"$nulls":4},238,null,null,null,{"$f":"IF(OR(#REF!=5,#REF!=10,#REF!= 15,#REF!= \"BP\",#REF!=\"SCR\"),\"NT\",H238)","v":{"$error":"#REF!"}}]
[{"$nulls":4},239,null,null,null,{"$f":"IF(OR(#REF!=5,#REF!=10,#REF!= 15,#REF!= \"BP\",#REF!=\"SCR\"),\"NT\",H239)","v":{"$error":"#REF!"}}]
[{"$nulls":4},240,null,null,null,{"$f":"IF(OR(#REF!=5,#REF!=10,#REF!= 15,#REF!= \"BP\",#REF!=\"SCR\"),\"NT\",H240)","v":{"$error":"#REF!"}}]
[{"$nulls":4},241,null,null,null,{"$f":"IF(OR(#REF!=5,#REF!=10,#REF!= 15,#REF!= \"BP\",#REF!=\"SCR\"),\"NT\",H241)","v":{"$error":"#REF!"}}]
[{"$nulls":4},242,null,null,null,{"$f":"IF(OR(#REF!=5,#REF!=10,#REF!= 15,#REF!= \"BP\",#REF!=\"SCR\"),\"NT\",H242)","v":{"$error":"#REF!"}}]
[{"$nulls":4},243,null,null,null,{"$f":"IF(OR(#REF!=5,#REF!=10,#REF!= 15,#REF!= \"BP\",#REF!=\"SCR\"),\"NT\",H243)","v":{"$error":"#REF!"}}]
[{"$nulls":4},244,null,null,null,{"$f":"IF(OR(#REF!=5,#REF!=10,#REF!= 15,#REF!= \"BP\",#REF!=\"SCR\"),\"NT\",H244)","v":{"$error":"#REF!"}}]
[{"$nulls":4},245,null,null,null,{"$f":"IF(OR(#REF!=5,#REF!=10,#REF!= 15,#REF!= \"BP\",#REF!=\"SCR\"),\"NT\",H245)","v":{"$error":"#REF!"}}]
[{"$nulls":4},246,null,null,null,{"$f":"IF(OR(#REF!=5,#REF!=10,#REF!= 15,#REF!= \"BP\",#REF!=\"SCR\"),\"NT\",H246)","v":{"$error":"#REF!"}}]
[{"$nulls":4},247,null,null,null,{"$f":"IF(OR(#REF!=5,#REF!=10,#REF!= 15,#REF!= \"BP\",#REF!=\"SCR\"),\"NT\",H247)","v":{"$error":"#REF!"}}]
[{"$nulls":4},248,null,null,null,{"$f":"IF(OR(#REF!=5,#REF!=10,#REF!= 15,#REF!= \"BP\",#REF!=\"SCR\"),\"NT\",H248)","v":{"$error":"#REF!"}}]
[{"$nulls":4},249,null,null,null,{"$f":"IF(OR(#REF!=5,#REF!=10,#REF!= 15,#REF!= \"BP\",#REF!=\"SCR\"),\"NT\",H249)","v":{"$error":"#REF!"}}]
[{"$nulls":4},250,null,null,null,{"$f":"IF(OR(#REF!=5,#REF!=10,#REF!= 15,#REF!= \"BP\",#REF!=\"SCR\"),\"NT\",H250)","v":{"$error":"#REF!"}}]
[{"$nulls":4},251,null,null,null,{"$f":"IF(OR(#REF!=5,#REF!=10,#REF!= 15,#REF!= \"BP\",#REF!=\"SCR\"),\"NT\",H251)","v":{"$error":"#REF!"}}]
[{"$nulls":4},252,null,null,null,{"$f":"IF(OR(#REF!=5,#REF!=10,#REF!= 15,#REF!= \"BP\",#REF!=\"SCR\"),\"NT\",H252)","v":{"$error":"#REF!"}}]
[{"$nulls":4},253,null,null,null,{"$f":"IF(OR(#REF!=5,#REF!=10,#REF!= 15,#REF!= \"BP\",#REF!=\"SCR\"),\"NT\",H253)","v":{"$error":"#REF!"}}]
[{"$nulls":4},254,null,null,null,{"$f":"IF(OR(#REF!=5,#REF!=10,#REF!= 15,#REF!= \"BP\",#REF!=\"SCR\"),\"NT\",H254)","v":{"$error":"#REF!"}}]
[{"$nulls":4},255,null,null,null,{"$f":"IF(OR(#REF!=5,#REF!=10,#REF!= 15,#REF!= \"BP\",#REF!=\"SCR\"),\"NT\",H255)","v":{"$error":"#REF!"}}]
[{"$nulls":4},256,null,null,null,{"$f":"IF(OR(#REF!=5,#REF!=10,#REF!= 15,#REF!= \"BP\",#REF!=\"SCR\"),\"NT\",H256)","v":{"$error":"#REF!"}}]
[{"$nulls":4},257,null,null,null,{"$f":"IF(OR(#REF!=5,#REF!=10,#REF!= 15,#REF!= \"BP\",#REF!=\"SCR\"),\"NT\",H257)","v":{"$error":"#REF!"}}]
[{"$nulls":4},258,null,null,null,{"$f":"IF(OR(#REF!=5,#REF!=10,#REF!= 15,#REF!= \"BP\",#REF!=\"SCR\"),\"NT\",H258)","v":{"$error":"#REF!"}}]
[{"$nulls":4},259,null,null,null,{"$f":"IF(OR(#REF!=5,#REF!=10,#REF!= 15,#REF!= \"BP\",#REF!=\"SCR\"),\"NT\",H259)","v":{"$error":"#REF!"}}]
[{"$nulls":4},260,null,null,null,{"$f":"IF(OR(#REF!=5,#REF!=10,#REF!= 15,#REF!= \"BP\",#REF!=\"SCR\"),\"NT\",H260)","v":{"$error":"#REF!"}}]
[{"$nulls":4},261,null,null,null,{"$f":"IF(OR(#REF!=5,#REF!=10,#REF!= 15,#REF!= \"BP\",#REF!=\"SCR\"),\"NT\",H261)","v":{"$error":"#REF!"}}]
[{"$nulls":4},262,null,null,null,{"$f":"IF(OR(#REF!=5,#REF!=10,#REF!= 15,#REF!= \"BP\",#REF!=\"SCR\"),\"NT\",H262)","v":{"$error":"#REF!"}}]
[{"$nulls":4},263,null,null,null,{"$f":"IF(OR(#REF!=5,#REF!=10,#REF!= 15,#REF!= \"BP\",#REF!=\"SCR\"),\"NT\",H263)","v":{"$error":"#REF!"}}]
[{"$nulls":4},264,null,null,null,{"$f":"IF(OR(#REF!=5,#REF!=10,#REF!= 15,#REF!= \"BP\",#REF!=\"SCR\"),\"NT\",H264)","v":{"$error":"#REF!"}}]
[{"$nulls":4},265,null,null,null,{"$f":"IF(OR(#REF!=5,#REF!=10,#REF!= 15,#REF!= \"BP\",#REF!=\"SCR\"),\"NT\",H265)","v":{"$error":"#REF!"}}]
[{"$nulls":4},266,null,null,null,{"$f":"IF(OR(#REF!=5,#REF!=10,#REF!= 15,#REF!= \"BP\",#REF!=\"SCR\"),\"NT\",H266)","v":{"$error":"#REF!"}}]
[{"$nulls":4},267,null,null,null,{"$f":"IF(OR(#REF!=5,#REF!=10,#REF!= 15,#REF!= \"BP\",#REF!=\"SCR\"),\"NT\",H267)","v":{"$error":"#REF!"}}]
[{"$nulls":4},268,null,null,null,{"$f":"IF(OR(#REF!=5,#REF!=10,#REF!= 15,#REF!= \"BP\",#REF!=\"SCR\"),\"NT\",H268)","v":{"$error":"#REF!"}}]
[{"$nulls":4},269,null,null,null,{"$f":"IF(OR(#REF!=5,#REF!=10,#REF!= 15,#REF!= \"BP\",#REF!=\"SCR\"),\"NT\",H269)","v":{"$error":"#REF!"}}]
[{"$nulls":4},270,null,null,null,{"$f":"IF(OR(#REF!=5,#REF!=10,#REF!= 15,#REF!= \"BP\",#REF!=\"SCR\"),\"NT\",H270)","v":{"$error":"#REF!"}}]
[{"$nulls":4},271,null,null,null,{"$f":"IF(OR(#REF!=5,#REF!=10,#REF!= 15,#REF!= \"BP\",#REF!=\"SCR\"),\"NT\",H271)","v":{"$error":"#REF!"}}]
[{"$nulls":4},272,null,null,null,{"$f":"IF(OR(#REF!=5,#REF!=10,#REF!= 15,#REF!= \"BP\",#REF!=\"SCR\"),\"NT\",H272)","v":{"$error":"#REF!"}}]
[{"$nulls":4},273,null,null,null,{"$f":"IF(OR(#REF!=5,#REF!=10,#REF!= 15,#REF!= \"BP\",#REF!=\"SCR\"),\"NT\",H273)","v":{"$error":"#REF!"}}]
[{"$nulls":4},274,null,null,null,{"$f":"IF(OR(#REF!=5,#REF!=10,#REF!= 15,#REF!= \"BP\",#REF!=\"SCR\"),\"NT\",H274)","v":{"$error":"#REF!"}}]
[{"$nulls":4},275,null,null,null,{"$f":"IF(OR(#REF!=5,#REF!=10,#REF!= 15,#REF!= \"BP\",#REF!=\"SCR\"),\"NT\",H275)","v":{"$error":"#REF!"}}]
[{"$nulls":4},276,null,null,null,{"$f":"IF(OR(#REF!=5,#REF!=10,#REF!= 15,#REF!= \"BP\",#REF!=\"SCR\"),\"NT\",H276)","v":{"$error":"#REF!"}}]
[{"$nulls":4},277,null,null,null,{"$f":"IF(OR(#REF!=5,#REF!=10,#REF!= 15,#REF!= \"BP\",#REF!=\"SCR\"),\"NT\",H277)","v":{"$error":"#REF!"}}]
[{"$nulls":4},278,null,null,null,{"$f":"IF(OR(#REF!=5,#REF!=10,#REF!= 15,#REF!= \"BP\",#REF!=\"SCR\"),\"NT\",H278)","v":{"$error":"#REF!"}}]
[{"$nulls":4},279,null,null,null,{"$f":"IF(OR(#REF!=5,#REF!=10,#REF!= 15,#REF!= \"BP\",#REF!=\"SCR\"),\"NT\",H279)","v":{"$error":"#REF!"}}]
[{"$nulls":4},280,null,null,null,{"$f":"IF(OR(#REF!=5,#REF!=10,#REF!= 15,#REF!= \"BP\",#REF!=\"SCR\"),\"NT\",H280)","v":{"$error":"#REF!"}}]
[{"$nulls":4},281,null,null,null,{"$f":"IF(OR(#REF!=5,#REF!=10,#REF!= 15,#REF!= \"BP\",#REF!=\"SCR\"),\"NT\",H281)","v":{"$error":"#REF!"}}]
[{"$nulls":4},282,null,null,null,{"$f":"IF(OR(#REF!=5,#REF!=10,#REF!= 15,#REF!= \"BP\",#REF!=\"SCR\"),\"NT\",H282)","v":{"$error":"#REF!"}}]
[{"$nulls":4},283,null,null,null,{"$f":"IF(OR(#REF!=5,#REF!=10,#REF!= 15,#REF!= \"BP\",#REF!=\"SCR\"),\"NT\",H283)","v":{"$error":"#REF!"}}]
[{"$nulls":4},284,null,null,null,{"$f":"IF(OR(#REF!=5,#REF!=10,#REF!= 15,#REF!= \"BP\",#REF!=\"SCR\"),\"NT\",H284)","v":{"$error":"#REF!"}}]
[{"$nulls":4},285,null,null,null,{"$f":"IF(OR(#REF!=5,#REF!=10,#REF!= 15,#REF!= \"BP\",#REF!=\"SCR\"),\"NT\",H285)","v":{"$error":"#REF!"}}]
[{"$nulls":4},286,null,null,null,{"$f":"IF(OR(#REF!=5,#REF!=10,#REF!= 15,#REF!= \"BP\",#REF!=\"SCR\"),\"NT\",H286)","v":{"$error":"#REF!"}}]
[{"$nulls":4},287,null,null,null,{"$f":"IF(OR(#REF!=5,#REF!=10,#REF!= 15,#REF!= \"BP\",#REF!=\"SCR\"),\"NT\",H287)","v":{"$error":"#REF!"}}]
[{"$nulls":4},288,null,null,null,{"$f":"IF(OR(#REF!=5,#REF!=10,#REF!= 15,#REF!= \"BP\",#REF!=\"SCR\"),\"NT\",H288)","v":{"$error":"#REF!"}}]
[{"$nulls":4},289,null,null,null,{"$f":"IF(OR(#REF!=5,#REF!=10,#REF!= 15,#REF!= \"BP\",#REF!=\"SCR\"),\"NT\",H289)","v":{"$error":"#REF!"}}]
[{"$nulls":4},290,null,null,null,{"$f":"IF(OR(#REF!=5,#REF!=10,#REF!= 15,#REF!= \"BP\",#REF!=\"SCR\"),\"NT\",H290)","v":{"$error":"#REF!"}}]
[{"$nulls":4},291,null,null,null,{"$f":"IF(OR(#REF!=5,#REF!=10,#REF!= 15,#REF!= \"BP\",#REF!=\"SCR\"),\"NT\",H291)","v":{"$error":"#REF!"}}]
[{"$nulls":4},292,null,null,null,{"$f":"IF(OR(#REF!=5,#REF!=10,#REF!= 15,#REF!= \"BP\",#REF!=\"SCR\"),\"NT\",H292)","v":{"$error":"#REF!"}}]
[{"$nulls":4},293,null,null,null,{"$f":"IF(OR(#REF!=5,#REF!=10,#REF!= 15,#REF!= \"BP\",#REF!=\"SCR\"),\"NT\",H293)","v":{"$error":"#REF!"}}]
[{"$nulls":4},294,null,null,null,{"$f":"IF(OR(#REF!=5,#REF!=10,#REF!= 15,#REF!= \"BP\",#REF!=\"SCR\"),\"NT\",H294)","v":{"$error":"#REF!"}}]
[{"$nulls":4},295,null,null,null,{"$f":"IF(OR(#REF!=5,#REF!=10,#REF!= 15,#REF!= \"BP\",#REF!=\"SCR\"),\"NT\",H295)","v":{"$error":"#REF!"}}]
[{"$nulls":4},296,null,null,null,{"$f":"IF(OR(#REF!=5,#REF!=10,#REF!= 15,#REF!= \"BP\",#REF!=\"SCR\"),\"NT\",H296)","v":{"$error":"#REF!"}}]
[{"$nulls":4},297,null,null,null,{"$f":"IF(OR(#REF!=5,#REF!=10,#REF!= 15,#REF!= \"BP\",#REF!=\"SCR\"),\"NT\",H297)","v":{"$error":"#REF!"}}]
[{"$nulls":4},298,null,null,null,{"$f":"IF(OR(#REF!=5,#REF!=10,#REF!= 15,#REF!= \"BP\",#REF!=\"SCR\"),\"NT\",H298)","v":{"$error":"#REF!"}}]
[{"$nulls":4},299,null,null,null,{"$f":"IF(OR(#REF!=5,#REF!=10,#REF!= 15,#REF!= \"BP\",#REF!=\"SCR\"),\"NT\",H299)","v":{"$error":"#REF!"}}]
[{"$nulls":4},300,null,null,null,{"$f":"IF(OR(#REF!=5,#REF!=10,#REF!= 15,#REF!= \"BP\",#REF!=\"SCR\"),\"NT\",H300)","v":{"$error":"#REF!"}}]

{"sheet":"Highstakes","index":5,"n_rows":301,"n_cols":12,"rows_kept":301,"cut":false,"hidden":false,"merged":[]}
["HS","Der","Age Inct.","BBR","Draw","Rider Name","Horse Name","c/o","Time","Final Time","Placing","Money Earned"]
[{"$nulls":4},1,"Shelley Holman","Red Hot N Burnin",null,15.535,null,"1st",440]
[{"$nulls":4},2,"Kylee Scribner","Firewater Cartel",null,15.622999999999999,null,"2nd",264]
[{"$nulls":4},3,"Jimmie Smith","Lever Action",null,15.782,null,"3rd",176]
[{"$nulls":4},4,"Cranna Roberts","Ronnie",null,15.869]
[{"$nulls":4},5,"Kelsey Hayden","Buhbye",null,15.962999999999999]
[{"$nulls":4},6,"Jimmie Smith","Marthas Bullion",null,16.071999999999999]
[{"$nulls":4},7,"Lauren Whitmire","Fame Rox",null,16.187000000000001]
[{"$nulls":4},8,"Jennifer Kalafatic","Rockin The Guns",null,16.2]
[{"$nulls":4},9,"Hallie Hanssen","Tres Movidas",null,"nt15.784"]
[{"$nulls":4},10,"Jennifer Kalafatic","CM Spotlight",null,"nt16.385"]
[{"$nulls":4},11,"Lauren Whitmire","Dash Down Anytime",null,"nt16.447"]
[{"$nulls":4},12]
[{"$nulls":4},13]
[{"$nulls":4},14]
[{"$nulls":4},15]
[{"$nulls":4},16]
[{"$nulls":4},17]
[{"$nulls":4},18]
[{"$nulls":4},19]
[{"$nulls":4},20]
[{"$nulls":4},21]
[{"$nulls":4},22]
[{"$nulls":4},23]
[{"$nulls":4},24]
[{"$nulls":4},25]
[{"$nulls":4},26]
[{"$nulls":4},27]
[{"$nulls":4},28]
[{"$nulls":4},29]
[{"$nulls":4},30]
[{"$nulls":4},31]
[{"$nulls":4},32]
[{"$nulls":4},33]
[{"$nulls":4},34]
[{"$nulls":4},35]
[{"$nulls":4},36]
[{"$nulls":4},37]
[{"$nulls":4},38]
[{"$nulls":4},39,{"$nulls":4},{"$f":"IF(OR(H40=5,H40=10, H40=15, H40=\"BP\",H40=\"SCR\"),\"NT\",I40)","v":0}]
[{"$nulls":4},40,{"$nulls":4},0]
[{"$nulls":4},41,{"$nulls":4},0]
[{"$nulls":4},42,{"$nulls":4},0]
[{"$nulls":4},43,{"$nulls":4},0]
[{"$nulls":4},44,{"$nulls":4},0]
[{"$nulls":4},45,{"$nulls":4},0]
[{"$nulls":4},46,{"$nulls":4},0]
[{"$nulls":4},47,{"$nulls":4},0]
[{"$nulls":4},48,{"$nulls":4},0]
[{"$nulls":4},49,{"$nulls":4},0]
[{"$nulls":4},50,{"$nulls":4},0]
[{"$nulls":4},51,{"$nulls":4},0]
[{"$nulls":4},52,{"$nulls":4},0]
[{"$nulls":4},53,{"$nulls":4},0]
[{"$nulls":4},54,{"$nulls":4},0]
[{"$nulls":4},55,{"$nulls":4},0]
[{"$nulls":4},56,{"$nulls":4},0]
[{"$nulls":4},57,{"$nulls":4},0]
[{"$nulls":4},58,{"$nulls":4},0]
[{"$nulls":4},59,{"$nulls":4},0]
[{"$nulls":4},60,{"$nulls":4},0]
[{"$nulls":4},61,{"$nulls":4},0]
[{"$nulls":4},62,{"$nulls":4},0]
[{"$nulls":4},63,{"$nulls":4},0]
[{"$nulls":4},64,{"$nulls":4},0]
[{"$nulls":4},65,{"$nulls":4},0]
[{"$nulls":4},66,{"$nulls":4},0]
[{"$nulls":4},67,{"$nulls":4},0]
[{"$nulls":4},68,{"$nulls":4},0]
[{"$nulls":4},69,{"$nulls":4},0]
[{"$nulls":4},70,{"$nulls":4},0]
[{"$nulls":4},71,{"$nulls":4},0]
[{"$nulls":4},72,{"$nulls":4},0]
[{"$nulls":4},73,{"$nulls":4},0]
[{"$nulls":4},74,{"$nulls":4},0]
[{"$nulls":4},75,{"$nulls":4},0]
[{"$nulls":4},76,{"$nulls":4},0]
[{"$nulls":4},77,{"$nulls":4},0]
[{"$nulls":4},78,{"$nulls":4},0]
[{"$nulls":4},79,{"$nulls":4},0]
[{"$nulls":4},80,{"$nulls":4},0]
[{"$nulls":4},81,{"$nulls":4},0]
[{"$nulls":4},82,{"$nulls":4},0]
[{"$nulls":4},83,{"$nulls":4},0]
[{"$nulls":4},84,{"$nulls":4},0]
[{"$nulls":4},85,{"$nulls":4},0]
[{"$nulls":4},86,{"$nulls":4},0]
[{"$nulls":4},87,{"$nulls":4},0]
[{"$nulls":4},88,{"$nulls":4},0]
[{"$nulls":4},89,{"$nulls":4},0]
[{"$nulls":4},90,{"$nulls":4},0]
[{"$nulls":4},91,{"$nulls":4},0]
[{"$nulls":4},92,{"$nulls":4},0]
[{"$nulls":4},93,{"$nulls":4},0]
[{"$nulls":4},94,{"$nulls":4},0]
[{"$nulls":4},95,{"$nulls":4},0]
[{"$nulls":4},96,{"$nulls":4},0]
[{"$nulls":4},97,{"$nulls":4},0]
[{"$nulls":4},98,{"$nulls":4},0]
[{"$nulls":4},99,{"$nulls":4},0]
[{"$nulls":4},100,{"$nulls":4},0]
[{"$nulls":4},101,{"$nulls":4},0]
[{"$nulls":4},102,{"$nulls":4},0]
[{"$nulls":4},103,{"$nulls":4},{"$f":"IF(OR(H104=5,H104=10, H104=15, H104=\"BP\",H104=\"SCR\"),\"NT\",I104)","v":0}]
[{"$nulls":4},104,{"$nulls":4},0]
[{"$nulls":4},105,{"$nulls":4},0]
[{"$nulls":4},106,{"$nulls":4},0]
[{"$nulls":4},107,{"$nulls":4},0]
[{"$nulls":4},108,{"$nulls":4},0]
[{"$nulls":4},109,{"$nulls":4},0]
[{"$nulls":4},110,{"$nulls":4},0]
[{"$nulls":4},111,{"$nulls":4},0]
[{"$nulls":4},112,{"$nulls":4},0]
[{"$nulls":4},113,{"$nulls":4},0]
[{"$nulls":4},114,{"$nulls":4},0]
[{"$nulls":4},115,{"$nulls":4},0]
[{"$nulls":4},116,{"$nulls":4},0]
[{"$nulls":4},117,{"$nulls":4},0]
[{"$nulls":4},118,{"$nulls":4},0]
[{"$nulls":4},119,{"$nulls":4},0]
[{"$nulls":4},120,{"$nulls":4},0]
[{"$nulls":4},121,{"$nulls":4},0]
[{"$nulls":4},122,{"$nulls":4},0]
[{"$nulls":4},123,{"$nulls":4},0]
[{"$nulls":4},124,{"$nulls":4},0]
[{"$nulls":4},125,{"$nulls":4},0]
[{"$nulls":4},126,{"$nulls":4},0]
[{"$nulls":4},127,{"$nulls":4},0]
[{"$nulls":4},128,{"$nulls":4},0]
[{"$nulls":4},129,{"$nulls":4},0]
[{"$nulls":4},130,{"$nulls":4},0]
[{"$nulls":4},131,{"$nulls":4},0]
[{"$nulls":4},132,{"$nulls":4},0]
[{"$nulls":4},133,{"$nulls":4},0]
[{"$nulls":4},134,{"$nulls":4},0]
[{"$nulls":4},135,{"$nulls":4},0]
[{"$nulls":4},136,{"$nulls":4},0]
[{"$nulls":4},137,{"$nulls":4},0]
[{"$nulls":4},138,{"$nulls":4},0]
[{"$nulls":4},139,{"$nulls":4},0]
[{"$nulls":4},140,{"$nulls":4},0]
[{"$nulls":4},141,{"$nulls":4},0]
[{"$nulls":4},142,{"$nulls":4},0]
[{"$nulls":4},143,{"$nulls":4},0]
[{"$nulls":4},144,{"$nulls":4},0]
[{"$nulls":4},145,{"$nulls":4},0]
[{"$nulls":4},146,{"$nulls":4},0]
[{"$nulls":4},147,{"$nulls":4},0]
[{"$nulls":4},148,{"$nulls":4},0]
[{"$nulls":4},149,{"$nulls":4},0]
[{"$nulls":4},150,{"$nulls":4},0]
[{"$nulls":4},151,{"$nulls":4},0]
[{"$nulls":4},152,{"$nulls":4},0]
[{"$nulls":4},153,{"$nulls":4},0]
[{"$nulls":4},154,{"$nulls":4},0]
[{"$nulls":4},155,{"$nulls":4},0]
[{"$nulls":4},156,{"$nulls":4},0]
[{"$nulls":4},157,{"$nulls":4},0]
[{"$nulls":4},158,{"$nulls":4},0]
[{"$nulls":4},159,{"$nulls":4},0]
[{"$nulls":4},160,{"$nulls":4},0]
[{"$nulls":4},161,{"$nulls":4},0]
[{"$nulls":4},162,{"$nulls":4},0]
[{"$nulls":4},163,{"$nulls":4},0]
[{"$nulls":4},164,{"$nulls":4},0]
[{"$nulls":4},165,{"$nulls":4},0]
[{"$nulls":4},166,{"$nulls":4},0]
[{"$nulls":4},167,{"$nulls":4},{"$f":"IF(OR(H168=5,H168=10, H168=15, H168=\"BP\",H168=\"SCR\"),\"NT\",I168)","v":0}]
[{"$nulls":4},168,{"$nulls":4},0]
[{"$nulls":4},169,{"$nulls":4},0]
[{"$nulls":4},170,{"$nulls":4},0]
[{"$nulls":4},171,{"$nulls":4},0]
[{"$nulls":4},172,{"$nulls":4},0]
[{"$nulls":4},173,{"$nulls":4},0]
[{"$nulls":4},174,{"$nulls":4},0]
[{"$nulls":4},175,{"$nulls":4},0]
[{"$nulls":4},176,{"$nulls":4},0]
[{"$nulls":4},177,{"$nulls":4},0]
[{"$nulls":4},178,{"$nulls":4},0]
[{"$nulls":4},179,{"$nulls":4},0]
[{"$nulls":4},180,{"$nulls":4},0]
[{"$nulls":4},181,{"$nulls":4},0]
[{"$nulls":4},182,{"$nulls":4},0]
[{"$nulls":4},183,{"$nulls":4},0]
[{"$nulls":4},184,{"$nulls":4},0]
[{"$nulls":4},185,{"$nulls":4},0]
[{"$nulls":4},186,{"$nulls":4},0]
[{"$nulls":4},187,{"$nulls":4},0]
[{"$nulls":4},188,{"$nulls":4},0]
[{"$nulls":4},189,{"$nulls":4},0]
[{"$nulls":4},190,{"$nulls":4},0]
[{"$nulls":4},191,{"$nulls":4},0]
[{"$nulls":4},192,{"$nulls":4},0]
[{"$nulls":4},193,{"$nulls":4},0]
[{"$nulls":4},194,{"$nulls":4},0]
[{"$nulls":4},195,{"$nulls":4},0]
[{"$nulls":4},196,{"$nulls":4},0]
[{"$nulls":4},197,{"$nulls":4},0]
[{"$nulls":4},198,{"$nulls":4},0]
[{"$nulls":4},199,{"$nulls":4},0]
[{"$nulls":4},200,{"$nulls":4},0]
[{"$nulls":4},201,{"$nulls":4},0]
[{"$nulls":4},202,{"$nulls":4},0]
[{"$nulls":4},203,{"$nulls":4},0]
[{"$nulls":4},204,{"$nulls":4},0]
[{"$nulls":4},205,{"$nulls":4},0]
[{"$nulls":4},206,{"$nulls":4},0]
[{"$nulls":4},207,{"$nulls":4},0]
[{"$nulls":4},208,{"$nulls":4},0]
[{"$nulls":4},209,{"$nulls":4},0]
[{"$nulls":4},210,{"$nulls":4},0]
[{"$nulls":4},211,{"$nulls":4},0]
[{"$nulls":4},212,{"$nulls":4},0]
[{"$nulls":4},213,{"$nulls":4},0]
[{"$nulls":4},214,{"$nulls":4},0]
[{"$nulls":4},215,{"$nulls":4},0]
[{"$nulls":4},216,{"$nulls":4},0]
[{"$nulls":4},217,{"$nulls":4},0]
[{"$nulls":4},218,{"$nulls":4},0]
[{"$nulls":4},219,{"$nulls":4},0]
[{"$nulls":4},220,{"$nulls":4},0]
[{"$nulls":4},221,{"$nulls":4},0]
[{"$nulls":4},222,{"$nulls":4},0]
[{"$nulls":4},223,{"$nulls":4},0]
[{"$nulls":4},224,{"$nulls":4},0]
[{"$nulls":4},225,{"$nulls":4},0]
[{"$nulls":4},226,{"$nulls":4},0]
[{"$nulls":4},227,{"$nulls":4},0]
[{"$nulls":4},228,{"$nulls":4},0]
[{"$nulls":4},229,{"$nulls":4},0]
[{"$nulls":4},230,{"$nulls":4},0]
[{"$nulls":4},231,{"$nulls":4},{"$f":"IF(OR(H232=5,H232=10, H232=15, H232=\"BP\",H232=\"SCR\"),\"NT\",I232)","v":0}]
[{"$nulls":4},232,{"$nulls":4},0]
[{"$nulls":4},233,{"$nulls":4},0]
[{"$nulls":4},234,{"$nulls":4},0]
[{"$nulls":4},235,{"$nulls":4},0]
[{"$nulls":4},236,{"$nulls":4},0]
[{"$nulls":4},237,{"$nulls":4},0]
[{"$nulls":4},238,{"$nulls":4},0]
[{"$nulls":4},239,{"$nulls":4},0]
[{"$nulls":4},240,{"$nulls":4},0]
[{"$nulls":4},241,{"$nulls":4},0]
[{"$nulls":4},242,{"$nulls":4},0]
[{"$nulls":4},243,{"$nulls":4},0]
[{"$nulls":4},244,{"$nulls":4},0]
[{"$nulls":4},245,{"$nulls":4},0]
[{"$nulls":4},246,{"$nulls":4},0]
[{"$nulls":4},247,{"$nulls":4},0]
[{"$nulls":4},248,{"$nulls":4},0]
[{"$nulls":4},249,{"$nulls":4},0]
[{"$nulls":4},250,{"$nulls":4},0]
[{"$nulls":4},251,{"$nulls":4},0]
[{"$nulls":4},252,{"$nulls":4},0]
[{"$nulls":4},253,{"$nulls":4},0]
[{"$nulls":4},254,{"$nulls":4},0]
[{"$nulls":4},255,{"$nulls":4},0]
[{"$nulls":4},256,{"$nulls":4},0]
[{"$nulls":4},257,{"$nulls":4},0]
[{"$nulls":4},258,{"$nulls":4},0]
[{"$nulls":4},259,{"$nulls":4},0]
[{"$nulls":4},260,{"$nulls":4},0]
[{"$nulls":4},261,{"$nulls":4},0]
[{"$nulls":4},262,{"$nulls":4},0]
[{"$nulls":4},263,{"$nulls":4},0]
[{"$nulls":4},264,{"$nulls":4},0]
[{"$nulls":4},265,{"$nulls":4},0]
[{"$nulls":4},266,{"$nulls":4},0]
[{"$nulls":4},267,{"$nulls":4},0]
[{"$nulls":4},268,{"$nulls":4},0]
[{"$nulls":4},269,{"$nulls":4},0]
[{"$nulls":4},270,{"$nulls":4},0]
[{"$nulls":4},271,{"$nulls":4},0]
[{"$nulls":4},272,{"$nulls":4},0]
[{"$nulls":4},273,{"$nulls":4},0]
[{"$nulls":4},274,{"$nulls":4},0]
[{"$nulls":4},275,{"$nulls":4},0]
[{"$nulls":4},276,{"$nulls":4},0]
[{"$nulls":4},277,{"$nulls":4},0]
[{"$nulls":4},278,{"$nulls":4},0]
[{"$nulls":4},279,{"$nulls":4},0]
[{"$nulls":4},280,{"$nulls":4},0]
[{"$nulls":4},281,{"$nulls":4},0]
[{"$nulls":4},282,{"$nulls":4},0]
[{"$nulls":4},283,{"$nulls":4},0]
[{"$nulls":4},284,{"$nulls":4},0]
[{"$nulls":4},285,{"$nulls":4},0]
[{"$nulls":4},286,{"$nulls":4},0]
[{"$nulls":4},287,{"$nulls":4},0]
[{"$nulls":4},288,{"$nulls":4},0]
[{"$nulls":4},289,{"$nulls":4},0]
[{"$nulls":4},290,{"$nulls":4},0]
[{"$nulls":4},291,{"$nulls":4},0]
[{"$nulls":4},292,{"$nulls":4},0]
[{"$nulls":4},293,{"$nulls":4},0]
[{"$nulls":4},294,{"$nulls":4},0]
[{"$nulls":4},295,{"$nulls":4},{"$f":"IF(OR(H296=5,H296=10, H296=15, H296=\"BP\",H296=\"SCR\"),\"NT\",I296)","v":0}]
[{"$nulls":4},296,{"$nulls":4},0]
[{"$nulls":4},297,{"$nulls":4},0]
[{"$nulls":4},298,{"$nulls":4},0]
[{"$nulls":4},299,{"$nulls":4},0]
[{"$nulls":4},300,{"$nulls":4},0]

{"sheet":"Futurity","index":6,"n_rows":301,"n_cols":12,"rows_kept":301,"cut":false,"hidden":false,"merged":[]}
["Futurity","Der","Age Inct.","BBR","Draw",null,null,null,"Time",null,"Place","Money"]
[{"$nulls":4},1,"Kylee Scribner","Firewater Cartel",null,15.622999999999999,null,"1D 1st",269]
[{"$nulls":4},2,"Stevi Hillman","DTF Texas Moon",null,15.83,null,"1D 2nd",179]
[{"$nulls":4},3,"Jennifer Kalafatic","Rockin The Guns",null,16.2,null,"2D 1st",115]
[{"$nulls":4},4,"Jolene Jones","Peppys Streakof Fame",null,16.228000000000002,null,"2D 2nd",77]
[{"$nulls":4},5,"Dawn Link","Dominnator",null,16.350999999999999]
[{"$nulls":4},6,"Hallie Hanssen","Jesswatchmestreak",null,16.439]
[{"$nulls":4},7,"Stephanie Fryar","Cant Stop The Feeling",null,16.64]
[{"$nulls":4},8,"Julie Knox","Talented Streaker",null,16.785]
[{"$nulls":4},9,"Sarah Rau","MV Famous Margarita",null,16.881]
[{"$nulls":4},10,"Tiffany Durham","Midge Ridge",null,16.940999999999999]
[{"$nulls":4},11,"Jennifer Cullen","Chasin Annies Fame",null,17.978000000000002]
[{"$nulls":4},12,"Randi Roberts","Boom Slicka Boom",null,18.085999999999999]
[{"$nulls":4},13,"Shelley Holman","Phrozen",null,"broken"]
[{"$nulls":4},14,"Hallie Hanssen","Blazin Matilda",null,"nt16.492"]
[{"$nulls":4},15,"Stephanie Fryar","Can I Get a Hallelujah",null,"nt16.502"]
[{"$nulls":4},16,"Molly Childers","Dash Ta Special",null,"nt20.284"]
[{"$nulls":4},17]
[{"$nulls":4},18]
[{"$nulls":4},19]
[{"$nulls":4},20]
[{"$nulls":4},21]
[{"$nulls":4},22]
[{"$nulls":4},23]
[{"$nulls":4},24]
[{"$nulls":4},25]
[{"$nulls":4},26]
[{"$nulls":4},27]
[{"$nulls":4},28]
[{"$nulls":4},29]
[{"$nulls":4},30]
[{"$nulls":4},31]
[{"$nulls":4},32]
[{"$nulls":4},33]
[{"$nulls":4},34]
[{"$nulls":4},35]
[{"$nulls":4},36]
[{"$nulls":4},37,{"$nulls":4},{"$f":"IF(OR(H38=5,H38=10, H38=15, H38=\"BP\",H38=\"SCR\"),\"NT\",I38)","v":0}]
[{"$nulls":4},38,{"$nulls":4},0]
[{"$nulls":4},39,{"$nulls":4},0]
[{"$nulls":4},40,{"$nulls":4},0]
[{"$nulls":4},41,{"$nulls":4},0]
[{"$nulls":4},42,{"$nulls":4},0]
[{"$nulls":4},43,{"$nulls":4},0]
[{"$nulls":4},44,{"$nulls":4},0]
[{"$nulls":4},45,{"$nulls":4},0]
[{"$nulls":4},46,{"$nulls":4},0]
[{"$nulls":4},47,{"$nulls":4},0]
[{"$nulls":4},48,{"$nulls":4},0]
[{"$nulls":4},49,{"$nulls":4},0]
[{"$nulls":4},50,{"$nulls":4},0]
[{"$nulls":4},51,{"$nulls":4},0]
[{"$nulls":4},52,{"$nulls":4},0]
[{"$nulls":4},53,{"$nulls":4},0]
[{"$nulls":4},54,{"$nulls":4},0]
[{"$nulls":4},55,{"$nulls":4},0]
[{"$nulls":4},56,{"$nulls":4},0]
[{"$nulls":4},57,{"$nulls":4},0]
[{"$nulls":4},58,{"$nulls":4},0]
[{"$nulls":4},59,{"$nulls":4},0]
[{"$nulls":4},60,{"$nulls":4},0]
[{"$nulls":4},61,{"$nulls":4},0]
[{"$nulls":4},62,{"$nulls":4},0]
[{"$nulls":4},63,{"$nulls":4},0]
[{"$nulls":4},64,{"$nulls":4},0]
[{"$nulls":4},65,{"$nulls":4},0]
[{"$nulls":4},66,{"$nulls":4},0]
[{"$nulls":4},67,{"$nulls":4},0]
[{"$nulls":4},68,{"$nulls":4},0]
[{"$nulls":4},69,{"$nulls":4},0]
[{"$nulls":4},70,{"$nulls":4},0]
[{"$nulls":4},71,{"$nulls":4},0]
[{"$nulls":4},72,{"$nulls":4},0]
[{"$nulls":4},73,{"$nulls":4},0]
[{"$nulls":4},74,{"$nulls":4},0]
[{"$nulls":4},75,{"$nulls":4},0]
[{"$nulls":4},76,{"$nulls":4},0]
[{"$nulls":4},77,{"$nulls":4},0]
[{"$nulls":4},78,{"$nulls":4},0]
[{"$nulls":4},79,{"$nulls":4},0]
[{"$nulls":4},80,{"$nulls":4},0]
[{"$nulls":4},81,{"$nulls":4},0]
[{"$nulls":4},82,{"$nulls":4},0]
[{"$nulls":4},83,{"$nulls":4},0]
[{"$nulls":4},84,{"$nulls":4},0]
[{"$nulls":4},85,{"$nulls":4},0]
[{"$nulls":4},86,{"$nulls":4},0]
[{"$nulls":4},87,{"$nulls":4},0]
[{"$nulls":4},88,{"$nulls":4},0]
[{"$nulls":4},89,{"$nulls":4},0]
[{"$nulls":4},90,{"$nulls":4},0]
[{"$nulls":4},91,{"$nulls":4},0]
[{"$nulls":4},92,{"$nulls":4},0]
[{"$nulls":4},93,{"$nulls":4},0]
[{"$nulls":4},94,{"$nulls":4},0]
[{"$nulls":4},95,{"$nulls":4},{"$f":"IF(OR(H96=5,H96=10, H96=15, H96=\"BP\",H96=\"SCR\"),\"NT\",I96)","v":0}]
[{"$nulls":4},96,{"$nulls":4},0]
[{"$nulls":4},97,{"$nulls":4},0]
[{"$nulls":4},98,{"$nulls":4},0]
[{"$nulls":4},99,{"$nulls":4},0]
[{"$nulls":4},100,{"$nulls":4},0]
[{"$nulls":4},101,{"$nulls":4},0]
[{"$nulls":4},102,{"$nulls":4},0]
[{"$nulls":4},103,{"$nulls":4},0]
[{"$nulls":4},104,{"$nulls":4},0]
[{"$nulls":4},105,{"$nulls":4},0]
[{"$nulls":4},106,{"$nulls":4},0]
[{"$nulls":4},107,{"$nulls":4},0]
[{"$nulls":4},108,{"$nulls":4},0]
[{"$nulls":4},109,{"$nulls":4},0]
[{"$nulls":4},110,{"$nulls":4},0]
[{"$nulls":4},111,{"$nulls":4},0]
[{"$nulls":4},112,{"$nulls":4},0]
[{"$nulls":4},113,{"$nulls":4},0]
[{"$nulls":4},114,{"$nulls":4},0]
[{"$nulls":4},115,{"$nulls":4},0]
[{"$nulls":4},116,{"$nulls":4},0]
[{"$nulls":4},117,{"$nulls":4},0]
[{"$nulls":4},118,{"$nulls":4},0]
[{"$nulls":4},119,{"$nulls":4},0]
[{"$nulls":4},120,{"$nulls":4},0]
[{"$nulls":4},121,{"$nulls":4},0]
[{"$nulls":4},122,{"$nulls":4},0]
[{"$nulls":4},123,{"$nulls":4},0]
[{"$nulls":4},124,{"$nulls":4},0]
[{"$nulls":4},125,{"$nulls":4},0]
[{"$nulls":4},126,{"$nulls":4},0]
[{"$nulls":4},127,{"$nulls":4},0]
[{"$nulls":4},128,{"$nulls":4},0]
[{"$nulls":4},129,{"$nulls":4},0]
[{"$nulls":4},130,{"$nulls":4},0]
[{"$nulls":4},131,{"$nulls":4},0]
[{"$nulls":4},132,{"$nulls":4},0]
[{"$nulls":4},133,{"$nulls":4},0]
[{"$nulls":4},134,{"$nulls":4},0]
[{"$nulls":4},135,{"$nulls":4},0]
[{"$nulls":4},136,{"$nulls":4},0]
[{"$nulls":4},137,{"$nulls":4},0]
[{"$nulls":4},138,{"$nulls":4},0]
[{"$nulls":4},139,{"$nulls":4},0]
[{"$nulls":4},140,{"$nulls":4},0]
[{"$nulls":4},141,{"$nulls":4},0]
[{"$nulls":4},142,{"$nulls":4},0]
[{"$nulls":4},143,{"$nulls":4},0]
[{"$nulls":4},144,{"$nulls":4},0]
[{"$nulls":4},145,{"$nulls":4},0]
[{"$nulls":4},146,{"$nulls":4},0]
[{"$nulls":4},147,{"$nulls":4},0]
[{"$nulls":4},148,{"$nulls":4},0]
[{"$nulls":4},149,{"$nulls":4},0]
[{"$nulls":4},150,{"$nulls":4},0]
[{"$nulls":4},151,{"$nulls":4},0]
[{"$nulls":4},152,{"$nulls":4},0]
[{"$nulls":4},153,{"$nulls":4},0]
[{"$nulls":4},154,{"$nulls":4},0]
[{"$nulls":4},155,{"$nulls":4},0]
[{"$nulls":4},156,{"$nulls":4},0]
[{"$nulls":4},157,{"$nulls":4},0]
[{"$nulls":4},158,{"$nulls":4},0]
[{"$nulls":4},159,{"$nulls":4},{"$f":"IF(OR(H160=5,H160=10, H160=15, H160=\"BP\",H160=\"SCR\"),\"NT\",I160)","v":0}]
[{"$nulls":4},160,{"$nulls":4},0]
[{"$nulls":4},161,{"$nulls":4},0]
[{"$nulls":4},162,{"$nulls":4},0]
[{"$nulls":4},163,{"$nulls":4},0]
[{"$nulls":4},164,{"$nulls":4},0]
[{"$nulls":4},165,{"$nulls":4},0]
[{"$nulls":4},166,{"$nulls":4},0]
[{"$nulls":4},167,{"$nulls":4},0]
[{"$nulls":4},168,{"$nulls":4},0]
[{"$nulls":4},169,{"$nulls":4},0]
[{"$nulls":4},170,{"$nulls":4},0]
[{"$nulls":4},171,{"$nulls":4},0]
[{"$nulls":4},172,{"$nulls":4},0]
[{"$nulls":4},173,{"$nulls":4},0]
[{"$nulls":4},174,{"$nulls":4},0]
[{"$nulls":4},175,{"$nulls":4},0]
[{"$nulls":4},176,{"$nulls":4},0]
[{"$nulls":4},177,{"$nulls":4},0]
[{"$nulls":4},178,{"$nulls":4},0]
[{"$nulls":4},179,{"$nulls":4},0]
[{"$nulls":4},180,{"$nulls":4},0]
[{"$nulls":4},181,{"$nulls":4},0]
[{"$nulls":4},182,{"$nulls":4},0]
[{"$nulls":4},183,{"$nulls":4},0]
[{"$nulls":4},184,{"$nulls":4},0]
[{"$nulls":4},185,{"$nulls":4},0]
[{"$nulls":4},186,{"$nulls":4},0]
[{"$nulls":4},187,{"$nulls":4},0]
[{"$nulls":4},188,{"$nulls":4},0]
[{"$nulls":4},189,{"$nulls":4},0]
[{"$nulls":4},190,{"$nulls":4},0]
[{"$nulls":4},191,{"$nulls":4},0]
[{"$nulls":4},192,{"$nulls":4},0]
[{"$nulls":4},193,{"$nulls":4},0]
[{"$nulls":4},194,{"$nulls":4},0]
[{"$nulls":4},195,{"$nulls":4},0]
[{"$nulls":4},196,{"$nulls":4},0]
[{"$nulls":4},197,{"$nulls":4},0]
[{"$nulls":4},198,{"$nulls":4},0]
[{"$nulls":4},199,{"$nulls":4},0]
[{"$nulls":4},200,{"$nulls":4},0]
[{"$nulls":4},201,{"$nulls":4},0]
[{"$nulls":4},202,{"$nulls":4},0]
[{"$nulls":4},203,{"$nulls":4},0]
[{"$nulls":4},204,{"$nulls":4},0]
[{"$nulls":4},205,{"$nulls":4},0]
[{"$nulls":4},206,{"$nulls":4},0]
[{"$nulls":4},207,{"$nulls":4},0]
[{"$nulls":4},208,{"$nulls":4},0]
[{"$nulls":4},209,{"$nulls":4},0]
[{"$nulls":4},210,{"$nulls":4},0]
[{"$nulls":4},211,{"$nulls":4},0]
[{"$nulls":4},212,{"$nulls":4},0]
[{"$nulls":4},213,{"$nulls":4},0]
[{"$nulls":4},214,{"$nulls":4},0]
[{"$nulls":4},215,{"$nulls":4},0]
[{"$nulls":4},216,{"$nulls":4},0]
[{"$nulls":4},217,{"$nulls":4},0]
[{"$nulls":4},218,{"$nulls":4},0]
[{"$nulls":4},219,{"$nulls":4},0]
[{"$nulls":4},220,{"$nulls":4},0]
[{"$nulls":4},221,{"$nulls":4},0]
[{"$nulls":4},222,{"$nulls":4},0]
[{"$nulls":4},223,{"$nulls":4},{"$f":"IF(OR(H224=5,H224=10, H224=15, H224=\"BP\",H224=\"SCR\"),\"NT\",I224)","v":0}]
[{"$nulls":4},224,{"$nulls":4},0]
[{"$nulls":4},225,{"$nulls":4},0]
[{"$nulls":4},226,{"$nulls":4},0]
[{"$nulls":4},227,{"$nulls":4},0]
[{"$nulls":4},228,{"$nulls":4},0]
[{"$nulls":4},229,{"$nulls":4},0]
[{"$nulls":4},230,{"$nulls":4},0]
[{"$nulls":4},231,{"$nulls":4},0]
[{"$nulls":4},232,{"$nulls":4},0]
[{"$nulls":4},233,{"$nulls":4},0]
[{"$nulls":4},234,{"$nulls":4},0]
[{"$nulls":4},235,{"$nulls":4},0]
[{"$nulls":4},236,{"$nulls":4},0]
[{"$nulls":4},237,{"$nulls":4},0]
[{"$nulls":4},238,{"$nulls":4},0]
[{"$nulls":4},239,{"$nulls":4},0]
[{"$nulls":4},240,{"$nulls":4},0]
[{"$nulls":4},241,{"$nulls":4},0]
[{"$nulls":4},242,{"$nulls":4},0]
[{"$nulls":4},243,{"$nulls":4},0]
[{"$nulls":4},244,{"$nulls":4},0]
[{"$nulls":4},245,{"$nulls":4},0]
[{"$nulls":4},246,{"$nulls":4},0]
[{"$nulls":4},247,{"$nulls":4},0]
[{"$nulls":4},248,{"$nulls":4},0]
[{"$nulls":4},249,{"$nulls":4},0]
[{"$nulls":4},250,{"$nulls":4},0]
[{"$nulls":4},251,{"$nulls":4},0]
[{"$nulls":4},252,{"$nulls":4},0]
[{"$nulls":4},253,{"$nulls":4},0]
[{"$nulls":4},254,{"$nulls":4},0]
[{"$nulls":4},255,{"$nulls":4},0]
[{"$nulls":4},256,{"$nulls":4},0]
[{"$nulls":4},257,{"$nulls":4},0]
[{"$nulls":4},258,{"$nulls":4},0]
[{"$nulls":4},259,{"$nulls":4},0]
[{"$nulls":4},260,{"$nulls":4},0]
[{"$nulls":4},261,{"$nulls":4},0]
[{"$nulls":4},262,{"$nulls":4},0]
[{"$nulls":4},263,{"$nulls":4},0]
[{"$nulls":4},264,{"$nulls":4},0]
[{"$nulls":4},265,{"$nulls":4},0]
[{"$nulls":4},266,{"$nulls":4},0]
[{"$nulls":4},267,{"$nulls":4},0]
[{"$nulls":4},268,{"$nulls":4},0]
[{"$nulls":4},269,{"$nulls":4},0]
[{"$nulls":4},270,{"$nulls":4},0]
[{"$nulls":4},271,{"$nulls":4},0]
[{"$nulls":4},272,{"$nulls":4},0]
[{"$nulls":4},273,{"$nulls":4},0]
[{"$nulls":4},274,{"$nulls":4},0]
[{"$nulls":4},275,{"$nulls":4},0]
[{"$nulls":4},276,{"$nulls":4},0]
[{"$nulls":4},277,{"$nulls":4},0]
[{"$nulls":4},278,{"$nulls":4},0]
[{"$nulls":4},279,{"$nulls":4},0]
[{"$nulls":4},280,{"$nulls":4},0]
[{"$nulls":4},281,{"$nulls":4},0]
[{"$nulls":4},282,{"$nulls":4},0]
[{"$nulls":4},283,{"$nulls":4},0]
[{"$nulls":4},284,{"$nulls":4},0]
[{"$nulls":4},285,{"$nulls":4},0]
[{"$nulls":4},286,{"$nulls":4},0]
[{"$nulls":4},287,{"$nulls":4},{"$f":"IF(OR(H288=5,H288=10, H288=15, H288=\"BP\",H288=\"SCR\"),\"NT\",I288)","v":0}]
[{"$nulls":4},288,{"$nulls":4},0]
[{"$nulls":4},289,{"$nulls":4},0]
[{"$nulls":4},290,{"$nulls":4},0]
[{"$nulls":4},291,{"$nulls":4},0]
[{"$nulls":4},292,{"$nulls":4},0]
[{"$nulls":4},293,{"$nulls":4},0]
[{"$nulls":4},294,{"$nulls":4},0]
[{"$nulls":4},295,{"$nulls":4},0]
[{"$nulls":4},296,{"$nulls":4},0]
[{"$nulls":4},297,{"$nulls":4},0]
[{"$nulls":4},298,{"$nulls":4},0]
[{"$nulls":4},299,{"$nulls":4},0]
[{"$nulls":4},300,{"$nulls":4},0]

{"sheet":"12 & Under","index":7,"n_rows":301,"n_cols":11,"rows_kept":301,"cut":false,"hidden":true,"merged":[]}
["Futurity","Der","Age Inct.","R/O","Draw","Rider Name","Horse Name","Time","Final Time","Placing","Money Earned"]
{"$rows_empty":31}
[{"$nulls":4},32]
[{"$nulls":4},33]
[{"$nulls":4},34]
[{"$nulls":4},35]
[{"$nulls":4},36]
[{"$nulls":4},37]
[{"$nulls":4},38]
[{"$nulls":4},39]
[{"$nulls":4},40]
[{"$nulls":4},41]
[{"$nulls":4},42]
[{"$nulls":4},43]
[{"$nulls":4},44]
[{"$nulls":4},45]
[{"$nulls":4},46]
[{"$nulls":4},47]
[{"$nulls":4},48]
[{"$nulls":4},49]
[{"$nulls":4},50]
[{"$nulls":4},51]
[{"$nulls":4},52]
[{"$nulls":4},53]
[{"$nulls":4},54]
[{"$nulls":4},55]
[{"$nulls":4},56]
[{"$nulls":4},57]
[{"$nulls":4},58]
[{"$nulls":4},59]
[{"$nulls":4},60]
[{"$nulls":4},61]
[{"$nulls":4},62]
[{"$nulls":4},63]
[{"$nulls":4},64]
[{"$nulls":4},65]
[{"$nulls":4},66]
[{"$nulls":4},67]
[{"$nulls":4},68]
[{"$nulls":4},69]
[{"$nulls":4},70]
[{"$nulls":4},71]
[{"$nulls":4},72]
[{"$nulls":4},73]
[{"$nulls":4},74]
[{"$nulls":4},75]
[{"$nulls":4},76]
[{"$nulls":4},77]
[{"$nulls":4},78]
[{"$nulls":4},79]
[{"$nulls":4},80]
[{"$nulls":4},81]
[{"$nulls":4},82]
[{"$nulls":4},83]
[{"$nulls":4},84]
[{"$nulls":4},85]
[{"$nulls":4},86]
[{"$nulls":4},87]
[{"$nulls":4},88]
[{"$nulls":4},89]
[{"$nulls":4},90]
[{"$nulls":4},91]
[{"$nulls":4},92]
[{"$nulls":4},93]
[{"$nulls":4},94]
[{"$nulls":4},95]
[{"$nulls":4},96]
[{"$nulls":4},97]
[{"$nulls":4},98]
[{"$nulls":4},99]
[{"$nulls":4},100]
[{"$nulls":4},101]
[{"$nulls":4},102]
[{"$nulls":4},103]
[{"$nulls":4},104]
[{"$nulls":4},105]
[{"$nulls":4},106]
[{"$nulls":4},107]
[{"$nulls":4},108]
[{"$nulls":4},109]
[{"$nulls":4},110]
[{"$nulls":4},111]
[{"$nulls":4},112]
[{"$nulls":4},113]
[{"$nulls":4},114]
[{"$nulls":4},115]
[{"$nulls":4},116]
[{"$nulls":4},117]
[{"$nulls":4},118]
[{"$nulls":4},119]
[{"$nulls":4},120]
[{"$nulls":4},121]
[{"$nulls":4},122]
[{"$nulls":4},123]
[{"$nulls":4},124]
[{"$nulls":4},125]
[{"$nulls":4},126]
[{"$nulls":4},127]
[{"$nulls":4},128]
[{"$nulls":4},129]
[{"$nulls":4},130]
[{"$nulls":4},131]
[{"$nulls":4},132]
[{"$nulls":4},133]
[{"$nulls":4},134]
[{"$nulls":4},135]
[{"$nulls":4},136]
[{"$nulls":4},137]
[{"$nulls":4},138]
[{"$nulls":4},139]
[{"$nulls":4},140]
[{"$nulls":4},141]
[{"$nulls":4},142]
[{"$nulls":4},143]
[{"$nulls":4},144]
[{"$nulls":4},145]
[{"$nulls":4},146]
[{"$nulls":4},147]
[{"$nulls":4},148]
[{"$nulls":4},149]
[{"$nulls":4},150]
[{"$nulls":4},151]
[{"$nulls":4},152]
[{"$nulls":4},153]
[{"$nulls":4},154]
[{"$nulls":4},155]
[{"$nulls":4},156]
[{"$nulls":4},157]
[{"$nulls":4},158]
[{"$nulls":4},159]
[{"$nulls":4},160]
[{"$nulls":4},161]
[{"$nulls":4},162]
[{"$nulls":4},163]
[{"$nulls":4},164]
[{"$nulls":4},165]
[{"$nulls":4},166]
[{"$nulls":4},167]
[{"$nulls":4},168]
[{"$nulls":4},169]
[{"$nulls":4},170]
[{"$nulls":4},171]
[{"$nulls":4},172]
[{"$nulls":4},173]
[{"$nulls":4},174]
[{"$nulls":4},175]
[{"$nulls":4},176]
[{"$nulls":4},177]
[{"$nulls":4},178]
[{"$nulls":4},179]
[{"$nulls":4},180]
[{"$nulls":4},181]
[{"$nulls":4},182]
[{"$nulls":4},183]
[{"$nulls":4},184]
[{"$nulls":4},185]
[{"$nulls":4},186]
[{"$nulls":4},187]
[{"$nulls":4},188]
[{"$nulls":4},189]
[{"$nulls":4},190]
[{"$nulls":4},191]
[{"$nulls":4},192]
[{"$nulls":4},193]
[{"$nulls":4},194]
[{"$nulls":4},195]
[{"$nulls":4},196]
[{"$nulls":4},197]
[{"$nulls":4},198]
[{"$nulls":4},199]
[{"$nulls":4},200]
[{"$nulls":4},201]
[{"$nulls":4},202]
[{"$nulls":4},203]
[{"$nulls":4},204]
[{"$nulls":4},205]
[{"$nulls":4},206]
[{"$nulls":4},207]
[{"$nulls":4},208]
[{"$nulls":4},209]
[{"$nulls":4},210]
[{"$nulls":4},211]
[{"$nulls":4},212]
[{"$nulls":4},213]
[{"$nulls":4},214]
[{"$nulls":4},215]
[{"$nulls":4},216]
[{"$nulls":4},217]
[{"$nulls":4},218]
[{"$nulls":4},219]
[{"$nulls":4},220]
[{"$nulls":4},221]
[{"$nulls":4},222]
[{"$nulls":4},223]
[{"$nulls":4},224]
[{"$nulls":4},225]
[{"$nulls":4},226]
[{"$nulls":4},227]
[{"$nulls":4},228]
[{"$nulls":4},229]
[{"$nulls":4},230]
[{"$nulls":4},231]
[{"$nulls":4},232]
[{"$nulls":4},233]
[{"$nulls":4},234]
[{"$nulls":4},235]
[{"$nulls":4},236]
[{"$nulls":4},237]
[{"$nulls":4},238]
[{"$nulls":4},239]
[{"$nulls":4},240]
[{"$nulls":4},241]
[{"$nulls":4},242]
[{"$nulls":4},243]
[{"$nulls":4},244]
[{"$nulls":4},245]
[{"$nulls":4},246]
[{"$nulls":4},247]
[{"$nulls":4},248]
[{"$nulls":4},249]
[{"$nulls":4},250]
[{"$nulls":4},251]
[{"$nulls":4},252]
[{"$nulls":4},253]
[{"$nulls":4},254]
[{"$nulls":4},255]
[{"$nulls":4},256]
[{"$nulls":4},257]
[{"$nulls":4},258]
[{"$nulls":4},259]
[{"$nulls":4},260]
[{"$nulls":4},261]
[{"$nulls":4},262]
[{"$nulls":4},263]
[{"$nulls":4},264]
[{"$nulls":4},265]
[{"$nulls":4},266]
[{"$nulls":4},267]
[{"$nulls":4},268]
[{"$nulls":4},269]
[{"$nulls":4},270]
[{"$nulls":4},271]
[{"$nulls":4},272]
[{"$nulls":4},273]
[{"$nulls":4},274]
[{"$nulls":4},275]
[{"$nulls":4},276]
[{"$nulls":4},277]
[{"$nulls":4},278]
[{"$nulls":4},279]
[{"$nulls":4},280]
[{"$nulls":4},281]
[{"$nulls":4},282]
[{"$nulls":4},283]
[{"$nulls":4},284]
[{"$nulls":4},285]
[{"$nulls":4},286]
[{"$nulls":4},287]
[{"$nulls":4},288]
[{"$nulls":4},289]
[{"$nulls":4},290]
[{"$nulls":4},291]
[{"$nulls":4},292]
[{"$nulls":4},293]
[{"$nulls":4},294]
[{"$nulls":4},295]
[{"$nulls":4},296]
[{"$nulls":4},297]
[{"$nulls":4},298]
[{"$nulls":4},299]
[{"$nulls":4},300]

{"sheet":"Future Champs","index":8,"n_rows":21,"n_cols":6,"rows_kept":21,"cut":false,"hidden":false,"merged":[]}
["Draw","Rider Name","Horse Name","Time","Placing","Money Earned"]
[5,"Ruth Ann Hutchison","Daffy",18.931999999999999,"1st"]
[1,"Chaney Akin","Sunny",21.692,"2nd"]
[6,"Chaney Akin","Hero",23.18,"3rd"]
[4,"Breelyn Black","Poptart",34.843000000000004,"4th"]
[2,"Sophie Roberts","Rainbowdash",64.207999999999998,"5th"]
[3,"Bryson Rawson",null,"broken","6th"]
[7]
[8]
[9]
[10]
[11]
[12]
[13]
[14]
[15]
[16]
[17]
[18]
[19]
[20]

{"sheet":"Future Champs-Saturday","index":9,"n_rows":21,"n_cols":8,"rows_kept":21,"cut":false,"hidden":true,"merged":[]}
["Draw","Rider Name","Horse Name","Pen","Time","Final Time","Placing","Money Earned"]
[1,"Bella Blaylock"]
[2,"Adley Hardin"]
[3,"Ava Smith","Dude"]
[4,"Kyndall Pedone","Thumper"]
[5,"Maclaine DeGroot","Monkey"]
[6]
[7]
[8]
[9]
[10]
[11]
[12]
[13]
[14]
[15]
[16]
[17,{"$nulls":4},{"$f":"IF(OR(D18=5,D18=10, D18=15, D18=\"BP\",D18=\"SCR\"),\"NT\",E18)","v":0}]
[18,{"$nulls":4},{"$f":"IF(OR(D19=5,D19=10, D19=15, D19=\"BP\",D19=\"SCR\"),\"NT\",E19)","v":0}]
[19,{"$nulls":4},{"$f":"IF(OR(D20=5,D20=10, D20=15, D20=\"BP\",D20=\"SCR\"),\"NT\",E20)","v":0}]
[20,{"$nulls":4},{"$f":"IF(OR(D21=5,D21=10, D21=15, D21=\"BP\",D21=\"SCR\"),\"NT\",E21)","v":0}]

{"sheet":"Average","index":10,"n_rows":503,"n_cols":31,"rows_kept":503,"cut":false,"hidden":true,"merged":[[0,0,0,26],[1,0,1,26],[2,28,2,29],[9,28,9,29],[10,28,10,29]]}
["Parker County Arena "]
["Open"]
["4 Yr Fut","5 Yr Fut","Der","Age Inct.","Am","Carry","T/C","F/F","Mem","Nom","Av","BBR","WPRA","Draw","Owner Name","Rider Name","Horse Name","Pen","Time 1","Final Time 1","Pen","Time 2","Final Time 2","Total Time","Average Time","Placing","Money Earned",null,"D Placing",null,"Split"]
[{"$nulls":13},1,{"$nulls":5},{"$f":"IF(OR(R4=5,R4=10, R4=15, R4=\"BP\",R4=\"SCR\"),\"NT\",S4)","v":0},null,null,{"$f":"IF(OR(U4=5,U4=10, U4=15, U4=\"BP\",U4=\"SCR\"),\"NT\",V4)","v":0},{"$f":"(T4+W4)","v":0},{"$f":"(T4+W4)/2","v":0},null,null,null,"1D"]
[{"$nulls":13},2,{"$nulls":5},0,null,null,0,0,0,null,null,null,"2D",{"$f":"$AD$4+$AE$5","v":0.5},0.5]
[{"$nulls":13},3,{"$nulls":5},0,null,null,0,0,0,null,null,null,"3D",{"$f":"$AD$5+$AE$6","v":1},0.5]
[{"$nulls":13},4,{"$nulls":5},0,null,null,0,0,0,null,null,null,"4D",{"$f":"$AD$6+$AE$7","v":1.5},0.5]
[{"$nulls":13},5,{"$nulls":5},0,null,null,0,0,0,null,null,null,"5D",{"$f":"$AD$7+$AE$8","v":2},0.5]
[{"$nulls":13},6,{"$nulls":5},0,null,null,0,0,0]
[{"$nulls":13},7,{"$nulls":5},0,null,null,0,0,0,null,null,null,"# Entered"]
[{"$nulls":13},8,{"$nulls":5},0,null,null,0,0,0,null,null,null,{"$f":"COUNTA(P4:P503)","v":0}]
[{"$nulls":13},9,{"$nulls":5},0,null,null,0,0,0]
[{"$nulls":13},10,{"$nulls":5},0,null,null,0,0,0]
[{"$nulls":13},11,{"$nulls":5},0,null,null,0,0,0]
[{"$nulls":13},12,{"$nulls":5},0,null,null,0,0,0]
[{"$nulls":13},13,{"$nulls":5},0,null,null,0,0,0]
[{"$nulls":13},14,{"$nulls":5},{"$f":"IF(OR(R17=5,R17=10, R17=15, R17=\"BP\",R17=\"SCR\"),\"NT\",S17)","v":0},null,null,{"$f":"IF(OR(U17=5,U17=10, U17=15, U17=\"BP\",U17=\"SCR\"),\"NT\",V17)","v":0},{"$f":"(T17+W17)","v":0},{"$f":"(T17+W17)/2","v":0}]
[{"$nulls":13},15,{"$nulls":5},0,null,null,0,0,0]
[{"$nulls":13},16,{"$nulls":5},0,null,null,0,0,0]
[{"$nulls":13},17,{"$nulls":5},0,null,null,0,0,0]
[{"$nulls":13},18,{"$nulls":5},0,null,null,0,0,0]
[{"$nulls":13},19,{"$nulls":5},0,null,null,0,0,0]
[{"$nulls":13},20,{"$nulls":5},0,null,null,0,0,0]
[{"$nulls":13},21,{"$nulls":5},0,null,null,0,0,0]
[{"$nulls":13},22,{"$nulls":5},0,null,null,0,0,0]
[{"$nulls":13},23,{"$nulls":5},0,null,null,0,0,0]
[{"$nulls":13},24,{"$nulls":5},0,null,null,0,0,0]
[{"$nulls":13},25,{"$nulls":5},0,null,null,0,0,0]
[{"$nulls":13},26,{"$nulls":5},0,null,null,0,0,0]
[{"$nulls":13},27,{"$nulls":5},0,null,null,0,0,0]
[{"$nulls":13},28,{"$nulls":5},0,null,null,0,0,0]
[{"$nulls":13},29,{"$nulls":5},0,null,null,0,0,0]
[{"$nulls":13},30,{"$nulls":5},0,null,null,0,0,0]
[{"$nulls":13},31,{"$nulls":5},0,null,null,0,0,0]
[{"$nulls":13},32,{"$nulls":5},0,null,null,0,0,0]
[{"$nulls":13},33,{"$nulls":5},0,null,null,0,0,0]
[{"$nulls":13},34,{"$nulls":5},0,null,null,0,0,0]
[{"$nulls":13},35,{"$nulls":5},0,null,null,0,0,0]
[{"$nulls":13},36,{"$nulls":5},0,null,null,0,0,0]
[{"$nulls":13},37,{"$nulls":5},0,null,null,0,0,0]
[{"$nulls":13},38,{"$nulls":5},0,null,null,0,0,0]
[{"$nulls":13},39,{"$nulls":5},0,null,null,0,0,0]
[{"$nulls":13},40,{"$nulls":5},0,null,null,0,0,0]
[{"$nulls":13},41,{"$nulls":5},0,null,null,0,0,0]
[{"$nulls":13},42,{"$nulls":5},0,null,null,0,0,0]
[{"$nulls":13},43,{"$nulls":5},0,null,null,0,0,0]
[{"$nulls":13},44,{"$nulls":5},0,null,null,0,0,0]
[{"$nulls":13},45,{"$nulls":5},0,null,null,0,0,0]
[{"$nulls":13},46,{"$nulls":5},0,null,null,0,0,0]
[{"$nulls":13},47,{"$nulls":5},0,null,null,0,0,0]
[{"$nulls":13},48,{"$nulls":5},0,null,null,0,0,0]
[{"$nulls":13},49,{"$nulls":5},0,null,null,0,0,0]
[{"$nulls":13},50,{"$nulls":5},0,null,null,0,0,0]
[{"$nulls":13},51,{"$nulls":5},0,null,null,0,0,0]
[{"$nulls":13},52,{"$nulls":5},0,null,null,0,0,0]
[{"$nulls":13},53,{"$nulls":5},0,null,null,0,0,0]
[{"$nulls":13},54,{"$nulls":5},0,null,null,0,0,0]
[{"$nulls":13},55,{"$nulls":5},0,null,null,0,0,0]
[{"$nulls":13},56,{"$nulls":5},0,null,null,0,0,0]
[{"$nulls":13},57,{"$nulls":5},0,null,null,0,0,0]
[{"$nulls":13},58,{"$nulls":5},0,null,null,0,0,0]
[{"$nulls":13},59,{"$nulls":5},0,null,null,0,0,0]
[{"$nulls":13},60,{"$nulls":5},0,null,null,0,0,0]
[{"$nulls":13},61,{"$nulls":5},0,null,null,0,0,0]
[{"$nulls":13},62,{"$nulls":5},0,null,null,0,0,0]
[{"$nulls":13},63,{"$nulls":5},0,null,null,0,0,0]
[{"$nulls":13},64,{"$nulls":5},0,null,null,0,0,0]
[{"$nulls":13},65,{"$nulls":5},0,null,null,0,0,0]
[{"$nulls":13},66,{"$nulls":5},{"$f":"IF(OR(R69=5,R69=10, R69=15, R69=\"BP\",R69=\"SCR\"),\"NT\",S69)","v":0},null,null,{"$f":"IF(OR(U69=5,U69=10, U69=15, U69=\"BP\",U69=\"SCR\"),\"NT\",V69)","v":0},{"$f":"(T69+W69)","v":0},{"$f":"(T69+W69)/2","v":0}]
[{"$nulls":13},67,{"$nulls":5},0,null,null,0,0,0]
[{"$nulls":13},68,{"$nulls":5},0,null,null,0,0,0]
[{"$nulls":13},69,{"$nulls":5},0,null,null,0,0,0]
[{"$nulls":13},70,{"$nulls":5},0,null,null,0,0,0]
[{"$nulls":13},71,{"$nulls":5},0,null,null,0,0,0]
[{"$nulls":13},72,{"$nulls":5},0,null,null,0,0,0]
[{"$nulls":13},73,{"$nulls":5},0,null,null,0,0,0]
[{"$nulls":13},74,{"$nulls":5},0,null,null,0,0,0]
[{"$nulls":13},75,{"$nulls":5},0,null,null,0,0,0]
[{"$nulls":13},76,{"$nulls":5},0,null,null,0,0,0]
[{"$nulls":13},77,{"$nulls":5},0,null,null,0,0,0]
[{"$nulls":13},78,{"$nulls":5},0,null,null,0,0,0]
[{"$nulls":13},79,{"$nulls":5},0,null,null,0,0,0]
[{"$nulls":13},80,{"$nulls":5},0,null,null,0,0,0]
[{"$nulls":13},81,{"$nulls":5},0,null,null,0,0,0]
[{"$nulls":13},82,{"$nulls":5},0,null,null,0,0,0]
[{"$nulls":13},83,{"$nulls":5},0,null,null,0,0,0]
[{"$nulls":13},84,{"$nulls":5},0,null,null,0,0,0]
[{"$nulls":13},85,{"$nulls":5},0,null,null,0,0,0]
[{"$nulls":13},86,{"$nulls":5},0,null,null,0,0,0]
[{"$nulls":13},87,{"$nulls":5},0,null,null,0,0,0]
[{"$nulls":13},88,{"$nulls":5},0,null,null,0,0,0]
[{"$nulls":13},89,{"$nulls":5},0,null,null,0,0,0]
[{"$nulls":13},90,{"$nulls":5},0,null,null,0,0,0]
[{"$nulls":13},91,{"$nulls":5},0,null,null,0,0,0]
[{"$nulls":13},92,{"$nulls":5},0,null,null,0,0,0]
[{"$nulls":13},93,{"$nulls":5},0,null,null,0,0,0]
[{"$nulls":13},94,{"$nulls":5},0,null,null,0,0,0]
[{"$nulls":13},95,{"$nulls":5},0,null,null,0,0,0]
[{"$nulls":13},96,{"$nulls":5},0,null,null,0,0,0]
[{"$nulls":13},97,{"$nulls":5},0,null,null,0,0,0]
[{"$nulls":13},98,{"$nulls":5},0,null,null,0,0,0]
[{"$nulls":13},99,{"$nulls":5},0,null,null,0,0,0]
[{"$nulls":13},100,{"$nulls":5},0,null,null,0,0,0]
[{"$nulls":13},101,{"$nulls":5},0,null,null,0,0,0]
[{"$nulls":13},102,{"$nulls":5},0,null,null,0,0,0]
[{"$nulls":13},103,{"$nulls":5},0,null,null,0,0,0]
[{"$nulls":13},104,{"$nulls":5},0,null,null,0,0,0]
[{"$nulls":13},105,{"$nulls":5},0,null,null,0,0,0]
[{"$nulls":13},106,{"$nulls":5},0,null,null,0,0,0]
[{"$nulls":13},107,{"$nulls":5},0,null,null,0,0,0]
[{"$nulls":13},108,{"$nulls":5},0,null,null,0,0,0]
[{"$nulls":13},109,{"$nulls":5},0,null,null,0,0,0]
[{"$nulls":13},110,{"$nulls":5},0,null,null,0,0,0]
[{"$nulls":13},111,{"$nulls":5},0,null,null,0,0,0]
[{"$nulls":13},112,{"$nulls":5},0,null,null,0,0,0]
[{"$nulls":13},113,{"$nulls":5},0,null,null,0,0,0]
[{"$nulls":13},114,{"$nulls":5},0,null,null,0,0,0]
[{"$nulls":13},115,{"$nulls":5},0,null,null,0,0,0]
[{"$nulls":13},116,{"$nulls":5},0,null,null,0,0,0]
[{"$nulls":13},117,{"$nulls":5},0,null,null,0,0,0]
[{"$nulls":13},118,{"$nulls":5},0,null,null,0,0,0]
[{"$nulls":13},119,{"$nulls":5},0,null,null,0,0,0]
[{"$nulls":13},120,{"$nulls":5},0,null,null,0,0,0]
[{"$nulls":13},121,{"$nulls":5},0,null,null,0,0,0]
[{"$nulls":13},122,{"$nulls":5},0,null,null,0,0,0]
[{"$nulls":13},123,{"$nulls":5},0,null,null,0,0,0]
[{"$nulls":13},124,{"$nulls":5},0,null,null,0,0,0]
[{"$nulls":13},125,{"$nulls":5},0,null,null,0,0,0]
[{"$nulls":13},126,{"$nulls":5},0,null,null,0,0,0]
[{"$nulls":13},127,{"$nulls":5},0,null,null,0,0,0]
[{"$nulls":13},128,{"$nulls":5},0,null,null,0,0,0]
[{"$nulls":13},129,{"$nulls":5},0,null,null,0,0,0]
[{"$nulls":13},130,{"$nulls":5},{"$f":"IF(OR(R133=5,R133=10, R133=15, R133=\"BP\",R133=\"SCR\"),\"NT\",S133)","v":0},null,null,{"$f":"IF(OR(U133=5,U133=10, U133=15, U133=\"BP\",U133=\"SCR\"),\"NT\",V133)","v":0},{"$f":"(T133+W133)","v":0},{"$f":"(T133+W133)/2","v":0}]
[{"$nulls":13},131,{"$nulls":5},0,null,null,0,0,0]
[{"$nulls":13},132,{"$nulls":5},0,null,null,0,0,0]
[{"$nulls":13},133,{"$nulls":5},0,null,null,0,0,0]
[{"$nulls":13},134,{"$nulls":5},0,null,null,0,0,0]
[{"$nulls":13},135,{"$nulls":5},0,null,null,0,0,0]
[{"$nulls":13},136,{"$nulls":5},0,null,null,0,0,0]
[{"$nulls":13},137,{"$nulls":5},0,null,null,0,0,0]
[{"$nulls":13},138,{"$nulls":5},0,null,null,0,0,0]
[{"$nulls":13},139,{"$nulls":5},0,null,null,0,0,0]
[{"$nulls":13},140,{"$nulls":5},0,null,null,0,0,0]
[{"$nulls":13},141,{"$nulls":5},0,null,null,0,0,0]
[{"$nulls":13},142,{"$nulls":5},0,null,null,0,0,0]
[{"$nulls":13},143,{"$nulls":5},0,null,null,0,0,0]
[{"$nulls":13},144,{"$nulls":5},0,null,null,0,0,0]
[{"$nulls":13},145,{"$nulls":5},0,null,null,0,0,0]
[{"$nulls":13},146,{"$nulls":5},0,null,null,0,0,0]
[{"$nulls":13},147,{"$nulls":5},0,null,null,0,0,0]
[{"$nulls":13},148,{"$nulls":5},0,null,null,0,0,0]
[{"$nulls":13},149,{"$nulls":5},0,null,null,0,0,0]
[{"$nulls":13},150,{"$nulls":5},0,null,null,0,0,0]
[{"$nulls":13},151,{"$nulls":5},0,null,null,0,0,0]
[{"$nulls":13},152,{"$nulls":5},0,null,null,0,0,0]
[{"$nulls":13},153,{"$nulls":5},0,null,null,0,0,0]
[{"$nulls":13},154,{"$nulls":5},0,null,null,0,0,0]
[{"$nulls":13},155,{"$nulls":5},0,null,null,0,0,0]
[{"$nulls":13},156,{"$nulls":5},0,null,null,0,0,0]
[{"$nulls":13},157,{"$nulls":5},0,null,null,0,0,0]
[{"$nulls":13},158,{"$nulls":5},0,null,null,0,0,0]
[{"$nulls":13},159,{"$nulls":5},0,null,null,0,0,0]
[{"$nulls":13},160,{"$nulls":5},0,null,null,0,0,0]
[{"$nulls":13},161,{"$nulls":5},0,null,null,0,0,0]
[{"$nulls":13},162,{"$nulls":5},0,null,null,0,0,0]
[{"$nulls":13},163,{"$nulls":5},0,null,null,0,0,0]
[{"$nulls":13},164,{"$nulls":5},0,null,null,0,0,0]
[{"$nulls":13},165,{"$nulls":5},0,null,null,0,0,0]
[{"$nulls":13},166,{"$nulls":5},0,null,null,0,0,0]
[{"$nulls":13},167,{"$nulls":5},0,null,null,0,0,0]
[{"$nulls":13},168,{"$nulls":5},0,null,null,0,0,0]
[{"$nulls":13},169,{"$nulls":5},0,null,null,0,0,0]
[{"$nulls":13},170,{"$nulls":5},0,null,null,0,0,0]
[{"$nulls":13},171,{"$nulls":5},0,null,null,0,0,0]
[{"$nulls":13},172,{"$nulls":5},0,null,null,0,0,0]
[{"$nulls":13},173,{"$nulls":5},0,null,null,0,0,0]
[{"$nulls":13},174,{"$nulls":5},0,null,null,0,0,0]
[{"$nulls":13},175,{"$nulls":5},0,null,null,0,0,0]
[{"$nulls":13},176,{"$nulls":5},0,null,null,0,0,0]
[{"$nulls":13},177,{"$nulls":5},0,null,null,0,0,0]
[{"$nulls":13},178,{"$nulls":5},0,null,null,0,0,0]
[{"$nulls":13},179,{"$nulls":5},0,null,null,0,0,0]
[{"$nulls":13},180,{"$nulls":5},0,null,null,0,0,0]
[{"$nulls":13},181,{"$nulls":5},0,null,null,0,0,0]
[{"$nulls":13},182,{"$nulls":5},0,null,null,0,0,0]
[{"$nulls":13},183,{"$nulls":5},0,null,null,0,0,0]
[{"$nulls":13},184,{"$nulls":5},0,null,null,0,0,0]
[{"$nulls":13},185,{"$nulls":5},0,null,null,0,0,0]
[{"$nulls":13},186,{"$nulls":5},0,null,null,0,0,0]
[{"$nulls":13},187,{"$nulls":5},0,null,null,0,0,0]
[{"$nulls":13},188,{"$nulls":5},0,null,null,0,0,0]
[{"$nulls":13},189,{"$nulls":5},0,null,null,0,0,0]
[{"$nulls":13},190,{"$nulls":5},0,null,null,0,0,0]
[{"$nulls":13},191,{"$nulls":5},0,null,null,0,0,0]
[{"$nulls":13},192,{"$nulls":5},0,null,null,0,0,0]
[{"$nulls":13},193,{"$nulls":5},0,null,null,0,0,0]
[{"$nulls":13},194,{"$nulls":5},{"$f":"IF(OR(R197=5,R197=10, R197=15, R197=\"BP\",R197=\"SCR\"),\"NT\",S197)","v":0},null,null,{"$f":"IF(OR(U197=5,U197=10, U197=15, U197=\"BP\",U197=\"SCR\"),\"NT\",V197)","v":0},{"$f":"(T197+W197)","v":0},{"$f":"(T197+W197)/2","v":0}]
[{"$nulls":13},195,{"$nulls":5},0,null,null,0,0,0]
[{"$nulls":13},196,{"$nulls":5},0,null,null,0,0,0]
[{"$nulls":13},197,{"$nulls":5},0,null,null,0,0,0]
[{"$nulls":13},198,{"$nulls":5},0,null,null,0,0,0]
[{"$nulls":13},199,{"$nulls":5},0,null,null,0,0,0]
[{"$nulls":13},200,{"$nulls":5},0,null,null,0,0,0]
[{"$nulls":13},201,{"$nulls":5},0,null,null,0,0,0]
[{"$nulls":13},202,{"$nulls":5},0,null,null,0,0,0]
[{"$nulls":13},203,{"$nulls":5},0,null,null,0,0,0]
[{"$nulls":13},204,{"$nulls":5},0,null,null,0,0,0]
[{"$nulls":13},205,{"$nulls":5},0,null,null,0,0,0]
[{"$nulls":13},206,{"$nulls":5},0,null,null,0,0,0]
[{"$nulls":13},207,{"$nulls":5},0,null,null,0,0,0]
[{"$nulls":13},208,{"$nulls":5},0,null,null,0,0,0]
[{"$nulls":13},209,{"$nulls":5},0,null,null,0,0,0]
[{"$nulls":13},210,{"$nulls":5},0,null,null,0,0,0]
[{"$nulls":13},211,{"$nulls":5},0,null,null,0,0,0]
[{"$nulls":13},212,{"$nulls":5},0,null,null,0,0,0]
[{"$nulls":13},213,{"$nulls":5},0,null,null,0,0,0]
[{"$nulls":13},214,{"$nulls":5},0,null,null,0,0,0]
[{"$nulls":13},215,{"$nulls":5},0,null,null,0,0,0]
[{"$nulls":13},216,{"$nulls":5},0,null,null,0,0,0]
[{"$nulls":13},217,{"$nulls":5},0,null,null,0,0,0]
[{"$nulls":13},218,{"$nulls":5},0,null,null,0,0,0]
[{"$nulls":13},219,{"$nulls":5},0,null,null,0,0,0]
[{"$nulls":13},220,{"$nulls":5},0,null,null,0,0,0]
[{"$nulls":13},221,{"$nulls":5},0,null,null,0,0,0]
[{"$nulls":13},222,{"$nulls":5},0,null,null,0,0,0]
[{"$nulls":13},223,{"$nulls":5},0,null,null,0,0,0]
[{"$nulls":13},224,{"$nulls":5},0,null,null,0,0,0]
[{"$nulls":13},225,{"$nulls":5},0,null,null,0,0,0]
[{"$nulls":13},226,{"$nulls":5},0,null,null,0,0,0]
[{"$nulls":13},227,{"$nulls":5},0,null,null,0,0,0]
[{"$nulls":13},228,{"$nulls":5},0,null,null,0,0,0]
[{"$nulls":13},229,{"$nulls":5},0,null,null,0,0,0]
[{"$nulls":13},230,{"$nulls":5},0,null,null,0,0,0]
[{"$nulls":13},231,{"$nulls":5},0,null,null,0,0,0]
[{"$nulls":13},232,{"$nulls":5},0,null,null,0,0,0]
[{"$nulls":13},233,{"$nulls":5},0,null,null,0,0,0]
[{"$nulls":13},234,{"$nulls":5},0,null,null,0,0,0]
[{"$nulls":13},235,{"$nulls":5},0,null,null,0,0,0]
[{"$nulls":13},236,{"$nulls":5},0,null,null,0,0,0]
[{"$nulls":13},237,{"$nulls":5},0,null,null,0,0,0]
[{"$nulls":13},238,{"$nulls":5},0,null,null,0,0,0]
[{"$nulls":13},239,{"$nulls":5},0,null,null,0,0,0]
[{"$nulls":13},240,{"$nulls":5},0,null,null,0,0,0]
[{"$nulls":13},241,{"$nulls":5},0,null,null,0,0,0]
[{"$nulls":13},242,{"$nulls":5},0,null,null,0,0,0]
[{"$nulls":13},243,{"$nulls":5},0,null,null,0,0,0]
[{"$nulls":13},244,{"$nulls":5},0,null,null,0,0,0]
[{"$nulls":13},245,{"$nulls":5},0,null,null,0,0,0]
[{"$nulls":13},246,{"$nulls":5},0,null,null,0,0,0]
[{"$nulls":13},247,{"$nulls":5},0,null,null,0,0,0]
[{"$nulls":13},248,{"$nulls":5},0,null,null,0,0,0]
[{"$nulls":13},249,{"$nulls":5},0,null,null,0,0,0]
[{"$nulls":13},250,{"$nulls":5},0,null,null,0,0,0]
[{"$nulls":13},251,{"$nulls":5},0,null,null,0,0,0]
[{"$nulls":13},252,{"$nulls":5},0,null,null,0,0,0]
[{"$nulls":13},253,{"$nulls":5},0,null,null,0,0,0]
[{"$nulls":13},254,{"$nulls":5},0,null,null,0,0,0]
[{"$nulls":13},255,{"$nulls":5},0,null,null,0,0,0]
[{"$nulls":13},256,{"$nulls":5},0,null,null,0,0,0]
[{"$nulls":13},257,{"$nulls":5},0,null,null,0,0,0]
[{"$nulls":13},258,{"$nulls":5},{"$f":"IF(OR(R261=5,R261=10, R261=15, R261=\"BP\",R261=\"SCR\"),\"NT\",S261)","v":0},null,null,{"$f":"IF(OR(U261=5,U261=10, U261=15, U261=\"BP\",U261=\"SCR\"),\"NT\",V261)","v":0},{"$f":"(T261+W261)","v":0},{"$f":"(T261+W261)/2","v":0}]
[{"$nulls":13},259,{"$nulls":5},0,null,null,0,0,0]
[{"$nulls":13},260,{"$nulls":5},0,null,null,0,0,0]
[{"$nulls":13},261,{"$nulls":5},0,null,null,0,0,0]
[{"$nulls":13},262,{"$nulls":5},0,null,null,0,0,0]
[{"$nulls":13},263,{"$nulls":5},0,null,null,0,0,0]
[{"$nulls":13},264,{"$nulls":5},0,null,null,0,0,0]
[{"$nulls":13},265,{"$nulls":5},0,null,null,0,0,0]
[{"$nulls":13},266,{"$nulls":5},0,null,null,0,0,0]
[{"$nulls":13},267,{"$nulls":5},0,null,null,0,0,0]
[{"$nulls":13},268,{"$nulls":5},0,null,null,0,0,0]
[{"$nulls":13},269,{"$nulls":5},0,null,null,0,0,0]
[{"$nulls":13},270,{"$nulls":5},0,null,null,0,0,0]
[{"$nulls":13},271,{"$nulls":5},0,null,null,0,0,0]
[{"$nulls":13},272,{"$nulls":5},0,null,null,0,0,0]
[{"$nulls":13},273,{"$nulls":5},0,null,null,0,0,0]
[{"$nulls":13},274,{"$nulls":5},0,null,null,0,0,0]
[{"$nulls":13},275,{"$nulls":5},0,null,null,0,0,0]
[{"$nulls":13},276,{"$nulls":5},0,null,null,0,0,0]
[{"$nulls":13},277,{"$nulls":5},0,null,null,0,0,0]
[{"$nulls":13},278,{"$nulls":5},0,null,null,0,0,0]
[{"$nulls":13},279,{"$nulls":5},0,null,null,0,0,0]
[{"$nulls":13},280,{"$nulls":5},0,null,null,0,0,0]
[{"$nulls":13},281,{"$nulls":5},0,null,null,0,0,0]
[{"$nulls":13},282,{"$nulls":5},0,null,null,0,0,0]
[{"$nulls":13},283,{"$nulls":5},0,null,null,0,0,0]
[{"$nulls":13},284,{"$nulls":5},0,null,null,0,0,0]
[{"$nulls":13},285,{"$nulls":5},0,null,null,0,0,0]
[{"$nulls":13},286,{"$nulls":5},0,null,null,0,0,0]
[{"$nulls":13},287,{"$nulls":5},0,null,null,0,0,0]
[{"$nulls":13},288,{"$nulls":5},0,null,null,0,0,0]
[{"$nulls":13},289,{"$nulls":5},0,null,null,0,0,0]
[{"$nulls":13},290,{"$nulls":5},0,null,null,0,0,0]
[{"$nulls":13},291,{"$nulls":5},0,null,null,0,0,0]
[{"$nulls":13},292,{"$nulls":5},0,null,null,0,0,0]
[{"$nulls":13},293,{"$nulls":5},0,null,null,0,0,0]
[{"$nulls":13},294,{"$nulls":5},0,null,null,0,0,0]
[{"$nulls":13},295,{"$nulls":5},0,null,null,0,0,0]
[{"$nulls":13},296,{"$nulls":5},0,null,null,0,0,0]
[{"$nulls":13},297,{"$nulls":5},0,null,null,0,0,0]
[{"$nulls":13},298,{"$nulls":5},0,null,null,0,0,0]
[{"$nulls":13},299,{"$nulls":5},0,null,null,0,0,0]
[{"$nulls":13},300,{"$nulls":5},0,null,null,0,0,0]
[{"$nulls":13},301,{"$nulls":5},0,null,null,0,0,0]
[{"$nulls":13},302,{"$nulls":5},0,null,null,0,0,0]
[{"$nulls":13},303,{"$nulls":5},0,null,null,0,0,0]
[{"$nulls":13},304,{"$nulls":5},0,null,null,0,0,0]
[{"$nulls":13},305,{"$nulls":5},0,null,null,0,0,0]
[{"$nulls":13},306,{"$nulls":5},0,null,null,0,0,0]
[{"$nulls":13},307,{"$nulls":5},0,null,null,0,0,0]
[{"$nulls":13},308,{"$nulls":5},0,null,null,0,0,0]
[{"$nulls":13},309,{"$nulls":5},0,null,null,0,0,0]
[{"$nulls":13},310,{"$nulls":5},0,null,null,0,0,0]
[{"$nulls":13},311,{"$nulls":5},0,null,null,0,0,0]
[{"$nulls":13},312,{"$nulls":5},0,null,null,0,0,0]
[{"$nulls":13},313,{"$nulls":5},0,null,null,0,0,0]
[{"$nulls":13},314,{"$nulls":5},0,null,null,0,0,0]
[{"$nulls":13},315,{"$nulls":5},0,null,null,0,0,0]
[{"$nulls":13},316,{"$nulls":5},0,null,null,0,0,0]
[{"$nulls":13},317,{"$nulls":5},0,null,null,0,0,0]
[{"$nulls":13},318,{"$nulls":5},0,null,null,0,0,0]
[{"$nulls":13},319,{"$nulls":5},0,null,null,0,0,0]
[{"$nulls":13},320,{"$nulls":5},0,null,null,0,0,0]
[{"$nulls":13},321,{"$nulls":5},0,null,null,0,0,0]
[{"$nulls":13},322,{"$nulls":5},{"$f":"IF(OR(R325=5,R325=10, R325=15, R325=\"BP\",R325=\"SCR\"),\"NT\",S325)","v":0},null,null,{"$f":"IF(OR(U325=5,U325=10, U325=15, U325=\"BP\",U325=\"SCR\"),\"NT\",V325)","v":0},{"$f":"(T325+W325)","v":0},{"$f":"(T325+W325)/2","v":0}]
[{"$nulls":13},323,{"$nulls":5},0,null,null,0,0,0]
[{"$nulls":13},324,{"$nulls":5},0,null,null,0,0,0]
[{"$nulls":13},325,{"$nulls":5},0,null,null,0,0,0]
[{"$nulls":13},326,{"$nulls":5},0,null,null,0,0,0]
[{"$nulls":13},327,{"$nulls":5},0,null,null,0,0,0]
[{"$nulls":13},328,{"$nulls":5},0,null,null,0,0,0]
[{"$nulls":13},329,{"$nulls":5},0,null,null,0,0,0]
[{"$nulls":13},330,{"$nulls":5},0,null,null,0,0,0]
[{"$nulls":13},331,{"$nulls":5},0,null,null,0,0,0]
[{"$nulls":13},332,{"$nulls":5},0,null,null,0,0,0]
[{"$nulls":13},333,{"$nulls":5},0,null,null,0,0,0]
[{"$nulls":13},334,{"$nulls":5},0,null,null,0,0,0]
[{"$nulls":13},335,{"$nulls":5},0,null,null,0,0,0]
[{"$nulls":13},336,{"$nulls":5},0,null,null,0,0,0]
[{"$nulls":13},337,{"$nulls":5},0,null,null,0,0,0]
[{"$nulls":13},338,{"$nulls":5},0,null,null,0,0,0]
[{"$nulls":13},339,{"$nulls":5},0,null,null,0,0,0]
[{"$nulls":13},340,{"$nulls":5},0,null,null,0,0,0]
[{"$nulls":13},341,{"$nulls":5},0,null,null,0,0,0]
[{"$nulls":13},342,{"$nulls":5},0,null,null,0,0,0]
[{"$nulls":13},343,{"$nulls":5},0,null,null,0,0,0]
[{"$nulls":13},344,{"$nulls":5},0,null,null,0,0,0]
[{"$nulls":13},345,{"$nulls":5},0,null,null,0,0,0]
[{"$nulls":13},346,{"$nulls":5},0,null,null,0,0,0]
[{"$nulls":13},347,{"$nulls":5},0,null,null,0,0,0]
[{"$nulls":13},348,{"$nulls":5},0,null,null,0,0,0]
[{"$nulls":13},349,{"$nulls":5},0,null,null,0,0,0]
[{"$nulls":13},350,{"$nulls":5},0,null,null,0,0,0]
[{"$nulls":13},351,{"$nulls":5},0,null,null,0,0,0]
[{"$nulls":13},352,{"$nulls":5},0,null,null,0,0,0]
[{"$nulls":13},353,{"$nulls":5},0,null,null,0,0,0]
[{"$nulls":13},354,{"$nulls":5},0,null,null,0,0,0]
[{"$nulls":13},355,{"$nulls":5},0,null,null,0,0,0]
[{"$nulls":13},356,{"$nulls":5},0,null,null,0,0,0]
[{"$nulls":13},357,{"$nulls":5},0,null,null,0,0,0]
[{"$nulls":13},358,{"$nulls":5},0,null,null,0,0,0]
[{"$nulls":13},359,{"$nulls":5},0,null,null,0,0,0]
[{"$nulls":13},360,{"$nulls":5},0,null,null,0,0,0]
[{"$nulls":13},361,{"$nulls":5},0,null,null,0,0,0]
[{"$nulls":13},362,{"$nulls":5},0,null,null,0,0,0]
[{"$nulls":13},363,{"$nulls":5},0,null,null,0,0,0]
[{"$nulls":13},364,{"$nulls":5},0,null,null,0,0,0]
[{"$nulls":13},365,{"$nulls":5},0,null,null,0,0,0]
[{"$nulls":13},366,{"$nulls":5},0,null,null,0,0,0]
[{"$nulls":13},367,{"$nulls":5},0,null,null,0,0,0]
[{"$nulls":13},368,{"$nulls":5},0,null,null,0,0,0]
[{"$nulls":13},369,{"$nulls":5},0,null,null,0,0,0]
[{"$nulls":13},370,{"$nulls":5},0,null,null,0,0,0]
[{"$nulls":13},371,{"$nulls":5},0,null,null,0,0,0]
[{"$nulls":13},372,{"$nulls":5},0,null,null,0,0,0]
[{"$nulls":13},373,{"$nulls":5},0,null,null,0,0,0]
[{"$nulls":13},374,{"$nulls":5},0,null,null,0,0,0]
[{"$nulls":13},375,{"$nulls":5},0,null,null,0,0,0]
[{"$nulls":13},376,{"$nulls":5},0,null,null,0,0,0]
[{"$nulls":13},377,{"$nulls":5},0,null,null,0,0,0]
[{"$nulls":13},378,{"$nulls":5},0,null,null,0,0,0]
[{"$nulls":13},379,{"$nulls":5},0,null,null,0,0,0]
[{"$nulls":13},380,{"$nulls":5},0,null,null,0,0,0]
[{"$nulls":13},381,{"$nulls":5},0,null,null,0,0,0]
[{"$nulls":13},382,{"$nulls":5},0,null,null,0,0,0]
[{"$nulls":13},383,{"$nulls":5},0,null,null,0,0,0]
[{"$nulls":13},384,{"$nulls":5},0,null,null,0,0,0]
[{"$nulls":13},385,{"$nulls":5},0,null,null,0,0,0]
[{"$nulls":13},386,{"$nulls":5},{"$f":"IF(OR(R389=5,R389=10, R389=15, R389=\"BP\",R389=\"SCR\"),\"NT\",S389)","v":0},null,null,{"$f":"IF(OR(U389=5,U389=10, U389=15, U389=\"BP\",U389=\"SCR\"),\"NT\",V389)","v":0},{"$f":"(T389+W389)","v":0},{"$f":"(T389+W389)/2","v":0}]
[{"$nulls":13},387,{"$nulls":5},0,null,null,0,0,0]
[{"$nulls":13},388,{"$nulls":5},0,null,null,0,0,0]
[{"$nulls":13},389,{"$nulls":5},0,null,null,0,0,0]
[{"$nulls":13},390,{"$nulls":5},0,null,null,0,0,0]
[{"$nulls":13},391,{"$nulls":5},0,null,null,0,0,0]
[{"$nulls":13},392,{"$nulls":5},0,null,null,0,0,0]
[{"$nulls":13},393,{"$nulls":5},0,null,null,0,0,0]
[{"$nulls":13},394,{"$nulls":5},0,null,null,0,0,0]
[{"$nulls":13},395,{"$nulls":5},0,null,null,0,0,0]
[{"$nulls":13},396,{"$nulls":5},0,null,null,0,0,0]
[{"$nulls":13},397,{"$nulls":5},0,null,null,0,0,0]
[{"$nulls":13},398,{"$nulls":5},0,null,null,0,0,0]
[{"$nulls":13},399,{"$nulls":5},0,null,null,0,0,0]
[{"$nulls":13},400,{"$nulls":5},0,null,null,0,0,0]
[{"$nulls":13},401,{"$nulls":5},0,null,null,0,0,0]
[{"$nulls":13},402,{"$nulls":5},0,null,null,0,0,0]
[{"$nulls":13},403,{"$nulls":5},0,null,null,0,0,0]
[{"$nulls":13},404,{"$nulls":5},0,null,null,0,0,0]
[{"$nulls":13},405,{"$nulls":5},0,null,null,0,0,0]
[{"$nulls":13},406,{"$nulls":5},0,null,null,0,0,0]
[{"$nulls":13},407,{"$nulls":5},0,null,null,0,0,0]
[{"$nulls":13},408,{"$nulls":5},0,null,null,0,0,0]
[{"$nulls":13},409,{"$nulls":5},0,null,null,0,0,0]
[{"$nulls":13},410,{"$nulls":5},0,null,null,0,0,0]
[{"$nulls":13},411,{"$nulls":5},0,null,null,0,0,0]
[{"$nulls":13},412,{"$nulls":5},0,null,null,0,0,0]
[{"$nulls":13},413,{"$nulls":5},0,null,null,0,0,0]
[{"$nulls":13},414,{"$nulls":5},0,null,null,0,0,0]
[{"$nulls":13},415,{"$nulls":5},0,null,null,0,0,0]
[{"$nulls":13},416,{"$nulls":5},0,null,null,0,0,0]
[{"$nulls":13},417,{"$nulls":5},0,null,null,0,0,0]
[{"$nulls":13},418,{"$nulls":5},0,null,null,0,0,0]
[{"$nulls":13},419,{"$nulls":5},0,null,null,0,0,0]
[{"$nulls":13},420,{"$nulls":5},0,null,null,0,0,0]
[{"$nulls":13},421,{"$nulls":5},0,null,null,0,0,0]
[{"$nulls":13},422,{"$nulls":5},0,null,null,0,0,0]
[{"$nulls":13},423,{"$nulls":5},0,null,null,0,0,0]
[{"$nulls":13},424,{"$nulls":5},0,null,null,0,0,0]
[{"$nulls":13},425,{"$nulls":5},0,null,null,0,0,0]
[{"$nulls":13},426,{"$nulls":5},0,null,null,0,0,0]
[{"$nulls":13},427,{"$nulls":5},0,null,null,0,0,0]
[{"$nulls":13},428,{"$nulls":5},0,null,null,0,0,0]
[{"$nulls":13},429,{"$nulls":5},0,null,null,0,0,0]
[{"$nulls":13},430,{"$nulls":5},0,null,null,0,0,0]
[{"$nulls":13},431,{"$nulls":5},0,null,null,0,0,0]
[{"$nulls":13},432,{"$nulls":5},0,null,null,0,0,0]
[{"$nulls":13},433,{"$nulls":5},0,null,null,0,0,0]
[{"$nulls":13},434,{"$nulls":5},0,null,null,0,0,0]
[{"$nulls":13},435,{"$nulls":5},0,null,null,0,0,0]
[{"$nulls":13},436,{"$nulls":5},0,null,null,0,0,0]
[{"$nulls":13},437,{"$nulls":5},0,null,null,0,0,0]
[{"$nulls":13},438,{"$nulls":5},0,null,null,0,0,0]
[{"$nulls":13},439,{"$nulls":5},0,null,null,0,0,0]
[{"$nulls":13},440,{"$nulls":5},0,null,null,0,0,0]
[{"$nulls":13},441,{"$nulls":5},0,null,null,0,0,0]
[{"$nulls":13},442,{"$nulls":5},0,null,null,0,0,0]
[{"$nulls":13},443,{"$nulls":5},0,null,null,0,0,0]
[{"$nulls":13},444,{"$nulls":5},0,null,null,0,0,0]
[{"$nulls":13},445,{"$nulls":5},0,null,null,0,0,0]
[{"$nulls":13},446,{"$nulls":5},0,null,null,0,0,0]
[{"$nulls":13},447,{"$nulls":5},0,null,null,0,0,0]
[{"$nulls":13},448,{"$nulls":5},0,null,null,0,0,0]
[{"$nulls":13},449,{"$nulls":5},0,null,null,0,0,0]
[{"$nulls":13},450,{"$nulls":5},{"$f":"IF(OR(R453=5,R453=10, R453=15, R453=\"BP\",R453=\"SCR\"),\"NT\",S453)","v":0},null,null,{"$f":"IF(OR(U453=5,U453=10, U453=15, U453=\"BP\",U453=\"SCR\"),\"NT\",V453)","v":0},{"$f":"(T453+W453)","v":0},{"$f":"(T453+W453)/2","v":0}]
[{"$nulls":13},451,{"$nulls":5},0,null,null,0,0,0]
[{"$nulls":13},452,{"$nulls":5},0,null,null,0,0,0]
[{"$nulls":13},453,{"$nulls":5},0,null,null,0,0,0]
[{"$nulls":13},454,{"$nulls":5},0,null,null,0,0,0]
[{"$nulls":13},455,{"$nulls":5},0,null,null,0,0,0]
[{"$nulls":13},456,{"$nulls":5},0,null,null,0,0,0]
[{"$nulls":13},457,{"$nulls":5},0,null,null,0,0,0]
[{"$nulls":13},458,{"$nulls":5},0,null,null,0,0,0]
[{"$nulls":13},459,{"$nulls":5},0,null,null,0,0,0]
[{"$nulls":13},460,{"$nulls":5},0,null,null,0,0,0]
[{"$nulls":13},461,{"$nulls":5},0,null,null,0,0,0]
[{"$nulls":13},462,{"$nulls":5},0,null,null,0,0,0]
[{"$nulls":13},463,{"$nulls":5},0,null,null,0,0,0]
[{"$nulls":13},464,{"$nulls":5},0,null,null,0,0,0]
[{"$nulls":13},465,{"$nulls":5},0,null,null,0,0,0]
[{"$nulls":13},466,{"$nulls":5},0,null,null,0,0,0]
[{"$nulls":13},467,{"$nulls":5},0,null,null,0,0,0]
[{"$nulls":13},468,{"$nulls":5},0,null,null,0,0,0]
[{"$nulls":13},469,{"$nulls":5},0,null,null,0,0,0]
[{"$nulls":13},470,{"$nulls":5},0,null,null,0,0,0]
[{"$nulls":13},471,{"$nulls":5},0,null,null,0,0,0]
[{"$nulls":13},472,{"$nulls":5},0,null,null,0,0,0]
[{"$nulls":13},473,{"$nulls":5},0,null,null,0,0,0]
[{"$nulls":13},474,{"$nulls":5},0,null,null,0,0,0]
[{"$nulls":13},475,{"$nulls":5},0,null,null,0,0,0]
[{"$nulls":13},476,{"$nulls":5},0,null,null,0,0,0]
[{"$nulls":13},477,{"$nulls":5},0,null,null,0,0,0]
[{"$nulls":13},478,{"$nulls":5},0,null,null,0,0,0]
[{"$nulls":13},479,{"$nulls":5},0,null,null,0,0,0]
[{"$nulls":13},480,{"$nulls":5},0,null,null,0,0,0]
[{"$nulls":13},481,{"$nulls":5},0,null,null,0,0,0]
[{"$nulls":13},482,{"$nulls":5},0,null,null,0,0,0]
[{"$nulls":13},483,{"$nulls":5},0,null,null,0,0,0]
[{"$nulls":13},484,{"$nulls":5},0,null,null,0,0,0]
[{"$nulls":13},485,{"$nulls":5},0,null,null,0,0,0]
[{"$nulls":13},486,{"$nulls":5},0,null,null,0,0,0]
[{"$nulls":13},487,{"$nulls":5},0,null,null,0,0,0]
[{"$nulls":13},488,{"$nulls":5},0,null,null,0,0,0]
[{"$nulls":13},489,{"$nulls":5},0,null,null,0,0,0]
[{"$nulls":13},490,{"$nulls":5},0,null,null,0,0,0]
[{"$nulls":13},491,{"$nulls":5},0,null,null,0,0,0]
[{"$nulls":13},492,{"$nulls":5},0,null,null,0,0,0]
[{"$nulls":13},493,{"$nulls":5},0,null,null,0,0,0]
[{"$nulls":13},494,{"$nulls":5},0,null,null,0,0,0]
[{"$nulls":13},495,{"$nulls":5},0,null,null,0,0,0]
[{"$nulls":13},496,{"$nulls":5},0,null,null,0,0,0]
[{"$nulls":13},497,{"$nulls":5},0,null,null,0,0,0]
[{"$nulls":13},498,{"$nulls":5},0,null,null,0,0,0]
[{"$nulls":13},499,{"$nulls":5},0,null,null,0,0,0]
[{"$nulls":13},500,{"$nulls":5},0,null,null,0,0,0]

{"sheet":"BFA 2D Payout","index":11,"n_rows":52,"n_cols":6,"rows_kept":52,"cut":false,"hidden":true,"merged":[[51,0,51,4],[20,0,20,4],[28,0,28,4],[29,0,29,4],[39,0,39,4],[40,0,40,4],[25,3,26,4],[35,3,37,4],[46,3,49,4],[19,0,19,4],[0,0,0,4],[3,0,3,4],[4,0,4,4],[11,0,11,4],[12,0,12,4],[7,3,9,4],[16,3,17,4]]}
["BFA 2D Payout"]
["Entry Fee","# Entries","% Payback","Added $","  Total Payout","Each Go"]
[25,19,0.8,200,{"$f":"(A3*$C$3)*B3+D3","v":580},0.3]
[{"$nulls":5},{"$f":"$E$3*$F$3","v":174}]
["$5,000-7,500 Pays 5 Places         4 to 1D 1 to 2D"]
["Placings","1D",null,"2D"]
["1st",{"$f":"($F$4*$C$7)","v":57.42},0.33,{"$f":"$F$4*$E$7","v":12.180000000000001},7.0000000000000007E-2]
["2nd",{"$f":"$F$4*$C$8","v":46.980000000000004},0.27]
["3rd",{"$f":"$F$4*$C$9","v":34.800000000000004},0.2]
["4th",{"$f":"$F$4*$C$10","v":22.62},0.13]
["Totals",{"$f":"SUM(B7:B10)","v":161.82000000000002},null,{"$f":"SUM(D7:D10)","v":12.180000000000001},{"$f":"(C7+C8+C9+C10+E7+E8)","v":1}]
[{"$f":"B11+D11","v":174.00000000000003}]
["$7,501 - 10,000 Pays 6 Places        4 to 1D,  2 to 2D"]
["Placings","1D",null,"2D"]
["1st",{"$f":"$F$4*$C$15","v":50.459999999999994},0.28999999999999998,{"$f":"$F$4*$E$15","v":15.66},0.09]
["2nd",{"$f":"+$F$4*$C$16","v":41.76},0.24,{"$f":"F4*E16","v":8.7000000000000011},0.05]
["3rd",{"$f":"$F$4*$C$17","v":33.06},0.19]
["4th",{"$f":"$F$4*$C$18","v":24.360000000000003},0.14000000000000001]
["Totals",{"$f":"SUM(B15:B18)","v":149.64000000000001},null,{"$f":"D16+D15","v":24.36},{"$f":"SUM(C15+C16+C17+C18+E15+E16)","v":1}]
[{"$f":"D19+B19","v":174}]
["   $10,001 - $15,000 Payes 8 Places        5 to 1D, 3 to 2D"]
["Placings","1D",null,"2D"]
["1st",{"$f":"F4*C23","v":41.76},0.24,{"$f":"F4*E23","v":12.180000000000001},7.0000000000000007E-2]
["2nd",{"$f":"F4*C24","v":34.800000000000004},0.2,{"$f":"F4*E24","v":8.7000000000000011},0.05]
["3rd",{"$f":"F4*C25","v":29.580000000000002},0.17,{"$f":"F4*E25","v":6.96},0.04]
["4th",{"$f":"F4*C26","v":22.62},0.13]
["5th",{"$f":"F4*C27","v":17.400000000000002},0.1]
["Totals",{"$f":"SUM(B23:B27)","v":146.16},null,{"$f":"SUM(D23:D27)","v":27.840000000000003},{"$f":"C23+C24+C25+C26+C27+E23+E24+E25","v":1}]
[{"$f":"B28+D28","v":174}]
["$15,001 - $25,000 Payes 11 Places        7 to 1D, 4 to 2D"]
["Placings","1D",null,"2D"]
["1st",{"$f":"$F$4*C32","v":36.54},0.21,{"$f":"$F$4*E32","v":8.7000000000000011},0.05]
["2nd",{"$f":"$F$4*C33","v":31.32},0.18,{"$f":"$F$4*E33","v":6.96},0.04]
["3rd",26.099999999999998,0.15,5.22,0.03]
["4th",19.14,0.11,3.48,0.02]
["5th",13.92,0.08]
["6th",12.180000000000001,7.0000000000000007E-2]
["7th",10.44,0.06]
["Totals",{"$f":"SUM(B32:B38)","v":149.63999999999999},null,{"$f":"SUM(D32:D38)","v":24.36},{"$f":"C32+C33+C34+C35+C36+C37+C38+E32+E33+E34+E35","v":1.0000000000000002}]
[{"$f":"SUM(B39+D39)","v":174}]
["$25,001 - $35,000 Payes 12 Places          8 to 1D, 4 to 2D"]
["Placings","1D",null,"2D"]
["1st",{"$f":"$F$4*C43","v":33.06},0.19,{"$f":"$F$4*E43","v":8.7000000000000011},0.05]
["2nd",{"$f":"$F$4*C44","v":26.099999999999998},0.15,{"$f":"$F$4*E44","v":6.96},0.04]
["3rd",20.88,0.12,5.22,0.03]
["4th",17.400000000000002,0.1,3.48,0.02]
["5th",15.66,0.09]
["6th",13.92,0.08]
["7th",12.180000000000001,7.0000000000000007E-2]
["8th",10.44,0.06]
["Totals",{"$f":"SUM(B43:B50)","v":149.63999999999999},null,{"$f":"SUM(D43:D46)","v":24.36},{"$f":"C43+C44+C45+C46+C47+C48+C49+C50+E43+E44+E45+E46","v":1}]
[{"$f":"D51+B51","v":174}]

{"sheet":"2D Payout","index":12,"n_rows":76,"n_cols":5,"rows_kept":76,"cut":false,"hidden":true,"merged":[[35,0,35,4],[34,0,34,4],[28,3,28,4],[19,0,19,4],[26,0,26,4],[21,3,21,4],[13,0,13,4],[14,0,14,4],[20,0,20,4],[15,3,15,4],[27,0,27,4],[0,0,0,4],[8,0,8,4],[9,0,9,4],[3,0,3,4],[10,3,10,4],[5,3,6,3],[5,4,7,4],[36,3,36,4],[76,0,76,4],[43,0,43,4],[53,0,53,4],[65,0,65,4],[44,0,44,4],[54,0,54,4],[64,0,64,4],[45,3,45,4],[55,3,55,4],[66,3,66,4]]}
["2D Payout"]
["Entry Fee","# Entries","% Payback","Added $","  Total Payout"]
[50,35,0.8,0,{"$f":"(A3*$C$3)*B3+D3","v":1400}]
[]
["% in each D",0.6,0.4,"Total % =",{"$f":"SUM(B5:C5)","v":1}]
[null,"1D","2D"]
[null,{"$f":"(($A$3*$B$3*$C$3*$B$5)+($D$3*$B$5))","v":840},{"$f":"(($A$3*$B$3*$C$3*$C$5)+($D$3*$C$5))","v":560}]
["Totals",{"$f":"SUM(B7)","v":840},{"$f":"SUM(C7)","v":560},{"$f":"SUM(B8:C8)","v":1400}]
[]
["For 1-7 riders 1 place"]
["Placings","1D","2D"]
["1st",{"$f":"$B$7*$E$12","v":840},{"$f":"$C$7*$E$5","v":560},"è",1]
["Totals",{"$f":"SUM(B12:B12)","v":840},{"$f":"SUM(C12:C12)","v":560},{"$f":"SUM(B13:C13)","v":1400},{"$f":"SUM(E12)","v":1}]
[]
["For 8-11 riders 2 places"]
["Placings","1D","2D"]
["1st",{"$f":"$B$7*$E$17","v":504},{"$f":"$C$7*$E$17","v":336},"è",0.6]
["2nd",{"$f":"$B$7*$E$18","v":336},{"$f":"$C$7*$E$18","v":224},"è",0.4]
["Totals",{"$f":"SUM(B17:B18)","v":840},{"$f":"SUM(C17:C18)","v":560},{"$f":"SUM(B19:C19)","v":1400},{"$f":"SUM(E17:E18)","v":1}]
[]
["For 12-15 riders 3 places"]
["Placings","1D","2D"]
["1st",{"$f":"$B$7*$E$23","v":420},{"$f":"$C$7*$E$23","v":280},"è",0.5]
["2nd",{"$f":"$B$7*$E$24","v":252},{"$f":"$C$7*$E$24","v":168},"è",0.3]
["3rd",{"$f":"$B$7*$E$25","v":168},{"$f":"$C$7*$E$25","v":112},"è",0.2]
["Totals",{"$f":"SUM(B23:B25)","v":840},{"$f":"SUM(C23:C25)","v":560},{"$f":"SUM(B26:C26)","v":1400},{"$f":"SUM(E23:E25)","v":1}]
[]
["For 16-19 riders 4 places"]
["Placings","1D","2D"]
["1st",{"$f":"$B$7*$E$30","v":336},{"$f":"$C$7*$E$30","v":224},"è",0.4]
["2nd",{"$f":"$B$7*$E$31","v":252},{"$f":"$C$7*$E$31","v":168},"è",0.3]
["3rd",{"$f":"$B$7*$E$32","v":168},{"$f":"$C$7*$E$32","v":112},"è",0.2]
["4th",{"$f":"$B$7*$E$33","v":84},{"$f":"$C$7*$E$33","v":56},"è",0.1]
["Totals",{"$f":"SUM(B30:B33)","v":840},{"$f":"SUM(C30:C33)","v":560},{"$f":"SUM(B34:C34)","v":1400},{"$f":"SUM(E30:E33)","v":0.99999999999999989}]
[]
["For 20-23 riders 5 places"]
["Placings","1D","2D"]
["1st",{"$f":"$B$7*$E$38","v":252},{"$f":"$C$7*$E$38","v":168},"è",0.3]
["2nd",{"$f":"$B$7*$E$39","v":210},{"$f":"$C$7*$E$39","v":140},"è",0.25]
["3rd",{"$f":"$B$7*$E$40","v":168},{"$f":"$C$7*$E$40","v":112},"è",0.2]
["4th",{"$f":"$B$7*$E$41","v":126},{"$f":"$C$7*$E$41","v":84},"è",0.15]
["5th",{"$f":"$B$7*$E$42","v":84},{"$f":"$C$7*$E$42","v":56},"è",0.1]
["Totals",{"$f":"SUM(B38:B42)","v":840},{"$f":"SUM(C38:C42)","v":560},{"$f":"SUM(B43:C43)","v":1400},{"$f":"SUM(E38:E42)","v":1}]
[]
["For 24-27 riders 6 places"]
["Placings","1D","2D"]
["1st",{"$f":"$B$7*$E$47","v":210},{"$f":"$C$7*$E$47","v":140},"è",0.25]
["2nd",{"$f":"$B$7*$E$48","v":168},{"$f":"$C$7*$E$48","v":112},"è",0.2]
["3rd",{"$f":"$B$7*$E$49","v":151.19999999999999},{"$f":"$C$7*$E$49","v":100.8},"è",0.18]
["4th",{"$f":"$B$7*$E$50","v":126},{"$f":"$C$7*$E$50","v":84},"è",0.15]
["5th",{"$f":"$B$7*$E$51","v":100.8},{"$f":"$C$7*$E$51","v":67.2},"è",0.12]
["6th",{"$f":"$B$7*$E$52","v":84},{"$f":"$C$7*$E$52","v":56},"è",0.1]
["Totals",{"$f":"SUM(B47:B52)","v":840},{"$f":"SUM(C47:C52)","v":560},{"$f":"SUM(B53:C53)","v":1400},{"$f":"SUM(E47:E52)","v":1}]
[]
["For 28-31 riders 7 places"]
["Placings","1D","2D"]
["1st",{"$f":"$B$7*$E$57","v":184.8},{"$f":"$C$7*$E$57","v":123.2},"è",0.22]
["2nd",{"$f":"$B$7*$E$58","v":151.19999999999999},{"$f":"$C$7*$E$58","v":100.8},"è",0.18]
["3rd",{"$f":"$B$7*$E$59","v":134.4},{"$f":"$C$7*$E$59","v":89.600000000000009},"è",0.16]
["4th",{"$f":"$B$7*$E$60","v":117.60000000000001},{"$f":"$C$7*$E$60","v":78.400000000000006},"è",0.14000000000000001]
["5th",{"$f":"$B$7*$E$61","v":100.8},{"$f":"$C$7*$E$61","v":67.2},"è",0.12]
["6th",{"$f":"$B$7*$E$62","v":84},{"$f":"$C$7*$E$62","v":56},"è",0.1]
["7th",{"$f":"$B$7*$E$63","v":67.2},{"$f":"$C$7*$E$63","v":44.800000000000004},"è",0.08]
["Totals",{"$f":"SUM(B57:B63)","v":840},{"$f":"SUM(C57:C63)","v":560},{"$f":"SUM(B64:C64)","v":1400},{"$f":"SUM(E57:E63)","v":1}]
[]
["For 32 or more riders 8 places"]
["Placings","1D","2D"]
["1st",{"$f":"$B$7*$E$68","v":193.20000000000002},{"$f":"$C$7*$E$68","v":128.80000000000001},"è",0.23]
["2nd",{"$f":"$B$7*$E$69","v":168},{"$f":"$C$7*$E$69","v":112},"è",0.2]
["3rd",{"$f":"$B$7*$E$70","v":142.80000000000001},{"$f":"$C$7*$E$70","v":95.2},"è",0.17]
["4th",{"$f":"$B$7*$E$71","v":117.60000000000001},{"$f":"$C$7*$E$71","v":78.400000000000006},"è",0.14000000000000001]
["5th",{"$f":"$B$7*$E$72","v":92.4},{"$f":"$C$7*$E$72","v":61.6},"è",0.11]
["6th",{"$f":"$B$7*$E$73","v":67.2},{"$f":"$C$7*$E$73","v":44.800000000000004},"è",0.08]
["7th",{"$f":"$B$7*$E$74","v":42},{"$f":"$C$7*$E$74","v":28},"è",0.05]
["8th",{"$f":"$B$7*$E$75","v":16.8},{"$f":"$C$7*$E$75","v":11.200000000000001},"è",0.02]
["Totals",{"$f":"SUM(B68:B75)","v":840},{"$f":"SUM(C68:C75)","v":560},{"$f":"SUM(B76:C76)","v":1400},{"$f":"SUM(E68:E75)","v":1}]

{"sheet":"3D Payout","index":13,"n_rows":76,"n_cols":6,"rows_kept":76,"cut":false,"hidden":true,"merged":[[20,0,20,5],[26,0,26,5],[65,0,65,5],[44,0,44,5],[54,0,54,5],[27,0,27,5],[35,0,35,5],[21,4,21,5],[55,4,55,5],[45,4,45,5],[36,4,36,5],[28,4,28,5],[34,0,34,5],[0,0,0,5],[3,0,3,5],[8,0,8,5],[9,0,9,5],[5,5,7,5],[5,4,6,4],[13,0,13,5],[19,0,19,5],[14,0,14,5],[15,4,15,5],[10,4,10,5],[76,0,76,5],[43,0,43,5],[53,0,53,5],[64,0,64,5],[66,4,66,5]]}
["3D Payout"]
["Entry Fee","# Entries","% Payback","$ From Entry","Added $","  Total Payout"]
[10,3,0.8,{"$f":"$A$3*$C$3*$B$3","v":24},null,{"$f":"$D$3+$E$3","v":24}]
[]
["% in each D",0.5,0.3,0.2,"Total % =",{"$f":"SUM(B5:D5)","v":1}]
[null,"1D","2D","3D"]
[null,{"$f":"(($A$3*$B$3*$C$3*$B$5)+($E$3*$B$5))","v":12},{"$f":"(($A$3*$B$3*$C$3*$C$5)+($E$3*$C$5))","v":7.1999999999999993},{"$f":"(($A$3*$B$3*$C$3*$D$5)+($E$3*$D$5))","v":4.8000000000000007}]
["Totals",{"$f":"SUM(B7)","v":12},{"$f":"SUM(C7)","v":7.1999999999999993},4.8000000000000007,{"$f":"SUM(B8:D8)","v":24}]
[]
["For 1-10 riders 1 place"]
["Placings","1D","2D","3D"]
["1st",{"$f":"$B$7*$F$12","v":12},{"$f":"$C$7*$F$12","v":7.1999999999999993},{"$f":"$D$7*$F$12","v":4.8000000000000007},"è",1]
["Totals",{"$f":"SUM(B12:B12)","v":12},{"$f":"SUM(C12:C12)","v":7.1999999999999993},{"$f":"SUM(D12:D12)","v":4.8000000000000007},{"$f":"SUM(B13:D13)","v":24},{"$f":"SUM(F12)","v":1}]
[]
["For 11-15 riders 2 places"]
["Placings","1D","2D","3D"]
["1st",{"$f":"$B$7*$F$17","v":7.1999999999999993},{"$f":"$C$7*$F$17","v":4.3199999999999994},{"$f":"$D$7*$F$17","v":2.8800000000000003},"è",0.6]
["2nd",{"$f":"$B$7*$F$18","v":4.8000000000000007},{"$f":"$C$7*$F$18","v":2.88},{"$f":"$D$7*$F$18","v":1.9200000000000004},"è",0.4]
["Totals",{"$f":"SUM(B17:B18)","v":12},{"$f":"SUM(C17:C18)","v":7.1999999999999993},{"$f":"SUM(D17:D18)","v":4.8000000000000007},{"$f":"SUM(B19:D19)","v":24},{"$f":"SUM(F17:F18)","v":1}]
[]
["For 16-30 riders 3 places"]
["Placings","1D","2D","3D"]
["1st",{"$f":"$B$7*$F$23","v":6},{"$f":"$C$7*$F$23","v":3.5999999999999996},{"$f":"$D$7*$F$23","v":2.4000000000000004},"è",0.5]
["2nd",{"$f":"$B$7*$F$24","v":3.5999999999999996},{"$f":"$C$7*$F$24","v":2.1599999999999997},{"$f":"$D$7*$F$24","v":1.4400000000000002},"è",0.3]
["3rd",{"$f":"$B$7*$F$25","v":2.4000000000000004},{"$f":"$C$7*$F$25","v":1.44},{"$f":"$D$7*$F$25","v":0.96000000000000019},"è",0.2]
["Totals",{"$f":"SUM(B23:B25)","v":12},{"$f":"SUM(C23:C25)","v":7.1999999999999993},{"$f":"SUM(D22:D25)","v":4.8000000000000007},{"$f":"SUM(B26:D26)","v":24},{"$f":"SUM(F23:F25)","v":1}]
[]
["For 31-60 riders 4 places"]
["Placings","1D","2D","3D"]
["1st",{"$f":"$B$7*$F$30","v":5.04},{"$f":"$C$7*$F$30","v":3.0239999999999996},{"$f":"$D$7*$F$30","v":2.016},"è",0.42]
["2nd",{"$f":"$B$7*$F$31","v":3.4799999999999995},{"$f":"$C$7*$F$31","v":2.0879999999999996},{"$f":"$D$7*$F$31","v":1.3920000000000001},"è",0.28999999999999998]
["3rd",{"$f":"$B$7*$F$32","v":2.2800000000000002},{"$f":"$C$7*$F$32","v":1.3679999999999999},{"$f":"$D$7*$F$32","v":0.91200000000000014},"è",0.19]
["4th",{"$f":"$B$7*$F$33","v":1.2000000000000002},{"$f":"$C$7*$F$33","v":0.72},{"$f":"$D$7*$F$33","v":0.48000000000000009},"è",0.1]
["Totals",{"$f":"SUM(B30:B33)","v":12},{"$f":"SUM(C30:C33)","v":7.1999999999999984},{"$f":"SUM(D30:D33)","v":4.8000000000000007},{"$f":"SUM(B34:D34)","v":24},{"$f":"SUM(F30:F33)","v":0.99999999999999989}]
[]
["For 61-90 riders 5 places"]
["Placings","1D","2D","3D"]
["1st",{"$f":"$B$7*$F$38","v":4.5600000000000005},{"$f":"$C$7*$F$38","v":2.7359999999999998},{"$f":"$D$7*$F$38","v":1.8240000000000003},"è",0.38]
["2nd",{"$f":"$B$7*$F$39","v":3.3600000000000003},{"$f":"$C$7*$F$39","v":2.016},{"$f":"$D$7*$F$39","v":1.3440000000000003},"è",0.28000000000000003]
["3rd",{"$f":"$B$7*$F$40","v":2.16},{"$f":"$C$7*$F$40","v":1.2959999999999998},{"$f":"$D$7*$F$40","v":0.8640000000000001},"è",0.18]
["4th",{"$f":"$B$7*$F$41","v":1.2000000000000002},{"$f":"$C$7*$F$41","v":0.72},{"$f":"$D$7*$F$41","v":0.48000000000000009},"è",0.1]
["5th",{"$f":"$B$7*$F$42","v":0.72},{"$f":"$C$7*$F$42","v":0.43199999999999994},{"$f":"$D$7*$F$42","v":0.28800000000000003},"è",0.06]
["Totals",{"$f":"SUM(B38:B42)","v":12.000000000000002},{"$f":"SUM(C38:C42)","v":7.1999999999999993},{"$f":"SUM(D38:D42)","v":4.8000000000000016},{"$f":"SUM(B43:D43)","v":24.000000000000004},{"$f":"SUM(F38:F42)","v":1}]
[]
["For 91-120 riders 6 places"]
["Placings","1D","2D","3D"]
["1st",{"$f":"$B$7*$F$47","v":4.32},{"$f":"$C$7*$F$47","v":2.5919999999999996},{"$f":"$D$7*$F$47","v":1.7280000000000002},"è",0.36]
["2nd",{"$f":"$B$7*$F$48","v":3.12},{"$f":"$C$7*$F$48","v":1.8719999999999999},{"$f":"$D$7*$F$48","v":1.2480000000000002},"è",0.26]
["3rd",{"$f":"$B$7*$F$49","v":1.92},{"$f":"$C$7*$F$49","v":1.1519999999999999},{"$f":"$D$7*$F$49","v":0.76800000000000013},"è",0.16]
["4th",{"$f":"$B$7*$F$50","v":1.2000000000000002},{"$f":"$C$7*$F$50","v":0.72},{"$f":"$D$7*$F$50","v":0.48000000000000009},"è",0.1]
["5th",{"$f":"$B$7*$F$51","v":0.84000000000000008},{"$f":"$C$7*$F$51","v":0.504},{"$f":"$D$7*$F$51","v":0.33600000000000008},"è",7.0000000000000007E-2]
["6th",{"$f":"$B$7*$F$52","v":0.60000000000000009},{"$f":"$C$7*$F$52","v":0.36},{"$f":"$D$7*$F$52","v":0.24000000000000005},"è",0.05]
["Totals",{"$f":"SUM(B47:B52)","v":11.999999999999998},{"$f":"SUM(C47:C52)","v":7.2},{"$f":"SUM(D47:D52)","v":4.8000000000000016},{"$f":"SUM(B53:D53)","v":24},{"$f":"SUM(F47:F52)","v":1}]
[]
["For 121-200 riders 7 places"]
["Placings","1D","2D","3D"]
["1st",{"$f":"$B$7*$F$57","v":3.12},{"$f":"$C$7*$F$57","v":1.8719999999999999},{"$f":"$D$7*$F$57","v":1.2480000000000002},"è",0.26]
["2nd",{"$f":"$B$7*$F$58","v":2.4000000000000004},{"$f":"$C$7*$F$58","v":1.44},{"$f":"$D$7*$F$58","v":0.96000000000000019},"è",0.2]
["3rd",{"$f":"$B$7*$F$59","v":1.7999999999999998},{"$f":"$C$7*$F$59","v":1.0799999999999998},{"$f":"$D$7*$F$59","v":0.72000000000000008},"è",0.15]
["4th",{"$f":"$B$7*$F$60","v":1.44},{"$f":"$C$7*$F$60","v":0.86399999999999988},{"$f":"$D$7*$F$60","v":0.57600000000000007},"è",0.12]
["5th",{"$f":"$B$7*$F$61","v":1.2000000000000002},{"$f":"$C$7*$F$61","v":0.72},{"$f":"$D$7*$F$61","v":0.48000000000000009},"è",0.1]
["6th",{"$f":"$B$7*$F$62","v":1.08},{"$f":"$C$7*$F$62","v":0.64799999999999991},{"$f":"$D$7*$F$62","v":0.43200000000000005},"è",0.09]
["7th",{"$f":"$B$7*$F$63","v":0.96},{"$f":"$C$7*$F$63","v":0.57599999999999996},{"$f":"$D$7*$F$63","v":0.38400000000000006},"è",0.08]
["Totals",{"$f":"SUM(B57:B63)","v":12},{"$f":"SUM(C57:C63)","v":7.1999999999999984},{"$f":"SUM(D57:D63)","v":4.8000000000000007},{"$f":"SUM(B64:D64)","v":24},{"$f":"SUM(F57:F63)","v":0.99999999999999989}]
[]
["For 201 or more riders 8 places"]
["Placings","1D","2D","3D"]
["1st",{"$f":"$B$7*0.24","v":2.88},{"$f":"$C$7*0.24","v":1.7279999999999998},{"$f":"$D$7*0.24","v":1.1520000000000001},"è",0.24]
["2nd",{"$f":"$B$7*0.18","v":2.16},{"$f":"$C$7*0.18","v":1.2959999999999998},{"$f":"$D$7*0.18","v":0.8640000000000001},"è",0.18]
["3rd",{"$f":"$B$7*0.15","v":1.7999999999999998},{"$f":"$C$7*0.15","v":1.0799999999999998},{"$f":"$D$7*0.15","v":0.72000000000000008},"è",0.15]
["4th",{"$f":"$B$7*0.12","v":1.44},{"$f":"$C$7*0.12","v":0.86399999999999988},{"$f":"$D$7*0.12","v":0.57600000000000007},"è",0.12]
["5th",{"$f":"$B$7*0.1","v":1.2000000000000002},{"$f":"$C$7*0.1","v":0.72},{"$f":"$D$7*0.1","v":0.48000000000000009},"è",0.1]
["6th",{"$f":"$B$7*0.08","v":0.96},{"$f":"$C$7*0.08","v":0.57599999999999996},{"$f":"$D$7*0.08","v":0.38400000000000006},"è",0.08]
["7th",{"$f":"$B$7*0.07","v":0.84000000000000008},{"$f":"$C$7*0.07","v":0.504},{"$f":"$D$7*0.07","v":0.33600000000000008},"è",7.0000000000000007E-2]
["8th",{"$f":"$B$7*0.06","v":0.72},{"$f":"$C$7*0.06","v":0.43199999999999994},{"$f":"$D$7*0.06","v":0.28800000000000003},"è",0.06]
["Totals",{"$f":"SUM(B68:B75)","v":12.000000000000002},{"$f":"SUM(C68:C75)","v":7.1999999999999993},{"$f":"SUM(D68:D75)","v":4.8000000000000007},{"$f":"SUM(B76:D76)","v":24.000000000000004},{"$f":"SUM(F68:F75)","v":1}]

{"sheet":"4D Payout BBR","index":14,"n_rows":172,"n_cols":7,"rows_kept":172,"cut":false,"hidden":true,"merged":[[139,0,139,6],[140,5,140,6],[79,0,79,6],[80,0,80,6],[81,5,81,6],[96,0,96,6],[97,5,97,6],[95,0,95,6],[114,0,114,6],[115,0,115,6],[55,5,55,6],[65,0,65,6],[66,0,66,6],[116,5,116,6],[138,0,138,6],[0,0,0,6],[3,0,3,6],[5,5,6,5],[5,6,7,6],[8,0,8,6],[9,0,9,6],[10,5,10,6],[13,0,13,6],[14,0,14,6],[20,0,20,6],[172,0,172,5],[21,5,21,6],[15,5,15,6],[27,0,27,6],[45,5,45,6],[54,0,54,6],[28,5,28,6],[35,0,35,6],[36,5,36,6],[44,0,44,6],[19,0,19,6],[67,5,67,6],[53,0,53,6],[43,0,43,6],[34,0,34,6],[26,0,26,6]]}
["4D Payout BBR"]
["Entry Fee","# Entries","% Payback","$ From Entry","Added $","Total Payout"]
[40,200,0.8,{"$f":"$A$3*$C$3*$B$3","v":6400},1100,{"$f":"($A$3*$C$3)*$B$3+$E$3","v":7500}]
[]
["% in each D",0.35,0.3,0.2,0.15,"Total % Payout",{"$f":"SUM(B5:E5)","v":0.99999999999999989}]
[null,"1D","2D","3D","4D"]
[null,{"$f":"(($A$3*$B$3*$C$3*0.35)+($E$3/4))","v":2515},{"$f":"(($A$3*$B$3*$C$3*0.3)+($E$3/4))","v":2195},{"$f":"(($A$3*$B$3*$C$3*0.2)+($E$3/4))","v":1555},{"$f":"(($A$3*$B$3*$C$3*0.15)+($E$3/4))","v":1235}]
["Totals",{"$f":"SUM(B7)","v":2515},{"$f":"SUM(C7)","v":2195},1555,1235,{"$f":"SUM(B8:E8)","v":7500}]
[]
["For 1-16 riders 1 place"]
["Placings","1D","2D","3D","4D"]
["1st",{"$f":"$B$7*$G$12","v":2515},{"$f":"$C$7*$G$12","v":2195},{"$f":"$D$7*$G$12","v":1555},{"$f":"$E$7*$G$12","v":1235},"è",1]
["Totals",{"$f":"SUM(B12:B12)","v":2515},{"$f":"SUM(C12:C12)","v":2195},{"$f":"SUM(D12:D12)","v":1555},{"$f":"SUM(E12:E12)","v":1235},{"$f":"SUM(B13:E13)","v":7500},{"$f":"SUM(G12)","v":1}]
[]
["For 17-33 riders 2 places"]
["Placings","1D","2D","3D","4D"]
["1st",{"$f":"$B$7*$G$17","v":1509},{"$f":"$C$7*$G$17","v":1317},{"$f":"$D$7*$G$17","v":933},{"$f":"$E$7*$G$17","v":741},"è",0.6]
["2nd",{"$f":"$B$7*$G$18","v":1006},{"$f":"$C$7*$G$18","v":878},{"$f":"$D$7*$G$18","v":622},{"$f":"$E$7*$G$18","v":494},"è",0.4]
["Totals",{"$f":"SUM(B17:B18)","v":2515},{"$f":"SUM(C17:C18)","v":2195},{"$f":"SUM(D17:D18)","v":1555},{"$f":"SUM(E17:E18)","v":1235},{"$f":"SUM(B19:E19)","v":7500},{"$f":"SUM(G17:G18)","v":1}]
[]
["For 34-66 riders 3 places"]
["Placings","1D","2D","3D","4D"]
["1st",{"$f":"$B$7*$G$23","v":1257.5},{"$f":"$C$7*$G$23","v":1097.5},{"$f":"$D$7*$G$23","v":777.5},{"$f":"$E$7*$G$23","v":617.5},"è",0.5]
["2nd",{"$f":"$B$7*$G$24","v":754.5},{"$f":"$C$7*$G$24","v":658.5},{"$f":"$D$7*$G$24","v":466.5},{"$f":"$E$7*$G$24","v":370.5},"è",0.3]
["3rd",{"$f":"$B$7*$G$25","v":503},{"$f":"$C$7*$G$25","v":439},{"$f":"$D$7*$G$25","v":311},{"$f":"$E$7*$G$25","v":247},"è",0.2]
["Totals",{"$f":"SUM(B23:B25)","v":2515},{"$f":"SUM(C23:C25)","v":2195},{"$f":"SUM(D23:D25)","v":1555},{"$f":"SUM(E23:E25)","v":1235},{"$f":"SUM(B26:E26)","v":7500},{"$f":"SUM(G23:G25)","v":1}]
[]
["For 97-95 riders 4 places"]
["Placings","1D","2D","3D","4D"]
["1st",{"$f":"$B$7*$G$30","v":1006},{"$f":"$C$7*$G$30","v":878},{"$f":"$D$7*$G$30","v":622},{"$f":"$E$7*$G$30","v":494},"è",0.4]
["2nd",{"$f":"$B$7*$G$31","v":754.5},{"$f":"$C$7*$G$31","v":658.5},{"$f":"$D$7*$G$31","v":466.5},{"$f":"$E$7*$G$31","v":370.5},"è",0.3]
["3rd",{"$f":"$B$7*$G$32","v":503},{"$f":"$C$7*$G$32","v":439},{"$f":"$D$7*$G$32","v":311},{"$f":"$E$7*$G$32","v":247},"è",0.2]
["4th",{"$f":"$B$7*$G$33","v":251.5},{"$f":"$C$7*$G$33","v":219.5},{"$f":"$D$7*$G$33","v":155.5},{"$f":"$E$7*$G$33","v":123.5},"è",0.1]
["Totals",{"$f":"SUM(B30:B33)","v":2515},{"$f":"SUM(C30:C33)","v":2195},{"$f":"SUM(D30:D33)","v":1555},{"$f":"SUM(E30:E33)","v":1235},{"$f":"SUM(B34:E34)","v":7500},{"$f":"SUM(G30:G33)","v":0.99999999999999989}]
[]
["For 96-133 riders 5 places"]
["Placings","1D","2D","3D","4D"]
["1st",{"$f":"$B$7*$G$38","v":829.95},{"$f":"$C$7*$G$38","v":724.35},{"$f":"$D$7*G38","v":513.15},{"$f":"$E$7*$G$38","v":407.55},"è",0.33]
["2nd",{"$f":"$B$7*$G$39","v":679.05000000000007},{"$f":"$C$7*$G$39","v":592.65000000000009},{"$f":"$D$7*$G$39","v":419.85},{"$f":"$E$7*$G$39","v":333.45000000000005},"è",0.27]
["3rd",{"$f":"$B$7*$G$40","v":503},{"$f":"$C$7*$G$40","v":439},{"$f":"$D$7*$G$40","v":311},{"$f":"$E$7*$G$40","v":247},"è",0.2]
["4th",{"$f":"$B$7*$G$41","v":326.95},{"$f":"$C$7*$G$41","v":285.35000000000002},{"$f":"$D$7*$G$41","v":202.15},{"$f":"$E$7*$G$41","v":160.55000000000001},"è",0.13]
["5th",{"$f":"$B$7*$G$42","v":176.05},{"$f":"$C$7*$G$42","v":153.65},{"$f":"$D$7*$G$42","v":108.85000000000001},{"$f":"$E$7*$G$42","v":86.45},"è",7.0000000000000007E-2]
["Totals",{"$f":"SUM(B38:B42)","v":2515},{"$f":"SUM(C38:C42)","v":2195},{"$f":"SUM(D38:D42)","v":1555},{"$f":"SUM(E38:E42)","v":1235},{"$f":"SUM(B43:E43)","v":7500},{"$f":"SUM(G38:G42)","v":1}]
[]
["For 134-166 riders 6 places"]
["Placings","1D","2D","3D","4D"]
["1st",{"$f":"$B$7*$G$47","v":729.34999999999991},{"$f":"$C$7*$G$47","v":636.54999999999995},{"$f":"$D$7*$G$47","v":450.95},{"$f":"$E$7*$G$47","v":358.15},"è",0.28999999999999998]
["2nd",{"$f":"$B$7*$G$48","v":603.6},{"$f":"$C$7*$G$48","v":526.79999999999995},{"$f":"$D$7*$G$48","v":373.2},{"$f":"$E$7*$G$48","v":296.39999999999998},"è",0.24]
["3rd",{"$f":"$B$7*$G$49","v":477.85},{"$f":"$C$7*$G$49","v":417.05},{"$f":"$D$7*$G$49","v":295.45},{"$f":"$E$7*$G$49","v":234.65},"è",0.19]
["4th",{"$f":"$B$7*$G$50","v":352.1},{"$f":"$C$7*$G$50","v":307.3},{"$f":"$D$7*$G$50","v":217.70000000000002},{"$f":"$E$7*$G$50","v":172.9},"è",0.14000000000000001]
["5th",{"$f":"$B$7*$G$51","v":226.35},{"$f":"$C$7*$G$51","v":197.54999999999998},{"$f":"$D$7*$G$51","v":139.94999999999999},{"$f":"$E$7*$G$51","v":111.14999999999999},"è",0.09]
["6th",{"$f":"$B$7*$G$52","v":125.75},{"$f":"$C$7*$G$52","v":109.75},{"$f":"$D$7*$G$52","v":77.75},{"$f":"$E$7*$G$52","v":61.75},"è",0.05]
["Totals",{"$f":"SUM(B47:B52)","v":2514.9999999999995},{"$f":"SUM(C47:C52)","v":2195},{"$f":"SUM(D47:D52)","v":1555},{"$f":"SUM(E47:E52)","v":1235},{"$f":"SUM(B53:E53)","v":7500},{"$f":"SUM(G47:G52)","v":1}]
[]
["For 167-222 riders 8 places"]
["Placings","1D","2D","3D","4D"]
["1st",{"$f":"$B$7*$G$57","v":603.6},{"$f":"$C$7*$G$57","v":526.79999999999995},{"$f":"$D$7*$G$57","v":373.2},{"$f":"$E$7*$G$57","v":296.39999999999998},"è",0.24]
["2nd",{"$f":"$B$7*$G$58","v":503},{"$f":"$C$7*$G$58","v":439},{"$f":"$D$7*$G$58","v":311},{"$f":"$E$7*$G$58","v":247},"è",0.2]
["3rd",{"$f":"$B$7*$G$59","v":427.55},{"$f":"$C$7*$G$59","v":373.15000000000003},{"$f":"$D$7*$G$59","v":264.35000000000002},{"$f":"$E$7*$G$59","v":209.95000000000002},"è",0.17]
["4th",{"$f":"$B$7*$G$60","v":326.95},{"$f":"$C$7*$G$60","v":285.35000000000002},{"$f":"$D$7*$G$60","v":202.15},{"$f":"$E$7*$G$60","v":160.55000000000001},"è",0.13]
["5th",{"$f":"$B$7*$G$61","v":251.5},{"$f":"$C$7*$G$61","v":219.5},{"$f":"$D$7*$G$61","v":155.5},{"$f":"$E$7*$G$61","v":123.5},"è",0.1]
["6th",{"$f":"$B$7*$G$62","v":176.05},{"$f":"$C$7*$G$62","v":153.65},{"$f":"$D$7*$G$62","v":108.85000000000001},{"$f":"$E$7*$G$62","v":86.45},"è",7.0000000000000007E-2]
["7th",{"$f":"$B$7*$G$63","v":125.75},{"$f":"$C$7*$G$63","v":109.75},{"$f":"$D$7*$G$63","v":77.75},{"$f":"$E$7*$G$63","v":61.75},"è",0.05]
["8th",{"$f":"$B$7*$G$64","v":100.60000000000001},{"$f":"$C$7*$G$64","v":87.8},{"$f":"$D$7*$G$64","v":62.2},{"$f":"$E$7*$G$64","v":49.4},"è",0.04]
["Totals",{"$f":"SUM(B57:B64)","v":2515},{"$f":"SUM(C57:C64)","v":2195.0000000000005},{"$f":"SUM(D57:D64)","v":1555},{"$f":"SUM(E57:E64)","v":1235.0000000000002},{"$f":"SUM(B65:E65)","v":7500},{"$f":"SUM(G57:G64)","v":1}]
[]
["For 223-333 riders 10 places"]
["Placings","1D","2D","3D","4D"]
["1st",{"$f":"$B$7*$G$69","v":528.15},{"$f":"$C$7*$G$69","v":460.95},{"$f":"$D$7*$G$69","v":326.55},{"$f":"$E$7*$G$69","v":259.34999999999997},"è",0.21]
["2nd",{"$f":"$B$7*$G$70","v":452.7},{"$f":"$C$7*$G$70","v":395.09999999999997},{"$f":"$D$7*$G$70","v":279.89999999999998},{"$f":"$E$7*$G$70","v":222.29999999999998},"è",0.18]
["3rd",{"$f":"$B$7*$G$71","v":377.25},{"$f":"$C$7*$G$71","v":329.25},{"$f":"$D$7*$G$71","v":233.25},{"$f":"$E$7*$G$71","v":185.25},"è",0.15]
["4th",{"$f":"$B$7*$G$72","v":301.8},{"$f":"$C$7*$G$72","v":263.39999999999998},{"$f":"$D$7*$G$72","v":186.6},{"$f":"$E$7*$G$72","v":148.19999999999999},"è",0.12]
["5th",{"$f":"$B$7*$G$73","v":226.35},{"$f":"$C$7*$G$73","v":197.54999999999998},{"$f":"$D$7*$G$73","v":139.94999999999999},{"$f":"$E$7*$G$73","v":111.14999999999999},"è",0.09]
["6th",{"$f":"$B$7*$G$74","v":176.05},{"$f":"$C$7*$G$74","v":153.65},{"$f":"$D$7*$G$74","v":108.85000000000001},{"$f":"$E$7*$G$74","v":86.45},"è",7.0000000000000007E-2]
["7th",{"$f":"$B$7*$G$75","v":150.9},{"$f":"$C$7*$G$75","v":131.69999999999999},{"$f":"$D$7*$G$75","v":93.3},{"$f":"$E$7*$G$75","v":74.099999999999994},"è",0.06]
["8th",{"$f":"$B$7*$G$76","v":125.75},{"$f":"$C$7*$G$76","v":109.75},{"$f":"$D$7*$G$76","v":77.75},{"$f":"$E$7*$G$76","v":61.75},"è",0.05]
["9th",{"$f":"$B$7*$G$77","v":100.60000000000001},{"$f":"$C$7*$G$77","v":87.8},{"$f":"$D$7*$G$77","v":62.2},{"$f":"$E$7*$G$77","v":49.4},"è",0.04]
["10th",{"$f":"$B$7*$G$78","v":75.45},{"$f":"$C$7*$G$78","v":65.849999999999994},{"$f":"$D$7*$G$78","v":46.65},{"$f":"$E$7*$G$78","v":37.049999999999997},"è",0.03]
["Totals",{"$f":"SUM(B69:B78)","v":2514.9999999999995},{"$f":"SUM(C69:C78)","v":2195},{"$f":"SUM(D69:D78)","v":1555},{"$f":"SUM(E69:E78)","v":1235},{"$f":"B79+C79+D79+E79","v":7500},{"$f":"SUM(G69:G78)","v":1.0000000000000002}]
[]
["For 334-500 riders 12 places"]
["Placings","1D","2D","3D","4D"]
["1st",{"$f":"$B$7*$G$83","v":477.85},{"$f":"$C$7*$G$83","v":417.05},{"$f":"$D$7*$G$83","v":295.45},{"$f":"$E$7*$G$83","v":234.65},"è",0.19]
["2nd",{"$f":"$B$7*$G$84","v":377.25},{"$f":"$C$7*$G$84","v":329.25},{"$f":"$D$7*$G$84","v":233.25},{"$f":"$E$7*$G$84","v":185.25},"è",0.15]
["3rd",{"$f":"$B$7*$G$85","v":301.8},{"$f":"$C$7*$G$85","v":263.39999999999998},{"$f":"$D$7*$G$85","v":186.6},{"$f":"$E$7*$G$85","v":148.19999999999999},"è",0.12]
["4th",{"$f":"$B$7*$G$86","v":251.5},{"$f":"$C$7*$G$86","v":219.5},{"$f":"$D$7*$G$86","v":155.5},{"$f":"$E$7*$G$86","v":123.5},"è",0.1]
["5th",{"$f":"$B$7*$G$87","v":226.35},{"$f":"$C$7*$G$87","v":197.54999999999998},{"$f":"$D$7*$G$87","v":139.94999999999999},{"$f":"$E$7*$G$87","v":111.14999999999999},"è",0.09]
["6th",{"$f":"$B$7*$G$88","v":201.20000000000002},{"$f":"$C$7*$G$88","v":175.6},{"$f":"$D$7*$G$88","v":124.4},{"$f":"$E$7*$G$88","v":98.8},"è",0.08]
["7th",{"$f":"$B$7*$G$89","v":176.05},{"$f":"$C$7*$G$89","v":153.65},{"$f":"$D$7*$G$89","v":108.85000000000001},{"$f":"$E$7*$G$89","v":86.45},"è",7.0000000000000007E-2]
["8th",{"$f":"$B$7*$G$90","v":150.9},{"$f":"$C$7*$G$90","v":131.69999999999999},{"$f":"$D$7*$G$90","v":93.3},{"$f":"$E$7*$G$90","v":74.099999999999994},"è",0.06]
["9th",{"$f":"$B$7*$G$91","v":125.75},{"$f":"$C$7*$G$91","v":109.75},{"$f":"$D$7*$G$91","v":77.75},{"$f":"$E$7*$G$91","v":61.75},"è",0.05]
["10th",{"$f":"$B$7*$G$92","v":100.60000000000001},{"$f":"$C$7*$G$92","v":87.8},{"$f":"$D$7*$G$92","v":62.2},{"$f":"$E$7*$G$92","v":49.4},"è",0.04]
["11th",{"$f":"$B$7*$G$93","v":75.45},{"$f":"$C$7*$G$93","v":65.849999999999994},{"$f":"$D$7*$G$93","v":46.65},{"$f":"$E$7*$G$93","v":37.049999999999997},"è",0.03]
["12th",{"$f":"$B$7*$G$94","v":50.300000000000004},{"$f":"$C$7*$G$94","v":43.9},{"$f":"$D$7*$G$94","v":31.1},{"$f":"$E$7*$G$94","v":24.7},"è",0.02]
["Totals",{"$f":"SUM(B83:B94)","v":2515},{"$f":"SUM(C83:C94)","v":2195},1555,1235,{"$f":"B95+C95+D95+E95","v":7500},{"$f":"SUM(G83:G94)","v":1}]
[]
["For 501-750 riders 15 places"]
["Placings","1D","2D","3D","4D"]
["1st",{"$f":"$B$7*$G$99","v":452.7},{"$f":"$C$7*$G$99","v":395.09999999999997},{"$f":"$D$7*$G$99","v":279.89999999999998},{"$f":"$E$7*$G$99","v":222.29999999999998},"è",0.18]
["2nd",{"$f":"$B$7*$G$100","v":377.25},{"$f":"$C$7*$G$100","v":329.25},{"$f":"$D$7*$G$100","v":233.25},{"$f":"$E$7*$G$100","v":185.25},"è",0.15]
["3rd",{"$f":"$B$7*$G$101","v":301.8},{"$f":"$C$7*$G$101","v":263.39999999999998},{"$f":"$D$7*$G$101","v":186.6},{"$f":"$E$7*$G$101","v":148.19999999999999},"è",0.12]
["4th",{"$f":"$B$7*$G$102","v":251.5},{"$f":"$C$7*$G$102","v":219.5},{"$f":"$D$7*$G$102","v":155.5},{"$f":"$E$7*$G$102","v":123.5},"è",0.1]
["5th",{"$f":"$B$7*$G$103","v":213.77500000000001},{"$f":"$C$7*$G$103","v":186.57500000000002},{"$f":"$D$7*$G$103","v":132.17500000000001},{"$f":"$E$7*$G$103","v":104.97500000000001},"è",8.5000000000000006E-2]
["6th",{"$f":"$B$7*$G$104","v":176.05},{"$f":"$C$7*$G$104","v":153.65},{"$f":"$D$7*$G$104","v":108.85000000000001},{"$f":"$E$7*$G$104","v":86.45},"è",7.0000000000000007E-2]
["7th",{"$f":"$B$7*$G$105","v":150.9},{"$f":"$C$7*$G$105","v":131.69999999999999},{"$f":"$D$7*$G$105","v":93.3},{"$f":"$E$7*$G$105","v":74.099999999999994},"è",0.06]
["8th",{"$f":"$B$7*$G$106","v":125.75},{"$f":"$C$7*$G$106","v":109.75},{"$f":"$D$7*$G$106","v":77.75},{"$f":"$E$7*$G$106","v":61.75},"è",0.05]
["9th",{"$f":"$B$7*$G$107","v":106.8875},{"$f":"$C$7*$G$107","v":93.287500000000009},{"$f":"$D$7*$G$107","v":66.087500000000006},{"$f":"$E$7*$G$107","v":52.487500000000004},"è",4.2500000000000003E-2]
["10th",{"$f":"$B$7*$G$108","v":88.025000000000006},{"$f":"$C$7*$G$108","v":76.825000000000003},{"$f":"$D$7*$G$108","v":54.425000000000004},{"$f":"$E$7*$G$108","v":43.225000000000001},"è",3.5000000000000003E-2]
["11th",{"$f":"$B$7*$G$109","v":75.45},{"$f":"$C$7*$G$109","v":65.849999999999994},{"$f":"$D$7*$G$109","v":46.65},{"$f":"$E$7*$G$109","v":37.049999999999997},"è",0.03]
["12th",{"$f":"$B$7*$G$110","v":62.875},{"$f":"$C$7*$G$110","v":54.875},{"$f":"$D$7*$G$110","v":38.875},{"$f":"$E$7*$G$110","v":30.875},"è",2.5000000000000001E-2]
["13th",{"$f":"$B$7*$G$111","v":50.300000000000004},{"$f":"$C$7*$G$111","v":43.9},{"$f":"$D$7*$G$111","v":31.1},{"$f":"$E$7*$G$111","v":24.7},"è",0.02]
["14th",{"$f":"$B$7*$G$112","v":44.012500000000003},{"$f":"$C$7*$G$112","v":38.412500000000001},{"$f":"$D$7*$G$112","v":27.212500000000002},{"$f":"$E$7*$G$112","v":21.612500000000001},"è",1.7500000000000002E-2]
["15th",{"$f":"$B$7*$G$113","v":37.725000000000001},{"$f":"$C$7*$G$113","v":32.924999999999997},{"$f":"$D$7*$G$113","v":23.324999999999999},{"$f":"$E$7*$G$113","v":18.524999999999999},"è",1.4999999999999999E-2]
["Totals",{"$f":"SUM(B99:B113)","v":2515},{"$f":"SUM(C99:C113)","v":2195},1555,1235,{"$f":"B114+C114+D114+E114","v":7500},{"$f":"SUM(G99:G113)","v":1}]
[]
["For 751-1200 riders 20 places"]
["Placings","1D","2D","3D","4D"]
["1st",{"$f":"$B$7*$G$118","v":352.1},{"$f":"$C$7*$G$118","v":307.3},{"$f":"$D$7*$G$118","v":217.70000000000002},{"$f":"$E$7*$G$118","v":172.9},"è",0.14000000000000001]
["2nd",{"$f":"$B$7*$G$119","v":276.64999999999998},{"$f":"$C$7*$G$119","v":241.45},{"$f":"$D$7*$G$119","v":171.05},{"$f":"$E$7*$G$119","v":135.85},"è",0.11]
["3rd",{"$f":"$B$7*$G$120","v":226.35},{"$f":"$C$7*$G$120","v":197.54999999999998},{"$f":"$D$7*$G$120","v":139.94999999999999},{"$f":"$E$7*$G$120","v":111.14999999999999},"è",0.09]
["4th",{"$f":"$B$7*$G$121","v":193.655},{"$f":"$C$7*$G$121","v":169.01499999999999},{"$f":"$D$7*$G$121","v":119.735},{"$f":"$E$7*$G$121","v":95.094999999999999},"è",7.6999999999999999E-2]
["5th",{"$f":"$B$7*$G$122","v":176.05},{"$f":"$C$7*$G$122","v":153.65},{"$f":"$D$7*$G$122","v":108.85000000000001},{"$f":"$E$7*$G$122","v":86.45},"è",7.0000000000000007E-2]
["6th",{"$f":"$B$7*$G$123","v":163.47499999999999},{"$f":"$C$7*$G$123","v":142.67500000000001},{"$f":"$D$7*$G$123","v":101.075},{"$f":"$E$7*$G$123","v":80.275000000000006},"è",6.5000000000000002E-2]
["7th",{"$f":"$B$7*$G$124","v":150.9},{"$f":"$C$7*$G$124","v":131.69999999999999},{"$f":"$D$7*$G$124","v":93.3},{"$f":"$E$7*$G$124","v":74.099999999999994},"è",0.06]
["8th",{"$f":"$B$7*$G$125","v":138.32499999999999},{"$f":"$C$7*$G$125","v":120.72499999999999},{"$f":"$D$7*$G$125","v":85.525000000000006},{"$f":"$E$7*$G$125","v":67.924999999999997},"è",5.5E-2]
["9th",{"$f":"$B$7*$G$126","v":125.75},{"$f":"$C$7*$G$126","v":109.75},{"$f":"$D$7*$G$126","v":77.75},{"$f":"$E$7*$G$126","v":61.75},"è",0.05]
["10th",{"$f":"$B$7*$G$127","v":113.175},{"$f":"$C$7*$G$127","v":98.774999999999991},{"$f":"$D$7*$G$127","v":69.974999999999994},{"$f":"$E$7*$G$127","v":55.574999999999996},"è",4.4999999999999998E-2]
["11th",{"$f":"$B$7*$G$128","v":100.60000000000001},{"$f":"$C$7*$G$128","v":87.8},{"$f":"$D$7*$G$128","v":62.2},{"$f":"$E$7*$G$128","v":49.4},"è",0.04]
["12th",{"$f":"$B$7*$G$129","v":93.054999999999993},{"$f":"$C$7*$G$129","v":81.214999999999989},{"$f":"$D$7*$G$129","v":57.534999999999997},{"$f":"$E$7*$G$129","v":45.695},"è",3.6999999999999998E-2]
["13th",{"$f":"$B$7*$G$130","v":82.995000000000005},{"$f":"$C$7*$G$130","v":72.435000000000002},{"$f":"$D$7*$G$130","v":51.315000000000005},{"$f":"$E$7*$G$130","v":40.755000000000003},"è",3.3000000000000002E-2]
["14th",{"$f":"$B$7*$G$131","v":72.935000000000002},{"$f":"$C$7*$G$131","v":63.655000000000001},{"$f":"$D$7*$G$131","v":45.094999999999999},{"$f":"$E$7*$G$131","v":35.815000000000005},"è",2.9000000000000001E-2]
["15th",{"$f":"$B$7*$G$132","v":62.875},{"$f":"$C$7*$G$132","v":54.875},{"$f":"$D$7*$G$132","v":38.875},{"$f":"$E$7*$G$132","v":30.875},"è",2.5000000000000001E-2]
["16th",{"$f":"$B$7*$G$133","v":52.815000000000005},{"$f":"$C$7*$G$133","v":46.095000000000006},{"$f":"$D$7*$G$133","v":32.655000000000001},{"$f":"$E$7*$G$133","v":25.935000000000002},"è",2.1000000000000001E-2]
["17th",{"$f":"$B$7*$G$134","v":42.755000000000003},{"$f":"$C$7*$G$134","v":37.315000000000005},{"$f":"$D$7*$G$134","v":26.435000000000002},{"$f":"$E$7*$G$134","v":20.995000000000001},"è",1.7000000000000001E-2]
["18th",{"$f":"$B$7*$G$135","v":35.21},{"$f":"$C$7*$G$135","v":30.73},{"$f":"$D$7*$G$135","v":21.77},{"$f":"$E$7*$G$135","v":17.29},"è",1.4E-2]
["19th",{"$f":"$B$7*$G$136","v":30.18},{"$f":"$C$7*$G$136","v":26.34},{"$f":"$D$7*$G$136","v":18.66},{"$f":"$E$7*$G$136","v":14.82},"è",1.2E-2]
["20th",{"$f":"$B$7*$G$137","v":25.150000000000002},{"$f":"$C$7*$G$137","v":21.95},{"$f":"$D$7*$G$137","v":15.55},{"$f":"$E$7*$G$137","v":12.35},"è",0.01]
["Totals",{"$f":"SUM(B118:B137)","v":2515},{"$f":"SUM(C118:C137)","v":2194.9999999999995},1555.0000000000002,1234.9999999999998,{"$f":"B138+C138+D138+E138","v":7500},{"$f":"SUM(G118:G137)","v":1.0000000000000004}]
[]
["For 1201 or More riders 30 places"]
["Placings","1D","2D","3D","4D"]
["1st",{"$f":"$B$7*$G$142","v":301.8},{"$f":"$C$7*$G$142","v":263.39999999999998},{"$f":"$D$7*$G$142","v":186.6},{"$f":"$E$7*$G$142","v":148.19999999999999},"è",0.12]
["2nd",{"$f":"$B$7*$G$143","v":238.92500000000001},{"$f":"$C$7*$G$143","v":208.52500000000001},{"$f":"$D$7*$G$143","v":147.72499999999999},{"$f":"$E$7*$G$143","v":117.325},"è",9.5000000000000001E-2]
["3rd",{"$f":"$B$7*$G$144","v":183.595},{"$f":"$C$7*$G$144","v":160.23499999999999},{"$f":"$D$7*$G$144","v":113.51499999999999},{"$f":"$E$7*$G$144","v":90.155000000000001},"è",7.2999999999999995E-2]
["4th",{"$f":"$B$7*$G$145","v":155.93},{"$f":"$C$7*$G$145","v":136.09},{"$f":"$D$7*$G$145","v":96.41},{"$f":"$E$7*$G$145","v":76.569999999999993},"è",6.2E-2]
["5th",{"$f":"$B$7*$G$146","v":125.75},{"$f":"$C$7*$G$146","v":109.75},{"$f":"$D$7*$G$146","v":77.75},{"$f":"$E$7*$G$146","v":61.75},"è",0.05]
["6th",{"$f":"$B$7*$G$147","v":113.175},{"$f":"$C$7*$G$147","v":98.774999999999991},{"$f":"$D$7*$G$147","v":69.974999999999994},{"$f":"$E$7*$G$147","v":55.574999999999996},"è",4.4999999999999998E-2]
["7th",{"$f":"$B$7*$G$148","v":108.145},{"$f":"$C$7*$G$148","v":94.384999999999991},{"$f":"$D$7*$G$148","v":66.864999999999995},{"$f":"$E$7*$G$148","v":53.104999999999997},"è",4.2999999999999997E-2]
["8th",{"$f":"$B$7*$G$149","v":100.60000000000001},{"$f":"$C$7*$G$149","v":87.8},{"$f":"$D$7*$G$149","v":62.2},{"$f":"$E$7*$G$149","v":49.4},"è",0.04]
["9th",{"$f":"$B$7*$G$150","v":93.054999999999993},{"$f":"$C$7*$G$150","v":81.214999999999989},{"$f":"$D$7*$G$150","v":57.534999999999997},{"$f":"$E$7*$G$150","v":45.695},"è",3.6999999999999998E-2]
["10th",{"$f":"$B$7*$G$151","v":88.025000000000006},{"$f":"$C$7*$G$151","v":76.825000000000003},{"$f":"$D$7*$G$151","v":54.425000000000004},{"$f":"$E$7*$G$151","v":43.225000000000001},"è",3.5000000000000003E-2]
["11th",{"$f":"$B$7*$G$152","v":82.995000000000005},{"$f":"$C$7*$G$152","v":72.435000000000002},{"$f":"$D$7*$G$152","v":51.315000000000005},{"$f":"$E$7*$G$152","v":40.755000000000003},"è",3.3000000000000002E-2]
["12th",{"$f":"$B$7*$G$153","v":77.965000000000003},{"$f":"$C$7*$G$153","v":68.045000000000002},{"$f":"$D$7*$G$153","v":48.204999999999998},{"$f":"$E$7*$G$153","v":38.284999999999997},"è",3.1E-2]
["13th",{"$f":"$B$7*$G$154","v":72.935000000000002},{"$f":"$C$7*$G$154","v":63.655000000000001},{"$f":"$D$7*$G$154","v":45.094999999999999},{"$f":"$E$7*$G$154","v":35.815000000000005},"è",2.9000000000000001E-2]
["14th",{"$f":"$B$7*$G$155","v":67.905000000000001},{"$f":"$C$7*$G$155","v":59.265000000000001},{"$f":"$D$7*$G$155","v":41.984999999999999},{"$f":"$E$7*$G$155","v":33.344999999999999},"è",2.7E-2]
["15th",{"$f":"$B$7*$G$156","v":62.875},{"$f":"$C$7*$G$156","v":54.875},{"$f":"$D$7*$G$156","v":38.875},{"$f":"$E$7*$G$156","v":30.875},"è",2.5000000000000001E-2]
["16th",{"$f":"$B$7*$G$157","v":60.36},{"$f":"$C$7*$G$157","v":52.68},{"$f":"$D$7*$G$157","v":37.32},{"$f":"$E$7*$G$157","v":29.64},"è",2.4E-2]
["17th",{"$f":"$B$7*$G$158","v":57.844999999999999},{"$f":"$C$7*$G$158","v":50.484999999999999},{"$f":"$D$7*$G$158","v":35.765000000000001},{"$f":"$E$7*$G$158","v":28.405000000000001},"è",2.3E-2]
["18th",{"$f":"$B$7*$G$159","v":55.33},{"$f":"$C$7*$G$159","v":48.29},{"$f":"$D$7*$G$159","v":34.21},{"$f":"$E$7*$G$159","v":27.169999999999998},"è",2.1999999999999999E-2]
["19th",{"$f":"$B$7*$G$160","v":52.815000000000005},{"$f":"$C$7*$G$160","v":46.095000000000006},{"$f":"$D$7*$G$160","v":32.655000000000001},{"$f":"$E$7*$G$160","v":25.935000000000002},"è",2.1000000000000001E-2]
["20th",{"$f":"$B$7*$G$161","v":50.300000000000004},{"$f":"$C$7*$G$161","v":43.9},{"$f":"$D$7*$G$161","v":31.1},{"$f":"$E$7*$G$161","v":24.7},"è",0.02]
["21st",{"$f":"$B$7*$G$162","v":47.784999999999997},{"$f":"$C$7*$G$162","v":41.704999999999998},{"$f":"$D$7*$G$162","v":29.544999999999998},{"$f":"$E$7*$G$162","v":23.465},"è",1.9E-2]
["22nd",{"$f":"$B$7*$G$163","v":45.269999999999996},{"$f":"$C$7*$G$163","v":39.51},{"$f":"$D$7*$G$163","v":27.99},{"$f":"$E$7*$G$163","v":22.229999999999997},"è",1.7999999999999999E-2]
["23rd",{"$f":"$B$7*$G$164","v":42.755000000000003},{"$f":"$C$7*$G$164","v":37.315000000000005},{"$f":"$D$7*$G$164","v":26.435000000000002},{"$f":"$E$7*$G$164","v":20.995000000000001},"è",1.7000000000000001E-2]
["24th",{"$f":"$B$7*$G$165","v":40.24},{"$f":"$C$7*$G$165","v":35.119999999999997},{"$f":"$D$7*$G$165","v":24.88},{"$f":"$E$7*$G$165","v":19.760000000000002},"è",1.6E-2]
["25th",{"$f":"$B$7*$G$166","v":37.725000000000001},{"$f":"$C$7*$G$166","v":32.924999999999997},{"$f":"$D$7*$G$166","v":23.324999999999999},{"$f":"$E$7*$G$166","v":18.524999999999999},"è",1.4999999999999999E-2]
["26th",{"$f":"$B$7*$G$167","v":35.21},{"$f":"$C$7*$G$167","v":30.73},{"$f":"$D$7*$G$167","v":21.77},{"$f":"$E$7*$G$167","v":17.29},"è",1.4E-2]
["27th",{"$f":"$B$7*$G$168","v":32.695},{"$f":"$C$7*$G$168","v":28.535},{"$f":"$D$7*$G$168","v":20.215},{"$f":"$E$7*$G$168","v":16.055},"è",1.2999999999999999E-2]
["28th",{"$f":"$B$7*$G$169","v":30.18},{"$f":"$C$7*$G$169","v":26.34},{"$f":"$D$7*$G$169","v":18.66},{"$f":"$E$7*$G$169","v":14.82},"è",1.2E-2]
["29th",{"$f":"$B$7*$G$170","v":27.664999999999999},{"$f":"$C$7*$G$170","v":24.145},{"$f":"$D$7*$G$170","v":17.105},{"$f":"$E$7*$G$170","v":13.584999999999999},"è",1.0999999999999999E-2]
["30th",{"$f":"$B$7*$G$171","v":25.150000000000002},{"$f":"$C$7*$G$171","v":21.95},{"$f":"$D$7*$G$171","v":15.55},{"$f":"$E$7*$G$171","v":12.35},"è",0.01]
["Totals",{"$f":"SUM(B142:B171)","v":2514.9999999999995},{"$f":"SUM(C142:C171)","v":2194.9999999999995},{"$f":"SUM(D142:D171)","v":1555},{"$f":"SUM(E142:E171)","v":1234.9999999999998},{"$f":"B172+C172+D172+E172","v":7499.9999999999991},{"$f":"SUM(G142:G171)","v":1.0000000000000002}]

{"sheet":"5D Payout BBR","index":15,"n_rows":172,"n_cols":8,"rows_kept":172,"cut":false,"hidden":false,"merged":[[139,0,139,7],[80,0,80,7],[95,0,95,7],[96,0,96,7],[81,6,81,7],[97,6,97,7],[116,6,116,7],[114,0,114,7],[115,0,115,7],[65,0,65,7],[66,0,66,7],[79,0,79,7],[67,6,67,7],[138,0,138,7],[44,0,44,7],[45,6,45,7],[53,0,53,7],[54,0,54,7],[55,6,55,7],[0,0,0,7],[3,0,3,7],[8,0,8,7],[9,0,9,7],[5,6,6,6],[10,6,10,7],[13,0,13,7],[14,0,14,7],[140,6,140,7],[5,7,7,7],[15,6,15,7],[19,0,19,7],[20,0,20,7],[21,6,21,7],[26,0,26,7],[27,0,27,7],[28,6,28,7],[34,0,34,7],[35,0,35,7],[36,6,36,7],[43,0,43,7]]}
["5D Payout BBR"]
["Entry Fee","# Entries","% Payback","$ From Entry","Added $","Total Payout","Total $ Held"]
[50,325,0.8,{"$f":"$A$3*$C$3*$B$3","v":13000},2000,{"$f":"($A$3*$C$3)*$B$3+$E$3","v":15000},{"$f":"$A$3*(100%-$C$3)*$B$3","v":3249.9999999999995}]
[]
["% in each D",0.3,0.25,0.2,0.15,0.1,"Total % Payout",{"$f":"SUM(B5:F5)","v":1}]
[null,"1D","2D","3D","4D","5D"]
[null,{"$f":"(($A$3*$B$3*$C$3*$B$5)+($E$3*$B$5))","v":4500},{"$f":"(($A$3*$B$3*$C$3*$C$5)+($E$3*$C$5))","v":3750},{"$f":"(($A$3*$B$3*$C$3*$D$5)+($E$3*$D$5))","v":3000},{"$f":"(($A$3*$B$3*$C$3*$E$5)+($E$3*$E$5))","v":2250},{"$f":"(($A$3*$B$3*$C$3*$F$5)+($E$3*$F$5))","v":1500}]
["Totals",{"$f":"SUM(B7)","v":4500},{"$f":"SUM(C7)","v":3750},3000,2250,1500,{"$f":"SUM(B8:F8)","v":15000}]
[]
["For 1-25 riders 1 place"]
["Placings","1D","2D","3D","4D","5D"]
["1st",{"$f":"$B$7*$H$12","v":4500},{"$f":"$C$7*$H$12","v":3750},{"$f":"$D$7*$H$12","v":3000},{"$f":"$E$7*$H$12","v":2250},{"$f":"$F$7*$H$12","v":1500},"è",1]
["Totals",{"$f":"SUM(B12:B12)","v":4500},{"$f":"SUM(C12:C12)","v":3750},{"$f":"SUM(D12:D12)","v":3000},{"$f":"SUM(E12:E12)","v":2250},{"$f":"SUM(F12)","v":1500},{"$f":"SUM(B13:F13)","v":15000},{"$f":"SUM(H12)","v":1}]
[]
["For 26-50 riders 2 places"]
["Placings","1D","2D","3D","4D","5D"]
["1st",{"$f":"$B$7*$H$17","v":2700},{"$f":"$C$7*$H$17","v":2250},{"$f":"$D$7*$H$17","v":1800},{"$f":"$E$7*$H$17","v":1350},{"$f":"$F$7*$H$17","v":900},"è",0.6]
["2nd",{"$f":"$B$7*$H$18","v":1800},{"$f":"$C$7*$H$18","v":1500},{"$f":"$D$7*$H$18","v":1200},{"$f":"$E$7*$H$18","v":900},{"$f":"$F$7*$H$18","v":600},"è",0.4]
["Totals",{"$f":"SUM(B17:B18)","v":4500},{"$f":"SUM(C17:C18)","v":3750},{"$f":"SUM(D17:D18)","v":3000},{"$f":"SUM(E17:E18)","v":2250},{"$f":"SUM(F17:F18)","v":1500},{"$f":"SUM(B19:F19)","v":15000},{"$f":"SUM(H17:H18)","v":1}]
[]
["For 51-100 riders 3 places"]
["Placings","1D","2D","3D","4D","5D"]
["1st",{"$f":"$B$7*$H$23","v":2250},{"$f":"$C$7*$H$23","v":1875},{"$f":"$D$7*$H$23","v":1500},{"$f":"$E$7*$H$23","v":1125},{"$f":"$F$7*$H$23","v":750},"è",0.5]
["2nd",{"$f":"$B$7*$H$24","v":1350},{"$f":"$C$7*$H$24","v":1125},{"$f":"$D$7*$H$24","v":900},{"$f":"$E$7*$H$24","v":675},{"$f":"$F$7*$H$24","v":450},"è",0.3]
["3rd",{"$f":"$B$7*$H$25","v":900},{"$f":"$C$7*$H$25","v":750},{"$f":"$D$7*$H$25","v":600},{"$f":"$E$7*$H$25","v":450},{"$f":"$F$7*$H$25","v":300},"è",0.2]
["Totals",{"$f":"SUM(B23:B25)","v":4500},{"$f":"SUM(C23:C25)","v":3750},{"$f":"SUM(D23:D25)","v":3000},{"$f":"SUM(E23:E25)","v":2250},{"$f":"SUM(F23:F25)","v":1500},{"$f":"SUM(B26:F26)","v":15000},{"$f":"SUM(H23:H25)","v":1}]
[]
["For 101-143 riders 4 places"]
["Placings","1D","2D","3D","4D","5D"]
["1st",{"$f":"$B$7*$H$30","v":1800},{"$f":"$C$7*$H$30","v":1500},{"$f":"$D$7*$H$30","v":1200},{"$f":"$E$7*$H$30","v":900},{"$f":"$F$7*$H$30","v":600},"è",0.4]
["2nd",{"$f":"$B$7*$H$31","v":1350},{"$f":"$C$7*$H$31","v":1125},{"$f":"$D$7*$H$31","v":900},{"$f":"$E$7*$H$31","v":675},{"$f":"$F$7*$H$31","v":450},"è",0.3]
["3rd",{"$f":"$B$7*$H$32","v":900},{"$f":"$C$7*$H$32","v":750},{"$f":"$D$7*$H$32","v":600},{"$f":"$E$7*$H$32","v":450},{"$f":"$F$7*$H$32","v":300},"è",0.2]
["4th",{"$f":"$B$7*$H$33","v":450},{"$f":"$C$7*$H$33","v":375},{"$f":"$D$7*$H$33","v":300},{"$f":"$E$7*$H$33","v":225},{"$f":"$F$7*$H$33","v":150},"è",0.1]
["Totals",{"$f":"SUM(B30:B33)","v":4500},{"$f":"SUM(C30:C33)","v":3750},{"$f":"SUM(D30:D33)","v":3000},{"$f":"SUM(E30:E33)","v":2250},{"$f":"SUM(F30:F33)","v":1500},{"$f":"SUM(B34:F34)","v":15000},{"$f":"SUM(H30:H33)","v":0.99999999999999989}]
[]
["For 144-200 riders 5 places"]
["Placings","1D","2D","3D","4D","5D"]
["1st",{"$f":"$B$7*$H$38","v":1485},{"$f":"$C$7*$H$38","v":1237.5},{"$f":"$D$7*$H$38","v":990},{"$f":"$E$7*$H$38","v":742.5},{"$f":"$F$7*$H$38","v":495},"è",0.33]
["2nd",{"$f":"$B$7*$H$39","v":1215},{"$f":"$C$7*$H$39","v":1012.5000000000001},{"$f":"$D$7*$H$39","v":810},{"$f":"$E$7*$H$39","v":607.5},{"$f":"$F$7*$H$39","v":405},"è",0.27]
["3rd",{"$f":"$B$7*$H$40","v":900},{"$f":"$C$7*$H$40","v":750},{"$f":"$D$7*$H$40","v":600},{"$f":"$E$7*$H$40","v":450},{"$f":"$F$7*$H$40","v":300},"è",0.2]
["4th",{"$f":"$B$7*$H$41","v":585},{"$f":"$C$7*$H$41","v":487.5},{"$f":"$D$7*$H$41","v":390},{"$f":"$E$7*$H$41","v":292.5},{"$f":"$F$7*$H$41","v":195},"è",0.13]
["5th",{"$f":"$B$7*$H$42","v":315.00000000000006},{"$f":"$C$7*$H$42","v":262.5},{"$f":"$D$7*$H$42","v":210.00000000000003},{"$f":"$E$7*$H$42","v":157.50000000000003},{"$f":"$F$7*$H$42","v":105.00000000000001},"è",7.0000000000000007E-2]
["Totals",{"$f":"SUM(B38:B42)","v":4500},{"$f":"SUM(C38:C42)","v":3750},{"$f":"SUM(D38:D42)","v":3000},{"$f":"SUM(E38:E42)","v":2250},{"$f":"SUM(F38:F42)","v":1500},{"$f":"SUM(B43:F43)","v":15000},{"$f":"SUM(H38:H42)","v":1}]
[]
["For 201-250 riders 6 places"]
["Placings","1D","2D","3D","4D","5D"]
["1st",{"$f":"$B$7*$H$47","v":1305},{"$f":"$C$7*$H$47","v":1087.5},{"$f":"$D$7*$H$47","v":869.99999999999989},{"$f":"$E$7*$H$47","v":652.5},{"$f":"$F$7*$H$47","v":434.99999999999994},"è",0.28999999999999998]
["2nd",{"$f":"$B$7*$H$48","v":1080},{"$f":"$C$7*$H$48","v":900},{"$f":"$D$7*$H$48","v":720},{"$f":"$E$7*$H$48","v":540},{"$f":"$F$7*$H$48","v":360},"è",0.24]
["3rd",{"$f":"$B$7*$H$49","v":855},{"$f":"$C$7*$H$49","v":712.5},{"$f":"$D$7*$H$49","v":570},{"$f":"$E$7*$H$49","v":427.5},{"$f":"$F$7*$H$49","v":285},"è",0.19]
["4th",{"$f":"$B$7*$H$50","v":630.00000000000011},{"$f":"$C$7*$H$50","v":525},{"$f":"$D$7*$H$50","v":420.00000000000006},{"$f":"$E$7*$H$50","v":315.00000000000006},{"$f":"$F$7*$H$50","v":210.00000000000003},"è",0.14000000000000001]
["5th",{"$f":"$B$7*$H$51","v":405},{"$f":"$C$7*$H$51","v":337.5},{"$f":"$D$7*$H$51","v":270},{"$f":"$E$7*$H$51","v":202.5},{"$f":"$F$7*$H$51","v":135},"è",0.09]
["6th",{"$f":"$B$7*$H$52","v":225},{"$f":"$C$7*$H$52","v":187.5},{"$f":"$D$7*$H$52","v":150},{"$f":"$E$7*$H$52","v":112.5},{"$f":"$F$7*$H$52","v":75},"è",0.05]
["Totals",{"$f":"SUM(B47:B52)","v":4500},{"$f":"SUM(C47:C52)","v":3750},{"$f":"SUM(D47:D52)","v":3000},{"$f":"SUM(E47:E52)","v":2250},{"$f":"SUM(F47:F52)","v":1500},{"$f":"SUM(B53:F53)","v":15000},{"$f":"SUM(H47:H52)","v":1}]
[]
["For 251-333 riders 8 places"]
["Placings","1D","2D","3D","4D","5D"]
["1st",{"$f":"$B$7*$H$57","v":1080},{"$f":"$C$7*$H$57","v":900},{"$f":"$D$7*$H$57","v":720},{"$f":"$E$7*$H$57","v":540},{"$f":"$F$7*$H$57","v":360},"è",0.24]
["2nd",{"$f":"$B$7*$H$58","v":900},{"$f":"$C$7*$H$58","v":750},{"$f":"$D$7*$H$58","v":600},{"$f":"$E$7*$H$58","v":450},{"$f":"$F$7*$H$58","v":300},"è",0.2]
["3rd",{"$f":"$B$7*$H$59","v":765},{"$f":"$C$7*$H$59","v":637.5},{"$f":"$D$7*$H$59","v":510.00000000000006},{"$f":"$E$7*$H$59","v":382.5},{"$f":"$F$7*$H$59","v":255.00000000000003},"è",0.17]
["4th",{"$f":"$B$7*$H$60","v":585},{"$f":"$C$7*$H$60","v":487.5},{"$f":"$D$7*$H$60","v":390},{"$f":"$E$7*$H$60","v":292.5},{"$f":"$F$7*$H$60","v":195},"è",0.13]
["5th",{"$f":"$B$7*$H$61","v":450},{"$f":"$C$7*$H$61","v":375},{"$f":"$D$7*$H$61","v":300},{"$f":"$E$7*$H$61","v":225},{"$f":"$F$7*$H$61","v":150},"è",0.1]
["6th",{"$f":"$B$7*$H$62","v":315.00000000000006},{"$f":"$C$7*$H$62","v":262.5},{"$f":"$D$7*$H$62","v":210.00000000000003},{"$f":"$E$7*$H$62","v":157.50000000000003},{"$f":"$F$7*$H$62","v":105.00000000000001},"è",7.0000000000000007E-2]
["7th",{"$f":"$B$7*$H$63","v":225},{"$f":"$C$7*$H$63","v":187.5},{"$f":"$D$7*$H$63","v":150},{"$f":"$E$7*$H$63","v":112.5},{"$f":"$F$7*$H$63","v":75},"è",0.05]
["8th",{"$f":"$B$7*$H$64","v":180},{"$f":"$C$7*$H$64","v":150},{"$f":"$D$7*$H$64","v":120},{"$f":"$E$7*$H$64","v":90},{"$f":"$F$7*$H$64","v":60},"è",0.04]
["Totals",{"$f":"SUM(B57:B64)","v":4500},{"$f":"SUM(C57:C64)","v":3750},{"$f":"SUM(D57:D64)","v":3000},{"$f":"SUM(E57:E64)","v":2250},{"$f":"SUM(F57:F64)","v":1500},{"$f":"SUM(B65:F65)","v":15000},{"$f":"SUM(H57:H64)","v":1}]
[]
["For 334-500 riders 10 places"]
["Placings","1D","2D","3D","4D","5D"]
["1st",{"$f":"$B$7*$H$69","v":945},{"$f":"$C$7*$H$69","v":787.5},{"$f":"$D$7*$H$69","v":630},{"$f":"$E$7*$H$69","v":472.5},{"$f":"$F$7*$H$69","v":315},"è",0.21]
["2nd",{"$f":"$B$7*$H$70","v":810},{"$f":"$C$7*$H$70","v":675},{"$f":"$D$7*$H$70","v":540},{"$f":"$E$7*$H$70","v":405},{"$f":"$F$7*$H$70","v":270},"è",0.18]
["3rd",{"$f":"$B$7*$H$71","v":675},{"$f":"$C$7*$H$71","v":562.5},{"$f":"$D$7*$H$71","v":450},{"$f":"$E$7*$H$71","v":337.5},{"$f":"$F$7*$H$71","v":225},"è",0.15]
["4th",{"$f":"$B$7*$H$72","v":540},{"$f":"$C$7*$H$72","v":450},{"$f":"$D$7*$H$72","v":360},{"$f":"$E$7*$H$72","v":270},{"$f":"$F$7*$H$72","v":180},"è",0.12]
["5th",{"$f":"$B$7*$H$73","v":405},{"$f":"$C$7*$H$73","v":337.5},{"$f":"$D$7*$H$73","v":270},{"$f":"$E$7*$H$73","v":202.5},{"$f":"$F$7*$H$73","v":135},"è",0.09]
["6th",{"$f":"$B$7*$H$74","v":315.00000000000006},{"$f":"$C$7*$H$74","v":262.5},{"$f":"$D$7*$H$74","v":210.00000000000003},{"$f":"$E$7*$H$74","v":157.50000000000003},{"$f":"$F$7*$H$74","v":105.00000000000001},"è",7.0000000000000007E-2]
["7th",{"$f":"$B$7*$H$75","v":270},{"$f":"$C$7*$H$75","v":225},{"$f":"$D$7*$H$75","v":180},{"$f":"$E$7*$H$75","v":135},{"$f":"$F$7*$H$75","v":90},"è",0.06]
["8th",{"$f":"$B$7*$H$76","v":225},{"$f":"$C$7*$H$76","v":187.5},{"$f":"$D$7*$H$76","v":150},{"$f":"$E$7*$H$76","v":112.5},{"$f":"$F$7*$H$76","v":75},"è",0.05]
["9th",{"$f":"$B$7*$H$77","v":180},{"$f":"$C$7*$H$77","v":150},{"$f":"$D$7*$H$77","v":120},{"$f":"$E$7*$H$77","v":90},{"$f":"$F$7*$H$77","v":60},"è",0.04]
["10th",{"$f":"$B$7*$H$78","v":135},{"$f":"$C$7*$H$78","v":112.5},{"$f":"$D$7*$H$78","v":90},{"$f":"$E$7*$H$78","v":67.5},{"$f":"$F$7*$H$78","v":45},"è",0.03]
["Totals",{"$f":"SUM(B69:B78)","v":4500},{"$f":"SUM(C69:C78)","v":3750},3000,2250,1500,{"$f":"SUM(B79:F79)","v":15000},{"$f":"SUM(H69:H78)","v":1.0000000000000002}]
[]
["For 501-666 riders 12 places"]
["Placings","1D","2D","3D","4D","5D"]
["1st",{"$f":"$B$7*$H$83","v":855},{"$f":"$C$7*$H$83","v":712.5},{"$f":"$D$7*$H$83","v":570},{"$f":"$E$7*$H$83","v":427.5},{"$f":"$F$7*$H$83","v":285},"è",0.19]
["2nd",{"$f":"$B$7*$H$84","v":675},{"$f":"$C$7*$H$84","v":562.5},{"$f":"$D$7*$H$84","v":450},{"$f":"$E$7*$H$84","v":337.5},{"$f":"$F$7*$H$84","v":225},"è",0.15]
["3rd",{"$f":"$B$7*$H$85","v":540},{"$f":"$C$7*$H$85","v":450},{"$f":"$D$7*$H$85","v":360},{"$f":"$E$7*$H$85","v":270},{"$f":"$F$7*$H$85","v":180},"è",0.12]
["4th",{"$f":"$B$7*$H$86","v":450},{"$f":"$C$7*$H$86","v":375},{"$f":"$D$7*$H$86","v":300},{"$f":"$E$7*$H$86","v":225},{"$f":"$F$7*$H$86","v":150},"è",0.1]
["5th",{"$f":"$B$7*$H$87","v":405},{"$f":"$C$7*$H$87","v":337.5},{"$f":"$D$7*$H$87","v":270},{"$f":"$E$7*$H$87","v":202.5},{"$f":"$F$7*$H$87","v":135},"è",0.09]
["6th",{"$f":"$B$7*$H$88","v":360},{"$f":"$C$7*$H$88","v":300},{"$f":"$D$7*$H$88","v":240},{"$f":"$E$7*$H$88","v":180},{"$f":"$F$7*$H$88","v":120},"è",0.08]
["7th",{"$f":"$B$7*$H$89","v":315.00000000000006},{"$f":"$C$7*$H$89","v":262.5},{"$f":"$D$7*$H$89","v":210.00000000000003},{"$f":"$E$7*$H$89","v":157.50000000000003},{"$f":"$F$7*$H$89","v":105.00000000000001},"è",7.0000000000000007E-2]
["8th",{"$f":"$B$7*$H$90","v":270},{"$f":"$C$7*$H$90","v":225},{"$f":"$D$7*$H$90","v":180},{"$f":"$E$7*$H$90","v":135},{"$f":"$F$7*$H$90","v":90},"è",0.06]
["9th",{"$f":"$B$7*$H$91","v":225},{"$f":"$C$7*$H$91","v":187.5},{"$f":"$D$7*$H$91","v":150},{"$f":"$E$7*$H$91","v":112.5},{"$f":"$F$7*$H$91","v":75},"è",0.05]
["10th",{"$f":"$B$7*$H$92","v":180},{"$f":"$C$7*$H$92","v":150},{"$f":"$D$7*$H$92","v":120},{"$f":"$E$7*$H$92","v":90},{"$f":"$F$7*$H$92","v":60},"è",0.04]
["11th",{"$f":"$B$7*$H$93","v":135},{"$f":"$C$7*$H$93","v":112.5},{"$f":"$D$7*$H$93","v":90},{"$f":"$E$7*$H$93","v":67.5},{"$f":"$F$7*$H$93","v":45},"è",0.03]
["12th",{"$f":"$B$7*$H$94","v":90},{"$f":"$C$7*$H$94","v":75},{"$f":"$D$7*$H$94","v":60},{"$f":"$E$7*$H$94","v":45},{"$f":"$F$7*$H$94","v":30},"è",0.02]
["Totals",{"$f":"SUM(B83:B94)","v":4500},{"$f":"SUM(C83:C94)","v":3750},{"$f":"SUM(D83:D94)","v":3000},{"$f":"SUM(E83:E94)","v":2250},{"$f":"SUM(F83:F94)","v":1500},{"$f":"SUM(B95:F95)","v":15000},{"$f":"SUM(H83:H94)","v":1}]
[]
["For 667-1000 riders 15 places"]
["Placings","1D","2D","3D","4D","5D"]
["1st",{"$f":"$B$7*$H$99","v":810},{"$f":"$C$7*$H$99","v":675},{"$f":"$D$7*$H$99","v":540},{"$f":"$E$7*$H$99","v":405},{"$f":"$F$7*$H$99","v":270},"è",0.18]
["2nd",{"$f":"$B$7*$H$100","v":675},{"$f":"$C$7*$H$100","v":562.5},{"$f":"$D$7*$H$100","v":450},{"$f":"$E$7*$H$100","v":337.5},{"$f":"$F$7*$H$100","v":225},"è",0.15]
["3rd",{"$f":"$B$7*$H$101","v":540},{"$f":"$C$7*$H$101","v":450},{"$f":"$D$7*$H$101","v":360},{"$f":"$E$7*$H$101","v":270},{"$f":"$F$7*$H$101","v":180},"è",0.12]
["4th",{"$f":"$B$7*$H$102","v":450},{"$f":"$C$7*$H$102","v":375},{"$f":"$D$7*$H$102","v":300},{"$f":"$E$7*$H$102","v":225},{"$f":"$F$7*$H$102","v":150},"è",0.1]
["5th",{"$f":"$B$7*$H$103","v":382.5},{"$f":"$C$7*$H$103","v":318.75},{"$f":"$D$7*$H$103","v":255.00000000000003},{"$f":"$E$7*$H$103","v":191.25},{"$f":"$F$7*$H$103","v":127.50000000000001},"è",8.5000000000000006E-2]
["6th",{"$f":"$B$7*$H$104","v":315.00000000000006},{"$f":"$C$7*$H$104","v":262.5},{"$f":"$D$7*$H$104","v":210.00000000000003},{"$f":"$E$7*$H$104","v":157.50000000000003},{"$f":"$F$7*$H$104","v":105.00000000000001},"è",7.0000000000000007E-2]
["7th",{"$f":"$B$7*$H$105","v":270},{"$f":"$C$7*$H$105","v":225},{"$f":"$D$7*$H$105","v":180},{"$f":"$E$7*$H$105","v":135},{"$f":"$F$7*$H$105","v":90},"è",0.06]
["8th",{"$f":"$B$7*$H$106","v":225},{"$f":"$C$7*$H$106","v":187.5},{"$f":"$D$7*$H$106","v":150},{"$f":"$E$7*$H$106","v":112.5},{"$f":"$F$7*$H$106","v":75},"è",0.05]
["9th",{"$f":"$B$7*$H$107","v":191.25},{"$f":"$C$7*$H$107","v":159.375},{"$f":"$D$7*$H$107","v":127.50000000000001},{"$f":"$E$7*$H$107","v":95.625},{"$f":"$F$7*$H$107","v":63.750000000000007},"è",4.2500000000000003E-2]
["10th",{"$f":"$B$7*$H$108","v":157.50000000000003},{"$f":"$C$7*$H$108","v":131.25},{"$f":"$D$7*$H$108","v":105.00000000000001},{"$f":"$E$7*$H$108","v":78.750000000000014},{"$f":"$F$7*$H$108","v":52.500000000000007},"è",3.5000000000000003E-2]
["11th",{"$f":"$B$7*$H$109","v":135},{"$f":"$C$7*$H$109","v":112.5},{"$f":"$D$7*$H$109","v":90},{"$f":"$E$7*$H$109","v":67.5},{"$f":"$F$7*$H$109","v":45},"è",0.03]
["12th",{"$f":"$B$7*$H$110","v":112.5},{"$f":"$C$7*$H$110","v":93.75},{"$f":"$D$7*$H$110","v":75},{"$f":"$E$7*$H$110","v":56.25},{"$f":"$F$7*$H$110","v":37.5},"è",2.5000000000000001E-2]
["13th",{"$f":"$B$7*$H$111","v":90},{"$f":"$C$7*$H$111","v":75},{"$f":"$D$7*$H$111","v":60},{"$f":"$E$7*$H$111","v":45},{"$f":"$F$7*$H$111","v":30},"è",0.02]
["14th",{"$f":"$B$7*$H$112","v":78.750000000000014},{"$f":"$C$7*$H$112","v":65.625},{"$f":"$D$7*$H$112","v":52.500000000000007},{"$f":"$E$7*$H$112","v":39.375000000000007},{"$f":"$F$7*$H$112","v":26.250000000000004},"è",1.7500000000000002E-2]
["15th",{"$f":"$B$7*$H$113","v":67.5},{"$f":"$C$7*$H$113","v":56.25},{"$f":"$D$7*$H$113","v":45},{"$f":"$E$7*$H$113","v":33.75},{"$f":"$F$7*$H$113","v":22.5},"è",1.4999999999999999E-2]
["Totals",{"$f":"SUM(B99:B113)","v":4500},{"$f":"SUM(C99:C113)","v":3750},{"$f":"SUM(D99:D113)","v":3000},{"$f":"SUM(E99:E113)","v":2250},{"$f":"SUM(F99:F113)","v":1500},{"$f":"SUM(B114:F114)","v":15000},{"$f":"SUM(H99:H113)","v":1}]
[]
["For 1001-1500 riders 20 places"]
["Placings","1D","2D","3D","4D","5D"]
["1st",{"$f":"$B$7*$H$118","v":630.00000000000011},{"$f":"$C$7*$H$118","v":525},{"$f":"$D$7*$H$118","v":420.00000000000006},{"$f":"$E$7*$H$118","v":315.00000000000006},{"$f":"$F$7*$H$118","v":210.00000000000003},"è",0.14000000000000001]
["2nd",{"$f":"$B$7*$H$119","v":495},{"$f":"$C$7*$H$119","v":412.5},{"$f":"$D$7*$H$119","v":330},{"$f":"$E$7*$H$119","v":247.5},{"$f":"$F$7*$H$119","v":165},"è",0.11]
["3rd",{"$f":"$B$7*$H$120","v":405},{"$f":"$C$7*$H$120","v":337.5},{"$f":"$D$7*$H$120","v":270},{"$f":"$E$7*$H$120","v":202.5},{"$f":"$F$7*$H$120","v":135},"è",0.09]
["4th",{"$f":"$B$7*$H$121","v":346.5},{"$f":"$C$7*$H$121","v":288.75},{"$f":"$D$7*$H$121","v":231},{"$f":"$E$7*$H$121","v":173.25},{"$f":"$F$7*$H$121","v":115.5},"è",7.6999999999999999E-2]
["5th",{"$f":"$B$7*$H$122","v":315.00000000000006},{"$f":"$C$7*$H$122","v":262.5},{"$f":"$D$7*$H$122","v":210.00000000000003},{"$f":"$E$7*$H$122","v":157.50000000000003},{"$f":"$F$7*$H$122","v":105.00000000000001},"è",7.0000000000000007E-2]
["6th",{"$f":"$B$7*$H$123","v":292.5},{"$f":"$C$7*$H$123","v":243.75},{"$f":"$D$7*$H$123","v":195},{"$f":"$E$7*$H$123","v":146.25},{"$f":"$F$7*$H$123","v":97.5},"è",6.5000000000000002E-2]
["7th",{"$f":"$B$7*$H$124","v":270},{"$f":"$C$7*$H$124","v":225},{"$f":"$D$7*$H$124","v":180},{"$f":"$E$7*$H$124","v":135},{"$f":"$F$7*$H$124","v":90},"è",0.06]
["8th",{"$f":"$B$7*$H$125","v":247.5},{"$f":"$C$7*$H$125","v":206.25},{"$f":"$D$7*$H$125","v":165},{"$f":"$E$7*$H$125","v":123.75},{"$f":"$F$7*$H$125","v":82.5},"è",5.5E-2]
["9th",{"$f":"$B$7*$H$126","v":225},{"$f":"$C$7*$H$126","v":187.5},{"$f":"$D$7*$H$126","v":150},{"$f":"$E$7*$H$126","v":112.5},{"$f":"$F$7*$H$126","v":75},"è",0.05]
["10th",{"$f":"$B$7*$H$127","v":202.5},{"$f":"$C$7*$H$127","v":168.75},{"$f":"$D$7*$H$127","v":135},{"$f":"$E$7*$H$127","v":101.25},{"$f":"$F$7*$H$127","v":67.5},"è",4.4999999999999998E-2]
["11th",{"$f":"$B$7*$H$128","v":180},{"$f":"$C$7*$H$128","v":150},{"$f":"$D$7*$H$128","v":120},{"$f":"$E$7*$H$128","v":90},{"$f":"$F$7*$H$128","v":60},"è",0.04]
["12th",{"$f":"$B$7*$H$129","v":166.5},{"$f":"$C$7*$H$129","v":138.75},{"$f":"$D$7*$H$129","v":111},{"$f":"$E$7*$H$129","v":83.25},{"$f":"$F$7*$H$129","v":55.5},"è",3.6999999999999998E-2]
["13th",{"$f":"$B$7*$H$130","v":148.5},{"$f":"$C$7*$H$130","v":123.75},{"$f":"$D$7*$H$130","v":99},{"$f":"$E$7*$H$130","v":74.25},{"$f":"$F$7*$H$130","v":49.5},"è",3.3000000000000002E-2]
["14th",{"$f":"$B$7*$H$131","v":130.5},{"$f":"$C$7*$H$131","v":108.75},{"$f":"$D$7*$H$131","v":87},{"$f":"$E$7*$H$131","v":65.25},{"$f":"$F$7*$H$131","v":43.5},"è",2.9000000000000001E-2]
["15th",{"$f":"$B$7*$H$132","v":112.5},{"$f":"$C$7*$H$132","v":93.75},{"$f":"$D$7*$H$132","v":75},{"$f":"$E$7*$H$132","v":56.25},{"$f":"$F$7*$H$132","v":37.5},"è",2.5000000000000001E-2]
["16th",{"$f":"$B$7*$H$133","v":94.5},{"$f":"$C$7*$H$133","v":78.75},{"$f":"$D$7*$H$133","v":63.000000000000007},{"$f":"$E$7*$H$133","v":47.25},{"$f":"$F$7*$H$133","v":31.500000000000004},"è",2.1000000000000001E-2]
["17th",{"$f":"$B$7*$H$134","v":76.5},{"$f":"$C$7*$H$134","v":63.750000000000007},{"$f":"$D$7*$H$134","v":51.000000000000007},{"$f":"$E$7*$H$134","v":38.25},{"$f":"$F$7*$H$134","v":25.500000000000004},"è",1.7000000000000001E-2]
["18th",{"$f":"$B$7*$H$135","v":63},{"$f":"$C$7*$H$135","v":52.5},{"$f":"$D$7*$H$135","v":42},{"$f":"$E$7*$H$135","v":31.5},{"$f":"$F$7*$H$135","v":21},"è",1.4E-2]
["19th",{"$f":"$B$7*$H$136","v":54},{"$f":"$C$7*$H$136","v":45},{"$f":"$D$7*$H$136","v":36},{"$f":"$E$7*$H$136","v":27},{"$f":"$F$7*$H$136","v":18},"è",1.2E-2]
["20th",{"$f":"$B$7*$H$137","v":45},{"$f":"$C$7*$H$137","v":37.5},{"$f":"$D$7*$H$137","v":30},{"$f":"$E$7*$H$137","v":22.5},{"$f":"$F$7*$H$137","v":15},"è",0.01]
["Totals",{"$f":"SUM(B118:B137)","v":4500},{"$f":"SUM(C118:C137)","v":3750},3000,2250,1500,{"$f":"SUM(B138:F138)","v":15000},{"$f":"SUM(H118:H137)","v":1.0000000000000004}]
[]
["For 1501 or More riders 30 places"]
["Placings","1D","2D","3D","4D","5D"]
["1st",{"$f":"$B$7*$H142","v":540},{"$f":"$C$7*$H142","v":450},{"$f":"$D$7*$H142","v":360},{"$f":"$E$7*$H142","v":270},{"$f":"$F$7*$H142","v":180},"è",0.12]
["2nd",{"$f":"$B$7*$H143","v":427.5},356.25,285,213.75,142.5,"è",9.5000000000000001E-2]
["3rd",{"$f":"$B$7*$H144","v":328.5},273.75,219,164.25,109.5,"è",7.2999999999999995E-2]
["4th",{"$f":"$B$7*$H145","v":279},232.5,186,139.5,93,"è",6.2E-2]
["5th",225,187.5,150,112.5,75,"è",0.05]
["6th",202.5,168.75,135,101.25,67.5,"è",4.4999999999999998E-2]
["7th",193.49999999999997,161.25,129,96.749999999999986,64.5,"è",4.2999999999999997E-2]
["8th",180,150,120,90,60,"è",0.04]
["9th",166.5,138.75,111,83.25,55.5,"è",3.6999999999999998E-2]
["10th",157.50000000000003,131.25,105.00000000000001,78.750000000000014,52.500000000000007,"è",3.5000000000000003E-2]
["11th",148.5,123.75,99,74.25,49.5,"è",3.3000000000000002E-2]
["12th",139.5,116.25,93,69.75,46.5,"è",3.1E-2]
["13th",130.5,108.75,87,65.25,43.5,"è",2.9000000000000001E-2]
["14th",121.5,101.25,81,60.75,40.5,"è",2.7E-2]
["15th",112.5,93.75,75,56.25,37.5,"è",2.5000000000000001E-2]
["16th",108,90,72,54,36,"è",2.4E-2]
["17th",103.5,86.25,69,51.75,34.5,"è",2.3E-2]
["18th",99,82.5,66,49.5,33,"è",2.1999999999999999E-2]
["19th",94.5,78.75,63.000000000000007,47.25,31.500000000000004,"è",2.1000000000000001E-2]
["20th",90,75,60,45,30,"è",0.02]
["21st",85.5,71.25,57,42.75,28.5,"è",1.9E-2]
["22nd",81,67.5,53.999999999999993,40.5,26.999999999999996,"è",1.7999999999999999E-2]
["23rd",76.5,63.750000000000007,51.000000000000007,38.25,25.500000000000004,"è",1.7000000000000001E-2]
["24th",72,60,48,36,24,"è",1.6E-2]
["25th",67.5,56.25,45,33.75,22.5,"è",1.4999999999999999E-2]
["26th",63,52.5,42,31.5,21,"è",1.4E-2]
["27th",58.5,48.75,39,29.25,19.5,"è",1.2999999999999999E-2]
["28th",54,45,36,27,18,"è",1.2E-2]
["29th",49.5,41.25,33,24.75,16.5,"è",1.0999999999999999E-2]
["30th",45,37.5,30,22.5,15,"è",0.01]
["Totals",{"$f":"SUM(B142:B171)","v":4500},{"$f":"SUM(C142:C171)","v":3750},3000,2250,1500,{"$f":"SUM(B172:F172)","v":15000},{"$f":"SUM(H142:H171)","v":1.0000000000000002}]

{"sheet":"DON'T TOUCH","index":16,"n_rows":6,"n_cols":5,"rows_kept":6,"cut":false,"hidden":true,"merged":[]}
[]
["Yes",null,"S",5,"X"]
[null,null,"A",10]
[null,null,"Y",15]
[null,null,"P","BP"]
[null,null,null,"SCR"]