{"text_format":"2","workbook":"xlsx","n_sheets":16,"sheets":["Highstakes","Open","Senior","Adult","Youth","Derby","Futurity","12 & Under","8&under","Average","BFA 2D Payout","2D Payout","3D Payout","4D Payout BBR","5D Payout BBR","DON'T TOUCH"],"not_rendered":{"charts":0,"images":0,"macros":0,"external_links":0,"defined_names":7,"comments":0,"pivot_tables":0},"unopened":[],"bounds":{"document_bytes":16777216,"sheet_cells":100000,"run_cost":"one","rows_first":2000,"rows_last":500,"rows_between":2000,"halvings":0,"cell_chars":16384,"cell_head_chars":4096},"cells_cut":0,"cells_raw":0,"read":"whole","date_system":"1900"}

{"sheet":"Highstakes","index":0,"n_rows":302,"n_cols":10,"rows_kept":302,"cut":false,"hidden":false,"merged":[]}
["Futurity","Der","Age Inct.","BBR","Draw","Rider Name","Horse Name","Time","Placing","Money Earned"]
[{"$nulls":4},1,"Danyelle Campbell","Famous Dungarees",15.726000000000001,"1D 1st",672]
[{"$nulls":4},2,"Molli Montgomery","Legsgonewild",15.808]
[{"$nulls":4},3,"Sadie Weldon","WB Runaway Pumpkin",16.148]
[{"$nulls":4},4,"Susan Agnew","Splash Da Firewater",16.841999999999999,"2D 1st",288]
[{"$nulls":4},5,"Molli Montgomery","Pandora",16.890999999999998]
[{"$nulls":4},6,"Lynn Brown","This Guys No Angel","nt16.118"]
[{"$nulls":4},7,"Amy wilson","KN No Moe Siss","nt16.157"]
[{"$nulls":4},8,"Susan Agnew","Jet N Ta Fame","nt16.475"]
[{"$nulls":4},9,"Jade Crago","Sophie So Sweet","nt16.545"]
[{"$nulls":4},10,"Molli Montgomery","Makin Ya Famous","nt19.809"]
[{"$nulls":4},11,"Terry Vogel","DarbyFrenchmengonblu","nt28.541"]
[{"$nulls":4},12,"Alexis Baratka","Queen Red Cash","nt43.323"]
[{"$nulls":4},14]
[{"$nulls":4},15]
[{"$nulls":4},16]
[{"$nulls":4},17]
[{"$nulls":4},18]
[{"$nulls":4},17]
[{"$nulls":4},2]
[{"$nulls":4},8]
[{"$nulls":4},24]
[{"$nulls":4},15]
[{"$nulls":4},26]
[{"$nulls":4},5]
[{"$nulls":4},13]
[{"$nulls":4},4]
[{"$nulls":4},19]
[{"$nulls":4},21]
[{"$nulls":4},28]
[{"$nulls":4},29]
[{"$nulls":4},30]
[{"$nulls":4},31]
[{"$nulls":4},32]
[{"$nulls":4},33]
[{"$nulls":4},34]
[{"$nulls":4},35]
[{"$nulls":4},36]
[{"$nulls":4},37]
[{"$nulls":4},38]
[{"$nulls":4},39]
[{"$nulls":4},40]
[{"$nulls":4},41]
[{"$nulls":4},42]
[{"$nulls":4},43]
[{"$nulls":4},44]
[{"$nulls":4},45]
[{"$nulls":4},46]
[{"$nulls":4},47]
[{"$nulls":4},48]
[{"$nulls":4},49]
[{"$nulls":4},50]
[{"$nulls":4},51]
[{"$nulls":4},52]
[{"$nulls":4},53]
[{"$nulls":4},54]
[{"$nulls":4},55]
[{"$nulls":4},56]
[{"$nulls":4},57]
[{"$nulls":4},58]
[{"$nulls":4},59]
[{"$nulls":4},60]
[{"$nulls":4},61]
[{"$nulls":4},62]
[{"$nulls":4},63]
[{"$nulls":4},64]
[{"$nulls":4},65]
[{"$nulls":4},66]
[{"$nulls":4},67]
[{"$nulls":4},68]
[{"$nulls":4},69]
[{"$nulls":4},70]
[{"$nulls":4},71]
[{"$nulls":4},72]
[{"$nulls":4},73]
[{"$nulls":4},74]
[{"$nulls":4},75]
[{"$nulls":4},76]
[{"$nulls":4},77]
[{"$nulls":4},78]
[{"$nulls":4},79]
[{"$nulls":4},80]
[{"$nulls":4},81]
[{"$nulls":4},82]
[{"$nulls":4},83]
[{"$nulls":4},84]
[{"$nulls":4},85]
[{"$nulls":4},86]
[{"$nulls":4},87]
[{"$nulls":4},88]
[{"$nulls":4},89]
[{"$nulls":4},90]
[{"$nulls":4},91]
[{"$nulls":4},92]
[{"$nulls":4},93]
[{"$nulls":4},94]
[{"$nulls":4},95]
[{"$nulls":4},96]
[{"$nulls":4},97]
[{"$nulls":4},98]
[{"$nulls":4},99]
[{"$nulls":4},100]
[{"$nulls":4},101]
[{"$nulls":4},102]
[{"$nulls":4},103]
[{"$nulls":4},104]
[{"$nulls":4},105]
[{"$nulls":4},106]
[{"$nulls":4},107]
[{"$nulls":4},108]
[{"$nulls":4},109]
[{"$nulls":4},110]
[{"$nulls":4},111]
[{"$nulls":4},112]
[{"$nulls":4},113]
[{"$nulls":4},114]
[{"$nulls":4},115]
[{"$nulls":4},116]
[{"$nulls":4},117]
[{"$nulls":4},118]
[{"$nulls":4},119]
[{"$nulls":4},120]
[{"$nulls":4},121]
[{"$nulls":4},122]
[{"$nulls":4},123]
[{"$nulls":4},124]
[{"$nulls":4},125]
[{"$nulls":4},126]
[{"$nulls":4},127]
[{"$nulls":4},128]
[{"$nulls":4},129]
[{"$nulls":4},130]
[{"$nulls":4},131]
[{"$nulls":4},132]
[{"$nulls":4},133]
[{"$nulls":4},134]
[{"$nulls":4},135]
[{"$nulls":4},136]
[{"$nulls":4},137]
[{"$nulls":4},138]
[{"$nulls":4},139]
[{"$nulls":4},140]
[{"$nulls":4},141]
[{"$nulls":4},142]
[{"$nulls":4},143]
[{"$nulls":4},144]
[{"$nulls":4},145]
[{"$nulls":4},146]
[{"$nulls":4},147]
[{"$nulls":4},148]
[{"$nulls":4},149]
[{"$nulls":4},150]
[{"$nulls":4},151]
[{"$nulls":4},152]
[{"$nulls":4},153]
[{"$nulls":4},154]
[{"$nulls":4},155]
[{"$nulls":4},156]
[{"$nulls":4},157]
[{"$nulls":4},158]
[{"$nulls":4},159]
[{"$nulls":4},160]
[{"$nulls":4},161]
[{"$nulls":4},162]
[{"$nulls":4},163]
[{"$nulls":4},164]
[{"$nulls":4},165]
[{"$nulls":4},166]
[{"$nulls":4},167]
[{"$nulls":4},168]
[{"$nulls":4},169]
[{"$nulls":4},170]
[{"$nulls":4},171]
[{"$nulls":4},172]
[{"$nulls":4},173]
[{"$nulls":4},174]
[{"$nulls":4},175]
[{"$nulls":4},176]
[{"$nulls":4},177]
[{"$nulls":4},178]
[{"$nulls":4},179]
[{"$nulls":4},180]
[{"$nulls":4},181]
[{"$nulls":4},182]
[{"$nulls":4},183]
[{"$nulls":4},184]
[{"$nulls":4},185]
[{"$nulls":4},186]
[{"$nulls":4},187]
[{"$nulls":4},188]
[{"$nulls":4},189]
[{"$nulls":4},190]
[{"$nulls":4},191]
[{"$nulls":4},192]
[{"$nulls":4},193]
[{"$nulls":4},194]
[{"$nulls":4},195]
[{"$nulls":4},196]
[{"$nulls":4},197]
[{"$nulls":4},198]
[{"$nulls":4},199]
[{"$nulls":4},200]
[{"$nulls":4},201]
[{"$nulls":4},202]
[{"$nulls":4},203]
[{"$nulls":4},204]
[{"$nulls":4},205]
[{"$nulls":4},206]
[{"$nulls":4},207]
[{"$nulls":4},208]
[{"$nulls":4},209]
[{"$nulls":4},210]
[{"$nulls":4},211]
[{"$nulls":4},212]
[{"$nulls":4},213]
[{"$nulls":4},214]
[{"$nulls":4},215]
[{"$nulls":4},216]
[{"$nulls":4},217]
[{"$nulls":4},218]
[{"$nulls":4},219]
[{"$nulls":4},220]
[{"$nulls":4},221]
[{"$nulls":4},222]
[{"$nulls":4},223]
[{"$nulls":4},224]
[{"$nulls":4},225]
[{"$nulls":4},226]
[{"$nulls":4},227]
[{"$nulls":4},228]
[{"$nulls":4},229]
[{"$nulls":4},230]
[{"$nulls":4},231]
[{"$nulls":4},232]
[{"$nulls":4},233]
[{"$nulls":4},234]
[{"$nulls":4},235]
[{"$nulls":4},236]
[{"$nulls":4},237]
[{"$nulls":4},238]
[{"$nulls":4},239]
[{"$nulls":4},240]
[{"$nulls":4},241]
[{"$nulls":4},242]
[{"$nulls":4},243]
[{"$nulls":4},244]
[{"$nulls":4},245]
[{"$nulls":4},246]
[{"$nulls":4},247]
[{"$nulls":4},248]
[{"$nulls":4},249]
[{"$nulls":4},250]
[{"$nulls":4},251]
[{"$nulls":4},252]
[{"$nulls":4},253]
[{"$nulls":4},254]
[{"$nulls":4},255]
[{"$nulls":4},256]
[{"$nulls":4},257]
[{"$nulls":4},258]
[{"$nulls":4},259]
[{"$nulls":4},260]
[{"$nulls":4},261]
[{"$nulls":4},262]
[{"$nulls":4},263]
[{"$nulls":4},264]
[{"$nulls":4},265]
[{"$nulls":4},266]
[{"$nulls":4},267]
[{"$nulls":4},268]
[{"$nulls":4},269]
[{"$nulls":4},270]
[{"$nulls":4},271]
[{"$nulls":4},272]
[{"$nulls":4},273]
[{"$nulls":4},274]
[{"$nulls":4},275]
[{"$nulls":4},276]
[{"$nulls":4},277]
[{"$nulls":4},278]
[{"$nulls":4},279]
[{"$nulls":4},280]
[{"$nulls":4},281]
[{"$nulls":4},282]
[{"$nulls":4},283]
[{"$nulls":4},284]
[{"$nulls":4},285]
[{"$nulls":4},286]
[{"$nulls":4},287]
[{"$nulls":4},288]
[{"$nulls":4},289]
[{"$nulls":4},290]
[{"$nulls":4},291]
[{"$nulls":4},292]
[{"$nulls":4},293]
[{"$nulls":4},294]
[{"$nulls":4},295]
[{"$nulls":4},296]
[{"$nulls":4},297]
[{"$nulls":4},298]
[{"$nulls":4},299]
[{"$nulls":4},300]

{"sheet":"Open","index":1,"n_rows":371,"n_cols":20,"rows_kept":371,"cut":false,"hidden":false,"merged":[[1,0,1,15],[0,0,0,15],[2,17,2,18]]}
[]
["Open"]
["Futurity","5 Yr Fut","Der","Age Inct.","High Stakes","2018 Mem","BBR","WPRA","Draw","Rider Name","Horse Name","Pen","Time","Final Time","Placing","Money Earned",null,"D Placing",null,"Split"]
[null,null,"X",{"$nulls":5},236,"Nisa Berry","VF Look Im Back",null,15.593,null,"1D 1st",1053.3599999999999]
[{"$nulls":4},"X","yes",null,null,171,"Danyelle Campbell","Famous Dungarees",null,15.726000000000001,null,"1D 2nd",902.88]
[{"$nulls":5},"yes",2870,1115,119,"Molly Powell","Shortcake",null,15.791,null,"1D 3rd",752.4]
[null,null,"X","A","X",null,null,null,76,"Molli Montgomery","Legsgonewild",null,15.808,null,"1D 4th",601.91999999999996]
[null,null,null,"A",null,null,4927,23545,319,"Abby Pursifull","Flippin Terrific",null,15.858000000000001,null,"1D 5th",451.44]
[{"$nulls":8},273,"Brittany Mayfield","Jewels In My Rolex",null,15.862,null,"1D 6th",351.12000000000006]
[{"$nulls":8},86,"Wendy Suhn","HLH Streakin A Fling",null,15.879,null,"1D 7th",300.95999999999998]
[null,null,"X","A",{"$nulls":4},170,"Felecia Taylor","AR Dash Ta Flame",null,15.887,null,"1D 8th",250.8]
[null,null,"X","Y",{"$nulls":4},137,"Charli Snow","Shinin For You",null,15.932,null,"1D 9th",200.64000000000001]
[{"$nulls":8},279,"Lisa Wernli","Flashes Fine Effort",null,15.957000000000001,null,"1D 10th",150.47999999999999]
[null,null,null,"A",{"$nulls":4},211,"Felecia Taylor","Makilts",null,15.965999999999999]
[{"$nulls":8},324,"Rachel Rule","Happy",null,15.993]
[null,null,null,"S",null,null,6397,4650,53,"Raylene Cox","Ya Give Me Fever",null,15.997]
[{"$nulls":8},286,"Erin Reich","Sallee",null,16.042999999999999]
[{"$nulls":6},9026,24294,181,"Tauna Bertsch","Miss Handy Cool Pep",null,16.045999999999999]
[null,null,null,"S",null,null,8033,null,368,"Martha Smith","Firewatermakemehappy",null,16.05]
[null,null,"X","A",{"$nulls":4},74,"Whitney Godinez","Happy Hour Special",null,16.065000000000001]
[null,null,"X","Y",null,null,11930,"j25312L",17,"Riley Ross","HP Rocket Ta Fame",null,16.074000000000002]
[null,null,"X",{"$nulls":5},288,"Lindsey Kruse","Crown N Fame",null,16.077999999999999]
[{"$nulls":7},"R25025H",309,"Geneva Kelly","Hickorys N Lik Flint",null,16.084]
["X",{"$nulls":7},311,"Nisa Berry","VF Famous Cowgirl",null,16.088999999999999]
[null,null,null,"S",null,"YES",10507,null,161,"Sidney Ryan","Lyndis Sonny Lights",null,16.100000000000001,null,"2D 1st",877.8]
[{"$nulls":8},266,"Kim Schulze","Holy Moly Im Famous",null,16.143999999999998,null,"2D 2nd",752.4]
[null,null,null,"S",{"$nulls":4},264,"Lynn Saunders","Chumley",null,16.146999999999998,null,"2D 3rd",627]
[{"$nulls":4},"X",null,2621,null,156,"Sadie Weldon","WB Runaway Pumpkin",null,16.148,null,"2D 4th",501.59999999999997]
[null,null,"X",null,null,null,3224,23280,11,"Hannah Forbes","Ivory Candy",null,16.161000000000001,null,"2D 5th",376.2]
[{"$nulls":8},315,"Tessa Rueberg","Bulls Little Lady Go",null,16.161999999999999,null,"2D 6th",292.60000000000002]
["X",{"$nulls":4},"yes",null,null,333,"Davie King","CR Tellemimfamous",null,16.18,null,"2D 7th",250.79999999999998]
[null,null,null,"S",null,null,274,null,135,"Lee Ann Brooks","Tofast Ta View",null,16.186,null,"2D 8th/9th",188]
[null,null,null,"S",null,null,12574,null,166,"Connie Randolph","Hot Rod Kitty Cat",null,16.186,null,"2D 8/9th",188]
[{"$nulls":8},67,"Jessica Dahl","Peppy Wimpy Cutter",null,16.187999999999999,null,"2D 10th",125.39999999999999]
["X",{"$nulls":5},4773,20401,100,"Ryann Pedone","Coco Bongo",null,16.187999999999999]
[null,null,null,"Y",{"$nulls":4},115,"Shia Williams","JF Frenchmans Rhythm",null,16.201000000000001]
[null,null,"X",null,null,null,10413,21657,365,"Natalie Bland","THC OK Fuel",null,16.216000000000001]
[{"$nulls":6},8875,null,257,"Savannah Chaddick","Seven Bars Ta Fame",null,16.225000000000001]
[null,null,"X",null,null,null,5416,"R25148P",14,"Lauren Whitmire","WR Rebas Fling",null,16.228999999999999]
["X",{"$nulls":4},"yes",996,4298,32,"Andrea Cline","Fame Us First Lady",null,16.238]
[null,null,"X",{"$nulls":4},22827,235,"Lacey Harmon","Just The Way You Are",null,16.239000000000001]
[null,null,null,"S",{"$nulls":4},221,"Lynn Saunders","Popcorn",null,16.254000000000001]
[{"$nulls":8},304,"Lisa Wernli","Dash On Down Sue",null,16.262]
[{"$nulls":6},14413,4095,238,"Jill Crotta","Lookin So Hot",null,16.27]
[null,null,null,"A",null,"yes",11985,null,54,"Carlos Renato","Bon Jovi",null,16.274999999999999]
[null,null,null,"Y",{"$nulls":4},332,"Alex Stokes","Reba",null,16.28]
["X",{"$nulls":7},292,"Nisa Berry","Jeepers Im Famous",null,16.29]
[{"$nulls":7},22827,206,"Lacey Harmon","It Is What It Is Guys",null,16.294]
[{"$nulls":6},10942,25517,49,"Becky Dillard","Wow Shes Hot",null,16.297000000000001]
[{"$nulls":8},318,"Summer Kutchera","FC Classic Sunday",null,16.297000000000001]
[null,null,null,"A",{"$nulls":4},248,"Rebba Wright","CEO Kinda Sassy Gal",null,16.318000000000001]
[{"$nulls":5},"YES",7314,null,70,"Lindsey Stevens","JM I Got Faith",null,16.323]
[{"$nulls":8},303,"Kathy Warren","WR Peponic Promise",null,16.329999999999998]
[null,null,"X",null,null,null,13123,null,41,"Jessica Haggerty","Fame On Fire",null,16.341000000000001]
[null,null,"X",null,null,null,8262,null,15,"Laura Avery","Letta Trouble Doit",null,16.350000000000001]
[{"$nulls":6},14424,null,243,"Kathy Warren","Gonnagetluckytonight",null,16.364999999999998]
[null,null,null,"Y",null,"yes",11999,null,159,"Amie Hennen","UknowUNVMe",null,16.367999999999999]
[{"$nulls":8},296,"Lyndsey Broxton","Dullys JP King",null,16.37]
["X",{"$nulls":7},173,"Ali Anton","Glamour Goddess",null,16.38]
[{"$nulls":8},205,"Brittany Fellows","Le Jane",null,16.382999999999999]
[null,null,null,"S",null,null,9089,2293,366,"Donna Tippen","Lyla",null,16.385000000000002]
[{"$nulls":8},92,"Jeane Gibbs","A Charming Doll",null,16.399000000000001]
[null,null,null,"S",null,null,null,24290,178,"Stacy Gates","FR Firewater Request",null,16.407]
["X",null,null,"Y",null,"yes",13029,null,241,"Maylee McCrary","SK Easy Struttin Go",null,16.408999999999999]
[null,null,null,"S",null,"yes",4649,null,6,"Terry Vogel","BB Boogyingfrenchman",null,16.420999999999999]
[null,null,null,"A",null,null,10030,null,27,"Timber Allenbrand",null,null,16.431000000000001]
[null,null,null,"A",{"$nulls":4},112,"Adelita Tyson","Nickapop",null,16.431000000000001]
[null,null,null,"A",null,"yes",11985,null,118,"Carlos Renato","Zero",null,16.440999999999999,{"$f":"IF(OR(L68=5,L68=10, L68=15, L68=\"BP\",L68=\"SCR\"),\"NT\",M68)","v":16.440999999999999}]
[null,null,null,"S",null,null,274,null,208,"Lee Ann Brooks","Thedoctorsatthebar",null,16.446000000000002,{"$f":"IF(OR(L69=5,L69=10, L69=15, L69=\"BP\",L69=\"SCR\"),\"NT\",M69)","v":16.446000000000002}]
[null,null,null,"S",null,"YES",7789,null,229,"Jodi Stovall","Miss French Drifter",null,16.459,{"$f":"IF(OR(L70=5,L70=10, L70=15, L70=\"BP\",L70=\"SCR\"),\"NT\",M70)","v":16.459}]
[null,null,null,"A",null,"yes",922,null,140,"Lorissa Jo Merritt","Bully Bully Fame",null,16.466000000000001,{"$f":"IF(OR(L71=5,L71=10, L71=15, L71=\"BP\",L71=\"SCR\"),\"NT\",M71)","v":16.466000000000001}]
[{"$nulls":8},204,"Emily Mangione","Rock Roll N Repete",null,16.481000000000002,{"$f":"IF(OR(L72=5,L72=10, L72=15, L72=\"BP\",L72=\"SCR\"),\"NT\",M72)","v":16.481000000000002}]
["X",{"$nulls":5},1017,null,20,"Chris Martin"," A Smooth Twister",null,16.488,{"$f":"IF(OR(L73=5,L73=10, L73=15, L73=\"BP\",L73=\"SCR\"),\"NT\",M73)","v":16.488}]
[{"$nulls":5},"yes",null,null,10,"Shannon Black ","Little Bit",null,16.501999999999999,{"$f":"IF(OR(L74=5,L74=10, L74=15, L74=\"BP\",L74=\"SCR\"),\"NT\",M74)","v":16.501999999999999}]
[{"$nulls":6},533,null,66,"Stepheny Womack","Pistol",null,16.506,{"$f":"IF(OR(L75=5,L75=10, L75=15, L75=\"BP\",L75=\"SCR\"),\"NT\",M75)","v":16.506}]
[null,null,null,"S",null,null,8033,null,325,"Martha Smith","Victory Blue Moon",null,16.507000000000001,{"$f":"IF(OR(L76=5,L76=10, L76=15, L76=\"BP\",L76=\"SCR\"),\"NT\",M76)","v":16.507000000000001}]
[null,null,null,"A",null,null,null,26213,121,"Shea Durfey","Betty",null,16.507999999999999,{"$f":"IF(OR(L77=5,L77=10, L77=15, L77=\"BP\",L77=\"SCR\"),\"NT\",M77)","v":16.507999999999999}]
[null,null,null,"A",{"$nulls":4},270,"Sheyenne Knox","BRS Peplano",null,16.513000000000002,{"$f":"IF(OR(L78=5,L78=10, L78=15, L78=\"BP\",L78=\"SCR\"),\"NT\",M78)","v":16.513000000000002}]
[{"$nulls":5},"yes",2621,null,114,"Sadie Weldon","Boots Classy Perks",null,16.515000000000001,{"$f":"IF(OR(L79=5,L79=10, L79=15, L79=\"BP\",L79=\"SCR\"),\"NT\",M79)","v":16.515000000000001}]
[{"$nulls":8},7,"Natasha Gray","Ima Fly Guy",null,16.524999999999999,{"$f":"IF(OR(L80=5,L80=10, L80=15, L80=\"BP\",L80=\"SCR\"),\"NT\",M80)","v":16.524999999999999}]
[{"$nulls":8},146,"Shannon Pearson","Reds Roany Pony",null,16.527999999999999,{"$f":"IF(OR(L81=5,L81=10, L81=15, L81=\"BP\",L81=\"SCR\"),\"NT\",M81)","v":16.527999999999999}]
[null,null,null,"Y",{"$nulls":4},175,"Charli Snow","Scootin Lil Chic",null,16.530999999999999,{"$f":"IF(OR(L82=5,L82=10, L82=15, L82=\"BP\",L82=\"SCR\"),\"NT\",M82)","v":16.530999999999999}]
[{"$nulls":8},134,"Wendy Suhn","She B Astreakin",null,16.54,{"$f":"IF(OR(L83=5,L83=10, L83=15, L83=\"BP\",L83=\"SCR\"),\"NT\",M83)","v":16.54}]
[null,null,null,"S",null,null,null,24290,145,"Stacy Gates","PH Firewaters Payday",null,16.547000000000001,{"$f":"IF(OR(L84=5,L84=10, L84=15, L84=\"BP\",L84=\"SCR\"),\"NT\",M84)","v":16.547000000000001}]
["X",{"$nulls":5},4773,20401,62,"Ryann Pedone","NNN Sixums Firewater",null,16.553000000000001,{"$f":"IF(OR(L85=5,L85=10, L85=15, L85=\"BP\",L85=\"SCR\"),\"NT\",M85)","v":16.553000000000001}]
[null,null,null,"S",null,null,null,"w2345L",89,"Bridget Thomas","BT Buddy Stinson",null,16.571000000000002,{"$f":"IF(OR(L86=5,L86=10, L86=15, L86=\"BP\",L86=\"SCR\"),\"NT\",M86)","v":16.571000000000002}]
[null,null,null,"A",null,"yes",null,null,113,"Denny Ralls","Sweet Movin Firewater",null,16.591000000000001,{"$f":"IF(OR(L87=5,L87=10, L87=15, L87=\"BP\",L87=\"SCR\"),\"NT\",M87)","v":16.591000000000001}]
[{"$nulls":8},164,"Susan Campbell","Bills Irish Whiskey",null,16.591000000000001,{"$f":"IF(OR(L88=5,L88=10, L88=15, L88=\"BP\",L88=\"SCR\"),\"NT\",M88)","v":16.591000000000001}]
[{"$nulls":6},7315,null,180,"Victoria Alexander","Frostbite",null,16.597999999999999,{"$f":"IF(OR(L89=5,L89=10, L89=15, L89=\"BP\",L89=\"SCR\"),\"NT\",M89)","v":16.597999999999999},"3D 1st",702.24]
[{"$nulls":8},294,"Danielle Carie","Beeping Back Cash",null,16.600999999999999,{"$f":"IF(OR(L90=5,L90=10, L90=15, L90=\"BP\",L90=\"SCR\"),\"NT\",M90)","v":16.600999999999999},"3D 2nd",601.91999999999996]
[{"$nulls":5},"yes",null,null,268,"Davie King","Gilded wagon",null,16.602,{"$f":"IF(OR(L91=5,L91=10, L91=15, L91=\"BP\",L91=\"SCR\"),\"NT\",M91)","v":16.602},"3D 3rd",501.59999999999997]
[{"$nulls":5},"yes",null,null,301,"Davie King","Thaydeen",null,16.606000000000002,{"$f":"IF(OR(L92=5,L92=10, L92=15, L92=\"BP\",L92=\"SCR\"),\"NT\",M92)","v":16.606000000000002},"3D 4th",401.28]
[{"$nulls":5},"Yes",null,null,83,"Alisha Todd","Sheza Amarillo Doc",null,16.611000000000001,{"$f":"IF(OR(L93=5,L93=10, L93=15, L93=\"BP\",L93=\"SCR\"),\"NT\",M93)","v":16.611000000000001},"3D 5th/6th",267]
[{"$nulls":8},246,"Tessa Rueberg","Shinning Notoriously",null,16.611000000000001,{"$f":"IF(OR(L94=5,L94=10, L94=15, L94=\"BP\",L94=\"SCR\"),\"NT\",M94)","v":16.611000000000001},"3D 5th/6th",267]
[null,null,null,"Y",null,null,11323,null,247,"Mollie Lane","Sunup Starbert",null,16.613,{"$f":"IF(OR(L95=5,L95=10, L95=15, L95=\"BP\",L95=\"SCR\"),\"NT\",M95)","v":16.613},"3D 7th",200.64]
[{"$nulls":8},12,"Gretchen Goedecken","Fine Whatever",null,16.614000000000001,{"$f":"IF(OR(L96=5,L96=10, L96=15, L96=\"BP\",L96=\"SCR\"),\"NT\",M96)","v":16.614000000000001},"3D 8th",167.20000000000002]
[{"$nulls":8},278,"Madison Reich","Kit",null,16.616,{"$f":"IF(OR(L97=5,L97=10, L97=15, L97=\"BP\",L97=\"SCR\"),\"NT\",M97)","v":16.616},"3D 9th",133.76]
[{"$nulls":6},13743,null,111,"Presleigh Akers","Short NitaLena",null,16.622,{"$f":"IF(OR(L98=5,L98=10, L98=15, L98=\"BP\",L98=\"SCR\"),\"NT\",M98)","v":16.622},"3D 10th",100.32]
[null,null,null,"S",null,"yes",null,4031,212,"Tammy Rokus","Flaming Oakey",null,16.623000000000001,{"$f":"IF(OR(L99=5,L99=10, L99=15, L99=\"BP\",L99=\"SCR\"),\"NT\",M99)","v":16.623000000000001}]
[{"$nulls":5},"YES",7314,null,21,"Lindsey Stevens","Wadafire",null,16.625,{"$f":"IF(OR(L100=5,L100=10, L100=15, L100=\"BP\",L100=\"SCR\"),\"NT\",M100)","v":16.625}]
[{"$nulls":8},80,"Lisa Ogden","Flyin Wide Open",null,16.625,{"$f":"IF(OR(L101=5,L101=10, L101=15, L101=\"BP\",L101=\"SCR\"),\"NT\",M101)","v":16.625}]
[{"$nulls":5},"yes",null,null,234,"Tracy Lambert","Rita",null,16.626000000000001,{"$f":"IF(OR(L102=5,L102=10, L102=15, L102=\"BP\",L102=\"SCR\"),\"NT\",M102)","v":16.626000000000001}]
[null,null,"X",{"$nulls":4},24985,157,"Kelsey Gordon","Prada",null,16.63,{"$f":"IF(OR(L103=5,L103=10, L103=15, L103=\"BP\",L103=\"SCR\"),\"NT\",M103)","v":16.63}]
["X",{"$nulls":7},284,"Mindy Holloway","Bicardi",null,16.632999999999999,{"$f":"IF(OR(L104=5,L104=10, L104=15, L104=\"BP\",L104=\"SCR\"),\"NT\",M104)","v":16.632999999999999}]
[null,null,null,"S",null,"yes",661,15602,128,"Lisa Cotter","Outlaw John Dillinger",null,16.638000000000002,{"$f":"IF(OR(L105=5,L105=10, L105=15, L105=\"BP\",L105=\"SCR\"),\"NT\",M105)","v":16.638000000000002}]
[{"$nulls":6},12804,"W161L",259,"Pattie Mackie","Dunnits Genuine 007",null,16.643999999999998,{"$f":"IF(OR(L106=5,L106=10, L106=15, L106=\"BP\",L106=\"SCR\"),\"NT\",M106)","v":16.643999999999998}]
[{"$nulls":8},274,"Maci Berry","Firewater Rime",null,16.648,{"$f":"IF(OR(L107=5,L107=10, L107=15, L107=\"BP\",L107=\"SCR\"),\"NT\",M107)","v":16.648}]
[{"$nulls":8},293,"Bethany Fontenot Owen","Clyde",null,16.663,{"$f":"IF(OR(L108=5,L108=10, L108=15, L108=\"BP\",L108=\"SCR\"),\"NT\",M108)","v":16.663}]
[{"$nulls":5},"yes",922,null,9,"Lorissa Jo Merritt","Shiner Bach",null,16.670000000000002,{"$f":"IF(OR(L109=5,L109=10, L109=15, L109=\"BP\",L109=\"SCR\"),\"NT\",M109)","v":16.670000000000002}]
[{"$nulls":8},260,"Augie Nobile","Ristos Devious Play",null,16.673999999999999,{"$f":"IF(OR(L110=5,L110=10, L110=15, L110=\"BP\",L110=\"SCR\"),\"NT\",M110)","v":16.673999999999999}]
[{"$nulls":8},344,"Donna Ramsey","BB's Royal Dream",null,16.675000000000001,{"$f":"IF(OR(L111=5,L111=10, L111=15, L111=\"BP\",L111=\"SCR\"),\"NT\",M111)","v":16.675000000000001}]
[{"$nulls":8},249,"Chelsie Stodghill","Foxy  ",null,16.692,{"$f":"IF(OR(L112=5,L112=10, L112=15, L112=\"BP\",L112=\"SCR\"),\"NT\",M112)","v":16.692}]
[{"$nulls":8},150,"Brittany Mayfield","Chrome",null,16.701000000000001,{"$f":"IF(OR(L113=5,L113=10, L113=15, L113=\"BP\",L113=\"SCR\"),\"NT\",M113)","v":16.701000000000001}]
[null,null,null,"Y",null,null,11930,"j25312L",55,"Riley Ross","Perks Alive N 75",null,16.702000000000002,{"$f":"IF(OR(L114=5,L114=10, L114=15, L114=\"BP\",L114=\"SCR\"),\"NT\",M114)","v":16.702000000000002}]
[null,null,null,"A",{"$nulls":4},45,"Charlie Cole","Eli",null,16.704999999999998,{"$f":"IF(OR(L115=5,L115=10, L115=15, L115=\"BP\",L115=\"SCR\"),\"NT\",M115)","v":16.704999999999998}]
[null,null,null,"S",{"$nulls":4},47,"Lisa Corey","Bogies French Gamble",null,16.706,{"$f":"IF(OR(L116=5,L116=10, L116=15, L116=\"BP\",L116=\"SCR\"),\"NT\",M116)","v":16.706}]
[null,null,null,"A",null,"yes",13320,null,40,"Brooke Ezell","Nickie Cash",null,16.71,{"$f":"IF(OR(L117=5,L117=10, L117=15, L117=\"BP\",L117=\"SCR\"),\"NT\",M117)","v":16.71}]
["X",null,null,"A",{"$nulls":4},102,"Whitney Godinez","So Gals Got Fire",null,16.712,{"$f":"IF(OR(L118=5,L118=10, L118=15, L118=\"BP\",L118=\"SCR\"),\"NT\",M118)","v":16.712}]
[{"$nulls":8},339,"Annabelle Martin","Swayzie",null,16.713000000000001,{"$f":"IF(OR(L119=5,L119=10, L119=15, L119=\"BP\",L119=\"SCR\"),\"NT\",M119)","v":16.713000000000001}]
[{"$nulls":8},190,"David Thomas","William",null,16.722999999999999,{"$f":"IF(OR(L120=5,L120=10, L120=15, L120=\"BP\",L120=\"SCR\"),\"NT\",M120)","v":16.722999999999999}]
[{"$nulls":6},13776,null,218,"Salem Brooks","Diva",null,16.722999999999999,{"$f":"IF(OR(L121=5,L121=10, L121=15, L121=\"BP\",L121=\"SCR\"),\"NT\",M121)","v":16.722999999999999}]
[{"$nulls":8},312,"Lyndsey Broxton","Little French Gatita",null,16.734000000000002,{"$f":"IF(OR(L122=5,L122=10, L122=15, L122=\"BP\",L122=\"SCR\"),\"NT\",M122)","v":16.734000000000002}]
[{"$nulls":8},117,"John Sharp","Sangria",null,16.745000000000001,{"$f":"IF(OR(L123=5,L123=10, L123=15, L123=\"BP\",L123=\"SCR\"),\"NT\",M123)","v":16.745000000000001}]
[{"$nulls":6},2510,4246,209,"Brandee Hawkins","Bingos Rocket Man",null,16.754000000000001,{"$f":"IF(OR(L124=5,L124=10, L124=15, L124=\"BP\",L124=\"SCR\"),\"NT\",M124)","v":16.754000000000001}]
[{"$nulls":8},291,"Elma Sanford","A One Shadow",null,16.757999999999999,{"$f":"IF(OR(L125=5,L125=10, L125=15, L125=\"BP\",L125=\"SCR\"),\"NT\",M125)","v":16.757999999999999}]
[null,null,null,"A",{"$nulls":4},132,"Caylee Carney","Foxy Poco Cuffs",null,16.763000000000002,{"$f":"IF(OR(L126=5,L126=10, L126=15, L126=\"BP\",L126=\"SCR\"),\"NT\",M126)","v":16.763000000000002}]
[{"$nulls":8},91,"Rande Goetz","Flits Lil Scooter",null,16.765999999999998,{"$f":"IF(OR(L127=5,L127=10, L127=15, L127=\"BP\",L127=\"SCR\"),\"NT\",M127)","v":16.765999999999998}]
[{"$nulls":8},136,"Tori Volk","StompinOutTheFire",null,16.768000000000001,{"$f":"IF(OR(L128=5,L128=10, L128=15, L128=\"BP\",L128=\"SCR\"),\"NT\",M128)","v":16.768000000000001}]
[{"$nulls":8},202,"Deborah MacLeod","A Woodsy Cat",null,16.768999999999998,{"$f":"IF(OR(L129=5,L129=10, L129=15, L129=\"BP\",L129=\"SCR\"),\"NT\",M129)","v":16.768999999999998}]
[{"$nulls":6},3224,23280,60,"Hannah Forbes","Eye Jess Zoomed Bye",null,16.776,{"$f":"IF(OR(L130=5,L130=10, L130=15, L130=\"BP\",L130=\"SCR\"),\"NT\",M130)","v":16.776}]
[null,null,null,"Y",null,null,8705,null,176,"Mikayla Cox","KN Sheza Redneck",null,16.78,{"$f":"IF(OR(L131=5,L131=10, L131=15, L131=\"BP\",L131=\"SCR\"),\"NT\",M131)","v":16.78}]
[{"$nulls":8},329,"Cindy Stone","Super Sonic Corona",null,16.780999999999999,{"$f":"IF(OR(L132=5,L132=10, L132=15, L132=\"BP\",L132=\"SCR\"),\"NT\",M132)","v":16.780999999999999}]
[{"$nulls":6},13776,null,179,"Salem Brooks","Sugar Smooth Duke",null,16.786000000000001,{"$f":"IF(OR(L133=5,L133=10, L133=15, L133=\"BP\",L133=\"SCR\"),\"NT\",M133)","v":16.786000000000001}]
[null,null,"X",{"$nulls":5},144,"Reenie Wahlert","Famous Little Pistol",null,16.789000000000001,{"$f":"IF(OR(L134=5,L134=10, L134=15, L134=\"BP\",L134=\"SCR\"),\"NT\",M134)","v":16.789000000000001}]
[{"$nulls":8},308,"Samantha Moulding","Captain",null,16.794,{"$f":"IF(OR(L135=5,L135=10, L135=15, L135=\"BP\",L135=\"SCR\"),\"NT\",M135)","v":16.794}]
[{"$nulls":8},72,"Sarah Fizer","Sweet Day To Fly",null,16.797000000000001,{"$f":"IF(OR(L136=5,L136=10, L136=15, L136=\"BP\",L136=\"SCR\"),\"NT\",M136)","v":16.797000000000001}]
[null,null,null,"Y",{"$nulls":4},314,"Kristina Osborn","Jesse",null,16.800999999999998,{"$f":"IF(OR(L137=5,L137=10, L137=15, L137=\"BP\",L137=\"SCR\"),\"NT\",M137)","v":16.800999999999998}]
[null,null,null,"A",{"$nulls":4},94,"Tristan Mounts","Junior",null,16.812999999999999,{"$f":"IF(OR(L138=5,L138=10, L138=15, L138=\"BP\",L138=\"SCR\"),\"NT\",M138)","v":16.812999999999999}]
[{"$nulls":5},"yes",null,null,358,"Sadie Holloway","Yasny",null,16.814,{"$f":"IF(OR(L139=5,L139=10, L139=15, L139=\"BP\",L139=\"SCR\"),\"NT\",M139)","v":16.814}]
[{"$nulls":8},277,"Amanda Ortega","Smokin Dun Gun",null,16.815000000000001,{"$f":"IF(OR(L140=5,L140=10, L140=15, L140=\"BP\",L140=\"SCR\"),\"NT\",M140)","v":16.815000000000001}]
[null,null,null,"S",{"$nulls":4},103,"Laura Creel","Frenchmans Docs RX",null,16.815999999999999,{"$f":"IF(OR(L141=5,L141=10, L141=15, L141=\"BP\",L141=\"SCR\"),\"NT\",M141)","v":16.815999999999999}]
[null,null,null,"A",{"$nulls":4},343,"Kaylyn Smith","Pokahawkish",null,16.818999999999999,{"$f":"IF(OR(L142=5,L142=10, L142=15, L142=\"BP\",L142=\"SCR\"),\"NT\",M142)","v":16.818999999999999}]
[null,null,null,"A",{"$nulls":4},99,"Kylena Hager","Bar B Firewatersteel",null,16.824999999999999,{"$f":"IF(OR(L143=5,L143=10, L143=15, L143=\"BP\",L143=\"SCR\"),\"NT\",M143)","v":16.824999999999999}]
[{"$nulls":6},1017,null,96,"Chris Martin","Riot",null,16.827999999999999,{"$f":"IF(OR(L144=5,L144=10, L144=15, L144=\"BP\",L144=\"SCR\"),\"NT\",M144)","v":16.827999999999999}]
[{"$nulls":6},9006,null,197,"Nicole Martin","Layla Olena",null,16.827999999999999,{"$f":"IF(OR(L145=5,L145=10, L145=15, L145=\"BP\",L145=\"SCR\"),\"NT\",M145)","v":16.827999999999999}]
[{"$nulls":8},353,"Ashley Martinkus","Callie Cartel",null,16.832000000000001,{"$f":"IF(OR(L146=5,L146=10, L146=15, L146=\"BP\",L146=\"SCR\"),\"NT\",M146)","v":16.832000000000001}]
[{"$nulls":8},225,"Suade Furr","CJ",null,16.835999999999999,{"$f":"IF(OR(L147=5,L147=10, L147=15, L147=\"BP\",L147=\"SCR\"),\"NT\",M147)","v":16.835999999999999}]
[{"$nulls":8},250,"Riley Chown","Slate",null,16.838000000000001,{"$f":"IF(OR(L148=5,L148=10, L148=15, L148=\"BP\",L148=\"SCR\"),\"NT\",M148)","v":16.838000000000001}]
["X",null,null,"A","X","yes",7477,26660,81,"Susan Agnew","Splash Da Firewater",null,16.841999999999999,{"$f":"IF(OR(L149=5,L149=10, L149=15, L149=\"BP\",L149=\"SCR\"),\"NT\",M149)","v":16.841999999999999}]
[null,null,null,"A",{"$nulls":4},348,"Sissy Penninton","Ciscos Lena Bug",null,16.853000000000002,{"$f":"IF(OR(L150=5,L150=10, L150=15, L150=\"BP\",L150=\"SCR\"),\"NT\",M150)","v":16.853000000000002}]
["X",{"$nulls":4},"yes",922,null,42,"Lorissa Jo Merritt","HB Blazin Fire",null,16.855,{"$f":"IF(OR(L151=5,L151=10, L151=15, L151=\"BP\",L151=\"SCR\"),\"NT\",M151)","v":16.855}]
[{"$nulls":8},254,"Shylah Love","Hayday Lady Bug",null,16.856000000000002,{"$f":"IF(OR(L152=5,L152=10, L152=15, L152=\"BP\",L152=\"SCR\"),\"NT\",M152)","v":16.856000000000002}]
[{"$nulls":8},255,"Lindsey Kruse","Frenchie",null,16.864999999999998,{"$f":"IF(OR(L153=5,L153=10, L153=15, L153=\"BP\",L153=\"SCR\"),\"NT\",M153)","v":16.864999999999998}]
[{"$nulls":8},357,"Nisa Berry","Smarty",null,16.869,{"$f":"IF(OR(L154=5,L154=10, L154=15, L154=\"BP\",L154=\"SCR\"),\"NT\",M154)","v":16.869}]
[{"$nulls":8},310,"Janee' Ornelas","Benelli",null,16.872,{"$f":"IF(OR(L155=5,L155=10, L155=15, L155=\"BP\",L155=\"SCR\"),\"NT\",M155)","v":16.872}]
[null,null,null,"Y",null,"yes",null,null,169,"Rebekah McQueen","Leo Peppy San Belle",null,16.873000000000001,{"$f":"IF(OR(L156=5,L156=10, L156=15, L156=\"BP\",L156=\"SCR\"),\"NT\",M156)","v":16.873000000000001}]
["X",{"$nulls":4},"yes",null,null,122,"Emilie Veillette","Bar B Kiss N Boogie",null,16.873999999999999,{"$f":"IF(OR(L157=5,L157=10, L157=15, L157=\"BP\",L157=\"SCR\"),\"NT\",M157)","v":16.873999999999999}]
[null,null,null,"Y",{"$nulls":4},194,"Tripp Taylor","Smalls",null,16.884,{"$f":"IF(OR(L158=5,L158=10, L158=15, L158=\"BP\",L158=\"SCR\"),\"NT\",M158)","v":16.884}]
[null,null,"X","A","X",null,null,null,58,"Molli Montgomery","Pandora",null,16.890999999999998,{"$f":"IF(OR(L159=5,L159=10, L159=15, L159=\"BP\",L159=\"SCR\"),\"NT\",M159)","v":16.890999999999998}]
[null,null,null,"S",null,null,null,343,43,"Deb Frasier","FR Famusfrenchstokngs",null,16.904,{"$f":"IF(OR(L160=5,L160=10, L160=15, L160=\"BP\",L160=\"SCR\"),\"NT\",M160)","v":16.904}]
[{"$nulls":8},346,"Lauren Thomas","Fancy",null,16.911999999999999,{"$f":"IF(OR(L161=5,L161=10, L161=15, L161=\"BP\",L161=\"SCR\"),\"NT\",M161)","v":16.911999999999999}]
[{"$nulls":5},"yes",null,null,155,"Emilie Veillette","Lil Yella Draw",null,16.914000000000001,{"$f":"IF(OR(L162=5,L162=10, L162=15, L162=\"BP\",L162=\"SCR\"),\"NT\",M162)","v":16.914000000000001}]
[{"$nulls":8},356,"Misty Peek","Amos",null,16.948,{"$f":"IF(OR(L163=5,L163=10, L163=15, L163=\"BP\",L163=\"SCR\"),\"NT\",M163)","v":16.948}]
["X",{"$nulls":7},22,"Lisa Ogden","Eyesa Stoli Dream",null,16.951000000000001,{"$f":"IF(OR(L164=5,L164=10, L164=15, L164=\"BP\",L164=\"SCR\"),\"NT\",M164)","v":16.951000000000001}]
[{"$nulls":8},283,"Riley Chown","Lady Frost Te",null,16.952999999999999,{"$f":"IF(OR(L165=5,L165=10, L165=15, L165=\"BP\",L165=\"SCR\"),\"NT\",M165)","v":16.952999999999999}]
[null,null,null,"S",{"$nulls":4},207,"Rose Bonham","Bug N Up The Charts",null,16.96,{"$f":"IF(OR(L166=5,L166=10, L166=15, L166=\"BP\",L166=\"SCR\"),\"NT\",M166)","v":16.96}]
["X",{"$nulls":6},22827,263,"Lacey Harmon","Guys Got Fire",null,16.965,{"$f":"IF(OR(L167=5,L167=10, L167=15, L167=\"BP\",L167=\"SCR\"),\"NT\",M167)","v":16.965}]
[{"$nulls":5},"YES",null,null,129,"Chelsie Petty","Jade",null,16.98,{"$f":"IF(OR(L168=5,L168=10, L168=15, L168=\"BP\",L168=\"SCR\"),\"NT\",M168)","v":16.98}]
[{"$nulls":6},13759,null,68,"Brittany Pierson","Fancy Stylish Babe",null,16.984999999999999,{"$f":"IF(OR(L169=5,L169=10, L169=15, L169=\"BP\",L169=\"SCR\"),\"NT\",M169)","v":16.984999999999999}]
[null,null,null,"S",null,null,10478,null,163,"Diana Cory","JC Swift Sunfrost",null,16.988,{"$f":"IF(OR(L170=5,L170=10, L170=15, L170=\"BP\",L170=\"SCR\"),\"NT\",M170)","v":16.988}]
[null,null,null,"A",{"$nulls":4},323,"Jennifer Abbott","Wendell Jackson",null,16.998000000000001,{"$f":"IF(OR(L171=5,L171=10, L171=15, L171=\"BP\",L171=\"SCR\"),\"NT\",M171)","v":16.998000000000001}]
[{"$nulls":8},302,"Maci Berry","SCR Peptos Lil Cat",null,17.003,{"$f":"IF(OR(L172=5,L172=10, L172=15, L172=\"BP\",L172=\"SCR\"),\"NT\",M172)","v":17.003}]
[{"$nulls":5},"yes",13320,null,82,"Brooke Ezell","LF CR Ryonsfamousdoc",null,17.016999999999999,{"$f":"IF(OR(L173=5,L173=10, L173=15, L173=\"BP\",L173=\"SCR\"),\"NT\",M173)","v":17.016999999999999}]
[null,null,null,"A",null,null,null,21980,154,"Casey Hammons","Trip Ta Fame",null,17.021999999999998,{"$f":"IF(OR(L174=5,L174=10, L174=15, L174=\"BP\",L174=\"SCR\"),\"NT\",M174)","v":17.021999999999998}]
[{"$nulls":6},13160,null,139,"Gayle Burie","Silverbridge",null,17.023,{"$f":"IF(OR(L175=5,L175=10, L175=15, L175=\"BP\",L175=\"SCR\"),\"NT\",M175)","v":17.023}]
[{"$nulls":8},253,"Mandy Neff","Rooster",null,17.024000000000001,{"$f":"IF(OR(L176=5,L176=10, L176=15, L176=\"BP\",L176=\"SCR\"),\"NT\",M176)","v":17.024000000000001}]
[{"$nulls":8},38,"Lana Pate","French Mark Holly",null,17.026,{"$f":"IF(OR(L177=5,L177=10, L177=15, L177=\"BP\",L177=\"SCR\"),\"NT\",M177)","v":17.026}]
[{"$nulls":8},59,"Joanna Kysar","Max",null,17.033999999999999,{"$f":"IF(OR(L178=5,L178=10, L178=15, L178=\"BP\",L178=\"SCR\"),\"NT\",M178)","v":17.033999999999999}]
[null,null,null,"S",null,"yes",11878,null,142,"Simone Elmore","Badger A Conchadrift",null,17.035,{"$f":"IF(OR(L179=5,L179=10, L179=15, L179=\"BP\",L179=\"SCR\"),\"NT\",M179)","v":17.035}]
[{"$nulls":8},65,"Rande Goetz","Go Rene Go",null,17.042000000000002,{"$f":"IF(OR(L180=5,L180=10, L180=15, L180=\"BP\",L180=\"SCR\"),\"NT\",M180)","v":17.042000000000002}]
[null,null,null,"A",null,null,14413,4095,200,"Jill Crotta","Brady's Mountain Boy",null,17.042000000000002,{"$f":"IF(OR(L181=5,L181=10, L181=15, L181=\"BP\",L181=\"SCR\"),\"NT\",M181)","v":17.042000000000002}]
[null,null,null,"Y",{"$nulls":4},349,"Spring Pennington","JJ Light My Fire",null,17.056999999999999,{"$f":"IF(OR(L182=5,L182=10, L182=15, L182=\"BP\",L182=\"SCR\"),\"NT\",M182)","v":17.056999999999999}]
[{"$nulls":8},46,"Charlotte Edwards","Tjo Fire Six Rounds",null,17.061,{"$f":"IF(OR(L183=5,L183=10, L183=15, L183=\"BP\",L183=\"SCR\"),\"NT\",M183)","v":17.061}]
[null,null,null,"S",{"$nulls":4},195,"Cheryl Chown","Shesa Short Cake",null,17.071000000000002,{"$f":"IF(OR(L184=5,L184=10, L184=15, L184=\"BP\",L184=\"SCR\"),\"NT\",M184)","v":17.071000000000002}]
[null,null,null,"Y",null,null,8705,null,220,"Mikayla Cox","Royal Quick Runaway",null,17.113,{"$f":"IF(OR(L185=5,L185=10, L185=15, L185=\"BP\",L185=\"SCR\"),\"NT\",M185)","v":17.113},"4D 1st",526.67999999999995]
[{"$nulls":8},261,"Kelsey Ornelas","Frosty",null,17.114999999999998,{"$f":"IF(OR(L186=5,L186=10, L186=15, L186=\"BP\",L186=\"SCR\"),\"NT\",M186)","v":17.114999999999998},"4D 2nd",451.44]
[null,null,null,"S",null,"YES",null,null,244,"Katy Holloway","Namgis D 18",null,17.126999999999999,{"$f":"IF(OR(L187=5,L187=10, L187=15, L187=\"BP\",L187=\"SCR\"),\"NT\",M187)","v":17.126999999999999},"4D 3rd",376.2]
[{"$nulls":8},153,"Janee' Ornelas","Candy",null,17.138999999999999,{"$f":"IF(OR(L188=5,L188=10, L188=15, L188=\"BP\",L188=\"SCR\"),\"NT\",M188)","v":17.138999999999999},"4D 4th",300.95999999999998]
[null,null,null,"S",null,null,6818,"W2137M",230,"Roxie Tew","Bestcreditmyfeathers",null,17.146000000000001,{"$f":"IF(OR(L189=5,L189=10, L189=15, L189=\"BP\",L189=\"SCR\"),\"NT\",M189)","v":17.146000000000001},"4D 5th",225.72]
[{"$nulls":8},267,"Grace Ornelas",null,null,17.152000000000001,null,"4D 6th",175]
[null,null,null,"A",null,"yes",12006,null,130,"Dee Dee Jordan","First Rappin Judge",null,17.161000000000001,null,"4D 7th",150]
[null,null,null,"S",{"$nulls":4},108,"Laura Combs","Leos Poco Princess",null,17.163,null,"4D 8th",125]
[{"$nulls":8},174,"Christine Dias","Freckles N Cowboys",null,17.166,null,"4D 9th",100]
[null,null,null,"A",null,"yes",null,null,16,"Kim Eisen","Dollar",null,17.175000000000001,null,"4D 10th",75]
[null,null,null,"S",null,"yes",null,null,1,"Kathy Minteer","Lil Bit",null,17.181999999999999]
[null,null,null,"A",{"$nulls":4},149,"Marka Genz","Snuffys Poco Dee",null,17.193999999999999]
[{"$nulls":8},34,"Lylan Corey","Honey Boon Lilly",null,17.195]
[{"$nulls":5},"yes",8922,null,71,"Lisa Jo Velliquette","Namgis D 44",null,17.201000000000001]
[null,null,null,"A",{"$nulls":4},341,"Cayla Cory","Final Little Saint",null,17.206]
[null,null,null,"S",{"$nulls":4},138,"Renee Douglas","Beamer",null,17.221]
[null,null,null,"A",null,null,12390,null,226,"Brittany Mayfield","Bay Area Barbara",null,17.225000000000001]
[{"$nulls":8},281,"Cody Hornbuckle","Big Balls in Cowtown",null,17.248000000000001]
[{"$nulls":6},7315,null,143,"Victoria Alexander","JD Diamonds Drift",null,17.263999999999999]
[null,null,null,"A",{"$nulls":4},280,"Cheyenne Douthit","JF Whisper Rock",null,17.277999999999999]
[{"$nulls":8},222,"Lane Hadley","JSL C U Six Pack",null,17.279]
[null,null,null,"A",null,null,8311,"W4067",342,"Tara Lee Woodall","Sixes Eyesa",null,17.282]
[null,null,null,"A",{"$nulls":4},328,"Claudia Kirk","Bean",null,17.283000000000001]
["X",{"$nulls":5},8615,null,215,"Emma Wildeisen","Dashin Ta Kill",null,17.286000000000001]
[{"$nulls":8},30,"Jocelyn Thompson","Skittles",null,17.291]
[null,null,null,"A",{"$nulls":4},306,"Cody Hornbuckle","Mountain of Fame",null,17.3]
[{"$nulls":8},191,"Josey Groves","Newt",null,17.303000000000001]
[{"$nulls":8},184,"Madi Reich","Gus",null,17.315999999999999]
[{"$nulls":8},334,"Justice Phillips","The Master Himself",null,17.318000000000001]
[{"$nulls":6},12522,null,168,"Susan Worley","Coco Dynamo",null,17.331]
[{"$nulls":8},363,"Nikki Burns","Rosie",null,17.337]
[{"$nulls":8},269,"Shandel Miller","Star",null,17.338000000000001]
[{"$nulls":8},300,"Melanie Wilson","Jamamma",null,17.344000000000001]
[null,null,null,"A",null,"yes",12006,null,167,"Dee Dee Jordan","Firewood Frost",null,17.382000000000001]
[{"$nulls":8},93,"Teresa Sisk","Chans Rocky Leo",null,17.385999999999999]
[{"$nulls":8},95,"Logan Whiteman","Freckles Bar San Jet",null,17.393999999999998]
[{"$nulls":8},151,"Elyse Busby","Sheza Ice Queen",null,17.442]
[null,null,null,"Y",{"$nulls":4},320,"Tyley Sears","Indie",null,17.463000000000001]
[{"$nulls":8},201,"Cheyenne Mason","Tigers Lady Lilly",null,17.466999999999999]
[null,null,null,"A",null,"yes",8598,null,109,"Mystie Killion","Bugzgimmiethewillies",null,17.47]
[null,null,null,"S",null,null,9560,null,4,"Suzanne Overton","Color Me Summer",null,17.478000000000002]
[{"$nulls":8},271,"Nikki Korte","Grace",null,17.489000000000001]
[{"$nulls":8},3,"Melissa Malin","Navajo",null,17.501000000000001]
[{"$nulls":6},13653,null,84,"Amanda Simonson","PT Famous Wilma",null,17.513999999999999]
[{"$nulls":7},22827,299,"Lacey Harmon","Brown Id Handsomeman",null,17.518000000000001]
[null,null,null,"Y",{"$nulls":4},224,"Gabby Ruffini","Diamond",null,17.523]
[{"$nulls":8},78,"Jamey Odell","THC Special Wonder",null,17.526]
[{"$nulls":8},282,"Brenda Rushton","So Illegal",null,17.54]
[null,null,null,"A",null,"yes",12006,null,203,"Dee Dee Jordan","Blazing Corona Cutie",null,17.581]
[{"$nulls":6},11224,null,189,"Hannah Lang","Threepcchickennugget",null,17.600000000000001,null,"5D 1st",351]
[{"$nulls":8},289,"Holly Pritchard","Bogies French Moon",null,17.602,null,"5D 2nd",301]
[{"$nulls":8},369,"Fawn Aldrich","Rocken Wilma",null,17.614000000000001,null,"5D 3rd",251]
[null,null,null,"S",{"$nulls":4},187,"Charlie Colella","Dashin Red Charger",null,17.629000000000001,null,"5D 4th",201]
[{"$nulls":5},"yes",null,null,48,"Maddi Hickmon","Missy ",null,17.634,null,"5D 5th",150]
[{"$nulls":8},340,"Adrianna Ruckteschler","Six Pac of Bug",null,17.655000000000001,null,"5D 6th",117]
[{"$nulls":8},116,"Susan Campbell","Superfly Billy",null,17.690999999999999,null,"5D 7th",100]
[{"$nulls":5},"yes",8922,null,18,"Lisa Jo Velliquette","Namgis D 71",null,17.768000000000001,null,"5D 8th",84]
["X",null,null,"S",{"$nulls":4},33,"Stephanie Johnson","Fired By Playboy",null,17.815999999999999,null,"5D 9th",67]
[{"$nulls":6},6607,null,158,"Alica Jones","Sass & Savvy",null,17.841999999999999,null,"5D 10th",50]
[null,null,null,"A",{"$nulls":4},354,"Jennifer Abbott","Hadley",null,17.846]
[{"$nulls":7},24985,110,"Kelsey Gordon","Lukin Proud",null,17.895]
[null,null,null,"Y",{"$nulls":4},51,"Mikayla Cearley","Docs Part Bueno Bar",null,17.943999999999999]
[null,null,null,"A",null,"yes",null,null,107,"Sky Thornburg","Imma Duelin Pepto",null,17.943999999999999]
[null,null,null,"Y",{"$nulls":4},148,"Kirstyn Hand","Royal Moon Charger",null,17.952000000000002]
[{"$nulls":8},265,"Stephanie Gonzalez","Tabasco",null,18.027999999999999]
[{"$nulls":5},"yes",null,null,5,"Maddi Hickmon","Dolly",null,18.059000000000001]
["X",{"$nulls":4},"yes",922,null,101,"Lorissa Jo Merritt","Perks Packin Iron",null,18.074000000000002]
[null,null,"X","S",null,"yes",918,null,44,"Debbie Bloxom","Shake The Flame",null,18.103000000000002]
[null,null,null,"A",{"$nulls":4},79,"Heather Quate","Hick Town Charlie",null,18.141999999999999]
[{"$nulls":6},8874,null,152,"Dana Chaddick","RosesNCash",null,18.146999999999998]
[{"$nulls":5},"yes",720,null,19,"Becky Yeary","Flit Bars Top Moon",null,18.155999999999999]
[{"$nulls":5},"yes",null,null,124,"Kellie Autry","Array For First Team",null,18.251000000000001]
[null,null,null,"S",{"$nulls":4},165,"Rose Bonham","A Firey Bet",null,18.29]
[{"$nulls":8},105,"Logan Whiteman","Birdie",null,18.439]
[{"$nulls":6},12513,null,141,"Meisha Lynn","VF Smoke an Fire",null,18.492999999999999]
["X",{"$nulls":7},35,"Laurel Anthony","Widows Reydioactive",null,18.5]
[null,null,"X",{"$nulls":5},172,"Brittany Fellows","Mary Jane",null,18.542000000000002]
[null,null,null,"S",{"$nulls":4},367,"Tracie Schoenthal","Badger",null,18.582999999999998]
[{"$nulls":8},63,"Connie Myers","Ratchetts Snowflake",null,18.603999999999999]
[null,null,null,"S",null,"yes",null,null,126,"Melanie Self","Ole Mans Aloha",null,18.701000000000001]
[{"$nulls":8},69,"Robin Carmichael","Aprils Fleeting Dream",null,18.702999999999999]
["X",{"$nulls":4},"yes",8054,null,90,"Nicoletta Bean","Confederetta",null,18.739999999999998]
[{"$nulls":8},8,"Codi McCorkle","Charge N Biankus",null,18.907]
[null,null,null,"A",null,"yes",11026,null,237,"Lorinda Van Newkirk","Skeeter",null,18.972000000000001]
[{"$nulls":8},317,"Ashley Buster","PJS Frosty Zero",null,19.012]
[{"$nulls":8},297,"Regan Pavelka","Funny",null,19.172999999999998]
["X",{"$nulls":7},36,"Kylena Hager","Tulio Jones",null,19.555]
[null,null,null,"A",null,"yes",null,null,232,"Madison Sullivan","Smokin Fire Dance",null,19.913]
[null,null,null,"A",null,null,712,null,219,"Malaika Tully","Olympic Fame",null,20.068999999999999]
[{"$nulls":8},210,"Christine Dias","Angel Sharp",null,21.75]
["X",null,null,"A",{"$nulls":4},106,"Steven Trujillo","QT's Nu Jewel",null,22.117000000000001]
[{"$nulls":8},256,"Libby Long","Dunn Time",null,22.198]
[null,null,null,"A",null,null,9152,null,31,"Brandi Williams","Cha Cha Shorty",null,23.114999999999998]
[{"$nulls":8},290,"Katherin Villa","Sophi",null,23.794]
[{"$nulls":6},14437,null,61,"Megan Wilson","Joe E Boxer",null,25.003]
[{"$nulls":7},23470,361,"Dani Buhler","Flashy French Kirk",null,"nt "]
[null,null,null,"S",null,null,null,"W26435L",322,"Kathy Fields","Regarding Numbers",null,"nt15.565"]
[null,null,null,"A",null,null,4927,23545,338,"Abby Pursifull","Pearl Snappin",null,"nt15.721"]
[null,null,"X",{"$nulls":5},331,"Schelli Creacy","Nico",null,"nt15.737"]
[null,null,"X","S",null,null,51,"W57L",177,"Martha Wright","JLFourTaFame",null,"nt15.862"]
[{"$nulls":8},242,"Brandee Hawkins",null,null,"nt15.899"]
[{"$nulls":6},12804,"W161L",213,"Pattie Mackie","Flitter Fuel Lad",null,"nt156.577"]
[{"$nulls":8},272,"Janee' Ornelas","Jessadasher",null,"nt16.024"]
[null,null,null,"A",null,null,4927,23545,351,"Abby Pursifull","Rivons Blazing Jetty",null,"nt16.025"]
[{"$nulls":4},"X",null,1818,2481,231,"Lynn Brown","This Guys No Angel",null,"nt16.118"]
[null,null,null,"A","X",null,null,21275,183,"Amy wilson","KN No Moe Siss",null,"nt16.157"]
["X",null,null,"A",{"$nulls":4},97,"Molli Montgomery","Strawflin the Gold",null,"nt16.212"]
["X",null,null,"A",null,"yes",11985,null,87,"Carlos Renato","DTF Confirmed In Luv",null,"nt16.246"]
[null,null,null,"A",{"$nulls":4},336,"Ashleigh Williams","Heza Heavenly Streak",null,"nt16.282"]
[{"$nulls":8},239,"Pam Smith","Streakingmoonwalk",null,"nt16.284"]
[null,null,null,"S",null,"yes",null,null,147,"Mary Carter","Aspecial Firewater",null,"nt16.307"]
[{"$nulls":8},251,"Sloan Anderson","Red Sorrel Sky",null,"nt16.345"]
[{"$nulls":6},8615,null,262,"Emma Wildeisen","Woman At The Bar",null,"nt16.358"]
[{"$nulls":8},316,"Jackie Hartt","Lexi",null,"nt16.360"]
[null,null,"X",null,null,"yes",null,null,64,"Andrea Cline","Raising Fame",null,"nt16.362"]
[{"$nulls":7},1874,56,"Susan Luschar","Carmeleo Gold",null,"nt16.368"]
[{"$nulls":7},"R23024",216,"Riley Chown","Heza Dash Ta Honor",null,"nt16.384"]
[{"$nulls":8},24,"Fran Denham","Rey Of Fame",null,"nt16.390"]
[null,null,null,"S",null,null,24290,null,217,"Stacy Gates","Born Ta Fame",null,"nt16.407"]
[{"$nulls":8},120,"Jamey Odell","THC Dat Frenchman",null,"nt16.411"]
[null,null,null,"Y",{"$nulls":4},330,"Jesse Harris","Runnin for Honors",null,"nt16.442"]
[null,null,"X",null,null,null,4773,20401,133,"Ryann Pedone","Streakin Queenie",null,"nt16.459"]
[null,null,null,"A",{"$nulls":4},327,"Kaylyn Smith","Classic Royal Star",null,"nt16.464"]
[null,null,"X",null,null,"yes",922,null,73,"Lorissa Jo Merritt","Marthas Dr Flit Bar",null,"nt16.471"]
[{"$nulls":8},347,"Glenna Lavender","Tex",null,"nt16.472"]
[null,null,"X","A","X","yes",7477,26660,29,"Susan Agnew","Jet N Ta Fame",null,"nt16.475"]
[{"$nulls":8},193,"Erin Reich","Pie",null,"nt16.504"]
["X",null,null,"A","X",null,null,null,26,"Jade Crago","Sophie So Sweet",null,"nt16.545"]
["X",{"$nulls":4},"yes",null,null,50,"Terry Vogel","Super Frosted Bug",null,"nt16.575"]
[{"$nulls":7},24076,223,"Leslie Worthey","Felix The Cat",null,"nt16.585"]
[null,null,"X",null,null,null,13759,null,25,"Brittany Pierson","Gay Jay Olena",null,"nt16.639"]
["X",{"$nulls":5},1017,null,52,"Chris Martin","Frenchie",null,"nt16.664"]
[{"$nulls":5},"yes",null,null,276,"Glenda Barnett","Crown Royal Rona",null,"nt16.664"]
[{"$nulls":8},275,"Kristin Dorman","Easy",null,"nt16.685"]
[null,null,null,"Y",null,null,10438,"J24600",199,"Kaitlyn Anderson","Livin For happy Hour",null,"nt16.706"]
[null,null,null,"Y",{"$nulls":4},345,"Journie Long","Yawl Watch Me Shine",null,"nt16.709"]
[{"$nulls":8},335,"JT Cooper","LW Acres of Shine",null,"nt16.720"]
[{"$nulls":5},"yes",null,null,198,"Daisy Baird","Elishas Arrow",null,"nt16.723"]
[null,null,null,"Y",{"$nulls":4},104,"Tomi Womack","Lady",null,"nt16.729"]
[{"$nulls":8},321,"Nikki Korte","Super",null,"nt16.787"]
["X",{"$nulls":7},307,"Mindy Holloway","Bull",null,"nt16.812"]
[null,null,null,"Y",null,"yes",11999,null,192,"Amie Hennen","texas War Jet",null,"nt16.814"]
[null,null,null,"A",null,null,9152,null,85,"Brandi Williams","Frosted Mini Chex",null,"nt16.827"]
[null,null,null,"S",null,null,907,null,326,"Gena Franklin","SS Tellerimfamous",null,"nt16.831"]
[{"$nulls":8},355,"Candice Williamson","Six Pack ",null,"nt16.851"]
[{"$nulls":6},13719,null,160,"Briley Reeves","QuillsCash",null,"nt16.879"]
[{"$nulls":7},"22040L",39,"Shelby Frasier","FR Double D",null,"nt16.885"]
[null,null,null,"A",{"$nulls":4},252,"Malaika Tully","Stoli My Diamonds",null,"nt16.889"]
[{"$nulls":8},228,"Jason Berry","Reba",null,"nt16.922"]
[{"$nulls":5},"YES",null,null,2,"Blake Myers","Swampy",null,"nt16.932"]
["X",{"$nulls":5},74,null,13,"Charlotte Edwards","VF Temptations",null,"nt16.976"]
[null,null,null,"Y",null,null,11930,"j25312L",98,"Riley Ross","EMW Famous Presley",null,"nt17.007"]
[null,null,null,"A",{"$nulls":4},305,"Cheyenne Douthit","Graysie",null,"nt17.092"]
[{"$nulls":8},337,"Nisa Berry","Lincoln",null,"nt17.135"]
[{"$nulls":8},185,"Shannon Pearson","Shining Chrome",null,"nt17.161"]
[{"$nulls":8},364,"Rachel Rule","Mac",null,"nt17.197"]
[{"$nulls":5},"yes",null,null,188,"Karen Shelley","Fire & Shake",null,"nt17.207"]
[null,null,null,"Y",null,"yes",14454,null,245,"Stormi Branch","Demon",null,"nt17.209"]
[{"$nulls":6},6607,null,125,"Alica Jones","Turbo Tool",null,"nt17.216"]
[{"$nulls":8},298,"Kortnie Gibney","Lil",null,"nt17.251"]
[{"$nulls":8},287,"Jan Davis","Woody B Perky",null,"nt17.260"]
["X",{"$nulls":5},4773,20401,28,"Ryann Pedone","Streakingivemeawink",null,"nt17.284"]
[{"$nulls":8},233,"Marie Anderson","Hickory",null,"nt17.322"]
[{"$nulls":8},77,"Megan Archino","Montana Blue Drift",null,"nt17.396"]
["X",{"$nulls":4},"yes",null,null,240,"Danyelle Campbell","JL Tularosa",null,"nt17.399"]
[{"$nulls":8},285,"Missy Piper","Feature Me Firin",null,"nt17.421"]
[null,null,null,"Y",{"$nulls":4},295,"Alex Stokes","Mia",null,"nt17.567"]
[{"$nulls":8},131,"Heather Howard","Lil Bit Of Flit",null,"nt17.612"]
[{"$nulls":6},5099,15076,258,"Traci Pratt","Boon Dillon Dun It",null,"nt17.674"]
[null,null,null,"A",null,null,2594,4598,75,"Holly Fenolgio","Flame Of Fame",null,"nt17.734"]
[{"$nulls":6},7154,null,23,"Gi Gi Robinson","Tribal Cut",null,"nt17.899"]
[{"$nulls":5},"yes",null,null,350,"Davie King","Corona Tom",null,"nt17.993"]
[{"$nulls":8},360,"Kim Otwell","SBJ Starry Queen",null,"nt18.141"]
[{"$nulls":8},352,"Fawn Aldrich","Reds Western Flit",null,"nt18.151"]
[null,null,null,"S",null,"yes",null,null,162,"Valerie Rudibaugh","Blazin Houdini",null,"nt18.227"]
[null,null,null,"S",null,"YES",null,null,123,"Starla Fitzgerald","Just Flitme",null,"nt18.249"]
[{"$nulls":5},"yes",null,null,127,"Nicoletta Bean","Famous China Doll",null,"nt18.777"]
[null,null,null,"S",{"$nulls":4},227,"Cheryl Chown","PC Vanilla Ice",null,"nt18.805"]
[null,null,"X","A","X",null,null,null,88,"Molli Montgomery","Makin Ya Famous",null,"nt19.809"]
[{"$nulls":8},196,"Denisa Martin","Lana Smokes Oh Cay",null,"nt20.146"]
[{"$nulls":8},214,"Mandy Neff","Tiger ",null,"nt23.520"]
["X",{"$nulls":7},182,"Suade Furr","KR Tarzan",null,"nt24.594"]
[null,null,"X","A","X",null,null,null,37,"Terry Vogel","DarbyFrenchmengonblu",null,"nt28.541"]
["X",{"$nulls":5},8262,null,57,"Laura Avery","A Flashy Frenchman",null,"nt28.941"]
[null,null,null,"S",null,null,null,"R10997",313,"Valerie Rudibaugh","Boo ",null,"nt39.286"]
[{"$nulls":8},362,"Cierra Gregory","Playboys Contendor",null,"nt39.911"]
[null,null,null,"A","X",null,null,null,186,"Alexis Baratka","Queen Red Cash",null,"nt43.323"]

{"sheet":"Senior","index":2,"n_rows":301,"n_cols":10,"rows_kept":301,"cut":false,"hidden":false,"merged":[]}
["Futurity","Der","Age Inct.","BBR","Draw","Rider Name","Horse Name","Time","Placing","Money Earned"]
[{"$nulls":4},8,"Raylene Cox","Ya Give Me Fever",15.997,"1D st",189]
[{"$nulls":4},45,"Martha Smith","Firewatermakemehappy",16.05,"1D 2nd",126]
[{"$nulls":4},20,"Sidney Ryan","Lyndis Sonny Lights",16.100000000000001]
[{"$nulls":4},38,"Lynn Saunders","Chumley",16.146999999999998]
[{"$nulls":4},15,"Lee Ann Brooks","Tofast Ta View",16.186]
[{"$nulls":4},24,"Connie Randolph","Hot Rod Kitty Cat",16.186]
[{"$nulls":4},33,"Lynn Saunders","Popcorn",16.254000000000001]
[{"$nulls":4},43,"Donna Tippen","Lyla",16.385000000000002]
[{"$nulls":4},26,"Stacy Gates","FR Firewater Request",16.407]
[{"$nulls":4},3,"Terry Vogel","BB Boogyingfrenchman",16.420999999999999]
[{"$nulls":4},30,"Lee Ann Brooks","Thedoctorsatthebar",16.446000000000002]
[{"$nulls":4},35,"Jodi Stovall","Miss French Drifter",16.459]
[{"$nulls":4},41,"Martha Smith","Victory Blue Moon",16.507000000000001,"2D 1st",162]
[{"$nulls":4},18,"Stacy Gates","PH Firewaters Payday",16.547000000000001,"2D 2nd",108]
[{"$nulls":4},9,"Bridget Thomas","BT Buddy Stinson",16.571000000000002]
[{"$nulls":4},31,"Tammy Rokus","Flaming Oakey",16.623000000000001]
[{"$nulls":4},14,"Lisa Cotter","Outlaw John Dillinger",16.638000000000002]
[{"$nulls":4},7,"Lisa Corey","Bogies French Gamble",16.706]
[{"$nulls":4},10,"Laura Creel","Frenchmans Docs RX",16.815999999999999]
[{"$nulls":4},5,"Deb Frasier","FR Famusfrenchstokngs",16.904]
[{"$nulls":4},29,"Rose Bonham","Bug N Up The Charts",16.96]
[{"$nulls":4},22,"Diana Cory","JC Swift Sunfrost",16.988]
[{"$nulls":4},17,"Simone Elmore","Badger A Conchadrift",17.035,"3D 1st",108]
[{"$nulls":4},28,"Cheryl Chown","Shesa Short Cake",17.071000000000002,"3D 2nd",72]
[{"$nulls":4},37,"Katy Holloway","Namgis D 18",17.126999999999999]
[{"$nulls":4},36,"Roxie Tew","Bestcreditmyfeathers",17.146000000000001]
[{"$nulls":4},11,"Laura Combs","Leos Poco Princess",17.163]
[{"$nulls":4},1,"Kathy Minteer","Lil Bit",17.181999999999999]
[{"$nulls":4},16,"Renee Douglas","Beamer",17.221]
[{"$nulls":4},2,"Suzanne Overton","Color Me Summer",17.478000000000002]
[{"$nulls":4},27,"Charlie Colella","Dashin Red Charger",17.629000000000001,"4D 1st",81]
[{"$nulls":4},4,"Stephanie Johnson","Fired By Playboy",17.815999999999999,"4D 2nd",54]
[{"$nulls":4},6,"Debbie Bloxom","Shake The Flame",18.103000000000002]
[{"$nulls":4},23,"Rose Bonham","A Firey Bet",18.29]
[{"$nulls":4},44,"Tracie Schoenthal","Badger",18.582999999999998]
[{"$nulls":4},13,"Melanie Self","Ole Mans Aloha",18.701000000000001]
[{"$nulls":4},40,"Kathy Fields","Regarding Numbers","nt15.565"]
[{"$nulls":4},25,"Martha Wright","JLFourTaFame","nt15.862"]
[{"$nulls":4},19,"Mary Carter","Aspecial Firewater","nt16.307"]
[{"$nulls":4},32,"Stacy Gates","Born Ta Fame","nt16.407"]
[{"$nulls":4},42,"Gena Franklin","SS Tellerimfamous","nt16.831"]
[{"$nulls":4},21,"Valerie Rudibaugh","Blazin Houdini","nt18.227"]
[{"$nulls":4},12,"Starla Fitzgerald","Just Flitme","nt18.249"]
[{"$nulls":4},34,"Cheryl Chown","PC Vanilla Ice","nt18.805"]
[{"$nulls":4},39,"Valerie Rudibaugh","Boo ","nt39.286"]
[{"$nulls":4},46]
[{"$nulls":4},47]
[{"$nulls":4},48]
[{"$nulls":4},49]
[{"$nulls":4},50]
[{"$nulls":4},51]
[{"$nulls":4},52]
[{"$nulls":4},53]
[{"$nulls":4},54]
[{"$nulls":4},55]
[{"$nulls":4},56]
[{"$nulls":4},57]
[{"$nulls":4},58]
[{"$nulls":4},59]
[{"$nulls":4},60]
[{"$nulls":4},61]
[{"$nulls":4},62]
[{"$nulls":4},63]
[{"$nulls":4},64]
[{"$nulls":4},65]
[{"$nulls":4},66]
[{"$nulls":4},67]
[{"$nulls":4},68]
[{"$nulls":4},69]
[{"$nulls":4},70]
[{"$nulls":4},71]
[{"$nulls":4},72]
[{"$nulls":4},73]
[{"$nulls":4},74]
[{"$nulls":4},75]
[{"$nulls":4},76]
[{"$nulls":4},77]
[{"$nulls":4},78]
[{"$nulls":4},79]
[{"$nulls":4},80]
[{"$nulls":4},81]
[{"$nulls":4},82]
[{"$nulls":4},83]
[{"$nulls":4},84]
[{"$nulls":4},85]
[{"$nulls":4},86]
[{"$nulls":4},87]
[{"$nulls":4},88]
[{"$nulls":4},89]
[{"$nulls":4},90]
[{"$nulls":4},91]
[{"$nulls":4},92]
[{"$nulls":4},93]
[{"$nulls":4},94]
[{"$nulls":4},95]
[{"$nulls":4},96]
[{"$nulls":4},97]
[{"$nulls":4},98]
[{"$nulls":4},99]
[{"$nulls":4},100]
[{"$nulls":4},101]
[{"$nulls":4},102]
[{"$nulls":4},103]
[{"$nulls":4},104]
[{"$nulls":4},105]
[{"$nulls":4},106]
[{"$nulls":4},107]
[{"$nulls":4},108]
[{"$nulls":4},109]
[{"$nulls":4},110]
[{"$nulls":4},111]
[{"$nulls":4},112]
[{"$nulls":4},113]
[{"$nulls":4},114]
[{"$nulls":4},115]
[{"$nulls":4},116]
[{"$nulls":4},117]
[{"$nulls":4},118]
[{"$nulls":4},119]
[{"$nulls":4},120]
[{"$nulls":4},121]
[{"$nulls":4},122]
[{"$nulls":4},123]
[{"$nulls":4},124]
[{"$nulls":4},125]
[{"$nulls":4},126]
[{"$nulls":4},127]
[{"$nulls":4},128]
[{"$nulls":4},129]
[{"$nulls":4},130]
[{"$nulls":4},131]
[{"$nulls":4},132]
[{"$nulls":4},133]
[{"$nulls":4},134]
[{"$nulls":4},135]
[{"$nulls":4},136]
[{"$nulls":4},137]
[{"$nulls":4},138]
[{"$nulls":4},139]
[{"$nulls":4},140]
[{"$nulls":4},141]
[{"$nulls":4},142]
[{"$nulls":4},143]
[{"$nulls":4},144]
[{"$nulls":4},145]
[{"$nulls":4},146]
[{"$nulls":4},147]
[{"$nulls":4},148]
[{"$nulls":4},149]
[{"$nulls":4},150]
[{"$nulls":4},151]
[{"$nulls":4},152]
[{"$nulls":4},153]
[{"$nulls":4},154]
[{"$nulls":4},155]
[{"$nulls":4},156]
[{"$nulls":4},157]
[{"$nulls":4},158]
[{"$nulls":4},159]
[{"$nulls":4},160]
[{"$nulls":4},161]
[{"$nulls":4},162]
[{"$nulls":4},163]
[{"$nulls":4},164]
[{"$nulls":4},165]
[{"$nulls":4},166]
[{"$nulls":4},167]
[{"$nulls":4},168]
[{"$nulls":4},169]
[{"$nulls":4},170]
[{"$nulls":4},171]
[{"$nulls":4},172]
[{"$nulls":4},173]
[{"$nulls":4},174]
[{"$nulls":4},175]
[{"$nulls":4},176]
[{"$nulls":4},177]
[{"$nulls":4},178]
[{"$nulls":4},179]
[{"$nulls":4},180]
[{"$nulls":4},181]
[{"$nulls":4},182]
[{"$nulls":4},183]
[{"$nulls":4},184]
[{"$nulls":4},185]
[{"$nulls":4},186]
[{"$nulls":4},187]
[{"$nulls":4},188]
[{"$nulls":4},189]
[{"$nulls":4},190]
[{"$nulls":4},191]
[{"$nulls":4},192]
[{"$nulls":4},193]
[{"$nulls":4},194]
[{"$nulls":4},195]
[{"$nulls":4},196]
[{"$nulls":4},197]
[{"$nulls":4},198]
[{"$nulls":4},199]
[{"$nulls":4},200]
[{"$nulls":4},201]
[{"$nulls":4},202]
[{"$nulls":4},203]
[{"$nulls":4},204]
[{"$nulls":4},205]
[{"$nulls":4},206]
[{"$nulls":4},207]
[{"$nulls":4},208]
[{"$nulls":4},209]
[{"$nulls":4},210]
[{"$nulls":4},211]
[{"$nulls":4},212]
[{"$nulls":4},213]
[{"$nulls":4},214]
[{"$nulls":4},215]
[{"$nulls":4},216]
[{"$nulls":4},217]
[{"$nulls":4},218]
[{"$nulls":4},219]
[{"$nulls":4},220]
[{"$nulls":4},221]
[{"$nulls":4},222]
[{"$nulls":4},223]
[{"$nulls":4},224]
[{"$nulls":4},225]
[{"$nulls":4},226]
[{"$nulls":4},227]
[{"$nulls":4},228]
[{"$nulls":4},229]
[{"$nulls":4},230]
[{"$nulls":4},231]
[{"$nulls":4},232]
[{"$nulls":4},233]
[{"$nulls":4},234]
[{"$nulls":4},235]
[{"$nulls":4},236]
[{"$nulls":4},237]
[{"$nulls":4},238]
[{"$nulls":4},239]
[{"$nulls":4},240]
[{"$nulls":4},241]
[{"$nulls":4},242]
[{"$nulls":4},243]
[{"$nulls":4},244]
[{"$nulls":4},245]
[{"$nulls":4},246]
[{"$nulls":4},247]
[{"$nulls":4},248]
[{"$nulls":4},249]
[{"$nulls":4},250]
[{"$nulls":4},251]
[{"$nulls":4},252]
[{"$nulls":4},253]
[{"$nulls":4},254]
[{"$nulls":4},255]
[{"$nulls":4},256]
[{"$nulls":4},257]
[{"$nulls":4},258]
[{"$nulls":4},259]
[{"$nulls":4},260]
[{"$nulls":4},261]
[{"$nulls":4},262]
[{"$nulls":4},263]
[{"$nulls":4},264]
[{"$nulls":4},265]
[{"$nulls":4},266]
[{"$nulls":4},267]
[{"$nulls":4},268]
[{"$nulls":4},269]
[{"$nulls":4},270]
[{"$nulls":4},271]
[{"$nulls":4},272]
[{"$nulls":4},273]
[{"$nulls":4},274]
[{"$nulls":4},275]
[{"$nulls":4},276]
[{"$nulls":4},277]
[{"$nulls":4},278]
[{"$nulls":4},279]
[{"$nulls":4},280]
[{"$nulls":4},281]
[{"$nulls":4},282]
[{"$nulls":4},283]
[{"$nulls":4},284]
[{"$nulls":4},285]
[{"$nulls":4},286]
[{"$nulls":4},287]
[{"$nulls":4},288]
[{"$nulls":4},289]
[{"$nulls":4},290]
[{"$nulls":4},291]
[{"$nulls":4},292]
[{"$nulls":4},293]
[{"$nulls":4},294]
[{"$nulls":4},295]
[{"$nulls":4},296]
[{"$nulls":4},297]
[{"$nulls":4},298]
[{"$nulls":4},299]
[{"$nulls":4},300]

{"sheet":"Adult","index":3,"n_rows":301,"n_cols":11,"rows_kept":301,"cut":false,"hidden":false,"merged":[]}
["Futurity","Der","Age Inct.","BBR","Draw","Rider Name","Horse Name","Pen","Time","Placing","Money Earned"]
[{"$nulls":4},13,"Molli Montgomery","Legsgonewild",null,15.808,"1D 1st",221]
[{"$nulls":4},52,"Abby Pursifull","Flippin Terrific",null,15.858000000000001,"1D 2nd",132]
[{"$nulls":4},36,"Felecia Taylor","AR Dash Ta Flame",null,15.887,"1D 3rd",88]
[{"$nulls":4},41,"Felecia Taylor","Makilts",null,15.965999999999999]
[{"$nulls":4},11,"Whitney Godinez","Happy Hour Special",null,16.065000000000001]
[{"$nulls":4},9,"Carlos Renato","Bon Jovi",null,16.274999999999999]
[{"$nulls":4},46,"Rebba Wright","CEO Kinda Sassy Gal",null,16.318000000000001,"2D 1st",189]
[{"$nulls":4},3,"Timber Allenbrand",null,null,16.431000000000001,"2D 2nd",113]
[{"$nulls":4},26,"Adelita Tyson","Nickapop",null,16.431000000000001,"2D 3rd",76]
[{"$nulls":4},28,"Carlos Renato","Zero",null,16.440999999999999]
[{"$nulls":4},32,"Lorissa Jo Merritt","Bully Bully Fame",null,16.466000000000001]
[{"$nulls":4},29,"Shea Durfey","Betty",null,16.507999999999999]
[{"$nulls":4},48,"Sheyenne Knox","BRS Peplano",null,16.513000000000002]
[{"$nulls":4},27,"Denny Ralls","Sweet Movin Firewater",null,16.591000000000001]
[{"$nulls":4},8,"Charlie Cole","Eli",null,16.704999999999998]
[{"$nulls":4},7,"Brooke Ezell","Nickie Cash",null,16.71]
[{"$nulls":4},22,"Whitney Godinez","So Gals Got Fire",null,16.712]
[{"$nulls":4},31,"Caylee Carney","Foxy Poco Cuffs",null,16.763000000000002]
[{"$nulls":4},19,"Tristan Mounts","Junior",null,16.812999999999999,"3D 1st",126]
[{"$nulls":4},60,"Kaylyn Smith","Pokahawkish",null,16.818999999999999,"3D 2nd",76]
[{"$nulls":4},21,"Kylena Hager","Bar B Firewatersteel",null,16.824999999999999,"3D 3rd",50]
[{"$nulls":4},15,"Susan Agnew","Splash Da Firewater",null,16.841999999999999]
[{"$nulls":4},61,"Sissy Penninton","Ciscos Lena Bug",null,16.853000000000002]
[{"$nulls":4},10,"Molli Montgomery","Pandora",null,16.890999999999998]
[{"$nulls":4},53,"Jennifer Abbott","Wendell Jackson",null,16.998000000000001]
[{"$nulls":4},34,"Casey Hammons","Trip Ta Fame",null,17.021999999999998]
[{"$nulls":4},39,"Jill Crotta","Brady's Mountain Boy",null,17.042000000000002]
[{"$nulls":4},30,"Dee Dee Jordan","First Rappin Judge",null,17.161000000000001]
[{"$nulls":4},1,"Kim Eisen","Dollar",null,17.175000000000001]
[{"$nulls":4},33,"Marka Genz","Snuffys Poco Dee",null,17.193999999999999]
[{"$nulls":4},58,"Cayla Cory","Final Little Saint",null,17.206]
[{"$nulls":4},43,"Brittany Mayfield","Bay Area Barbara",null,17.225000000000001]
[{"$nulls":4},49,"Cheyenne Douthit","JF Whisper Rock",null,17.277999999999999]
[{"$nulls":4},59,"Tara Lee Woodall","Sixes Eyesa",null,17.282]
[{"$nulls":4},55,"Claudia Kirk","Bean",null,17.283000000000001]
[{"$nulls":4},51,"Cody Hornbuckle","Mountain of Fame",null,17.3]
[{"$nulls":4},35,"Dee Dee Jordan","Firewood Frost",null,17.382000000000001,"4D 1st",95]
[{"$nulls":4},25,"Mystie Killion","Bugzgimmiethewillies",null,17.47,"4D 2nd",57]
[{"$nulls":4},40,"Dee Dee Jordan","Blazing Corona Cutie",null,17.581,"4D 3rd",38]
[{"$nulls":4},63,"Jennifer Abbott","Hadley",null,17.846]
[{"$nulls":4},24,"Sky Thornburg","Imma Duelin Pepto",null,17.943999999999999]
[{"$nulls":4},14,"Heather Quate","Hick Town Charlie",null,18.141999999999999]
[{"$nulls":4},45,"Lorinda Van Newkirk","Skeeter",null,18.972000000000001]
[{"$nulls":4},44,"Madison Sullivan","Smokin Fire Dance",null,19.913]
[{"$nulls":4},42,"Malaika Tully","Olympic Fame",null,20.068999999999999]
[{"$nulls":4},23,"Steven Trujillo","QT's Nu Jewel",null,22.117000000000001]
[{"$nulls":4},5,"Brandi Williams","Cha Cha Shorty",null,23.114999999999998]
[{"$nulls":4},57,"Abby Pursifull","Pearl Snappin",null,"nt15.721"]
[{"$nulls":4},62,"Abby Pursifull","Rivons Blazing Jetty",null,"nt16.025"]
[{"$nulls":4},37,"Amy wilson","KN No Moe Siss",null,"nt16.157"]
[{"$nulls":4},20,"Molli Montgomery","Strawflin the Gold",null,"nt16.212"]
[{"$nulls":4},17,"Carlos Renato","DTF Confirmed In Luv",null,"nt16.246"]
[{"$nulls":4},56,"Ashleigh Williams","Heza Heavenly Streak",null,"nt16.282"]
[{"$nulls":4},54,"Kaylyn Smith","Classic Royal Star",null,"nt16.464"]
[{"$nulls":4},4,"Susan Agnew","Jet N Ta Fame",null,"nt16.475"]
[{"$nulls":4},2,"Jade Crago","Sophie So Sweet",null,"nt16.545"]
[{"$nulls":4},16,"Brandi Williams","Frosted Mini Chex",null,"nt16.827"]
[{"$nulls":4},47,"Malaika Tully","Stoli My Diamonds",null,"nt16.889"]
[{"$nulls":4},50,"Cheyenne Douthit","Graysie",null,"nt17.092"]
[{"$nulls":4},12,"Holly Fenolgio","Flame Of Fame",null,"nt17.734"]
[{"$nulls":4},18,"Molli Montgomery","Makin Ya Famous",null,"nt19.809"]
[{"$nulls":4},6,"Terry Vogel","DarbyFrenchmengonblu",null,"nt28.541"]
[{"$nulls":4},38,"Alexis Baratka","Queen Red Cash",null,"nt43.323"]
[{"$nulls":4},64]
[{"$nulls":4},65]
[{"$nulls":4},66]
[{"$nulls":4},67]
[{"$nulls":4},68]
[{"$nulls":4},69]
[{"$nulls":4},70]
[{"$nulls":4},71]
[{"$nulls":4},72]
[{"$nulls":4},73]
[{"$nulls":4},74]
[{"$nulls":4},75]
[{"$nulls":4},76]
[{"$nulls":4},77]
[{"$nulls":4},78]
[{"$nulls":4},79]
[{"$nulls":4},80]
[{"$nulls":4},81]
[{"$nulls":4},82]
[{"$nulls":4},83]
[{"$nulls":4},84]
[{"$nulls":4},85]
[{"$nulls":4},86]
[{"$nulls":4},87]
[{"$nulls":4},88]
[{"$nulls":4},89]
[{"$nulls":4},90]
[{"$nulls":4},91]
[{"$nulls":4},92]
[{"$nulls":4},93]
[{"$nulls":4},94]
[{"$nulls":4},95]
[{"$nulls":4},96]
[{"$nulls":4},97]
[{"$nulls":4},98]
[{"$nulls":4},99]
[{"$nulls":4},100]
[{"$nulls":4},101]
[{"$nulls":4},102]
[{"$nulls":4},103]
[{"$nulls":4},104]
[{"$nulls":4},105]
[{"$nulls":4},106]
[{"$nulls":4},107]
[{"$nulls":4},108]
[{"$nulls":4},109]
[{"$nulls":4},110]
[{"$nulls":4},111]
[{"$nulls":4},112]
[{"$nulls":4},113]
[{"$nulls":4},114]
[{"$nulls":4},115]
[{"$nulls":4},116]
[{"$nulls":4},117]
[{"$nulls":4},118]
[{"$nulls":4},119]
[{"$nulls":4},120]
[{"$nulls":4},121]
[{"$nulls":4},122]
[{"$nulls":4},123]
[{"$nulls":4},124]
[{"$nulls":4},125]
[{"$nulls":4},126]
[{"$nulls":4},127]
[{"$nulls":4},128]
[{"$nulls":4},129]
[{"$nulls":4},130]
[{"$nulls":4},131]
[{"$nulls":4},132]
[{"$nulls":4},133]
[{"$nulls":4},134]
[{"$nulls":4},135]
[{"$nulls":4},136]
[{"$nulls":4},137]
[{"$nulls":4},138]
[{"$nulls":4},139]
[{"$nulls":4},140]
[{"$nulls":4},141]
[{"$nulls":4},142]
[{"$nulls":4},143]
[{"$nulls":4},144]
[{"$nulls":4},145]
[{"$nulls":4},146]
[{"$nulls":4},147]
[{"$nulls":4},148]
[{"$nulls":4},149]
[{"$nulls":4},150]
[{"$nulls":4},151]
[{"$nulls":4},152]
[{"$nulls":4},153]
[{"$nulls":4},154]
[{"$nulls":4},155]
[{"$nulls":4},156]
[{"$nulls":4},157]
[{"$nulls":4},158]
[{"$nulls":4},159]
[{"$nulls":4},160]
[{"$nulls":4},161]
[{"$nulls":4},162]
[{"$nulls":4},163]
[{"$nulls":4},164]
[{"$nulls":4},165]
[{"$nulls":4},166]
[{"$nulls":4},167]
[{"$nulls":4},168]
[{"$nulls":4},169]
[{"$nulls":4},170]
[{"$nulls":4},171]
[{"$nulls":4},172]
[{"$nulls":4},173]
[{"$nulls":4},174]
[{"$nulls":4},175]
[{"$nulls":4},176]
[{"$nulls":4},177]
[{"$nulls":4},178]
[{"$nulls":4},179]
[{"$nulls":4},180]
[{"$nulls":4},181]
[{"$nulls":4},182]
[{"$nulls":4},183]
[{"$nulls":4},184]
[{"$nulls":4},185]
[{"$nulls":4},186]
[{"$nulls":4},187]
[{"$nulls":4},188]
[{"$nulls":4},189]
[{"$nulls":4},190]
[{"$nulls":4},191]
[{"$nulls":4},192]
[{"$nulls":4},193]
[{"$nulls":4},194]
[{"$nulls":4},195]
[{"$nulls":4},196]
[{"$nulls":4},197]
[{"$nulls":4},198]
[{"$nulls":4},199]
[{"$nulls":4},200]
[{"$nulls":4},201]
[{"$nulls":4},202]
[{"$nulls":4},203]
[{"$nulls":4},204]
[{"$nulls":4},205]
[{"$nulls":4},206]
[{"$nulls":4},207]
[{"$nulls":4},208]
[{"$nulls":4},209]
[{"$nulls":4},210]
[{"$nulls":4},211]
[{"$nulls":4},212]
[{"$nulls":4},213]
[{"$nulls":4},214]
[{"$nulls":4},215]
[{"$nulls":4},216]
[{"$nulls":4},217]
[{"$nulls":4},218]
[{"$nulls":4},219]
[{"$nulls":4},220]
[{"$nulls":4},221]
[{"$nulls":4},222]
[{"$nulls":4},223]
[{"$nulls":4},224]
[{"$nulls":4},225]
[{"$nulls":4},226]
[{"$nulls":4},227]
[{"$nulls":4},228]
[{"$nulls":4},229]
[{"$nulls":4},230]
[{"$nulls":4},231]
[{"$nulls":4},232]
[{"$nulls":4},233]
[{"$nulls":4},234]
[{"$nulls":4},235]
[{"$nulls":4},236]
[{"$nulls":4},237]
[{"$nulls":4},238]
[{"$nulls":4},239]
[{"$nulls":4},240]
[{"$nulls":4},241]
[{"$nulls":4},242]
[{"$nulls":4},243]
[{"$nulls":4},244]
[{"$nulls":4},245]
[{"$nulls":4},246]
[{"$nulls":4},247]
[{"$nulls":4},248]
[{"$nulls":4},249]
[{"$nulls":4},250]
[{"$nulls":4},251]
[{"$nulls":4},252]
[{"$nulls":4},253]
[{"$nulls":4},254]
[{"$nulls":4},255]
[{"$nulls":4},256]
[{"$nulls":4},257]
[{"$nulls":4},258]
[{"$nulls":4},259]
[{"$nulls":4},260]
[{"$nulls":4},261]
[{"$nulls":4},262]
[{"$nulls":4},263]
[{"$nulls":4},264]
[{"$nulls":4},265]
[{"$nulls":4},266]
[{"$nulls":4},267]
[{"$nulls":4},268]
[{"$nulls":4},269]
[{"$nulls":4},270]
[{"$nulls":4},271]
[{"$nulls":4},272]
[{"$nulls":4},273]
[{"$nulls":4},274]
[{"$nulls":4},275]
[{"$nulls":4},276]
[{"$nulls":4},277]
[{"$nulls":4},278]
[{"$nulls":4},279]
[{"$nulls":4},280]
[{"$nulls":4},281]
[{"$nulls":4},282]
[{"$nulls":4},283]
[{"$nulls":4},284]
[{"$nulls":4},285]
[{"$nulls":4},286]
[{"$nulls":4},287]
[{"$nulls":4},288]
[{"$nulls":4},289]
[{"$nulls":4},290]
[{"$nulls":4},291]
[{"$nulls":4},292]
[{"$nulls":4},293]
[{"$nulls":4},294]
[{"$nulls":4},295]
[{"$nulls":4},296]
[{"$nulls":4},297]
[{"$nulls":4},298]
[{"$nulls":4},299]
[{"$nulls":4},300]

{"sheet":"Youth","index":4,"n_rows":301,"n_cols":11,"rows_kept":301,"cut":false,"hidden":false,"merged":[]}
["Futurity","Der","Age Inct.","BBR","Draw","Rider Name","Horse Name","Pen","Time","Placing","Money Earned"]
[{"$nulls":4},7,"Charli Snow","Shinin For You",null,15.932,"1D 1st",189]
[{"$nulls":4},1,"Riley Ross","HP Rocket Ta Fame",null,16.074000000000002,"1D 2nd",126]
[{"$nulls":4},6,"Shia Williams","JF Frenchmans Rhythm",null,16.201000000000001]
[{"$nulls":4},25,"Alex Stokes","Reba",null,16.28]
[{"$nulls":4},9,"Amie Hennen","UknowUNVMe",null,16.367999999999999]
[{"$nulls":4},18,"Maylee McCrary","SK Easy Struttin Go",null,16.408999999999999]
[{"$nulls":4},11,"Charli Snow","Scootin Lil Chic",null,16.530999999999999,"2D 1st",162]
[{"$nulls":4},20,"Mollie Lane","Sunup Starbert",null,16.613,"2D 2nd",108]
[{"$nulls":4},3,"Riley Ross","Perks Alive N 75",null,16.702000000000002]
[{"$nulls":4},12,"Mikayla Cox","KN Sheza Redneck",null,16.78]
[{"$nulls":4},22,"Kristina Osborn","Jesse",null,16.800999999999998]
[{"$nulls":4},10,"Rebekah McQueen","Leo Peppy San Belle",null,16.873000000000001]
[{"$nulls":4},14,"Tripp Taylor","Smalls",null,16.884]
[{"$nulls":4},27,"Spring Pennington","JJ Light My Fire",null,17.056999999999999,"3D 1st",108]
[{"$nulls":4},16,"Mikayla Cox","Royal Quick Runaway",null,17.113,"3D 2nd",72]
[{"$nulls":4},23,"Tyley Sears","Indie",null,17.463000000000001,"4D 1st",81]
[{"$nulls":4},17,"Gabby Ruffini","Diamond",null,17.523,"4D 2nd",54]
[{"$nulls":4},2,"Mikayla Cearley","Docs Part Bueno Bar",null,17.943999999999999]
[{"$nulls":4},8,"Kirstyn Hand","Royal Moon Charger",null,17.952000000000002]
[{"$nulls":4},24,"Jesse Harris","Runnin for Honors",null,"nt16.442"]
[{"$nulls":4},15,"Kaitlyn Anderson","Livin For happy Hour",null,"nt16.706"]
[{"$nulls":4},26,"Journie Long","Yawl Watch Me Shine",null,"nt16.709"]
[{"$nulls":4},5,"Tomi Womack","Lady",null,"nt16.729"]
[{"$nulls":4},13,"Amie Hennen","texas War Jet",null,"nt16.814"]
[{"$nulls":4},4,"Riley Ross","EMW Famous Presley",null,"nt17.007"]
[{"$nulls":4},19,"Stormi Branch","Demon",null,"nt17.209"]
[{"$nulls":4},21,"Alex Stokes","Mia",null,"nt17.567"]
[{"$nulls":4},28]
[{"$nulls":4},29]
[{"$nulls":4},30]
[{"$nulls":4},31]
[{"$nulls":4},32]
[{"$nulls":4},33]
[{"$nulls":4},34]
[{"$nulls":4},35]
[{"$nulls":4},36]
[{"$nulls":4},37]
[{"$nulls":4},38]
[{"$nulls":4},39]
[{"$nulls":4},40]
[{"$nulls":4},41]
[{"$nulls":4},42]
[{"$nulls":4},43]
[{"$nulls":4},44]
[{"$nulls":4},45]
[{"$nulls":4},46]
[{"$nulls":4},47]
[{"$nulls":4},48]
[{"$nulls":4},49]
[{"$nulls":4},50]
[{"$nulls":4},51]
[{"$nulls":4},52]
[{"$nulls":4},53]
[{"$nulls":4},54]
[{"$nulls":4},55]
[{"$nulls":4},56]
[{"$nulls":4},57]
[{"$nulls":4},58]
[{"$nulls":4},59]
[{"$nulls":4},60]
[{"$nulls":4},61]
[{"$nulls":4},62]
[{"$nulls":4},63]
[{"$nulls":4},64]
[{"$nulls":4},65]
[{"$nulls":4},66]
[{"$nulls":4},67]
[{"$nulls":4},68]
[{"$nulls":4},69]
[{"$nulls":4},70]
[{"$nulls":4},71]
[{"$nulls":4},72]
[{"$nulls":4},73]
[{"$nulls":4},74]
[{"$nulls":4},75]
[{"$nulls":4},76]
[{"$nulls":4},77]
[{"$nulls":4},78]
[{"$nulls":4},79]
[{"$nulls":4},80]
[{"$nulls":4},81]
[{"$nulls":4},82]
[{"$nulls":4},83]
[{"$nulls":4},84]
[{"$nulls":4},85]
[{"$nulls":4},86]
[{"$nulls":4},87]
[{"$nulls":4},88]
[{"$nulls":4},89]
[{"$nulls":4},90]
[{"$nulls":4},91]
[{"$nulls":4},92]
[{"$nulls":4},93]
[{"$nulls":4},94]
[{"$nulls":4},95]
[{"$nulls":4},96]
[{"$nulls":4},97]
[{"$nulls":4},98]
[{"$nulls":4},99]
[{"$nulls":4},100]
[{"$nulls":4},101]
[{"$nulls":4},102]
[{"$nulls":4},103]
[{"$nulls":4},104]
[{"$nulls":4},105]
[{"$nulls":4},106]
[{"$nulls":4},107]
[{"$nulls":4},108]
[{"$nulls":4},109]
[{"$nulls":4},110]
[{"$nulls":4},111]
[{"$nulls":4},112]
[{"$nulls":4},113]
[{"$nulls":4},114]
[{"$nulls":4},115]
[{"$nulls":4},116]
[{"$nulls":4},117]
[{"$nulls":4},118]
[{"$nulls":4},119]
[{"$nulls":4},120]
[{"$nulls":4},121]
[{"$nulls":4},122]
[{"$nulls":4},123]
[{"$nulls":4},124]
[{"$nulls":4},125]
[{"$nulls":4},126]
[{"$nulls":4},127]
[{"$nulls":4},128]
[{"$nulls":4},129]
[{"$nulls":4},130]
[{"$nulls":4},131]
[{"$nulls":4},132]
[{"$nulls":4},133]
[{"$nulls":4},134]
[{"$nulls":4},135]
[{"$nulls":4},136]
[{"$nulls":4},137]
[{"$nulls":4},138]
[{"$nulls":4},139]
[{"$nulls":4},140]
[{"$nulls":4},141]
[{"$nulls":4},142]
[{"$nulls":4},143]
[{"$nulls":4},144]
[{"$nulls":4},145]
[{"$nulls":4},146]
[{"$nulls":4},147]
[{"$nulls":4},148]
[{"$nulls":4},149]
[{"$nulls":4},150]
[{"$nulls":4},151]
[{"$nulls":4},152]
[{"$nulls":4},153]
[{"$nulls":4},154]
[{"$nulls":4},155]
[{"$nulls":4},156]
[{"$nulls":4},157]
[{"$nulls":4},158]
[{"$nulls":4},159]
[{"$nulls":4},160]
[{"$nulls":4},161]
[{"$nulls":4},162]
[{"$nulls":4},163]
[{"$nulls":4},164]
[{"$nulls":4},165]
[{"$nulls":4},166]
[{"$nulls":4},167]
[{"$nulls":4},168]
[{"$nulls":4},169]
[{"$nulls":4},170]
[{"$nulls":4},171]
[{"$nulls":4},172]
[{"$nulls":4},173]
[{"$nulls":4},174]
[{"$nulls":4},175]
[{"$nulls":4},176]
[{"$nulls":4},177]
[{"$nulls":4},178]
[{"$nulls":4},179]
[{"$nulls":4},180]
[{"$nulls":4},181]
[{"$nulls":4},182]
[{"$nulls":4},183]
[{"$nulls":4},184]
[{"$nulls":4},185]
[{"$nulls":4},186]
[{"$nulls":4},187]
[{"$nulls":4},188]
[{"$nulls":4},189]
[{"$nulls":4},190]
[{"$nulls":4},191]
[{"$nulls":4},192]
[{"$nulls":4},193]
[{"$nulls":4},194]
[{"$nulls":4},195]
[{"$nulls":4},196]
[{"$nulls":4},197]
[{"$nulls":4},198]
[{"$nulls":4},199]
[{"$nulls":4},200]
[{"$nulls":4},201]
[{"$nulls":4},202]
[{"$nulls":4},203]
[{"$nulls":4},204]
[{"$nulls":4},205]
[{"$nulls":4},206]
[{"$nulls":4},207]
[{"$nulls":4},208]
[{"$nulls":4},209]
[{"$nulls":4},210]
[{"$nulls":4},211]
[{"$nulls":4},212]
[{"$nulls":4},213]
[{"$nulls":4},214]
[{"$nulls":4},215]
[{"$nulls":4},216]
[{"$nulls":4},217]
[{"$nulls":4},218]
[{"$nulls":4},219]
[{"$nulls":4},220]
[{"$nulls":4},221]
[{"$nulls":4},222]
[{"$nulls":4},223]
[{"$nulls":4},224]
[{"$nulls":4},225]
[{"$nulls":4},226]
[{"$nulls":4},227]
[{"$nulls":4},228]
[{"$nulls":4},229]
[{"$nulls":4},230]
[{"$nulls":4},231]
[{"$nulls":4},232]
[{"$nulls":4},233]
[{"$nulls":4},234]
[{"$nulls":4},235]
[{"$nulls":4},236]
[{"$nulls":4},237]
[{"$nulls":4},238]
[{"$nulls":4},239]
[{"$nulls":4},240]
[{"$nulls":4},241]
[{"$nulls":4},242]
[{"$nulls":4},243]
[{"$nulls":4},244]
[{"$nulls":4},245]
[{"$nulls":4},246]
[{"$nulls":4},247]
[{"$nulls":4},248]
[{"$nulls":4},249]
[{"$nulls":4},250]
[{"$nulls":4},251]
[{"$nulls":4},252]
[{"$nulls":4},253]
[{"$nulls":4},254]
[{"$nulls":4},255]
[{"$nulls":4},256]
[{"$nulls":4},257]
[{"$nulls":4},258]
[{"$nulls":4},259]
[{"$nulls":4},260]
[{"$nulls":4},261]
[{"$nulls":4},262]
[{"$nulls":4},263]
[{"$nulls":4},264]
[{"$nulls":4},265]
[{"$nulls":4},266]
[{"$nulls":4},267]
[{"$nulls":4},268]
[{"$nulls":4},269]
[{"$nulls":4},270]
[{"$nulls":4},271]
[{"$nulls":4},272]
[{"$nulls":4},273]
[{"$nulls":4},274]
[{"$nulls":4},275]
[{"$nulls":4},276]
[{"$nulls":4},277]
[{"$nulls":4},278]
[{"$nulls":4},279]
[{"$nulls":4},280]
[{"$nulls":4},281]
[{"$nulls":4},282]
[{"$nulls":4},283]
[{"$nulls":4},284]
[{"$nulls":4},285]
[{"$nulls":4},286]
[{"$nulls":4},287]
[{"$nulls":4},288]
[{"$nulls":4},289]
[{"$nulls":4},290]
[{"$nulls":4},291]
[{"$nulls":4},292]
[{"$nulls":4},293]
[{"$nulls":4},294]
[{"$nulls":4},295]
[{"$nulls":4},296]
[{"$nulls":4},297]
[{"$nulls":4},298]
[{"$nulls":4},299]
[{"$nulls":4},300]

{"sheet":"Derby","index":5,"n_rows":301,"n_cols":10,"rows_kept":301,"cut":false,"hidden":false,"merged":[]}
["Futurity","Der","Age Inct.","BBR","Draw","Rider Name","Horse Name","Final Time","Placing","Money Earned"]
[{"$nulls":4},24,"Nisa Berry","VF Look Im Back",15.593,"1D 1st",227]
[{"$nulls":4},14,"Molli Montgomery","Legsgonewild",15.808,"1D 2nd",151]
[{"$nulls":4},20,"Felecia Taylor","AR Dash Ta Flame",15.887]
[{"$nulls":4},17,"Charli Snow","Shinin For You",15.932]
[{"$nulls":4},13,"Whitney Godinez","Happy Hour Special",16.065000000000001]
[{"$nulls":4},4,"Riley Ross","HP Rocket Ta Fame",16.074000000000002]
[{"$nulls":4},25,"Lindsey Kruse","Crown N Fame",16.077999999999999]
[{"$nulls":4},1,"Hannah Forbes","Ivory Candy",16.161000000000001]
[{"$nulls":4},27,"Natalie Bland","THC OK Fuel",16.216000000000001]
[{"$nulls":4},2,"Lauren Whitmire","WR Rebas Fling",16.228999999999999]
[{"$nulls":4},23,"Lacey Harmon","Just The Way You Are",16.239000000000001]
[{"$nulls":4},8,"Jessica Haggerty","Fame On Fire",16.341000000000001]
[{"$nulls":4},3,"Laura Avery","Letta Trouble Doit",16.350000000000001]
[{"$nulls":4},19,"Kelsey Gordon","Prada",16.63,"2D 1st",97]
[{"$nulls":4},18,"Reenie Wahlert","Famous Little Pistol",16.789000000000001,"2D 2nd",65]
[{"$nulls":4},10,"Molli Montgomery","Pandora",16.890999999999998]
[{"$nulls":4},9,"Debbie Bloxom","Shake The Flame",18.103000000000002]
[{"$nulls":4},21,"Brittany Fellows","Mary Jane",18.542000000000002]
[{"$nulls":4},26,"Schelli Creacy","Nico","nt15.737"]
[{"$nulls":4},22,"Martha Wright","JLFourTaFame","nt15.862"]
[{"$nulls":4},11,"Andrea Cline","Raising Fame","nt16.362"]
[{"$nulls":4},16,"Ryann Pedone","Streakin Queenie","nt16.459"]
[{"$nulls":4},12,"Lorissa Jo Merritt","Marthas Dr Flit Bar","nt16.471"]
[{"$nulls":4},6,"Susan Agnew","Jet N Ta Fame","nt16.475"]
[{"$nulls":4},5,"Brittany Pierson","Gay Jay Olena","nt16.639"]
[{"$nulls":4},15,"Molli Montgomery","Makin Ya Famous","nt19.809"]
[{"$nulls":4},7,"Terry Vogel","DarbyFrenchmengonblu","nt28.541"]
[{"$nulls":4},28,null,null,{"$f":"IF(OR(#REF!=5,#REF!=10,#REF!= 15,#REF!= \"BP\",#REF!=\"SCR\"),\"NT\",#REF!)","v":{"$error":"#REF!"}}]
[{"$nulls":4},29,null,null,{"$f":"IF(OR(#REF!=5,#REF!=10,#REF!= 15,#REF!= \"BP\",#REF!=\"SCR\"),\"NT\",#REF!)","v":{"$error":"#REF!"}}]
[{"$nulls":4},30,null,null,{"$f":"IF(OR(#REF!=5,#REF!=10,#REF!= 15,#REF!= \"BP\",#REF!=\"SCR\"),\"NT\",#REF!)","v":{"$error":"#REF!"}}]
[{"$nulls":4},31,null,null,{"$f":"IF(OR(#REF!=5,#REF!=10,#REF!= 15,#REF!= \"BP\",#REF!=\"SCR\"),\"NT\",#REF!)","v":{"$error":"#REF!"}}]
[{"$nulls":4},32,null,null,{"$f":"IF(OR(#REF!=5,#REF!=10,#REF!= 15,#REF!= \"BP\",#REF!=\"SCR\"),\"NT\",#REF!)","v":{"$error":"#REF!"}}]
[{"$nulls":4},33,null,null,{"$f":"IF(OR(#REF!=5,#REF!=10,#REF!= 15,#REF!= \"BP\",#REF!=\"SCR\"),\"NT\",#REF!)","v":{"$error":"#REF!"}}]
[{"$nulls":4},34,null,null,{"$f":"IF(OR(#REF!=5,#REF!=10,#REF!= 15,#REF!= \"BP\",#REF!=\"SCR\"),\"NT\",#REF!)","v":{"$error":"#REF!"}}]
[{"$nulls":4},35,null,null,{"$f":"IF(OR(#REF!=5,#REF!=10,#REF!= 15,#REF!= \"BP\",#REF!=\"SCR\"),\"NT\",#REF!)","v":{"$error":"#REF!"}}]
[{"$nulls":4},36,null,null,{"$f":"IF(OR(#REF!=5,#REF!=10,#REF!= 15,#REF!= \"BP\",#REF!=\"SCR\"),\"NT\",#REF!)","v":{"$error":"#REF!"}}]
[{"$nulls":4},37,null,null,{"$f":"IF(OR(#REF!=5,#REF!=10,#REF!= 15,#REF!= \"BP\",#REF!=\"SCR\"),\"NT\",#REF!)","v":{"$error":"#REF!"}}]
[{"$nulls":4},38,null,null,{"$f":"IF(OR(#REF!=5,#REF!=10,#REF!= 15,#REF!= \"BP\",#REF!=\"SCR\"),\"NT\",#REF!)","v":{"$error":"#REF!"}}]
[{"$nulls":4},39,null,null,{"$f":"IF(OR(#REF!=5,#REF!=10,#REF!= 15,#REF!= \"BP\",#REF!=\"SCR\"),\"NT\",#REF!)","v":{"$error":"#REF!"}}]
[{"$nulls":4},40,null,null,{"$f":"IF(OR(#REF!=5,#REF!=10,#REF!= 15,#REF!= \"BP\",#REF!=\"SCR\"),\"NT\",#REF!)","v":{"$error":"#REF!"}}]
[{"$nulls":4},41,null,null,{"$f":"IF(OR(#REF!=5,#REF!=10,#REF!= 15,#REF!= \"BP\",#REF!=\"SCR\"),\"NT\",#REF!)","v":{"$error":"#REF!"}}]
[{"$nulls":4},42,null,null,{"$f":"IF(OR(#REF!=5,#REF!=10,#REF!= 15,#REF!= \"BP\",#REF!=\"SCR\"),\"NT\",#REF!)","v":{"$error":"#REF!"}}]
[{"$nulls":4},43,null,null,{"$f":"IF(OR(#REF!=5,#REF!=10,#REF!= 15,#REF!= \"BP\",#REF!=\"SCR\"),\"NT\",#REF!)","v":{"$error":"#REF!"}}]
[{"$nulls":4},44,null,null,{"$f":"IF(OR(#REF!=5,#REF!=10,#REF!= 15,#REF!= \"BP\",#REF!=\"SCR\"),\"NT\",#REF!)","v":{"$error":"#REF!"}}]
[{"$nulls":4},45,null,null,{"$f":"IF(OR(#REF!=5,#REF!=10,#REF!= 15,#REF!= \"BP\",#REF!=\"SCR\"),\"NT\",#REF!)","v":{"$error":"#REF!"}}]
[{"$nulls":4},46,null,null,{"$f":"IF(OR(#REF!=5,#REF!=10,#REF!= 15,#REF!= \"BP\",#REF!=\"SCR\"),\"NT\",#REF!)","v":{"$error":"#REF!"}}]
[{"$nulls":4},47,null,null,{"$f":"IF(OR(#REF!=5,#REF!=10,#REF!= 15,#REF!= \"BP\",#REF!=\"SCR\"),\"NT\",#REF!)","v":{"$error":"#REF!"}}]
[{"$nulls":4},48,null,null,{"$f":"IF(OR(#REF!=5,#REF!=10,#REF!= 15,#REF!= \"BP\",#REF!=\"SCR\"),\"NT\",#REF!)","v":{"$error":"#REF!"}}]
[{"$nulls":4},49,null,null,{"$f":"IF(OR(#REF!=5,#REF!=10,#REF!= 15,#REF!= \"BP\",#REF!=\"SCR\"),\"NT\",#REF!)","v":{"$error":"#REF!"}}]
[{"$nulls":4},50,null,null,{"$f":"IF(OR(#REF!=5,#REF!=10,#REF!= 15,#REF!= \"BP\",#REF!=\"SCR\"),\"NT\",#REF!)","v":{"$error":"#REF!"}}]
[{"$nulls":4},51,null,null,{"$f":"IF(OR(#REF!=5,#REF!=10,#REF!= 15,#REF!= \"BP\",#REF!=\"SCR\"),\"NT\",#REF!)","v":{"$error":"#REF!"}}]
[{"$nulls":4},52,null,null,{"$f":"IF(OR(#REF!=5,#REF!=10,#REF!= 15,#REF!= \"BP\",#REF!=\"SCR\"),\"NT\",#REF!)","v":{"$error":"#REF!"}}]
[{"$nulls":4},53,null,null,{"$f":"IF(OR(#REF!=5,#REF!=10,#REF!= 15,#REF!= \"BP\",#REF!=\"SCR\"),\"NT\",#REF!)","v":{"$error":"#REF!"}}]
[{"$nulls":4},54,null,null,{"$f":"IF(OR(#REF!=5,#REF!=10,#REF!= 15,#REF!= \"BP\",#REF!=\"SCR\"),\"NT\",#REF!)","v":{"$error":"#REF!"}}]
[{"$nulls":4},55,null,null,{"$f":"IF(OR(#REF!=5,#REF!=10,#REF!= 15,#REF!= \"BP\",#REF!=\"SCR\"),\"NT\",#REF!)","v":{"$error":"#REF!"}}]
[{"$nulls":4},56,null,null,{"$f":"IF(OR(#REF!=5,#REF!=10,#REF!= 15,#REF!= \"BP\",#REF!=\"SCR\"),\"NT\",#REF!)","v":{"$error":"#REF!"}}]
[{"$nulls":4},57,null,null,{"$f":"IF(OR(#REF!=5,#REF!=10,#REF!= 15,#REF!= \"BP\",#REF!=\"SCR\"),\"NT\",#REF!)","v":{"$error":"#REF!"}}]
[{"$nulls":4},58,null,null,{"$f":"IF(OR(#REF!=5,#REF!=10,#REF!= 15,#REF!= \"BP\",#REF!=\"SCR\"),\"NT\",#REF!)","v":{"$error":"#REF!"}}]
[{"$nulls":4},59,null,null,{"$f":"IF(OR(#REF!=5,#REF!=10,#REF!= 15,#REF!= \"BP\",#REF!=\"SCR\"),\"NT\",#REF!)","v":{"$error":"#REF!"}}]
[{"$nulls":4},60,null,null,{"$f":"IF(OR(#REF!=5,#REF!=10,#REF!= 15,#REF!= \"BP\",#REF!=\"SCR\"),\"NT\",#REF!)","v":{"$error":"#REF!"}}]
[{"$nulls":4},61,null,null,{"$f":"IF(OR(#REF!=5,#REF!=10,#REF!= 15,#REF!= \"BP\",#REF!=\"SCR\"),\"NT\",#REF!)","v":{"$error":"#REF!"}}]
[{"$nulls":4},62,null,null,{"$f":"IF(OR(#REF!=5,#REF!=10,#REF!= 15,#REF!= \"BP\",#REF!=\"SCR\"),\"NT\",#REF!)","v":{"$error":"#REF!"}}]
[{"$nulls":4},63,null,null,{"$f":"IF(OR(#REF!=5,#REF!=10,#REF!= 15,#REF!= \"BP\",#REF!=\"SCR\"),\"NT\",#REF!)","v":{"$error":"#REF!"}}]
[{"$nulls":4},64,null,null,{"$f":"IF(OR(#REF!=5,#REF!=10,#REF!= 15,#REF!= \"BP\",#REF!=\"SCR\"),\"NT\",#REF!)","v":{"$error":"#REF!"}}]
[{"$nulls":4},65,null,null,{"$f":"IF(OR(#REF!=5,#REF!=10,#REF!= 15,#REF!= \"BP\",#REF!=\"SCR\"),\"NT\",#REF!)","v":{"$error":"#REF!"}}]
[{"$nulls":4},66,null,null,{"$f":"IF(OR(#REF!=5,#REF!=10,#REF!= 15,#REF!= \"BP\",#REF!=\"SCR\"),\"NT\",#REF!)","v":{"$error":"#REF!"}}]
[{"$nulls":4},67,null,null,{"$f":"IF(OR(#REF!=5,#REF!=10,#REF!= 15,#REF!= \"BP\",#REF!=\"SCR\"),\"NT\",#REF!)","v":{"$error":"#REF!"}}]
[{"$nulls":4},68,null,null,{"$f":"IF(OR(#REF!=5,#REF!=10,#REF!= 15,#REF!= \"BP\",#REF!=\"SCR\"),\"NT\",#REF!)","v":{"$error":"#REF!"}}]
[{"$nulls":4},69,null,null,{"$f":"IF(OR(#REF!=5,#REF!=10,#REF!= 15,#REF!= \"BP\",#REF!=\"SCR\"),\"NT\",#REF!)","v":{"$error":"#REF!"}}]
[{"$nulls":4},70,null,null,{"$f":"IF(OR(#REF!=5,#REF!=10,#REF!= 15,#REF!= \"BP\",#REF!=\"SCR\"),\"NT\",#REF!)","v":{"$error":"#REF!"}}]
[{"$nulls":4},71,null,null,{"$f":"IF(OR(#REF!=5,#REF!=10,#REF!= 15,#REF!= \"BP\",#REF!=\"SCR\"),\"NT\",#REF!)","v":{"$error":"#REF!"}}]
[{"$nulls":4},72,null,null,{"$f":"IF(OR(#REF!=5,#REF!=10,#REF!= 15,#REF!= \"BP\",#REF!=\"SCR\"),\"NT\",#REF!)","v":{"$error":"#REF!"}}]
[{"$nulls":4},73,null,null,{"$f":"IF(OR(#REF!=5,#REF!=10,#REF!= 15,#REF!= \"BP\",#REF!=\"SCR\"),\"NT\",#REF!)","v":{"$error":"#REF!"}}]
[{"$nulls":4},74,null,null,{"$f":"IF(OR(#REF!=5,#REF!=10,#REF!= 15,#REF!= \"BP\",#REF!=\"SCR\"),\"NT\",#REF!)","v":{"$error":"#REF!"}}]
[{"$nulls":4},75,null,null,{"$f":"IF(OR(#REF!=5,#REF!=10,#REF!= 15,#REF!= \"BP\",#REF!=\"SCR\"),\"NT\",#REF!)","v":{"$error":"#REF!"}}]
[{"$nulls":4},76,null,null,{"$f":"IF(OR(#REF!=5,#REF!=10,#REF!= 15,#REF!= \"BP\",#REF!=\"SCR\"),\"NT\",#REF!)","v":{"$error":"#REF!"}}]
[{"$nulls":4},77,null,null,{"$f":"IF(OR(#REF!=5,#REF!=10,#REF!= 15,#REF!= \"BP\",#REF!=\"SCR\"),\"NT\",#REF!)","v":{"$error":"#REF!"}}]
[{"$nulls":4},78,null,null,{"$f":"IF(OR(#REF!=5,#REF!=10,#REF!= 15,#REF!= \"BP\",#REF!=\"SCR\"),\"NT\",#REF!)","v":{"$error":"#REF!"}}]
[{"$nulls":4},79,null,null,{"$f":"IF(OR(#REF!=5,#REF!=10,#REF!= 15,#REF!= \"BP\",#REF!=\"SCR\"),\"NT\",#REF!)","v":{"$error":"#REF!"}}]
[{"$nulls":4},80,null,null,{"$f":"IF(OR(#REF!=5,#REF!=10,#REF!= 15,#REF!= \"BP\",#REF!=\"SCR\"),\"NT\",#REF!)","v":{"$error":"#REF!"}}]
[{"$nulls":4},81,null,null,{"$f":"IF(OR(#REF!=5,#REF!=10,#REF!= 15,#REF!= \"BP\",#REF!=\"SCR\"),\"NT\",#REF!)","v":{"$error":"#REF!"}}]
[{"$nulls":4},82,null,null,{"$f":"IF(OR(#REF!=5,#REF!=10,#REF!= 15,#REF!= \"BP\",#REF!=\"SCR\"),\"NT\",#REF!)","v":{"$error":"#REF!"}}]
[{"$nulls":4},83,null,null,{"$f":"IF(OR(#REF!=5,#REF!=10,#REF!= 15,#REF!= \"BP\",#REF!=\"SCR\"),\"NT\",#REF!)","v":{"$error":"#REF!"}}]
[{"$nulls":4},84,null,null,{"$f":"IF(OR(#REF!=5,#REF!=10,#REF!= 15,#REF!= \"BP\",#REF!=\"SCR\"),\"NT\",#REF!)","v":{"$error":"#REF!"}}]
[{"$nulls":4},85,null,null,{"$f":"IF(OR(#REF!=5,#REF!=10,#REF!= 15,#REF!= \"BP\",#REF!=\"SCR\"),\"NT\",#REF!)","v":{"$error":"#REF!"}}]
[{"$nulls":4},86,null,null,{"$f":"IF(OR(#REF!=5,#REF!=10,#REF!= 15,#REF!= \"BP\",#REF!=\"SCR\"),\"NT\",#REF!)","v":{"$error":"#REF!"}}]
[{"$nulls":4},87,null,null,{"$f":"IF(OR(#REF!=5,#REF!=10,#REF!= 15,#REF!= \"BP\",#REF!=\"SCR\"),\"NT\",#REF!)","v":{"$error":"#REF!"}}]
[{"$nulls":4},88,null,null,{"$f":"IF(OR(#REF!=5,#REF!=10,#REF!= 15,#REF!= \"BP\",#REF!=\"SCR\"),\"NT\",#REF!)","v":{"$error":"#REF!"}}]
[{"$nulls":4},89,null,null,{"$f":"IF(OR(#REF!=5,#REF!=10,#REF!= 15,#REF!= \"BP\",#REF!=\"SCR\"),\"NT\",#REF!)","v":{"$error":"#REF!"}}]
[{"$nulls":4},90,null,null,{"$f":"IF(OR(#REF!=5,#REF!=10,#REF!= 15,#REF!= \"BP\",#REF!=\"SCR\"),\"NT\",#REF!)","v":{"$error":"#REF!"}}]
[{"$nulls":4},91,null,null,{"$f":"IF(OR(#REF!=5,#REF!=10,#REF!= 15,#REF!= \"BP\",#REF!=\"SCR\"),\"NT\",#REF!)","v":{"$error":"#REF!"}}]
[{"$nulls":4},92,null,null,{"$f":"IF(OR(#REF!=5,#REF!=10,#REF!= 15,#REF!= \"BP\",#REF!=\"SCR\"),\"NT\",#REF!)","v":{"$error":"#REF!"}}]
[{"$nulls":4},93,null,null,{"$f":"IF(OR(#REF!=5,#REF!=10,#REF!= 15,#REF!= \"BP\",#REF!=\"SCR\"),\"NT\",#REF!)","v":{"$error":"#REF!"}}]
[{"$nulls":4},94,null,null,{"$f":"IF(OR(#REF!=5,#REF!=10,#REF!= 15,#REF!= \"BP\",#REF!=\"SCR\"),\"NT\",#REF!)","v":{"$error":"#REF!"}}]
[{"$nulls":4},95,null,null,{"$f":"IF(OR(#REF!=5,#REF!=10,#REF!= 15,#REF!= \"BP\",#REF!=\"SCR\"),\"NT\",#REF!)","v":{"$error":"#REF!"}}]
[{"$nulls":4},96,null,null,{"$f":"IF(OR(#REF!=5,#REF!=10,#REF!= 15,#REF!= \"BP\",#REF!=\"SCR\"),\"NT\",#REF!)","v":{"$error":"#REF!"}}]
[{"$nulls":4},97,null,null,{"$f":"IF(OR(#REF!=5,#REF!=10,#REF!= 15,#REF!= \"BP\",#REF!=\"SCR\"),\"NT\",#REF!)","v":{"$error":"#REF!"}}]
[{"$nulls":4},98,null,null,{"$f":"IF(OR(#REF!=5,#REF!=10,#REF!= 15,#REF!= \"BP\",#REF!=\"SCR\"),\"NT\",#REF!)","v":{"$error":"#REF!"}}]
[{"$nulls":4},99,null,null,{"$f":"IF(OR(#REF!=5,#REF!=10,#REF!= 15,#REF!= \"BP\",#REF!=\"SCR\"),\"NT\",#REF!)","v":{"$error":"#REF!"}}]
[{"$nulls":4},100,null,null,{"$f":"IF(OR(#REF!=5,#REF!=10,#REF!= 15,#REF!= \"BP\",#REF!=\"SCR\"),\"NT\",#REF!)","v":{"$error":"#REF!"}}]
[{"$nulls":4},101,null,null,{"$f":"IF(OR(#REF!=5,#REF!=10,#REF!= 15,#REF!= \"BP\",#REF!=\"SCR\"),\"NT\",#REF!)","v":{"$error":"#REF!"}}]
[{"$nulls":4},102,null,null,{"$f":"IF(OR(#REF!=5,#REF!=10,#REF!= 15,#REF!= \"BP\",#REF!=\"SCR\"),\"NT\",#REF!)","v":{"$error":"#REF!"}}]
[{"$nulls":4},103,null,null,{"$f":"IF(OR(#REF!=5,#REF!=10,#REF!= 15,#REF!= \"BP\",#REF!=\"SCR\"),\"NT\",#REF!)","v":{"$error":"#REF!"}}]
[{"$nulls":4},104,null,null,{"$f":"IF(OR(#REF!=5,#REF!=10,#REF!= 15,#REF!= \"BP\",#REF!=\"SCR\"),\"NT\",#REF!)","v":{"$error":"#REF!"}}]
[{"$nulls":4},105,null,null,{"$f":"IF(OR(#REF!=5,#REF!=10,#REF!= 15,#REF!= \"BP\",#REF!=\"SCR\"),\"NT\",#REF!)","v":{"$error":"#REF!"}}]
[{"$nulls":4},106,null,null,{"$f":"IF(OR(#REF!=5,#REF!=10,#REF!= 15,#REF!= \"BP\",#REF!=\"SCR\"),\"NT\",#REF!)","v":{"$error":"#REF!"}}]
[{"$nulls":4},107,null,null,{"$f":"IF(OR(#REF!=5,#REF!=10,#REF!= 15,#REF!= \"BP\",#REF!=\"SCR\"),\"NT\",#REF!)","v":{"$error":"#REF!"}}]
[{"$nulls":4},108,null,null,{"$f":"IF(OR(#REF!=5,#REF!=10,#REF!= 15,#REF!= \"BP\",#REF!=\"SCR\"),\"NT\",#REF!)","v":{"$error":"#REF!"}}]
[{"$nulls":4},109,null,null,{"$f":"IF(OR(#REF!=5,#REF!=10,#REF!= 15,#REF!= \"BP\",#REF!=\"SCR\"),\"NT\",#REF!)","v":{"$error":"#REF!"}}]
[{"$nulls":4},110,null,null,{"$f":"IF(OR(#REF!=5,#REF!=10,#REF!= 15,#REF!= \"BP\",#REF!=\"SCR\"),\"NT\",#REF!)","v":{"$error":"#REF!"}}]
[{"$nulls":4},111,null,null,{"$f":"IF(OR(#REF!=5,#REF!=10,#REF!= 15,#REF!= \"BP\",#REF!=\"SCR\"),\"NT\",#REF!)","v":{"$error":"#REF!"}}]
[{"$nulls":4},112,null,null,{"$f":"IF(OR(#REF!=5,#REF!=10,#REF!= 15,#REF!= \"BP\",#REF!=\"SCR\"),\"NT\",#REF!)","v":{"$error":"#REF!"}}]
[{"$nulls":4},113,null,null,{"$f":"IF(OR(#REF!=5,#REF!=10,#REF!= 15,#REF!= \"BP\",#REF!=\"SCR\"),\"NT\",#REF!)","v":{"$error":"#REF!"}}]
[{"$nulls":4},114,null,null,{"$f":"IF(OR(#REF!=5,#REF!=10,#REF!= 15,#REF!= \"BP\",#REF!=\"SCR\"),\"NT\",#REF!)","v":{"$error":"#REF!"}}]
[{"$nulls":4},115,null,null,{"$f":"IF(OR(#REF!=5,#REF!=10,#REF!= 15,#REF!= \"BP\",#REF!=\"SCR\"),\"NT\",#REF!)","v":{"$error":"#REF!"}}]
[{"$nulls":4},116,null,null,{"$f":"IF(OR(#REF!=5,#REF!=10,#REF!= 15,#REF!= \"BP\",#REF!=\"SCR\"),\"NT\",#REF!)","v":{"$error":"#REF!"}}]
[{"$nulls":4},117,null,null,{"$f":"IF(OR(#REF!=5,#REF!=10,#REF!= 15,#REF!= \"BP\",#REF!=\"SCR\"),\"NT\",#REF!)","v":{"$error":"#REF!"}}]
[{"$nulls":4},118,null,null,{"$f":"IF(OR(#REF!=5,#REF!=10,#REF!= 15,#REF!= \"BP\",#REF!=\"SCR\"),\"NT\",#REF!)","v":{"$error":"#REF!"}}]
[{"$nulls":4},119,null,null,{"$f":"IF(OR(#REF!=5,#REF!=10,#REF!= 15,#REF!= \"BP\",#REF!=\"SCR\"),\"NT\",#REF!)","v":{"$error":"#REF!"}}]
[{"$nulls":4},120,null,null,{"$f":"IF(OR(#REF!=5,#REF!=10,#REF!= 15,#REF!= \"BP\",#REF!=\"SCR\"),\"NT\",#REF!)","v":{"$error":"#REF!"}}]
[{"$nulls":4},121,null,null,{"$f":"IF(OR(#REF!=5,#REF!=10,#REF!= 15,#REF!= \"BP\",#REF!=\"SCR\"),\"NT\",#REF!)","v":{"$error":"#REF!"}}]
[{"$nulls":4},122,null,null,{"$f":"IF(OR(#REF!=5,#REF!=10,#REF!= 15,#REF!= \"BP\",#REF!=\"SCR\"),\"NT\",#REF!)","v":{"$error":"#REF!"}}]
[{"$nulls":4},123,null,null,{"$f":"IF(OR(#REF!=5,#REF!=10,#REF!= 15,#REF!= \"BP\",#REF!=\"SCR\"),\"NT\",#REF!)","v":{"$error":"#REF!"}}]
[{"$nulls":4},124,null,null,{"$f":"IF(OR(#REF!=5,#REF!=10,#REF!= 15,#REF!= \"BP\",#REF!=\"SCR\"),\"NT\",#REF!)","v":{"$error":"#REF!"}}]
[{"$nulls":4},125,null,null,{"$f":"IF(OR(#REF!=5,#REF!=10,#REF!= 15,#REF!= \"BP\",#REF!=\"SCR\"),\"NT\",#REF!)","v":{"$error":"#REF!"}}]
[{"$nulls":4},126,null,null,{"$f":"IF(OR(#REF!=5,#REF!=10,#REF!= 15,#REF!= \"BP\",#REF!=\"SCR\"),\"NT\",#REF!)","v":{"$error":"#REF!"}}]
[{"$nulls":4},127,null,null,{"$f":"IF(OR(#REF!=5,#REF!=10,#REF!= 15,#REF!= \"BP\",#REF!=\"SCR\"),\"NT\",#REF!)","v":{"$error":"#REF!"}}]
[{"$nulls":4},128,null,null,{"$f":"IF(OR(#REF!=5,#REF!=10,#REF!= 15,#REF!= \"BP\",#REF!=\"SCR\"),\"NT\",#REF!)","v":{"$error":"#REF!"}}]
[{"$nulls":4},129,null,null,{"$f":"IF(OR(#REF!=5,#REF!=10,#REF!= 15,#REF!= \"BP\",#REF!=\"SCR\"),\"NT\",#REF!)","v":{"$error":"#REF!"}}]
[{"$nulls":4},130,null,null,{"$f":"IF(OR(#REF!=5,#REF!=10,#REF!= 15,#REF!= \"BP\",#REF!=\"SCR\"),\"NT\",#REF!)","v":{"$error":"#REF!"}}]
[{"$nulls":4},131,null,null,{"$f":"IF(OR(#REF!=5,#REF!=10,#REF!= 15,#REF!= \"BP\",#REF!=\"SCR\"),\"NT\",#REF!)","v":{"$error":"#REF!"}}]
[{"$nulls":4},132,null,null,{"$f":"IF(OR(#REF!=5,#REF!=10,#REF!= 15,#REF!= \"BP\",#REF!=\"SCR\"),\"NT\",#REF!)","v":{"$error":"#REF!"}}]
[{"$nulls":4},133,null,null,{"$f":"IF(OR(#REF!=5,#REF!=10,#REF!= 15,#REF!= \"BP\",#REF!=\"SCR\"),\"NT\",#REF!)","v":{"$error":"#REF!"}}]
[{"$nulls":4},134,null,null,{"$f":"IF(OR(#REF!=5,#REF!=10,#REF!= 15,#REF!= \"BP\",#REF!=\"SCR\"),\"NT\",#REF!)","v":{"$error":"#REF!"}}]
[{"$nulls":4},135,null,null,{"$f":"IF(OR(#REF!=5,#REF!=10,#REF!= 15,#REF!= \"BP\",#REF!=\"SCR\"),\"NT\",#REF!)","v":{"$error":"#REF!"}}]
[{"$nulls":4},136,null,null,{"$f":"IF(OR(#REF!=5,#REF!=10,#REF!= 15,#REF!= \"BP\",#REF!=\"SCR\"),\"NT\",#REF!)","v":{"$error":"#REF!"}}]
[{"$nulls":4},137,null,null,{"$f":"IF(OR(#REF!=5,#REF!=10,#REF!= 15,#REF!= \"BP\",#REF!=\"SCR\"),\"NT\",#REF!)","v":{"$error":"#REF!"}}]
[{"$nulls":4},138,null,null,{"$f":"IF(OR(#REF!=5,#REF!=10,#REF!= 15,#REF!= \"BP\",#REF!=\"SCR\"),\"NT\",#REF!)","v":{"$error":"#REF!"}}]
[{"$nulls":4},139,null,null,{"$f":"IF(OR(#REF!=5,#REF!=10,#REF!= 15,#REF!= \"BP\",#REF!=\"SCR\"),\"NT\",#REF!)","v":{"$error":"#REF!"}}]
[{"$nulls":4},140,null,null,{"$f":"IF(OR(#REF!=5,#REF!=10,#REF!= 15,#REF!= \"BP\",#REF!=\"SCR\"),\"NT\",#REF!)","v":{"$error":"#REF!"}}]
[{"$nulls":4},141,null,null,{"$f":"IF(OR(#REF!=5,#REF!=10,#REF!= 15,#REF!= \"BP\",#REF!=\"SCR\"),\"NT\",#REF!)","v":{"$error":"#REF!"}}]
[{"$nulls":4},142,null,null,{"$f":"IF(OR(#REF!=5,#REF!=10,#REF!= 15,#REF!= \"BP\",#REF!=\"SCR\"),\"NT\",#REF!)","v":{"$error":"#REF!"}}]
[{"$nulls":4},143,null,null,{"$f":"IF(OR(#REF!=5,#REF!=10,#REF!= 15,#REF!= \"BP\",#REF!=\"SCR\"),\"NT\",#REF!)","v":{"$error":"#REF!"}}]
[{"$nulls":4},144,null,null,{"$f":"IF(OR(#REF!=5,#REF!=10,#REF!= 15,#REF!= \"BP\",#REF!=\"SCR\"),\"NT\",#REF!)","v":{"$error":"#REF!"}}]
[{"$nulls":4},145,null,null,{"$f":"IF(OR(#REF!=5,#REF!=10,#REF!= 15,#REF!= \"BP\",#REF!=\"SCR\"),\"NT\",#REF!)","v":{"$error":"#REF!"}}]
[{"$nulls":4},146,null,null,{"$f":"IF(OR(#REF!=5,#REF!=10,#REF!= 15,#REF!= \"BP\",#REF!=\"SCR\"),\"NT\",#REF!)","v":{"$error":"#REF!"}}]
[{"$nulls":4},147,null,null,{"$f":"IF(OR(#REF!=5,#REF!=10,#REF!= 15,#REF!= \"BP\",#REF!=\"SCR\"),\"NT\",#REF!)","v":{"$error":"#REF!"}}]
[{"$nulls":4},148,null,null,{"$f":"IF(OR(#REF!=5,#REF!=10,#REF!= 15,#REF!= \"BP\",#REF!=\"SCR\"),\"NT\",#REF!)","v":{"$error":"#REF!"}}]
[{"$nulls":4},149,null,null,{"$f":"IF(OR(#REF!=5,#REF!=10,#REF!= 15,#REF!= \"BP\",#REF!=\"SCR\"),\"NT\",#REF!)","v":{"$error":"#REF!"}}]
[{"$nulls":4},150,null,null,{"$f":"IF(OR(#REF!=5,#REF!=10,#REF!= 15,#REF!= \"BP\",#REF!=\"SCR\"),\"NT\",#REF!)","v":{"$error":"#REF!"}}]
[{"$nulls":4},151,null,null,{"$f":"IF(OR(#REF!=5,#REF!=10,#REF!= 15,#REF!= \"BP\",#REF!=\"SCR\"),\"NT\",#REF!)","v":{"$error":"#REF!"}}]
[{"$nulls":4},152,null,null,{"$f":"IF(OR(#REF!=5,#REF!=10,#REF!= 15,#REF!= \"BP\",#REF!=\"SCR\"),\"NT\",#REF!)","v":{"$error":"#REF!"}}]
[{"$nulls":4},153,null,null,{"$f":"IF(OR(#REF!=5,#REF!=10,#REF!= 15,#REF!= \"BP\",#REF!=\"SCR\"),\"NT\",#REF!)","v":{"$error":"#REF!"}}]
[{"$nulls":4},154,null,null,{"$f":"IF(OR(#REF!=5,#REF!=10,#REF!= 15,#REF!= \"BP\",#REF!=\"SCR\"),\"NT\",#REF!)","v":{"$error":"#REF!"}}]
[{"$nulls":4},155,null,null,{"$f":"IF(OR(#REF!=5,#REF!=10,#REF!= 15,#REF!= \"BP\",#REF!=\"SCR\"),\"NT\",#REF!)","v":{"$error":"#REF!"}}]
[{"$nulls":4},156,null,null,{"$f":"IF(OR(#REF!=5,#REF!=10,#REF!= 15,#REF!= \"BP\",#REF!=\"SCR\"),\"NT\",#REF!)","v":{"$error":"#REF!"}}]
[{"$nulls":4},157,null,null,{"$f":"IF(OR(#REF!=5,#REF!=10,#REF!= 15,#REF!= \"BP\",#REF!=\"SCR\"),\"NT\",#REF!)","v":{"$error":"#REF!"}}]
[{"$nulls":4},158,null,null,{"$f":"IF(OR(#REF!=5,#REF!=10,#REF!= 15,#REF!= \"BP\",#REF!=\"SCR\"),\"NT\",#REF!)","v":{"$error":"#REF!"}}]
[{"$nulls":4},159,null,null,{"$f":"IF(OR(#REF!=5,#REF!=10,#REF!= 15,#REF!= \"BP\",#REF!=\"SCR\"),\"NT\",#REF!)","v":{"$error":"#REF!"}}]
[{"$nulls":4},160,null,null,{"$f":"IF(OR(#REF!=5,#REF!=10,#REF!= 15,#REF!= \"BP\",#REF!=\"SCR\"),\"NT\",#REF!)","v":{"$error":"#REF!"}}]
[{"$nulls":4},161,null,null,{"$f":"IF(OR(#REF!=5,#REF!=10,#REF!= 15,#REF!= \"BP\",#REF!=\"SCR\"),\"NT\",#REF!)","v":{"$error":"#REF!"}}]
[{"$nulls":4},162,null,null,{"$f":"IF(OR(#REF!=5,#REF!=10,#REF!= 15,#REF!= \"BP\",#REF!=\"SCR\"),\"NT\",#REF!)","v":{"$error":"#REF!"}}]
[{"$nulls":4},163,null,null,{"$f":"IF(OR(#REF!=5,#REF!=10,#REF!= 15,#REF!= \"BP\",#REF!=\"SCR\"),\"NT\",#REF!)","v":{"$error":"#REF!"}}]
[{"$nulls":4},164,null,null,{"$f":"IF(OR(#REF!=5,#REF!=10,#REF!= 15,#REF!= \"BP\",#REF!=\"SCR\"),\"NT\",#REF!)","v":{"$error":"#REF!"}}]
[{"$nulls":4},165,null,null,{"$f":"IF(OR(#REF!=5,#REF!=10,#REF!= 15,#REF!= \"BP\",#REF!=\"SCR\"),\"NT\",#REF!)","v":{"$error":"#REF!"}}]
[{"$nulls":4},166,null,null,{"$f":"IF(OR(#REF!=5,#REF!=10,#REF!= 15,#REF!= \"BP\",#REF!=\"SCR\"),\"NT\",#REF!)","v":{"$error":"#REF!"}}]
[{"$nulls":4},167,null,null,{"$f":"IF(OR(#REF!=5,#REF!=10,#REF!= 15,#REF!= \"BP\",#REF!=\"SCR\"),\"NT\",#REF!)","v":{"$error":"#REF!"}}]
[{"$nulls":4},168,null,null,{"$f":"IF(OR(#REF!=5,#REF!=10,#REF!= 15,#REF!= \"BP\",#REF!=\"SCR\"),\"NT\",#REF!)","v":{"$error":"#REF!"}}]
[{"$nulls":4},169,null,null,{"$f":"IF(OR(#REF!=5,#REF!=10,#REF!= 15,#REF!= \"BP\",#REF!=\"SCR\"),\"NT\",#REF!)","v":{"$error":"#REF!"}}]
[{"$nulls":4},170,null,null,{"$f":"IF(OR(#REF!=5,#REF!=10,#REF!= 15,#REF!= \"BP\",#REF!=\"SCR\"),\"NT\",#REF!)","v":{"$error":"#REF!"}}]
[{"$nulls":4},171,null,null,{"$f":"IF(OR(#REF!=5,#REF!=10,#REF!= 15,#REF!= \"BP\",#REF!=\"SCR\"),\"NT\",#REF!)","v":{"$error":"#REF!"}}]
[{"$nulls":4},172,null,null,{"$f":"IF(OR(#REF!=5,#REF!=10,#REF!= 15,#REF!= \"BP\",#REF!=\"SCR\"),\"NT\",#REF!)","v":{"$error":"#REF!"}}]
[{"$nulls":4},173,null,null,{"$f":"IF(OR(#REF!=5,#REF!=10,#REF!= 15,#REF!= \"BP\",#REF!=\"SCR\"),\"NT\",#REF!)","v":{"$error":"#REF!"}}]
[{"$nulls":4},174,null,null,{"$f":"IF(OR(#REF!=5,#REF!=10,#REF!= 15,#REF!= \"BP\",#REF!=\"SCR\"),\"NT\",#REF!)","v":{"$error":"#REF!"}}]
[{"$nulls":4},175,null,null,{"$f":"IF(OR(#REF!=5,#REF!=10,#REF!= 15,#REF!= \"BP\",#REF!=\"SCR\"),\"NT\",#REF!)","v":{"$error":"#REF!"}}]
[{"$nulls":4},176,null,null,{"$f":"IF(OR(#REF!=5,#REF!=10,#REF!= 15,#REF!= \"BP\",#REF!=\"SCR\"),\"NT\",#REF!)","v":{"$error":"#REF!"}}]
[{"$nulls":4},177,null,null,{"$f":"IF(OR(#REF!=5,#REF!=10,#REF!= 15,#REF!= \"BP\",#REF!=\"SCR\"),\"NT\",#REF!)","v":{"$error":"#REF!"}}]
[{"$nulls":4},178,null,null,{"$f":"IF(OR(#REF!=5,#REF!=10,#REF!= 15,#REF!= \"BP\",#REF!=\"SCR\"),\"NT\",#REF!)","v":{"$error":"#REF!"}}]
[{"$nulls":4},179,null,null,{"$f":"IF(OR(#REF!=5,#REF!=10,#REF!= 15,#REF!= \"BP\",#REF!=\"SCR\"),\"NT\",#REF!)","v":{"$error":"#REF!"}}]
[{"$nulls":4},180,null,null,{"$f":"IF(OR(#REF!=5,#REF!=10,#REF!= 15,#REF!= \"BP\",#REF!=\"SCR\"),\"NT\",#REF!)","v":{"$error":"#REF!"}}]
[{"$nulls":4},181,null,null,{"$f":"IF(OR(#REF!=5,#REF!=10,#REF!= 15,#REF!= \"BP\",#REF!=\"SCR\"),\"NT\",#REF!)","v":{"$error":"#REF!"}}]
[{"$nulls":4},182,null,null,{"$f":"IF(OR(#REF!=5,#REF!=10,#REF!= 15,#REF!= \"BP\",#REF!=\"SCR\"),\"NT\",#REF!)","v":{"$error":"#REF!"}}]
[{"$nulls":4},183,null,null,{"$f":"IF(OR(#REF!=5,#REF!=10,#REF!= 15,#REF!= \"BP\",#REF!=\"SCR\"),\"NT\",#REF!)","v":{"$error":"#REF!"}}]
[{"$nulls":4},184,null,null,{"$f":"IF(OR(#REF!=5,#REF!=10,#REF!= 15,#REF!= \"BP\",#REF!=\"SCR\"),\"NT\",#REF!)","v":{"$error":"#REF!"}}]
[{"$nulls":4},185,null,null,{"$f":"IF(OR(#REF!=5,#REF!=10,#REF!= 15,#REF!= \"BP\",#REF!=\"SCR\"),\"NT\",#REF!)","v":{"$error":"#REF!"}}]
[{"$nulls":4},186,null,null,{"$f":"IF(OR(#REF!=5,#REF!=10,#REF!= 15,#REF!= \"BP\",#REF!=\"SCR\"),\"NT\",#REF!)","v":{"$error":"#REF!"}}]
[{"$nulls":4},187,null,null,{"$f":"IF(OR(#REF!=5,#REF!=10,#REF!= 15,#REF!= \"BP\",#REF!=\"SCR\"),\"NT\",#REF!)","v":{"$error":"#REF!"}}]
[{"$nulls":4},188,null,null,{"$f":"IF(OR(#REF!=5,#REF!=10,#REF!= 15,#REF!= \"BP\",#REF!=\"SCR\"),\"NT\",#REF!)","v":{"$error":"#REF!"}}]
[{"$nulls":4},189,null,null,{"$f":"IF(OR(#REF!=5,#REF!=10,#REF!= 15,#REF!= \"BP\",#REF!=\"SCR\"),\"NT\",#REF!)","v":{"$error":"#REF!"}}]
[{"$nulls":4},190,null,null,{"$f":"IF(OR(#REF!=5,#REF!=10,#REF!= 15,#REF!= \"BP\",#REF!=\"SCR\"),\"NT\",#REF!)","v":{"$error":"#REF!"}}]
[{"$nulls":4},191,null,null,{"$f":"IF(OR(#REF!=5,#REF!=10,#REF!= 15,#REF!= \"BP\",#REF!=\"SCR\"),\"NT\",#REF!)","v":{"$error":"#REF!"}}]
[{"$nulls":4},192,null,null,{"$f":"IF(OR(#REF!=5,#REF!=10,#REF!= 15,#REF!= \"BP\",#REF!=\"SCR\"),\"NT\",#REF!)","v":{"$error":"#REF!"}}]
[{"$nulls":4},193,null,null,{"$f":"IF(OR(#REF!=5,#REF!=10,#REF!= 15,#REF!= \"BP\",#REF!=\"SCR\"),\"NT\",#REF!)","v":{"$error":"#REF!"}}]
[{"$nulls":4},194,null,null,{"$f":"IF(OR(#REF!=5,#REF!=10,#REF!= 15,#REF!= \"BP\",#REF!=\"SCR\"),\"NT\",#REF!)","v":{"$error":"#REF!"}}]
[{"$nulls":4},195,null,null,{"$f":"IF(OR(#REF!=5,#REF!=10,#REF!= 15,#REF!= \"BP\",#REF!=\"SCR\"),\"NT\",#REF!)","v":{"$error":"#REF!"}}]
[{"$nulls":4},196,null,null,{"$f":"IF(OR(#REF!=5,#REF!=10,#REF!= 15,#REF!= \"BP\",#REF!=\"SCR\"),\"NT\",#REF!)","v":{"$error":"#REF!"}}]
[{"$nulls":4},197,null,null,{"$f":"IF(OR(#REF!=5,#REF!=10,#REF!= 15,#REF!= \"BP\",#REF!=\"SCR\"),\"NT\",#REF!)","v":{"$error":"#REF!"}}]
[{"$nulls":4},198,null,null,{"$f":"IF(OR(#REF!=5,#REF!=10,#REF!= 15,#REF!= \"BP\",#REF!=\"SCR\"),\"NT\",#REF!)","v":{"$error":"#REF!"}}]
[{"$nulls":4},199,null,null,{"$f":"IF(OR(#REF!=5,#REF!=10,#REF!= 15,#REF!= \"BP\",#REF!=\"SCR\"),\"NT\",#REF!)","v":{"$error":"#REF!"}}]
[{"$nulls":4},200,null,null,{"$f":"IF(OR(#REF!=5,#REF!=10,#REF!= 15,#REF!= \"BP\",#REF!=\"SCR\"),\"NT\",#REF!)","v":{"$error":"#REF!"}}]
[{"$nulls":4},201,null,null,{"$f":"IF(OR(#REF!=5,#REF!=10,#REF!= 15,#REF!= \"BP\",#REF!=\"SCR\"),\"NT\",#REF!)","v":{"$error":"#REF!"}}]
[{"$nulls":4},202,null,null,{"$f":"IF(OR(#REF!=5,#REF!=10,#REF!= 15,#REF!= \"BP\",#REF!=\"SCR\"),\"NT\",#REF!)","v":{"$error":"#REF!"}}]
[{"$nulls":4},203,null,null,{"$f":"IF(OR(#REF!=5,#REF!=10,#REF!= 15,#REF!= \"BP\",#REF!=\"SCR\"),\"NT\",#REF!)","v":{"$error":"#REF!"}}]
[{"$nulls":4},204,null,null,{"$f":"IF(OR(#REF!=5,#REF!=10,#REF!= 15,#REF!= \"BP\",#REF!=\"SCR\"),\"NT\",#REF!)","v":{"$error":"#REF!"}}]
[{"$nulls":4},205,null,null,{"$f":"IF(OR(#REF!=5,#REF!=10,#REF!= 15,#REF!= \"BP\",#REF!=\"SCR\"),\"NT\",#REF!)","v":{"$error":"#REF!"}}]
[{"$nulls":4},206,null,null,{"$f":"IF(OR(#REF!=5,#REF!=10,#REF!= 15,#REF!= \"BP\",#REF!=\"SCR\"),\"NT\",#REF!)","v":{"$error":"#REF!"}}]
[{"$nulls":4},207,null,null,{"$f":"IF(OR(#REF!=5,#REF!=10,#REF!= 15,#REF!= \"BP\",#REF!=\"SCR\"),\"NT\",#REF!)","v":{"$error":"#REF!"}}]
[{"$nulls":4},208,null,null,{"$f":"IF(OR(#REF!=5,#REF!=10,#REF!= 15,#REF!= \"BP\",#REF!=\"SCR\"),\"NT\",#REF!)","v":{"$error":"#REF!"}}]
[{"$nulls":4},209,null,null,{"$f":"IF(OR(#REF!=5,#REF!=10,#REF!= 15,#REF!= \"BP\",#REF!=\"SCR\"),\"NT\",#REF!)","v":{"$error":"#REF!"}}]
[{"$nulls":4},210,null,null,{"$f":"IF(OR(#REF!=5,#REF!=10,#REF!= 15,#REF!= \"BP\",#REF!=\"SCR\"),\"NT\",#REF!)","v":{"$error":"#REF!"}}]
[{"$nulls":4},211,null,null,{"$f":"IF(OR(#REF!=5,#REF!=10,#REF!= 15,#REF!= \"BP\",#REF!=\"SCR\"),\"NT\",#REF!)","v":{"$error":"#REF!"}}]
[{"$nulls":4},212,null,null,{"$f":"IF(OR(#REF!=5,#REF!=10,#REF!= 15,#REF!= \"BP\",#REF!=\"SCR\"),\"NT\",#REF!)","v":{"$error":"#REF!"}}]
[{"$nulls":4},213,null,null,{"$f":"IF(OR(#REF!=5,#REF!=10,#REF!= 15,#REF!= \"BP\",#REF!=\"SCR\"),\"NT\",#REF!)","v":{"$error":"#REF!"}}]
[{"$nulls":4},214,null,null,{"$f":"IF(OR(#REF!=5,#REF!=10,#REF!= 15,#REF!= \"BP\",#REF!=\"SCR\"),\"NT\",#REF!)","v":{"$error":"#REF!"}}]
[{"$nulls":4},215,null,null,{"$f":"IF(OR(#REF!=5,#REF!=10,#REF!= 15,#REF!= \"BP\",#REF!=\"SCR\"),\"NT\",#REF!)","v":{"$error":"#REF!"}}]
[{"$nulls":4},216,null,null,{"$f":"IF(OR(#REF!=5,#REF!=10,#REF!= 15,#REF!= \"BP\",#REF!=\"SCR\"),\"NT\",#REF!)","v":{"$error":"#REF!"}}]
[{"$nulls":4},217,null,null,{"$f":"IF(OR(#REF!=5,#REF!=10,#REF!= 15,#REF!= \"BP\",#REF!=\"SCR\"),\"NT\",#REF!)","v":{"$error":"#REF!"}}]
[{"$nulls":4},218,null,null,{"$f":"IF(OR(#REF!=5,#REF!=10,#REF!= 15,#REF!= \"BP\",#REF!=\"SCR\"),\"NT\",#REF!)","v":{"$error":"#REF!"}}]
[{"$nulls":4},219,null,null,{"$f":"IF(OR(#REF!=5,#REF!=10,#REF!= 15,#REF!= \"BP\",#REF!=\"SCR\"),\"NT\",#REF!)","v":{"$error":"#REF!"}}]
[{"$nulls":4},220,null,null,{"$f":"IF(OR(#REF!=5,#REF!=10,#REF!= 15,#REF!= \"BP\",#REF!=\"SCR\"),\"NT\",#REF!)","v":{"$error":"#REF!"}}]
[{"$nulls":4},221,null,null,{"$f":"IF(OR(#REF!=5,#REF!=10,#REF!= 15,#REF!= \"BP\",#REF!=\"SCR\"),\"NT\",#REF!)","v":{"$error":"#REF!"}}]
[{"$nulls":4},222,null,null,{"$f":"IF(OR(#REF!=5,#REF!=10,#REF!= 15,#REF!= \"BP\",#REF!=\"SCR\"),\"NT\",#REF!)","v":{"$error":"#REF!"}}]
[{"$nulls":4},223,null,null,{"$f":"IF(OR(#REF!=5,#REF!=10,#REF!= 15,#REF!= \"BP\",#REF!=\"SCR\"),\"NT\",#REF!)","v":{"$error":"#REF!"}}]
[{"$nulls":4},224,null,null,{"$f":"IF(OR(#REF!=5,#REF!=10,#REF!= 15,#REF!= \"BP\",#REF!=\"SCR\"),\"NT\",#REF!)","v":{"$error":"#REF!"}}]
[{"$nulls":4},225,null,null,{"$f":"IF(OR(#REF!=5,#REF!=10,#REF!= 15,#REF!= \"BP\",#REF!=\"SCR\"),\"NT\",#REF!)","v":{"$error":"#REF!"}}]
[{"$nulls":4},226,null,null,{"$f":"IF(OR(#REF!=5,#REF!=10,#REF!= 15,#REF!= \"BP\",#REF!=\"SCR\"),\"NT\",#REF!)","v":{"$error":"#REF!"}}]
[{"$nulls":4},227,null,null,{"$f":"IF(OR(#REF!=5,#REF!=10,#REF!= 15,#REF!= \"BP\",#REF!=\"SCR\"),\"NT\",#REF!)","v":{"$error":"#REF!"}}]
[{"$nulls":4},228,null,null,{"$f":"IF(OR(#REF!=5,#REF!=10,#REF!= 15,#REF!= \"BP\",#REF!=\"SCR\"),\"NT\",#REF!)","v":{"$error":"#REF!"}}]
[{"$nulls":4},229,null,null,{"$f":"IF(OR(#REF!=5,#REF!=10,#REF!= 15,#REF!= \"BP\",#REF!=\"SCR\"),\"NT\",#REF!)","v":{"$error":"#REF!"}}]
[{"$nulls":4},230,null,null,{"$f":"IF(OR(#REF!=5,#REF!=10,#REF!= 15,#REF!= \"BP\",#REF!=\"SCR\"),\"NT\",#REF!)","v":{"$error":"#REF!"}}]
[{"$nulls":4},231,null,null,{"$f":"IF(OR(#REF!=5,#REF!=10,#REF!= 15,#REF!= \"BP\",#REF!=\"SCR\"),\"NT\",#REF!)","v":{"$error":"#REF!"}}]
[{"$nulls":4},232,null,null,{"$f":"IF(OR(#REF!=5,#REF!=10,#REF!= 15,#REF!= \"BP\",#REF!=\"SCR\"),\"NT\",#REF!)","v":{"$error":"#REF!"}}]
[{"$nulls":4},233,null,null,{"$f":"IF(OR(#REF!=5,#REF!=10,#REF!= 15,#REF!= \"BP\",#REF!=\"SCR\"),\"NT\",#REF!)","v":{"$error":"#REF!"}}]
[{"$nulls":4},234,null,null,{"$f":"IF(OR(#REF!=5,#REF!=10,#REF!= 15,#REF!= \"BP\",#REF!=\"SCR\"),\"NT\",#REF!)","v":{"$error":"#REF!"}}]
[{"$nulls":4},235,null,null,{"$f":"IF(OR(#REF!=5,#REF!=10,#REF!= 15,#REF!= \"BP\",#REF!=\"SCR\"),\"NT\",#REF!)","v":{"$error":"#REF!"}}]
[{"$nulls":4},236,null,null,{"$f":"IF(OR(#REF!=5,#REF!=10,#REF!= 15,#REF!= \"BP\",#REF!=\"SCR\"),\"NT\",#REF!)","v":{"$error":"#REF!"}}]
[{"$nulls":4},237,null,null,{"$f":"IF(OR(#REF!=5,#REF!=10,#REF!= 15,#REF!= \"BP\",#REF!=\"SCR\"),\"NT\",#REF!)","v":{"$error":"#REF!"}}]
[{"$nulls":4},238,null,null,{"$f":"IF(OR(#REF!=5,#REF!=10,#REF!= 15,#REF!= \"BP\",#REF!=\"SCR\"),\"NT\",#REF!)","v":{"$error":"#REF!"}}]
[{"$nulls":4},239,null,null,{"$f":"IF(OR(#REF!=5,#REF!=10,#REF!= 15,#REF!= \"BP\",#REF!=\"SCR\"),\"NT\",#REF!)","v":{"$error":"#REF!"}}]
[{"$nulls":4},240,null,null,{"$f":"IF(OR(#REF!=5,#REF!=10,#REF!= 15,#REF!= \"BP\",#REF!=\"SCR\"),\"NT\",#REF!)","v":{"$error":"#REF!"}}]
[{"$nulls":4},241,null,null,{"$f":"IF(OR(#REF!=5,#REF!=10,#REF!= 15,#REF!= \"BP\",#REF!=\"SCR\"),\"NT\",#REF!)","v":{"$error":"#REF!"}}]
[{"$nulls":4},242,null,null,{"$f":"IF(OR(#REF!=5,#REF!=10,#REF!= 15,#REF!= \"BP\",#REF!=\"SCR\"),\"NT\",#REF!)","v":{"$error":"#REF!"}}]
[{"$nulls":4},243,null,null,{"$f":"IF(OR(#REF!=5,#REF!=10,#REF!= 15,#REF!= \"BP\",#REF!=\"SCR\"),\"NT\",#REF!)","v":{"$error":"#REF!"}}]
[{"$nulls":4},244,null,null,{"$f":"IF(OR(#REF!=5,#REF!=10,#REF!= 15,#REF!= \"BP\",#REF!=\"SCR\"),\"NT\",#REF!)","v":{"$error":"#REF!"}}]
[{"$nulls":4},245,null,null,{"$f":"IF(OR(#REF!=5,#REF!=10,#REF!= 15,#REF!= \"BP\",#REF!=\"SCR\"),\"NT\",#REF!)","v":{"$error":"#REF!"}}]
[{"$nulls":4},246,null,null,{"$f":"IF(OR(#REF!=5,#REF!=10,#REF!= 15,#REF!= \"BP\",#REF!=\"SCR\"),\"NT\",#REF!)","v":{"$error":"#REF!"}}]
[{"$nulls":4},247,null,null,{"$f":"IF(OR(#REF!=5,#REF!=10,#REF!= 15,#REF!= \"BP\",#REF!=\"SCR\"),\"NT\",#REF!)","v":{"$error":"#REF!"}}]
[{"$nulls":4},248,null,null,{"$f":"IF(OR(#REF!=5,#REF!=10,#REF!= 15,#REF!= \"BP\",#REF!=\"SCR\"),\"NT\",#REF!)","v":{"$error":"#REF!"}}]
[{"$nulls":4},249,null,null,{"$f":"IF(OR(#REF!=5,#REF!=10,#REF!= 15,#REF!= \"BP\",#REF!=\"SCR\"),\"NT\",#REF!)","v":{"$error":"#REF!"}}]
[{"$nulls":4},250,null,null,{"$f":"IF(OR(#REF!=5,#REF!=10,#REF!= 15,#REF!= \"BP\",#REF!=\"SCR\"),\"NT\",#REF!)","v":{"$error":"#REF!"}}]
[{"$nulls":4},251,null,null,{"$f":"IF(OR(#REF!=5,#REF!=10,#REF!= 15,#REF!= \"BP\",#REF!=\"SCR\"),\"NT\",#REF!)","v":{"$error":"#REF!"}}]
[{"$nulls":4},252,null,null,{"$f":"IF(OR(#REF!=5,#REF!=10,#REF!= 15,#REF!= \"BP\",#REF!=\"SCR\"),\"NT\",#REF!)","v":{"$error":"#REF!"}}]
[{"$nulls":4},253,null,null,{"$f":"IF(OR(#REF!=5,#REF!=10,#REF!= 15,#REF!= \"BP\",#REF!=\"SCR\"),\"NT\",#REF!)","v":{"$error":"#REF!"}}]
[{"$nulls":4},254,null,null,{"$f":"IF(OR(#REF!=5,#REF!=10,#REF!= 15,#REF!= \"BP\",#REF!=\"SCR\"),\"NT\",#REF!)","v":{"$error":"#REF!"}}]
[{"$nulls":4},255,null,null,{"$f":"IF(OR(#REF!=5,#REF!=10,#REF!= 15,#REF!= \"BP\",#REF!=\"SCR\"),\"NT\",#REF!)","v":{"$error":"#REF!"}}]
[{"$nulls":4},256,null,null,{"$f":"IF(OR(#REF!=5,#REF!=10,#REF!= 15,#REF!= \"BP\",#REF!=\"SCR\"),\"NT\",#REF!)","v":{"$error":"#REF!"}}]
[{"$nulls":4},257,null,null,{"$f":"IF(OR(#REF!=5,#REF!=10,#REF!= 15,#REF!= \"BP\",#REF!=\"SCR\"),\"NT\",#REF!)","v":{"$error":"#REF!"}}]
[{"$nulls":4},258,null,null,{"$f":"IF(OR(#REF!=5,#REF!=10,#REF!= 15,#REF!= \"BP\",#REF!=\"SCR\"),\"NT\",#REF!)","v":{"$error":"#REF!"}}]
[{"$nulls":4},259,null,null,{"$f":"IF(OR(#REF!=5,#REF!=10,#REF!= 15,#REF!= \"BP\",#REF!=\"SCR\"),\"NT\",#REF!)","v":{"$error":"#REF!"}}]
[{"$nulls":4},260,null,null,{"$f":"IF(OR(#REF!=5,#REF!=10,#REF!= 15,#REF!= \"BP\",#REF!=\"SCR\"),\"NT\",#REF!)","v":{"$error":"#REF!"}}]
[{"$nulls":4},261,null,null,{"$f":"IF(OR(#REF!=5,#REF!=10,#REF!= 15,#REF!= \"BP\",#REF!=\"SCR\"),\"NT\",#REF!)","v":{"$error":"#REF!"}}]
[{"$nulls":4},262,null,null,{"$f":"IF(OR(#REF!=5,#REF!=10,#REF!= 15,#REF!= \"BP\",#REF!=\"SCR\"),\"NT\",#REF!)","v":{"$error":"#REF!"}}]
[{"$nulls":4},263,null,null,{"$f":"IF(OR(#REF!=5,#REF!=10,#REF!= 15,#REF!= \"BP\",#REF!=\"SCR\"),\"NT\",#REF!)","v":{"$error":"#REF!"}}]
[{"$nulls":4},264,null,null,{"$f":"IF(OR(#REF!=5,#REF!=10,#REF!= 15,#REF!= \"BP\",#REF!=\"SCR\"),\"NT\",#REF!)","v":{"$error":"#REF!"}}]
[{"$nulls":4},265,null,null,{"$f":"IF(OR(#REF!=5,#REF!=10,#REF!= 15,#REF!= \"BP\",#REF!=\"SCR\"),\"NT\",#REF!)","v":{"$error":"#REF!"}}]
[{"$nulls":4},266,null,null,{"$f":"IF(OR(#REF!=5,#REF!=10,#REF!= 15,#REF!= \"BP\",#REF!=\"SCR\"),\"NT\",#REF!)","v":{"$error":"#REF!"}}]
[{"$nulls":4},267,null,null,{"$f":"IF(OR(#REF!=5,#REF!=10,#REF!= 15,#REF!= \"BP\",#REF!=\"SCR\"),\"NT\",#REF!)","v":{"$error":"#REF!"}}]
[{"$nulls":4},268,null,null,{"$f":"IF(OR(#REF!=5,#REF!=10,#REF!= 15,#REF!= \"BP\",#REF!=\"SCR\"),\"NT\",#REF!)","v":{"$error":"#REF!"}}]
[{"$nulls":4},269,null,null,{"$f":"IF(OR(#REF!=5,#REF!=10,#REF!= 15,#REF!= \"BP\",#REF!=\"SCR\"),\"NT\",#REF!)","v":{"$error":"#REF!"}}]
[{"$nulls":4},270,null,null,{"$f":"IF(OR(#REF!=5,#REF!=10,#REF!= 15,#REF!= \"BP\",#REF!=\"SCR\"),\"NT\",#REF!)","v":{"$error":"#REF!"}}]
[{"$nulls":4},271,null,null,{"$f":"IF(OR(#REF!=5,#REF!=10,#REF!= 15,#REF!= \"BP\",#REF!=\"SCR\"),\"NT\",#REF!)","v":{"$error":"#REF!"}}]
[{"$nulls":4},272,null,null,{"$f":"IF(OR(#REF!=5,#REF!=10,#REF!= 15,#REF!= \"BP\",#REF!=\"SCR\"),\"NT\",#REF!)","v":{"$error":"#REF!"}}]
[{"$nulls":4},273,null,null,{"$f":"IF(OR(#REF!=5,#REF!=10,#REF!= 15,#REF!= \"BP\",#REF!=\"SCR\"),\"NT\",#REF!)","v":{"$error":"#REF!"}}]
[{"$nulls":4},274,null,null,{"$f":"IF(OR(#REF!=5,#REF!=10,#REF!= 15,#REF!= \"BP\",#REF!=\"SCR\"),\"NT\",#REF!)","v":{"$error":"#REF!"}}]
[{"$nulls":4},275,null,null,{"$f":"IF(OR(#REF!=5,#REF!=10,#REF!= 15,#REF!= \"BP\",#REF!=\"SCR\"),\"NT\",#REF!)","v":{"$error":"#REF!"}}]
[{"$nulls":4},276,null,null,{"$f":"IF(OR(#REF!=5,#REF!=10,#REF!= 15,#REF!= \"BP\",#REF!=\"SCR\"),\"NT\",#REF!)","v":{"$error":"#REF!"}}]
[{"$nulls":4},277,null,null,{"$f":"IF(OR(#REF!=5,#REF!=10,#REF!= 15,#REF!= \"BP\",#REF!=\"SCR\"),\"NT\",#REF!)","v":{"$error":"#REF!"}}]
[{"$nulls":4},278,null,null,{"$f":"IF(OR(#REF!=5,#REF!=10,#REF!= 15,#REF!= \"BP\",#REF!=\"SCR\"),\"NT\",#REF!)","v":{"$error":"#REF!"}}]
[{"$nulls":4},279,null,null,{"$f":"IF(OR(#REF!=5,#REF!=10,#REF!= 15,#REF!= \"BP\",#REF!=\"SCR\"),\"NT\",#REF!)","v":{"$error":"#REF!"}}]
[{"$nulls":4},280,null,null,{"$f":"IF(OR(#REF!=5,#REF!=10,#REF!= 15,#REF!= \"BP\",#REF!=\"SCR\"),\"NT\",#REF!)","v":{"$error":"#REF!"}}]
[{"$nulls":4},281,null,null,{"$f":"IF(OR(#REF!=5,#REF!=10,#REF!= 15,#REF!= \"BP\",#REF!=\"SCR\"),\"NT\",#REF!)","v":{"$error":"#REF!"}}]
[{"$nulls":4},282,null,null,{"$f":"IF(OR(#REF!=5,#REF!=10,#REF!= 15,#REF!= \"BP\",#REF!=\"SCR\"),\"NT\",#REF!)","v":{"$error":"#REF!"}}]
[{"$nulls":4},283,null,null,{"$f":"IF(OR(#REF!=5,#REF!=10,#REF!= 15,#REF!= \"BP\",#REF!=\"SCR\"),\"NT\",#REF!)","v":{"$error":"#REF!"}}]
[{"$nulls":4},284,null,null,{"$f":"IF(OR(#REF!=5,#REF!=10,#REF!= 15,#REF!= \"BP\",#REF!=\"SCR\"),\"NT\",#REF!)","v":{"$error":"#REF!"}}]
[{"$nulls":4},285,null,null,{"$f":"IF(OR(#REF!=5,#REF!=10,#REF!= 15,#REF!= \"BP\",#REF!=\"SCR\"),\"NT\",#REF!)","v":{"$error":"#REF!"}}]
[{"$nulls":4},286,null,null,{"$f":"IF(OR(#REF!=5,#REF!=10,#REF!= 15,#REF!= \"BP\",#REF!=\"SCR\"),\"NT\",#REF!)","v":{"$error":"#REF!"}}]
[{"$nulls":4},287,null,null,{"$f":"IF(OR(#REF!=5,#REF!=10,#REF!= 15,#REF!= \"BP\",#REF!=\"SCR\"),\"NT\",#REF!)","v":{"$error":"#REF!"}}]
[{"$nulls":4},288,null,null,{"$f":"IF(OR(#REF!=5,#REF!=10,#REF!= 15,#REF!= \"BP\",#REF!=\"SCR\"),\"NT\",#REF!)","v":{"$error":"#REF!"}}]
[{"$nulls":4},289,null,null,{"$f":"IF(OR(#REF!=5,#REF!=10,#REF!= 15,#REF!= \"BP\",#REF!=\"SCR\"),\"NT\",#REF!)","v":{"$error":"#REF!"}}]
[{"$nulls":4},290,null,null,{"$f":"IF(OR(#REF!=5,#REF!=10,#REF!= 15,#REF!= \"BP\",#REF!=\"SCR\"),\"NT\",#REF!)","v":{"$error":"#REF!"}}]
[{"$nulls":4},291,null,null,{"$f":"IF(OR(#REF!=5,#REF!=10,#REF!= 15,#REF!= \"BP\",#REF!=\"SCR\"),\"NT\",#REF!)","v":{"$error":"#REF!"}}]
[{"$nulls":4},292,null,null,{"$f":"IF(OR(#REF!=5,#REF!=10,#REF!= 15,#REF!= \"BP\",#REF!=\"SCR\"),\"NT\",#REF!)","v":{"$error":"#REF!"}}]
[{"$nulls":4},293,null,null,{"$f":"IF(OR(#REF!=5,#REF!=10,#REF!= 15,#REF!= \"BP\",#REF!=\"SCR\"),\"NT\",#REF!)","v":{"$error":"#REF!"}}]
[{"$nulls":4},294,null,null,{"$f":"IF(OR(#REF!=5,#REF!=10,#REF!= 15,#REF!= \"BP\",#REF!=\"SCR\"),\"NT\",#REF!)","v":{"$error":"#REF!"}}]
[{"$nulls":4},295,null,null,{"$f":"IF(OR(#REF!=5,#REF!=10,#REF!= 15,#REF!= \"BP\",#REF!=\"SCR\"),\"NT\",#REF!)","v":{"$error":"#REF!"}}]
[{"$nulls":4},296,null,null,{"$f":"IF(OR(#REF!=5,#REF!=10,#REF!= 15,#REF!= \"BP\",#REF!=\"SCR\"),\"NT\",#REF!)","v":{"$error":"#REF!"}}]
[{"$nulls":4},297,null,null,{"$f":"IF(OR(#REF!=5,#REF!=10,#REF!= 15,#REF!= \"BP\",#REF!=\"SCR\"),\"NT\",#REF!)","v":{"$error":"#REF!"}}]
[{"$nulls":4},298,null,null,{"$f":"IF(OR(#REF!=5,#REF!=10,#REF!= 15,#REF!= \"BP\",#REF!=\"SCR\"),\"NT\",#REF!)","v":{"$error":"#REF!"}}]
[{"$nulls":4},299,null,null,{"$f":"IF(OR(#REF!=5,#REF!=10,#REF!= 15,#REF!= \"BP\",#REF!=\"SCR\"),\"NT\",#REF!)","v":{"$error":"#REF!"}}]
[{"$nulls":4},300,null,null,{"$f":"IF(OR(#REF!=5,#REF!=10,#REF!= 15,#REF!= \"BP\",#REF!=\"SCR\"),\"NT\",#REF!)","v":{"$error":"#REF!"}}]

{"sheet":"Futurity","index":6,"n_rows":301,"n_cols":10,"rows_kept":301,"cut":false,"hidden":false,"merged":[]}
["Futurity","Der","Age Inct.","BBR","Draw","Rider Name","Horse Name","Time","Placing","Money Earned"]
[{"$nulls":4},34,"Nisa Berry","VF Famous Cowgirl",16.088999999999999,"1D 1st",237.99999999999997]
[{"$nulls":4},32,"Davie King","CR Tellerimfamous",16.18,"1D 2nd",143]
[{"$nulls":4},19,"Ryann Pedone","Coco Bongo",16.187999999999999,"1D 3rd",95]
[{"$nulls":4},6,"Andrea Cline","Fame Us First Lady",16.238]
[{"$nulls":4},31,"Nisa Berry","Jeepers Im Famous",16.29]
[{"$nulls":4},24,"Ali Anton","Glamour Goddess",16.38]
[{"$nulls":4},28,"Maylee McCrary","SK Easy Struttin Go",16.408999999999999]
[{"$nulls":4},2,"Chris Martin"," A Smooth Twister",16.488]
[{"$nulls":4},14,"Ryann Pedone","NNN Sixums Firewater",16.553000000000001]
[{"$nulls":4},30,"Mindy Holloway","Bicardi",16.632999999999999]
[{"$nulls":4},21,"Whitney Godinez","So Gals Got Fire",16.712]
[{"$nulls":4},15,"Susan Agnew","Splash Da Firewater",16.841999999999999]
[{"$nulls":4},10,"Lorissa Jo Merritt","HB Blazin Fire",16.855]
[{"$nulls":4},23,"Emilie Veillette","Bar B Kiss N Boogie",16.873999999999999]
[{"$nulls":4},3,"Lisa Ogden","Eyesa Stoli Dream",16.951000000000001]
[{"$nulls":4},29,"Lacey Harmon","Guys Got Fire",16.965]
[{"$nulls":4},26,"Emma Wildeisen","Dashin Ta Kill",17.286000000000001,"2D 1st",102]
[{"$nulls":4},7,"Stephanie Johnson","Fired By Playboy",17.815999999999999,"2D 2nd",61.199999999999996]
[{"$nulls":4},20,"Lorissa Jo Merritt","Perks Packin Iron",18.074000000000002,"2D 3rd",40.800000000000004]
[{"$nulls":4},8,"Laurel Anthony","Widows Reydioactive",18.5]
[{"$nulls":4},17,"Nicoletta Bean","Confederetta",18.739999999999998]
[{"$nulls":4},9,"Kylena Hager","Tulio Jones",19.555]
[{"$nulls":4},22,"Steven Trujillo","QT's Nu Jewel",22.117000000000001]
[{"$nulls":4},18,"Molli Montgomery","Strawflin the Gold","nt16.212"]
[{"$nulls":4},16,"Carlos Renato","DTF Confirmed In Luv","nt16.246"]
[{"$nulls":4},4,"Jade Crago","Sophie So Sweet","nt16.545"]
[{"$nulls":4},11,"Terry Vogel","Super Frosted Bug","nt16.575"]
[{"$nulls":4},12,"Chris Martin","Frenchie","nt16.664"]
[{"$nulls":4},33,"Mindy Holloway","Bull","nt16.812"]
[{"$nulls":4},1,"Charlotte Edwards","VF Temptations","nt16.976"]
[{"$nulls":4},5,"Ryann Pedone","Streakingivemeawink","nt17.284"]
[{"$nulls":4},27,"Danyelle Campbell","JL Tularosa","nt17.399"]
[{"$nulls":4},25,"Suade Furr","KR Tarzan","nt24.594"]
[{"$nulls":4},13,"Laura Avery","A Flashy Frenchman","nt28.941"]
[{"$nulls":4},35]
[{"$nulls":4},36]
[{"$nulls":4},37]
[{"$nulls":4},38]
[{"$nulls":4},39]
[{"$nulls":4},40]
[{"$nulls":4},41]
[{"$nulls":4},42]
[{"$nulls":4},43]
[{"$nulls":4},44]
[{"$nulls":4},45]
[{"$nulls":4},46]
[{"$nulls":4},47]
[{"$nulls":4},48]
[{"$nulls":4},49]
[{"$nulls":4},50]
[{"$nulls":4},51]
[{"$nulls":4},52]
[{"$nulls":4},53]
[{"$nulls":4},54]
[{"$nulls":4},55]
[{"$nulls":4},56]
[{"$nulls":4},57]
[{"$nulls":4},58]
[{"$nulls":4},59]
[{"$nulls":4},60]
[{"$nulls":4},61]
[{"$nulls":4},62]
[{"$nulls":4},63]
[{"$nulls":4},64]
[{"$nulls":4},65]
[{"$nulls":4},66]
[{"$nulls":4},67]
[{"$nulls":4},68]
[{"$nulls":4},69]
[{"$nulls":4},70]
[{"$nulls":4},71]
[{"$nulls":4},72]
[{"$nulls":4},73]
[{"$nulls":4},74]
[{"$nulls":4},75]
[{"$nulls":4},76]
[{"$nulls":4},77]
[{"$nulls":4},78]
[{"$nulls":4},79]
[{"$nulls":4},80]
[{"$nulls":4},81]
[{"$nulls":4},82]
[{"$nulls":4},83]
[{"$nulls":4},84]
[{"$nulls":4},85]
[{"$nulls":4},86]
[{"$nulls":4},87]
[{"$nulls":4},88]
[{"$nulls":4},89]
[{"$nulls":4},90]
[{"$nulls":4},91]
[{"$nulls":4},92]
[{"$nulls":4},93]
[{"$nulls":4},94]
[{"$nulls":4},95]
[{"$nulls":4},96]
[{"$nulls":4},97]
[{"$nulls":4},98]
[{"$nulls":4},99]
[{"$nulls":4},100]
[{"$nulls":4},101]
[{"$nulls":4},102]
[{"$nulls":4},103]
[{"$nulls":4},104]
[{"$nulls":4},105]
[{"$nulls":4},106]
[{"$nulls":4},107]
[{"$nulls":4},108]
[{"$nulls":4},109]
[{"$nulls":4},110]
[{"$nulls":4},111]
[{"$nulls":4},112]
[{"$nulls":4},113]
[{"$nulls":4},114]
[{"$nulls":4},115]
[{"$nulls":4},116]
[{"$nulls":4},117]
[{"$nulls":4},118]
[{"$nulls":4},119]
[{"$nulls":4},120]
[{"$nulls":4},121]
[{"$nulls":4},122]
[{"$nulls":4},123]
[{"$nulls":4},124]
[{"$nulls":4},125]
[{"$nulls":4},126]
[{"$nulls":4},127]
[{"$nulls":4},128]
[{"$nulls":4},129]
[{"$nulls":4},130]
[{"$nulls":4},131]
[{"$nulls":4},132]
[{"$nulls":4},133]
[{"$nulls":4},134]
[{"$nulls":4},135]
[{"$nulls":4},136]
[{"$nulls":4},137]
[{"$nulls":4},138]
[{"$nulls":4},139]
[{"$nulls":4},140]
[{"$nulls":4},141]
[{"$nulls":4},142]
[{"$nulls":4},143]
[{"$nulls":4},144]
[{"$nulls":4},145]
[{"$nulls":4},146]
[{"$nulls":4},147]
[{"$nulls":4},148]
[{"$nulls":4},149]
[{"$nulls":4},150]
[{"$nulls":4},151]
[{"$nulls":4},152]
[{"$nulls":4},153]
[{"$nulls":4},154]
[{"$nulls":4},155]
[{"$nulls":4},156]
[{"$nulls":4},157]
[{"$nulls":4},158]
[{"$nulls":4},159]
[{"$nulls":4},160]
[{"$nulls":4},161]
[{"$nulls":4},162]
[{"$nulls":4},163]
[{"$nulls":4},164]
[{"$nulls":4},165]
[{"$nulls":4},166]
[{"$nulls":4},167]
[{"$nulls":4},168]
[{"$nulls":4},169]
[{"$nulls":4},170]
[{"$nulls":4},171]
[{"$nulls":4},172]
[{"$nulls":4},173]
[{"$nulls":4},174]
[{"$nulls":4},175]
[{"$nulls":4},176]
[{"$nulls":4},177]
[{"$nulls":4},178]
[{"$nulls":4},179]
[{"$nulls":4},180]
[{"$nulls":4},181]
[{"$nulls":4},182]
[{"$nulls":4},183]
[{"$nulls":4},184]
[{"$nulls":4},185]
[{"$nulls":4},186]
[{"$nulls":4},187]
[{"$nulls":4},188]
[{"$nulls":4},189]
[{"$nulls":4},190]
[{"$nulls":4},191]
[{"$nulls":4},192]
[{"$nulls":4},193]
[{"$nulls":4},194]
[{"$nulls":4},195]
[{"$nulls":4},196]
[{"$nulls":4},197]
[{"$nulls":4},198]
[{"$nulls":4},199]
[{"$nulls":4},200]
[{"$nulls":4},201]
[{"$nulls":4},202]
[{"$nulls":4},203]
[{"$nulls":4},204]
[{"$nulls":4},205]
[{"$nulls":4},206]
[{"$nulls":4},207]
[{"$nulls":4},208]
[{"$nulls":4},209]
[{"$nulls":4},210]
[{"$nulls":4},211]
[{"$nulls":4},212]
[{"$nulls":4},213]
[{"$nulls":4},214]
[{"$nulls":4},215]
[{"$nulls":4},216]
[{"$nulls":4},217]
[{"$nulls":4},218]
[{"$nulls":4},219]
[{"$nulls":4},220]
[{"$nulls":4},221]
[{"$nulls":4},222]
[{"$nulls":4},223]
[{"$nulls":4},224]
[{"$nulls":4},225]
[{"$nulls":4},226]
[{"$nulls":4},227]
[{"$nulls":4},228]
[{"$nulls":4},229]
[{"$nulls":4},230]
[{"$nulls":4},231]
[{"$nulls":4},232]
[{"$nulls":4},233]
[{"$nulls":4},234]
[{"$nulls":4},235]
[{"$nulls":4},236]
[{"$nulls":4},237]
[{"$nulls":4},238]
[{"$nulls":4},239]
[{"$nulls":4},240]
[{"$nulls":4},241]
[{"$nulls":4},242]
[{"$nulls":4},243]
[{"$nulls":4},244]
[{"$nulls":4},245]
[{"$nulls":4},246]
[{"$nulls":4},247]
[{"$nulls":4},248]
[{"$nulls":4},249]
[{"$nulls":4},250]
[{"$nulls":4},251]
[{"$nulls":4},252]
[{"$nulls":4},253]
[{"$nulls":4},254]
[{"$nulls":4},255]
[{"$nulls":4},256]
[{"$nulls":4},257]
[{"$nulls":4},258]
[{"$nulls":4},259]
[{"$nulls":4},260]
[{"$nulls":4},261]
[{"$nulls":4},262]
[{"$nulls":4},263]
[{"$nulls":4},264]
[{"$nulls":4},265]
[{"$nulls":4},266]
[{"$nulls":4},267]
[{"$nulls":4},268]
[{"$nulls":4},269]
[{"$nulls":4},270]
[{"$nulls":4},271]
[{"$nulls":4},272]
[{"$nulls":4},273]
[{"$nulls":4},274]
[{"$nulls":4},275]
[{"$nulls":4},276]
[{"$nulls":4},277]
[{"$nulls":4},278]
[{"$nulls":4},279]
[{"$nulls":4},280]
[{"$nulls":4},281]
[{"$nulls":4},282]
[{"$nulls":4},283]
[{"$nulls":4},284]
[{"$nulls":4},285]
[{"$nulls":4},286]
[{"$nulls":4},287]
[{"$nulls":4},288]
[{"$nulls":4},289]
[{"$nulls":4},290]
[{"$nulls":4},291]
[{"$nulls":4},292]
[{"$nulls":4},293]
[{"$nulls":4},294]
[{"$nulls":4},295]
[{"$nulls":4},296]
[{"$nulls":4},297]
[{"$nulls":4},298]
[{"$nulls":4},299]
[{"$nulls":4},300]

{"sheet":"12 & Under","index":7,"n_rows":301,"n_cols":11,"rows_kept":301,"cut":false,"hidden":true,"merged":[]}
["Futurity","Der","Age Inct.","R/O","Draw","Rider Name","Horse Name","Time","Final Time","Placing","Money Earned"]
{"$rows_empty":31}
[{"$nulls":4},32]
[{"$nulls":4},33]
[{"$nulls":4},34]
[{"$nulls":4},35]
[{"$nulls":4},36]
[{"$nulls":4},37]
[{"$nulls":4},38]
[{"$nulls":4},39]
[{"$nulls":4},40]
[{"$nulls":4},41]
[{"$nulls":4},42]
[{"$nulls":4},43]
[{"$nulls":4},44]
[{"$nulls":4},45]
[{"$nulls":4},46]
[{"$nulls":4},47]
[{"$nulls":4},48]
[{"$nulls":4},49]
[{"$nulls":4},50]
[{"$nulls":4},51]
[{"$nulls":4},52]
[{"$nulls":4},53]
[{"$nulls":4},54]
[{"$nulls":4},55]
[{"$nulls":4},56]
[{"$nulls":4},57]
[{"$nulls":4},58]
[{"$nulls":4},59]
[{"$nulls":4},60]
[{"$nulls":4},61]
[{"$nulls":4},62]
[{"$nulls":4},63]
[{"$nulls":4},64]
[{"$nulls":4},65]
[{"$nulls":4},66]
[{"$nulls":4},67]
[{"$nulls":4},68]
[{"$nulls":4},69]
[{"$nulls":4},70]
[{"$nulls":4},71]
[{"$nulls":4},72]
[{"$nulls":4},73]
[{"$nulls":4},74]
[{"$nulls":4},75]
[{"$nulls":4},76]
[{"$nulls":4},77]
[{"$nulls":4},78]
[{"$nulls":4},79]
[{"$nulls":4},80]
[{"$nulls":4},81]
[{"$nulls":4},82]
[{"$nulls":4},83]
[{"$nulls":4},84]
[{"$nulls":4},85]
[{"$nulls":4},86]
[{"$nulls":4},87]
[{"$nulls":4},88]
[{"$nulls":4},89]
[{"$nulls":4},90]
[{"$nulls":4},91]
[{"$nulls":4},92]
[{"$nulls":4},93]
[{"$nulls":4},94]
[{"$nulls":4},95]
[{"$nulls":4},96]
[{"$nulls":4},97]
[{"$nulls":4},98]
[{"$nulls":4},99]
[{"$nulls":4},100]
[{"$nulls":4},101]
[{"$nulls":4},102]
[{"$nulls":4},103]
[{"$nulls":4},104]
[{"$nulls":4},105]
[{"$nulls":4},106]
[{"$nulls":4},107]
[{"$nulls":4},108]
[{"$nulls":4},109]
[{"$nulls":4},110]
[{"$nulls":4},111]
[{"$nulls":4},112]
[{"$nulls":4},113]
[{"$nulls":4},114]
[{"$nulls":4},115]
[{"$nulls":4},116]
[{"$nulls":4},117]
[{"$nulls":4},118]
[{"$nulls":4},119]
[{"$nulls":4},120]
[{"$nulls":4},121]
[{"$nulls":4},122]
[{"$nulls":4},123]
[{"$nulls":4},124]
[{"$nulls":4},125]
[{"$nulls":4},126]
[{"$nulls":4},127]
[{"$nulls":4},128]
[{"$nulls":4},129]
[{"$nulls":4},130]
[{"$nulls":4},131]
[{"$nulls":4},132]
[{"$nulls":4},133]
[{"$nulls":4},134]
[{"$nulls":4},135]
[{"$nulls":4},136]
[{"$nulls":4},137]
[{"$nulls":4},138]
[{"$nulls":4},139]
[{"$nulls":4},140]
[{"$nulls":4},141]
[{"$nulls":4},142]
[{"$nulls":4},143]
[{"$nulls":4},144]
[{"$nulls":4},145]
[{"$nulls":4},146]
[{"$nulls":4},147]
[{"$nulls":4},148]
[{"$nulls":4},149]
[{"$nulls":4},150]
[{"$nulls":4},151]
[{"$nulls":4},152]
[{"$nulls":4},153]
[{"$nulls":4},154]
[{"$nulls":4},155]
[{"$nulls":4},156]
[{"$nulls":4},157]
[{"$nulls":4},158]
[{"$nulls":4},159]
[{"$nulls":4},160]
[{"$nulls":4},161]
[{"$nulls":4},162]
[{"$nulls":4},163]
[{"$nulls":4},164]
[{"$nulls":4},165]
[{"$nulls":4},166]
[{"$nulls":4},167]
[{"$nulls":4},168]
[{"$nulls":4},169]
[{"$nulls":4},170]
[{"$nulls":4},171]
[{"$nulls":4},172]
[{"$nulls":4},173]
[{"$nulls":4},174]
[{"$nulls":4},175]
[{"$nulls":4},176]
[{"$nulls":4},177]
[{"$nulls":4},178]
[{"$nulls":4},179]
[{"$nulls":4},180]
[{"$nulls":4},181]
[{"$nulls":4},182]
[{"$nulls":4},183]
[{"$nulls":4},184]
[{"$nulls":4},185]
[{"$nulls":4},186]
[{"$nulls":4},187]
[{"$nulls":4},188]
[{"$nulls":4},189]
[{"$nulls":4},190]
[{"$nulls":4},191]
[{"$nulls":4},192]
[{"$nulls":4},193]
[{"$nulls":4},194]
[{"$nulls":4},195]
[{"$nulls":4},196]
[{"$nulls":4},197]
[{"$nulls":4},198]
[{"$nulls":4},199]
[{"$nulls":4},200]
[{"$nulls":4},201]
[{"$nulls":4},202]
[{"$nulls":4},203]
[{"$nulls":4},204]
[{"$nulls":4},205]
[{"$nulls":4},206]
[{"$nulls":4},207]
[{"$nulls":4},208]
[{"$nulls":4},209]
[{"$nulls":4},210]
[{"$nulls":4},211]
[{"$nulls":4},212]
[{"$nulls":4},213]
[{"$nulls":4},214]
[{"$nulls":4},215]
[{"$nulls":4},216]
[{"$nulls":4},217]
[{"$nulls":4},218]
[{"$nulls":4},219]
[{"$nulls":4},220]
[{"$nulls":4},221]
[{"$nulls":4},222]
[{"$nulls":4},223]
[{"$nulls":4},224]
[{"$nulls":4},225]
[{"$nulls":4},226]
[{"$nulls":4},227]
[{"$nulls":4},228]
[{"$nulls":4},229]
[{"$nulls":4},230]
[{"$nulls":4},231]
[{"$nulls":4},232]
[{"$nulls":4},233]
[{"$nulls":4},234]
[{"$nulls":4},235]
[{"$nulls":4},236]
[{"$nulls":4},237]
[{"$nulls":4},238]
[{"$nulls":4},239]
[{"$nulls":4},240]
[{"$nulls":4},241]
[{"$nulls":4},242]
[{"$nulls":4},243]
[{"$nulls":4},244]
[{"$nulls":4},245]
[{"$nulls":4},246]
[{"$nulls":4},247]
[{"$nulls":4},248]
[{"$nulls":4},249]
[{"$nulls":4},250]
[{"$nulls":4},251]
[{"$nulls":4},252]
[{"$nulls":4},253]
[{"$nulls":4},254]
[{"$nulls":4},255]
[{"$nulls":4},256]
[{"$nulls":4},257]
[{"$nulls":4},258]
[{"$nulls":4},259]
[{"$nulls":4},260]
[{"$nulls":4},261]
[{"$nulls":4},262]
[{"$nulls":4},263]
[{"$nulls":4},264]
[{"$nulls":4},265]
[{"$nulls":4},266]
[{"$nulls":4},267]
[{"$nulls":4},268]
[{"$nulls":4},269]
[{"$nulls":4},270]
[{"$nulls":4},271]
[{"$nulls":4},272]
[{"$nulls":4},273]
[{"$nulls":4},274]
[{"$nulls":4},275]
[{"$nulls":4},276]
[{"$nulls":4},277]
[{"$nulls":4},278]
[{"$nulls":4},279]
[{"$nulls":4},280]
[{"$nulls":4},281]
[{"$nulls":4},282]
[{"$nulls":4},283]
[{"$nulls":4},284]
[{"$nulls":4},285]
[{"$nulls":4},286]
[{"$nulls":4},287]
[{"$nulls":4},288]
[{"$nulls":4},289]
[{"$nulls":4},290]
[{"$nulls":4},291]
[{"$nulls":4},292]
[{"$nulls":4},293]
[{"$nulls":4},294]
[{"$nulls":4},295]
[{"$nulls":4},296]
[{"$nulls":4},297]
[{"$nulls":4},298]
[{"$nulls":4},299]
[{"$nulls":4},300]

{"sheet":"8&under","index":8,"n_rows":21,"n_cols":8,"rows_kept":21,"cut":false,"hidden":false,"merged":[]}
["Draw","Rider Name","Horse Name","Pen","Time","Final Time","Placing","Money Earned"]
[1,"Whitney Godinez kiddos name"]
[2,"Shannon Black kiddos name"]
[3]
[4,{"$nulls":4},{"$f":"IF(OR(D5=5,D5=10, D5=15, D5=\"BP\",D5=\"SCR\"),\"NT\",E5)","v":0}]
[5,{"$nulls":4},0]
[6,{"$nulls":4},0]
[7,{"$nulls":4},0]
[8,{"$nulls":4},0]
[9,{"$nulls":4},0]
[10,{"$nulls":4},0]
[11,{"$nulls":4},0]
[12,{"$nulls":4},0]
[13,{"$nulls":4},0]
[14,{"$nulls":4},0]
[15,{"$nulls":4},0]
[16,{"$nulls":4},0]
[17,{"$nulls":4},0]
[18,{"$nulls":4},0]
[19,{"$nulls":4},0]
[20,{"$nulls":4},0]

{"sheet":"Average","index":9,"n_rows":503,"n_cols":31,"rows_kept":503,"cut":false,"hidden":false,"merged":[[0,0,0,26],[1,0,1,26],[2,28,2,29],[9,28,9,29],[10,28,10,29]]}
["Parker County Arena "]
["Open"]
["4 Yr Fut","5 Yr Fut","Der","Age Inct.","Am","Carry","T/C","F/F","Mem","Nom","Av","BBR","WPRA","Draw","Owner Name","Rider Name","Horse Name","Pen","Time 1","Final Time 1","Pen","Time 2","Final Time 2","Total Time","Average Time","Placing","Money Earned",null,"D Placing",null,"Split"]
[{"$nulls":13},1,{"$nulls":5},{"$f":"IF(OR(R4=5,R4=10, R4=15, R4=\"BP\",R4=\"SCR\"),\"NT\",S4)","v":0},null,null,{"$f":"IF(OR(U4=5,U4=10, U4=15, U4=\"BP\",U4=\"SCR\"),\"NT\",V4)","v":0},{"$f":"(T4+W4)","v":0},{"$f":"(T4+W4)/2","v":0},null,null,null,"1D"]
[{"$nulls":13},2,{"$nulls":5},0,null,null,0,0,0,null,null,null,"2D",{"$f":"$AD$4+$AE$5","v":0.5},0.5]
[{"$nulls":13},3,{"$nulls":5},0,null,null,0,0,0,null,null,null,"3D",{"$f":"$AD$5+$AE$6","v":1},0.5]
[{"$nulls":13},4,{"$nulls":5},0,null,null,0,0,0,null,null,null,"4D",{"$f":"$AD$6+$AE$7","v":1.5},0.5]
[{"$nulls":13},5,{"$nulls":5},0,null,null,0,0,0,null,null,null,"5D",{"$f":"$AD$7+$AE$8","v":2},0.5]
[{"$nulls":13},6,{"$nulls":5},0,null,null,0,0,0]
[{"$nulls":13},7,{"$nulls":5},0,null,null,0,0,0,null,null,null,"# Entered"]
[{"$nulls":13},8,{"$nulls":5},0,null,null,0,0,0,null,null,null,{"$f":"COUNTA(P4:P503)","v":0}]
[{"$nulls":13},9,{"$nulls":5},0,null,null,0,0,0]
[{"$nulls":13},10,{"$nulls":5},0,null,null,0,0,0]
[{"$nulls":13},11,{"$nulls":5},0,null,null,0,0,0]
[{"$nulls":13},12,{"$nulls":5},0,null,null,0,0,0]
[{"$nulls":13},13,{"$nulls":5},0,null,null,0,0,0]
[{"$nulls":13},14,{"$nulls":5},{"$f":"IF(OR(R17=5,R17=10, R17=15, R17=\"BP\",R17=\"SCR\"),\"NT\",S17)","v":0},null,null,{"$f":"IF(OR(U17=5,U17=10, U17=15, U17=\"BP\",U17=\"SCR\"),\"NT\",V17)","v":0},{"$f":"(T17+W17)","v":0},{"$f":"(T17+W17)/2","v":0}]
[{"$nulls":13},15,{"$nulls":5},0,null,null,0,0,0]
[{"$nulls":13},16,{"$nulls":5},0,null,null,0,0,0]
[{"$nulls":13},17,{"$nulls":5},0,null,null,0,0,0]
[{"$nulls":13},18,{"$nulls":5},0,null,null,0,0,0]
[{"$nulls":13},19,{"$nulls":5},0,null,null,0,0,0]
[{"$nulls":13},20,{"$nulls":5},0,null,null,0,0,0]
[{"$nulls":13},21,{"$nulls":5},0,null,null,0,0,0]
[{"$nulls":13},22,{"$nulls":5},0,null,null,0,0,0]
[{"$nulls":13},23,{"$nulls":5},0,null,null,0,0,0]
[{"$nulls":13},24,{"$nulls":5},0,null,null,0,0,0]
[{"$nulls":13},25,{"$nulls":5},0,null,null,0,0,0]
[{"$nulls":13},26,{"$nulls":5},0,null,null,0,0,0]
[{"$nulls":13},27,{"$nulls":5},0,null,null,0,0,0]
[{"$nulls":13},28,{"$nulls":5},0,null,null,0,0,0]
[{"$nulls":13},29,{"$nulls":5},0,null,null,0,0,0]
[{"$nulls":13},30,{"$nulls":5},0,null,null,0,0,0]
[{"$nulls":13},31,{"$nulls":5},0,null,null,0,0,0]
[{"$nulls":13},32,{"$nulls":5},0,null,null,0,0,0]
[{"$nulls":13},33,{"$nulls":5},0,null,null,0,0,0]
[{"$nulls":13},34,{"$nulls":5},0,null,null,0,0,0]
[{"$nulls":13},35,{"$nulls":5},0,null,null,0,0,0]
[{"$nulls":13},36,{"$nulls":5},0,null,null,0,0,0]
[{"$nulls":13},37,{"$nulls":5},0,null,null,0,0,0]
[{"$nulls":13},38,{"$nulls":5},0,null,null,0,0,0]
[{"$nulls":13},39,{"$nulls":5},0,null,null,0,0,0]
[{"$nulls":13},40,{"$nulls":5},0,null,null,0,0,0]
[{"$nulls":13},41,{"$nulls":5},0,null,null,0,0,0]
[{"$nulls":13},42,{"$nulls":5},0,null,null,0,0,0]
[{"$nulls":13},43,{"$nulls":5},0,null,null,0,0,0]
[{"$nulls":13},44,{"$nulls":5},0,null,null,0,0,0]
[{"$nulls":13},45,{"$nulls":5},0,null,null,0,0,0]
[{"$nulls":13},46,{"$nulls":5},0,null,null,0,0,0]
[{"$nulls":13},47,{"$nulls":5},0,null,null,0,0,0]
[{"$nulls":13},48,{"$nulls":5},0,null,null,0,0,0]
[{"$nulls":13},49,{"$nulls":5},0,null,null,0,0,0]
[{"$nulls":13},50,{"$nulls":5},0,null,null,0,0,0]
[{"$nulls":13},51,{"$nulls":5},0,null,null,0,0,0]
[{"$nulls":13},52,{"$nulls":5},0,null,null,0,0,0]
[{"$nulls":13},53,{"$nulls":5},0,null,null,0,0,0]
[{"$nulls":13},54,{"$nulls":5},0,null,null,0,0,0]
[{"$nulls":13},55,{"$nulls":5},0,null,null,0,0,0]
[{"$nulls":13},56,{"$nulls":5},0,null,null,0,0,0]
[{"$nulls":13},57,{"$nulls":5},0,null,null,0,0,0]
[{"$nulls":13},58,{"$nulls":5},0,null,null,0,0,0]
[{"$nulls":13},59,{"$nulls":5},0,null,null,0,0,0]
[{"$nulls":13},60,{"$nulls":5},0,null,null,0,0,0]
[{"$nulls":13},61,{"$nulls":5},0,null,null,0,0,0]
[{"$nulls":13},62,{"$nulls":5},0,null,null,0,0,0]
[{"$nulls":13},63,{"$nulls":5},0,null,null,0,0,0]
[{"$nulls":13},64,{"$nulls":5},0,null,null,0,0,0]
[{"$nulls":13},65,{"$nulls":5},0,null,null,0,0,0]
[{"$nulls":13},66,{"$nulls":5},{"$f":"IF(OR(R69=5,R69=10, R69=15, R69=\"BP\",R69=\"SCR\"),\"NT\",S69)","v":0},null,null,{"$f":"IF(OR(U69=5,U69=10, U69=15, U69=\"BP\",U69=\"SCR\"),\"NT\",V69)","v":0},{"$f":"(T69+W69)","v":0},{"$f":"(T69+W69)/2","v":0}]
[{"$nulls":13},67,{"$nulls":5},0,null,null,0,0,0]
[{"$nulls":13},68,{"$nulls":5},0,null,null,0,0,0]
[{"$nulls":13},69,{"$nulls":5},0,null,null,0,0,0]
[{"$nulls":13},70,{"$nulls":5},0,null,null,0,0,0]
[{"$nulls":13},71,{"$nulls":5},0,null,null,0,0,0]
[{"$nulls":13},72,{"$nulls":5},0,null,null,0,0,0]
[{"$nulls":13},73,{"$nulls":5},0,null,null,0,0,0]
[{"$nulls":13},74,{"$nulls":5},0,null,null,0,0,0]
[{"$nulls":13},75,{"$nulls":5},0,null,null,0,0,0]
[{"$nulls":13},76,{"$nulls":5},0,null,null,0,0,0]
[{"$nulls":13},77,{"$nulls":5},0,null,null,0,0,0]
[{"$nulls":13},78,{"$nulls":5},0,null,null,0,0,0]
[{"$nulls":13},79,{"$nulls":5},0,null,null,0,0,0]
[{"$nulls":13},80,{"$nulls":5},0,null,null,0,0,0]
[{"$nulls":13},81,{"$nulls":5},0,null,null,0,0,0]
[{"$nulls":13},82,{"$nulls":5},0,null,null,0,0,0]
[{"$nulls":13},83,{"$nulls":5},0,null,null,0,0,0]
[{"$nulls":13},84,{"$nulls":5},0,null,null,0,0,0]
[{"$nulls":13},85,{"$nulls":5},0,null,null,0,0,0]
[{"$nulls":13},86,{"$nulls":5},0,null,null,0,0,0]
[{"$nulls":13},87,{"$nulls":5},0,null,null,0,0,0]
[{"$nulls":13},88,{"$nulls":5},0,null,null,0,0,0]
[{"$nulls":13},89,{"$nulls":5},0,null,null,0,0,0]
[{"$nulls":13},90,{"$nulls":5},0,null,null,0,0,0]
[{"$nulls":13},91,{"$nulls":5},0,null,null,0,0,0]
[{"$nulls":13},92,{"$nulls":5},0,null,null,0,0,0]
[{"$nulls":13},93,{"$nulls":5},0,null,null,0,0,0]
[{"$nulls":13},94,{"$nulls":5},0,null,null,0,0,0]
[{"$nulls":13},95,{"$nulls":5},0,null,null,0,0,0]
[{"$nulls":13},96,{"$nulls":5},0,null,null,0,0,0]
[{"$nulls":13},97,{"$nulls":5},0,null,null,0,0,0]
[{"$nulls":13},98,{"$nulls":5},0,null,null,0,0,0]
[{"$nulls":13},99,{"$nulls":5},0,null,null,0,0,0]
[{"$nulls":13},100,{"$nulls":5},0,null,null,0,0,0]
[{"$nulls":13},101,{"$nulls":5},0,null,null,0,0,0]
[{"$nulls":13},102,{"$nulls":5},0,null,null,0,0,0]
[{"$nulls":13},103,{"$nulls":5},0,null,null,0,0,0]
[{"$nulls":13},104,{"$nulls":5},0,null,null,0,0,0]
[{"$nulls":13},105,{"$nulls":5},0,null,null,0,0,0]
[{"$nulls":13},106,{"$nulls":5},0,null,null,0,0,0]
[{"$nulls":13},107,{"$nulls":5},0,null,null,0,0,0]
[{"$nulls":13},108,{"$nulls":5},0,null,null,0,0,0]
[{"$nulls":13},109,{"$nulls":5},0,null,null,0,0,0]
[{"$nulls":13},110,{"$nulls":5},0,null,null,0,0,0]
[{"$nulls":13},111,{"$nulls":5},0,null,null,0,0,0]
[{"$nulls":13},112,{"$nulls":5},0,null,null,0,0,0]
[{"$nulls":13},113,{"$nulls":5},0,null,null,0,0,0]
[{"$nulls":13},114,{"$nulls":5},0,null,null,0,0,0]
[{"$nulls":13},115,{"$nulls":5},0,null,null,0,0,0]
[{"$nulls":13},116,{"$nulls":5},0,null,null,0,0,0]
[{"$nulls":13},117,{"$nulls":5},0,null,null,0,0,0]
[{"$nulls":13},118,{"$nulls":5},0,null,null,0,0,0]
[{"$nulls":13},119,{"$nulls":5},0,null,null,0,0,0]
[{"$nulls":13},120,{"$nulls":5},0,null,null,0,0,0]
[{"$nulls":13},121,{"$nulls":5},0,null,null,0,0,0]
[{"$nulls":13},122,{"$nulls":5},0,null,null,0,0,0]
[{"$nulls":13},123,{"$nulls":5},0,null,null,0,0,0]
[{"$nulls":13},124,{"$nulls":5},0,null,null,0,0,0]
[{"$nulls":13},125,{"$nulls":5},0,null,null,0,0,0]
[{"$nulls":13},126,{"$nulls":5},0,null,null,0,0,0]
[{"$nulls":13},127,{"$nulls":5},0,null,null,0,0,0]
[{"$nulls":13},128,{"$nulls":5},0,null,null,0,0,0]
[{"$nulls":13},129,{"$nulls":5},0,null,null,0,0,0]
[{"$nulls":13},130,{"$nulls":5},{"$f":"IF(OR(R133=5,R133=10, R133=15, R133=\"BP\",R133=\"SCR\"),\"NT\",S133)","v":0},null,null,{"$f":"IF(OR(U133=5,U133=10, U133=15, U133=\"BP\",U133=\"SCR\"),\"NT\",V133)","v":0},{"$f":"(T133+W133)","v":0},{"$f":"(T133+W133)/2","v":0}]
[{"$nulls":13},131,{"$nulls":5},0,null,null,0,0,0]
[{"$nulls":13},132,{"$nulls":5},0,null,null,0,0,0]
[{"$nulls":13},133,{"$nulls":5},0,null,null,0,0,0]
[{"$nulls":13},134,{"$nulls":5},0,null,null,0,0,0]
[{"$nulls":13},135,{"$nulls":5},0,null,null,0,0,0]
[{"$nulls":13},136,{"$nulls":5},0,null,null,0,0,0]
[{"$nulls":13},137,{"$nulls":5},0,null,null,0,0,0]
[{"$nulls":13},138,{"$nulls":5},0,null,null,0,0,0]
[{"$nulls":13},139,{"$nulls":5},0,null,null,0,0,0]
[{"$nulls":13},140,{"$nulls":5},0,null,null,0,0,0]
[{"$nulls":13},141,{"$nulls":5},0,null,null,0,0,0]
[{"$nulls":13},142,{"$nulls":5},0,null,null,0,0,0]
[{"$nulls":13},143,{"$nulls":5},0,null,null,0,0,0]
[{"$nulls":13},144,{"$nulls":5},0,null,null,0,0,0]
[{"$nulls":13},145,{"$nulls":5},0,null,null,0,0,0]
[{"$nulls":13},146,{"$nulls":5},0,null,null,0,0,0]
[{"$nulls":13},147,{"$nulls":5},0,null,null,0,0,0]
[{"$nulls":13},148,{"$nulls":5},0,null,null,0,0,0]
[{"$nulls":13},149,{"$nulls":5},0,null,null,0,0,0]
[{"$nulls":13},150,{"$nulls":5},0,null,null,0,0,0]
[{"$nulls":13},151,{"$nulls":5},0,null,null,0,0,0]
[{"$nulls":13},152,{"$nulls":5},0,null,null,0,0,0]
[{"$nulls":13},153,{"$nulls":5},0,null,null,0,0,0]
[{"$nulls":13},154,{"$nulls":5},0,null,null,0,0,0]
[{"$nulls":13},155,{"$nulls":5},0,null,null,0,0,0]
[{"$nulls":13},156,{"$nulls":5},0,null,null,0,0,0]
[{"$nulls":13},157,{"$nulls":5},0,null,null,0,0,0]
[{"$nulls":13},158,{"$nulls":5},0,null,null,0,0,0]
[{"$nulls":13},159,{"$nulls":5},0,null,null,0,0,0]
[{"$nulls":13},160,{"$nulls":5},0,null,null,0,0,0]
[{"$nulls":13},161,{"$nulls":5},0,null,null,0,0,0]
[{"$nulls":13},162,{"$nulls":5},0,null,null,0,0,0]
[{"$nulls":13},163,{"$nulls":5},0,null,null,0,0,0]
[{"$nulls":13},164,{"$nulls":5},0,null,null,0,0,0]
[{"$nulls":13},165,{"$nulls":5},0,null,null,0,0,0]
[{"$nulls":13},166,{"$nulls":5},0,null,null,0,0,0]
[{"$nulls":13},167,{"$nulls":5},0,null,null,0,0,0]
[{"$nulls":13},168,{"$nulls":5},0,null,null,0,0,0]
[{"$nulls":13},169,{"$nulls":5},0,null,null,0,0,0]
[{"$nulls":13},170,{"$nulls":5},0,null,null,0,0,0]
[{"$nulls":13},171,{"$nulls":5},0,null,null,0,0,0]
[{"$nulls":13},172,{"$nulls":5},0,null,null,0,0,0]
[{"$nulls":13},173,{"$nulls":5},0,null,null,0,0,0]
[{"$nulls":13},174,{"$nulls":5},0,null,null,0,0,0]
[{"$nulls":13},175,{"$nulls":5},0,null,null,0,0,0]
[{"$nulls":13},176,{"$nulls":5},0,null,null,0,0,0]
[{"$nulls":13},177,{"$nulls":5},0,null,null,0,0,0]
[{"$nulls":13},178,{"$nulls":5},0,null,null,0,0,0]
[{"$nulls":13},179,{"$nulls":5},0,null,null,0,0,0]
[{"$nulls":13},180,{"$nulls":5},0,null,null,0,0,0]
[{"$nulls":13},181,{"$nulls":5},0,null,null,0,0,0]
[{"$nulls":13},182,{"$nulls":5},0,null,null,0,0,0]
[{"$nulls":13},183,{"$nulls":5},0,null,null,0,0,0]
[{"$nulls":13},184,{"$nulls":5},0,null,null,0,0,0]
[{"$nulls":13},185,{"$nulls":5},0,null,null,0,0,0]
[{"$nulls":13},186,{"$nulls":5},0,null,null,0,0,0]
[{"$nulls":13},187,{"$nulls":5},0,null,null,0,0,0]
[{"$nulls":13},188,{"$nulls":5},0,null,null,0,0,0]
[{"$nulls":13},189,{"$nulls":5},0,null,null,0,0,0]
[{"$nulls":13},190,{"$nulls":5},0,null,null,0,0,0]
[{"$nulls":13},191,{"$nulls":5},0,null,null,0,0,0]
[{"$nulls":13},192,{"$nulls":5},0,null,null,0,0,0]
[{"$nulls":13},193,{"$nulls":5},0,null,null,0,0,0]
[{"$nulls":13},194,{"$nulls":5},{"$f":"IF(OR(R197=5,R197=10, R197=15, R197=\"BP\",R197=\"SCR\"),\"NT\",S197)","v":0},null,null,{"$f":"IF(OR(U197=5,U197=10, U197=15, U197=\"BP\",U197=\"SCR\"),\"NT\",V197)","v":0},{"$f":"(T197+W197)","v":0},{"$f":"(T197+W197)/2","v":0}]
[{"$nulls":13},195,{"$nulls":5},0,null,null,0,0,0]
[{"$nulls":13},196,{"$nulls":5},0,null,null,0,0,0]
[{"$nulls":13},197,{"$nulls":5},0,null,null,0,0,0]
[{"$nulls":13},198,{"$nulls":5},0,null,null,0,0,0]
[{"$nulls":13},199,{"$nulls":5},0,null,null,0,0,0]
[{"$nulls":13},200,{"$nulls":5},0,null,null,0,0,0]
[{"$nulls":13},201,{"$nulls":5},0,null,null,0,0,0]
[{"$nulls":13},202,{"$nulls":5},0,null,null,0,0,0]
[{"$nulls":13},203,{"$nulls":5},0,null,null,0,0,0]
[{"$nulls":13},204,{"$nulls":5},0,null,null,0,0,0]
[{"$nulls":13},205,{"$nulls":5},0,null,null,0,0,0]
[{"$nulls":13},206,{"$nulls":5},0,null,null,0,0,0]
[{"$nulls":13},207,{"$nulls":5},0,null,null,0,0,0]
[{"$nulls":13},208,{"$nulls":5},0,null,null,0,0,0]
[{"$nulls":13},209,{"$nulls":5},0,null,null,0,0,0]
[{"$nulls":13},210,{"$nulls":5},0,null,null,0,0,0]
[{"$nulls":13},211,{"$nulls":5},0,null,null,0,0,0]
[{"$nulls":13},212,{"$nulls":5},0,null,null,0,0,0]
[{"$nulls":13},213,{"$nulls":5},0,null,null,0,0,0]
[{"$nulls":13},214,{"$nulls":5},0,null,null,0,0,0]
[{"$nulls":13},215,{"$nulls":5},0,null,null,0,0,0]
[{"$nulls":13},216,{"$nulls":5},0,null,null,0,0,0]
[{"$nulls":13},217,{"$nulls":5},0,null,null,0,0,0]
[{"$nulls":13},218,{"$nulls":5},0,null,null,0,0,0]
[{"$nulls":13},219,{"$nulls":5},0,null,null,0,0,0]
[{"$nulls":13},220,{"$nulls":5},0,null,null,0,0,0]
[{"$nulls":13},221,{"$nulls":5},0,null,null,0,0,0]
[{"$nulls":13},222,{"$nulls":5},0,null,null,0,0,0]
[{"$nulls":13},223,{"$nulls":5},0,null,null,0,0,0]
[{"$nulls":13},224,{"$nulls":5},0,null,null,0,0,0]
[{"$nulls":13},225,{"$nulls":5},0,null,null,0,0,0]
[{"$nulls":13},226,{"$nulls":5},0,null,null,0,0,0]
[{"$nulls":13},227,{"$nulls":5},0,null,null,0,0,0]
[{"$nulls":13},228,{"$nulls":5},0,null,null,0,0,0]
[{"$nulls":13},229,{"$nulls":5},0,null,null,0,0,0]
[{"$nulls":13},230,{"$nulls":5},0,null,null,0,0,0]
[{"$nulls":13},231,{"$nulls":5},0,null,null,0,0,0]
[{"$nulls":13},232,{"$nulls":5},0,null,null,0,0,0]
[{"$nulls":13},233,{"$nulls":5},0,null,null,0,0,0]
[{"$nulls":13},234,{"$nulls":5},0,null,null,0,0,0]
[{"$nulls":13},235,{"$nulls":5},0,null,null,0,0,0]
[{"$nulls":13},236,{"$nulls":5},0,null,null,0,0,0]
[{"$nulls":13},237,{"$nulls":5},0,null,null,0,0,0]
[{"$nulls":13},238,{"$nulls":5},0,null,null,0,0,0]
[{"$nulls":13},239,{"$nulls":5},0,null,null,0,0,0]
[{"$nulls":13},240,{"$nulls":5},0,null,null,0,0,0]
[{"$nulls":13},241,{"$nulls":5},0,null,null,0,0,0]
[{"$nulls":13},242,{"$nulls":5},0,null,null,0,0,0]
[{"$nulls":13},243,{"$nulls":5},0,null,null,0,0,0]
[{"$nulls":13},244,{"$nulls":5},0,null,null,0,0,0]
[{"$nulls":13},245,{"$nulls":5},0,null,null,0,0,0]
[{"$nulls":13},246,{"$nulls":5},0,null,null,0,0,0]
[{"$nulls":13},247,{"$nulls":5},0,null,null,0,0,0]
[{"$nulls":13},248,{"$nulls":5},0,null,null,0,0,0]
[{"$nulls":13},249,{"$nulls":5},0,null,null,0,0,0]
[{"$nulls":13},250,{"$nulls":5},0,null,null,0,0,0]
[{"$nulls":13},251,{"$nulls":5},0,null,null,0,0,0]
[{"$nulls":13},252,{"$nulls":5},0,null,null,0,0,0]
[{"$nulls":13},253,{"$nulls":5},0,null,null,0,0,0]
[{"$nulls":13},254,{"$nulls":5},0,null,null,0,0,0]
[{"$nulls":13},255,{"$nulls":5},0,null,null,0,0,0]
[{"$nulls":13},256,{"$nulls":5},0,null,null,0,0,0]
[{"$nulls":13},257,{"$nulls":5},0,null,null,0,0,0]
[{"$nulls":13},258,{"$nulls":5},{"$f":"IF(OR(R261=5,R261=10, R261=15, R261=\"BP\",R261=\"SCR\"),\"NT\",S261)","v":0},null,null,{"$f":"IF(OR(U261=5,U261=10, U261=15, U261=\"BP\",U261=\"SCR\"),\"NT\",V261)","v":0},{"$f":"(T261+W261)","v":0},{"$f":"(T261+W261)/2","v":0}]
[{"$nulls":13},259,{"$nulls":5},0,null,null,0,0,0]
[{"$nulls":13},260,{"$nulls":5},0,null,null,0,0,0]
[{"$nulls":13},261,{"$nulls":5},0,null,null,0,0,0]
[{"$nulls":13},262,{"$nulls":5},0,null,null,0,0,0]
[{"$nulls":13},263,{"$nulls":5},0,null,null,0,0,0]
[{"$nulls":13},264,{"$nulls":5},0,null,null,0,0,0]
[{"$nulls":13},265,{"$nulls":5},0,null,null,0,0,0]
[{"$nulls":13},266,{"$nulls":5},0,null,null,0,0,0]
[{"$nulls":13},267,{"$nulls":5},0,null,null,0,0,0]
[{"$nulls":13},268,{"$nulls":5},0,null,null,0,0,0]
[{"$nulls":13},269,{"$nulls":5},0,null,null,0,0,0]
[{"$nulls":13},270,{"$nulls":5},0,null,null,0,0,0]
[{"$nulls":13},271,{"$nulls":5},0,null,null,0,0,0]
[{"$nulls":13},272,{"$nulls":5},0,null,null,0,0,0]
[{"$nulls":13},273,{"$nulls":5},0,null,null,0,0,0]
[{"$nulls":13},274,{"$nulls":5},0,null,null,0,0,0]
[{"$nulls":13},275,{"$nulls":5},0,null,null,0,0,0]
[{"$nulls":13},276,{"$nulls":5},0,null,null,0,0,0]
[{"$nulls":13},277,{"$nulls":5},0,null,null,0,0,0]
[{"$nulls":13},278,{"$nulls":5},0,null,null,0,0,0]
[{"$nulls":13},279,{"$nulls":5},0,null,null,0,0,0]
[{"$nulls":13},280,{"$nulls":5},0,null,null,0,0,0]
[{"$nulls":13},281,{"$nulls":5},0,null,null,0,0,0]
[{"$nulls":13},282,{"$nulls":5},0,null,null,0,0,0]
[{"$nulls":13},283,{"$nulls":5},0,null,null,0,0,0]
[{"$nulls":13},284,{"$nulls":5},0,null,null,0,0,0]
[{"$nulls":13},285,{"$nulls":5},0,null,null,0,0,0]
[{"$nulls":13},286,{"$nulls":5},0,null,null,0,0,0]
[{"$nulls":13},287,{"$nulls":5},0,null,null,0,0,0]
[{"$nulls":13},288,{"$nulls":5},0,null,null,0,0,0]
[{"$nulls":13},289,{"$nulls":5},0,null,null,0,0,0]
[{"$nulls":13},290,{"$nulls":5},0,null,null,0,0,0]
[{"$nulls":13},291,{"$nulls":5},0,null,null,0,0,0]
[{"$nulls":13},292,{"$nulls":5},0,null,null,0,0,0]
[{"$nulls":13},293,{"$nulls":5},0,null,null,0,0,0]
[{"$nulls":13},294,{"$nulls":5},0,null,null,0,0,0]
[{"$nulls":13},295,{"$nulls":5},0,null,null,0,0,0]
[{"$nulls":13},296,{"$nulls":5},0,null,null,0,0,0]
[{"$nulls":13},297,{"$nulls":5},0,null,null,0,0,0]
[{"$nulls":13},298,{"$nulls":5},0,null,null,0,0,0]
[{"$nulls":13},299,{"$nulls":5},0,null,null,0,0,0]
[{"$nulls":13},300,{"$nulls":5},0,null,null,0,0,0]
[{"$nulls":13},301,{"$nulls":5},0,null,null,0,0,0]
[{"$nulls":13},302,{"$nulls":5},0,null,null,0,0,0]
[{"$nulls":13},303,{"$nulls":5},0,null,null,0,0,0]
[{"$nulls":13},304,{"$nulls":5},0,null,null,0,0,0]
[{"$nulls":13},305,{"$nulls":5},0,null,null,0,0,0]
[{"$nulls":13},306,{"$nulls":5},0,null,null,0,0,0]
[{"$nulls":13},307,{"$nulls":5},0,null,null,0,0,0]
[{"$nulls":13},308,{"$nulls":5},0,null,null,0,0,0]
[{"$nulls":13},309,{"$nulls":5},0,null,null,0,0,0]
[{"$nulls":13},310,{"$nulls":5},0,null,null,0,0,0]
[{"$nulls":13},311,{"$nulls":5},0,null,null,0,0,0]
[{"$nulls":13},312,{"$nulls":5},0,null,null,0,0,0]
[{"$nulls":13},313,{"$nulls":5},0,null,null,0,0,0]
[{"$nulls":13},314,{"$nulls":5},0,null,null,0,0,0]
[{"$nulls":13},315,{"$nulls":5},0,null,null,0,0,0]
[{"$nulls":13},316,{"$nulls":5},0,null,null,0,0,0]
[{"$nulls":13},317,{"$nulls":5},0,null,null,0,0,0]
[{"$nulls":13},318,{"$nulls":5},0,null,null,0,0,0]
[{"$nulls":13},319,{"$nulls":5},0,null,null,0,0,0]
[{"$nulls":13},320,{"$nulls":5},0,null,null,0,0,0]
[{"$nulls":13},321,{"$nulls":5},0,null,null,0,0,0]
[{"$nulls":13},322,{"$nulls":5},{"$f":"IF(OR(R325=5,R325=10, R325=15, R325=\"BP\",R325=\"SCR\"),\"NT\",S325)","v":0},null,null,{"$f":"IF(OR(U325=5,U325=10, U325=15, U325=\"BP\",U325=\"SCR\"),\"NT\",V325)","v":0},{"$f":"(T325+W325)","v":0},{"$f":"(T325+W325)/2","v":0}]
[{"$nulls":13},323,{"$nulls":5},0,null,null,0,0,0]
[{"$nulls":13},324,{"$nulls":5},0,null,null,0,0,0]
[{"$nulls":13},325,{"$nulls":5},0,null,null,0,0,0]
[{"$nulls":13},326,{"$nulls":5},0,null,null,0,0,0]
[{"$nulls":13},327,{"$nulls":5},0,null,null,0,0,0]
[{"$nulls":13},328,{"$nulls":5},0,null,null,0,0,0]
[{"$nulls":13},329,{"$nulls":5},0,null,null,0,0,0]
[{"$nulls":13},330,{"$nulls":5},0,null,null,0,0,0]
[{"$nulls":13},331,{"$nulls":5},0,null,null,0,0,0]
[{"$nulls":13},332,{"$nulls":5},0,null,null,0,0,0]
[{"$nulls":13},333,{"$nulls":5},0,null,null,0,0,0]
[{"$nulls":13},334,{"$nulls":5},0,null,null,0,0,0]
[{"$nulls":13},335,{"$nulls":5},0,null,null,0,0,0]
[{"$nulls":13},336,{"$nulls":5},0,null,null,0,0,0]
[{"$nulls":13},337,{"$nulls":5},0,null,null,0,0,0]
[{"$nulls":13},338,{"$nulls":5},0,null,null,0,0,0]
[{"$nulls":13},339,{"$nulls":5},0,null,null,0,0,0]
[{"$nulls":13},340,{"$nulls":5},0,null,null,0,0,0]
[{"$nulls":13},341,{"$nulls":5},0,null,null,0,0,0]
[{"$nulls":13},342,{"$nulls":5},0,null,null,0,0,0]
[{"$nulls":13},343,{"$nulls":5},0,null,null,0,0,0]
[{"$nulls":13},344,{"$nulls":5},0,null,null,0,0,0]
[{"$nulls":13},345,{"$nulls":5},0,null,null,0,0,0]
[{"$nulls":13},346,{"$nulls":5},0,null,null,0,0,0]
[{"$nulls":13},347,{"$nulls":5},0,null,null,0,0,0]
[{"$nulls":13},348,{"$nulls":5},0,null,null,0,0,0]
[{"$nulls":13},349,{"$nulls":5},0,null,null,0,0,0]
[{"$nulls":13},350,{"$nulls":5},0,null,null,0,0,0]
[{"$nulls":13},351,{"$nulls":5},0,null,null,0,0,0]
[{"$nulls":13},352,{"$nulls":5},0,null,null,0,0,0]
[{"$nulls":13},353,{"$nulls":5},0,null,null,0,0,0]
[{"$nulls":13},354,{"$nulls":5},0,null,null,0,0,0]
[{"$nulls":13},355,{"$nulls":5},0,null,null,0,0,0]
[{"$nulls":13},356,{"$nulls":5},0,null,null,0,0,0]
[{"$nulls":13},357,{"$nulls":5},0,null,null,0,0,0]
[{"$nulls":13},358,{"$nulls":5},0,null,null,0,0,0]
[{"$nulls":13},359,{"$nulls":5},0,null,null,0,0,0]
[{"$nulls":13},360,{"$nulls":5},0,null,null,0,0,0]
[{"$nulls":13},361,{"$nulls":5},0,null,null,0,0,0]
[{"$nulls":13},362,{"$nulls":5},0,null,null,0,0,0]
[{"$nulls":13},363,{"$nulls":5},0,null,null,0,0,0]
[{"$nulls":13},364,{"$nulls":5},0,null,null,0,0,0]
[{"$nulls":13},365,{"$nulls":5},0,null,null,0,0,0]
[{"$nulls":13},366,{"$nulls":5},0,null,null,0,0,0]
[{"$nulls":13},367,{"$nulls":5},0,null,null,0,0,0]
[{"$nulls":13},368,{"$nulls":5},0,null,null,0,0,0]
[{"$nulls":13},369,{"$nulls":5},0,null,null,0,0,0]
[{"$nulls":13},370,{"$nulls":5},0,null,null,0,0,0]
[{"$nulls":13},371,{"$nulls":5},0,null,null,0,0,0]
[{"$nulls":13},372,{"$nulls":5},0,null,null,0,0,0]
[{"$nulls":13},373,{"$nulls":5},0,null,null,0,0,0]
[{"$nulls":13},374,{"$nulls":5},0,null,null,0,0,0]
[{"$nulls":13},375,{"$nulls":5},0,null,null,0,0,0]
[{"$nulls":13},376,{"$nulls":5},0,null,null,0,0,0]
[{"$nulls":13},377,{"$nulls":5},0,null,null,0,0,0]
[{"$nulls":13},378,{"$nulls":5},0,null,null,0,0,0]
[{"$nulls":13},379,{"$nulls":5},0,null,null,0,0,0]
[{"$nulls":13},380,{"$nulls":5},0,null,null,0,0,0]
[{"$nulls":13},381,{"$nulls":5},0,null,null,0,0,0]
[{"$nulls":13},382,{"$nulls":5},0,null,null,0,0,0]
[{"$nulls":13},383,{"$nulls":5},0,null,null,0,0,0]
[{"$nulls":13},384,{"$nulls":5},0,null,null,0,0,0]
[{"$nulls":13},385,{"$nulls":5},0,null,null,0,0,0]
[{"$nulls":13},386,{"$nulls":5},{"$f":"IF(OR(R389=5,R389=10, R389=15, R389=\"BP\",R389=\"SCR\"),\"NT\",S389)","v":0},null,null,{"$f":"IF(OR(U389=5,U389=10, U389=15, U389=\"BP\",U389=\"SCR\"),\"NT\",V389)","v":0},{"$f":"(T389+W389)","v":0},{"$f":"(T389+W389)/2","v":0}]
[{"$nulls":13},387,{"$nulls":5},0,null,null,0,0,0]
[{"$nulls":13},388,{"$nulls":5},0,null,null,0,0,0]
[{"$nulls":13},389,{"$nulls":5},0,null,null,0,0,0]
[{"$nulls":13},390,{"$nulls":5},0,null,null,0,0,0]
[{"$nulls":13},391,{"$nulls":5},0,null,null,0,0,0]
[{"$nulls":13},392,{"$nulls":5},0,null,null,0,0,0]
[{"$nulls":13},393,{"$nulls":5},0,null,null,0,0,0]
[{"$nulls":13},394,{"$nulls":5},0,null,null,0,0,0]
[{"$nulls":13},395,{"$nulls":5},0,null,null,0,0,0]
[{"$nulls":13},396,{"$nulls":5},0,null,null,0,0,0]
[{"$nulls":13},397,{"$nulls":5},0,null,null,0,0,0]
[{"$nulls":13},398,{"$nulls":5},0,null,null,0,0,0]
[{"$nulls":13},399,{"$nulls":5},0,null,null,0,0,0]
[{"$nulls":13},400,{"$nulls":5},0,null,null,0,0,0]
[{"$nulls":13},401,{"$nulls":5},0,null,null,0,0,0]
[{"$nulls":13},402,{"$nulls":5},0,null,null,0,0,0]
[{"$nulls":13},403,{"$nulls":5},0,null,null,0,0,0]
[{"$nulls":13},404,{"$nulls":5},0,null,null,0,0,0]
[{"$nulls":13},405,{"$nulls":5},0,null,null,0,0,0]
[{"$nulls":13},406,{"$nulls":5},0,null,null,0,0,0]
[{"$nulls":13},407,{"$nulls":5},0,null,null,0,0,0]
[{"$nulls":13},408,{"$nulls":5},0,null,null,0,0,0]
[{"$nulls":13},409,{"$nulls":5},0,null,null,0,0,0]
[{"$nulls":13},410,{"$nulls":5},0,null,null,0,0,0]
[{"$nulls":13},411,{"$nulls":5},0,null,null,0,0,0]
[{"$nulls":13},412,{"$nulls":5},0,null,null,0,0,0]
[{"$nulls":13},413,{"$nulls":5},0,null,null,0,0,0]
[{"$nulls":13},414,{"$nulls":5},0,null,null,0,0,0]
[{"$nulls":13},415,{"$nulls":5},0,null,null,0,0,0]
[{"$nulls":13},416,{"$nulls":5},0,null,null,0,0,0]
[{"$nulls":13},417,{"$nulls":5},0,null,null,0,0,0]
[{"$nulls":13},418,{"$nulls":5},0,null,null,0,0,0]
[{"$nulls":13},419,{"$nulls":5},0,null,null,0,0,0]
[{"$nulls":13},420,{"$nulls":5},0,null,null,0,0,0]
[{"$nulls":13},421,{"$nulls":5},0,null,null,0,0,0]
[{"$nulls":13},422,{"$nulls":5},0,null,null,0,0,0]
[{"$nulls":13},423,{"$nulls":5},0,null,null,0,0,0]
[{"$nulls":13},424,{"$nulls":5},0,null,null,0,0,0]
[{"$nulls":13},425,{"$nulls":5},0,null,null,0,0,0]
[{"$nulls":13},426,{"$nulls":5},0,null,null,0,0,0]
[{"$nulls":13},427,{"$nulls":5},0,null,null,0,0,0]
[{"$nulls":13},428,{"$nulls":5},0,null,null,0,0,0]
[{"$nulls":13},429,{"$nulls":5},0,null,null,0,0,0]
[{"$nulls":13},430,{"$nulls":5},0,null,null,0,0,0]
[{"$nulls":13},431,{"$nulls":5},0,null,null,0,0,0]
[{"$nulls":13},432,{"$nulls":5},0,null,null,0,0,0]
[{"$nulls":13},433,{"$nulls":5},0,null,null,0,0,0]
[{"$nulls":13},434,{"$nulls":5},0,null,null,0,0,0]
[{"$nulls":13},435,{"$nulls":5},0,null,null,0,0,0]
[{"$nulls":13},436,{"$nulls":5},0,null,null,0,0,0]
[{"$nulls":13},437,{"$nulls":5},0,null,null,0,0,0]
[{"$nulls":13},438,{"$nulls":5},0,null,null,0,0,0]
[{"$nulls":13},439,{"$nulls":5},0,null,null,0,0,0]
[{"$nulls":13},440,{"$nulls":5},0,null,null,0,0,0]
[{"$nulls":13},441,{"$nulls":5},0,null,null,0,0,0]
[{"$nulls":13},442,{"$nulls":5},0,null,null,0,0,0]
[{"$nulls":13},443,{"$nulls":5},0,null,null,0,0,0]
[{"$nulls":13},444,{"$nulls":5},0,null,null,0,0,0]
[{"$nulls":13},445,{"$nulls":5},0,null,null,0,0,0]
[{"$nulls":13},446,{"$nulls":5},0,null,null,0,0,0]
[{"$nulls":13},447,{"$nulls":5},0,null,null,0,0,0]
[{"$nulls":13},448,{"$nulls":5},0,null,null,0,0,0]
[{"$nulls":13},449,{"$nulls":5},0,null,null,0,0,0]
[{"$nulls":13},450,{"$nulls":5},{"$f":"IF(OR(R453=5,R453=10, R453=15, R453=\"BP\",R453=\"SCR\"),\"NT\",S453)","v":0},null,null,{"$f":"IF(OR(U453=5,U453=10, U453=15, U453=\"BP\",U453=\"SCR\"),\"NT\",V453)","v":0},{"$f":"(T453+W453)","v":0},{"$f":"(T453+W453)/2","v":0}]
[{"$nulls":13},451,{"$nulls":5},0,null,null,0,0,0]
[{"$nulls":13},452,{"$nulls":5},0,null,null,0,0,0]
[{"$nulls":13},453,{"$nulls":5},0,null,null,0,0,0]
[{"$nulls":13},454,{"$nulls":5},0,null,null,0,0,0]
[{"$nulls":13},455,{"$nulls":5},0,null,null,0,0,0]
[{"$nulls":13},456,{"$nulls":5},0,null,null,0,0,0]
[{"$nulls":13},457,{"$nulls":5},0,null,null,0,0,0]
[{"$nulls":13},458,{"$nulls":5},0,null,null,0,0,0]
[{"$nulls":13},459,{"$nulls":5},0,null,null,0,0,0]
[{"$nulls":13},460,{"$nulls":5},0,null,null,0,0,0]
[{"$nulls":13},461,{"$nulls":5},0,null,null,0,0,0]
[{"$nulls":13},462,{"$nulls":5},0,null,null,0,0,0]
[{"$nulls":13},463,{"$nulls":5},0,null,null,0,0,0]
[{"$nulls":13},464,{"$nulls":5},0,null,null,0,0,0]
[{"$nulls":13},465,{"$nulls":5},0,null,null,0,0,0]
[{"$nulls":13},466,{"$nulls":5},0,null,null,0,0,0]
[{"$nulls":13},467,{"$nulls":5},0,null,null,0,0,0]
[{"$nulls":13},468,{"$nulls":5},0,null,null,0,0,0]
[{"$nulls":13},469,{"$nulls":5},0,null,null,0,0,0]
[{"$nulls":13},470,{"$nulls":5},0,null,null,0,0,0]
[{"$nulls":13},471,{"$nulls":5},0,null,null,0,0,0]
[{"$nulls":13},472,{"$nulls":5},0,null,null,0,0,0]
[{"$nulls":13},473,{"$nulls":5},0,null,null,0,0,0]
[{"$nulls":13},474,{"$nulls":5},0,null,null,0,0,0]
[{"$nulls":13},475,{"$nulls":5},0,null,null,0,0,0]
[{"$nulls":13},476,{"$nulls":5},0,null,null,0,0,0]
[{"$nulls":13},477,{"$nulls":5},0,null,null,0,0,0]
[{"$nulls":13},478,{"$nulls":5},0,null,null,0,0,0]
[{"$nulls":13},479,{"$nulls":5},0,null,null,0,0,0]
[{"$nulls":13},480,{"$nulls":5},0,null,null,0,0,0]
[{"$nulls":13},481,{"$nulls":5},0,null,null,0,0,0]
[{"$nulls":13},482,{"$nulls":5},0,null,null,0,0,0]
[{"$nulls":13},483,{"$nulls":5},0,null,null,0,0,0]
[{"$nulls":13},484,{"$nulls":5},0,null,null,0,0,0]
[{"$nulls":13},485,{"$nulls":5},0,null,null,0,0,0]
[{"$nulls":13},486,{"$nulls":5},0,null,null,0,0,0]
[{"$nulls":13},487,{"$nulls":5},0,null,null,0,0,0]
[{"$nulls":13},488,{"$nulls":5},0,null,null,0,0,0]
[{"$nulls":13},489,{"$nulls":5},0,null,null,0,0,0]
[{"$nulls":13},490,{"$nulls":5},0,null,null,0,0,0]
[{"$nulls":13},491,{"$nulls":5},0,null,null,0,0,0]
[{"$nulls":13},492,{"$nulls":5},0,null,null,0,0,0]
[{"$nulls":13},493,{"$nulls":5},0,null,null,0,0,0]
[{"$nulls":13},494,{"$nulls":5},0,null,null,0,0,0]
[{"$nulls":13},495,{"$nulls":5},0,null,null,0,0,0]
[{"$nulls":13},496,{"$nulls":5},0,null,null,0,0,0]
[{"$nulls":13},497,{"$nulls":5},0,null,null,0,0,0]
[{"$nulls":13},498,{"$nulls":5},0,null,null,0,0,0]
[{"$nulls":13},499,{"$nulls":5},0,null,null,0,0,0]
[{"$nulls":13},500,{"$nulls":5},0,null,null,0,0,0]

{"sheet":"BFA 2D Payout","index":10,"n_rows":52,"n_cols":6,"rows_kept":52,"cut":false,"hidden":true,"merged":[[51,0,51,4],[20,0,20,4],[28,0,28,4],[29,0,29,4],[39,0,39,4],[40,0,40,4],[25,3,26,4],[35,3,37,4],[46,3,49,4],[19,0,19,4],[0,0,0,4],[3,0,3,4],[4,0,4,4],[11,0,11,4],[12,0,12,4],[7,3,9,4],[16,3,17,4]]}
["BFA 2D Payout"]
["Entry Fee","# Entries","% Payback","Added $","  Total Payout","Each Go"]
[25,19,0.8,200,{"$f":"(A3*$C$3)*B3+D3","v":580},0.3]
[{"$nulls":5},{"$f":"$E$3*$F$3","v":174}]
["$5,000-7,500 Pays 5 Places         4 to 1D 1 to 2D"]
["Placings","1D",null,"2D"]
["1st",{"$f":"($F$4*$C$7)","v":57.42},0.33,{"$f":"$F$4*$E$7","v":12.180000000000001},7.0000000000000007E-2]
["2nd",{"$f":"$F$4*$C$8","v":46.980000000000004},0.27]
["3rd",{"$f":"$F$4*$C$9","v":34.800000000000004},0.2]
["4th",{"$f":"$F$4*$C$10","v":22.62},0.13]
["Totals",{"$f":"SUM(B7:B10)","v":161.82000000000002},null,{"$f":"SUM(D7:D10)","v":12.180000000000001},{"$f":"(C7+C8+C9+C10+E7+E8)","v":1}]
[{"$f":"B11+D11","v":174.00000000000003}]
["$7,501 - 10,000 Pays 6 Places        4 to 1D,  2 to 2D"]
["Placings","1D",null,"2D"]
["1st",{"$f":"$F$4*$C$15","v":50.459999999999994},0.28999999999999998,{"$f":"$F$4*$E$15","v":15.66},0.09]
["2nd",{"$f":"+$F$4*$C$16","v":41.76},0.24,{"$f":"F4*E16","v":8.7000000000000011},0.05]
["3rd",{"$f":"$F$4*$C$17","v":33.06},0.19]
["4th",{"$f":"$F$4*$C$18","v":24.360000000000003},0.14000000000000001]
["Totals",{"$f":"SUM(B15:B18)","v":149.64000000000001},null,{"$f":"D16+D15","v":24.36},{"$f":"SUM(C15+C16+C17+C18+E15+E16)","v":1}]
[{"$f":"D19+B19","v":174}]
["   $10,001 - $15,000 Payes 8 Places        5 to 1D, 3 to 2D"]
["Placings","1D",null,"2D"]
["1st",{"$f":"F4*C23","v":41.76},0.24,{"$f":"F4*E23","v":12.180000000000001},7.0000000000000007E-2]
["2nd",{"$f":"F4*C24","v":34.800000000000004},0.2,{"$f":"F4*E24","v":8.7000000000000011},0.05]
["3rd",{"$f":"F4*C25","v":29.580000000000002},0.17,{"$f":"F4*E25","v":6.96},0.04]
["4th",{"$f":"F4*C26","v":22.62},0.13]
["5th",{"$f":"F4*C27","v":17.400000000000002},0.1]
["Totals",{"$f":"SUM(B23:B27)","v":146.16},null,{"$f":"SUM(D23:D27)","v":27.840000000000003},{"$f":"C23+C24+C25+C26+C27+E23+E24+E25","v":1}]
[{"$f":"B28+D28","v":174}]
["$15,001 - $25,000 Payes 11 Places        7 to 1D, 4 to 2D"]
["Placings","1D",null,"2D"]
["1st",{"$f":"$F$4*C32","v":36.54},0.21,{"$f":"$F$4*E32","v":8.7000000000000011},0.05]
["2nd",{"$f":"$F$4*C33","v":31.32},0.18,{"$f":"$F$4*E33","v":6.96},0.04]
["3rd",26.099999999999998,0.15,5.22,0.03]
["4th",19.14,0.11,3.48,0.02]
["5th",13.92,0.08]
["6th",12.180000000000001,7.0000000000000007E-2]
["7th",10.44,0.06]
["Totals",{"$f":"SUM(B32:B38)","v":149.63999999999999},null,{"$f":"SUM(D32:D38)","v":24.36},{"$f":"C32+C33+C34+C35+C36+C37+C38+E32+E33+E34+E35","v":1.0000000000000002}]
[{"$f":"SUM(B39+D39)","v":174}]
["$25,001 - $35,000 Payes 12 Places          8 to 1D, 4 to 2D"]
["Placings","1D",null,"2D"]
["1st",{"$f":"$F$4*C43","v":33.06},0.19,{"$f":"$F$4*E43","v":8.7000000000000011},0.05]
["2nd",{"$f":"$F$4*C44","v":26.099999999999998},0.15,{"$f":"$F$4*E44","v":6.96},0.04]
["3rd",20.88,0.12,5.22,0.03]
["4th",17.400000000000002,0.1,3.48,0.02]
["5th",15.66,0.09]
["6th",13.92,0.08]
["7th",12.180000000000001,7.0000000000000007E-2]
["8th",10.44,0.06]
["Totals",{"$f":"SUM(B43:B50)","v":149.63999999999999},null,{"$f":"SUM(D43:D46)","v":24.36},{"$f":"C43+C44+C45+C46+C47+C48+C49+C50+E43+E44+E45+E46","v":1}]
[{"$f":"D51+B51","v":174}]

{"sheet":"2D Payout","index":11,"n_rows":76,"n_cols":5,"rows_kept":76,"cut":false,"hidden":false,"merged":[[35,0,35,4],[34,0,34,4],[28,3,28,4],[19,0,19,4],[26,0,26,4],[21,3,21,4],[13,0,13,4],[14,0,14,4],[20,0,20,4],[15,3,15,4],[27,0,27,4],[0,0,0,4],[8,0,8,4],[9,0,9,4],[3,0,3,4],[10,3,10,4],[5,3,6,3],[5,4,7,4],[36,3,36,4],[76,0,76,4],[43,0,43,4],[53,0,53,4],[65,0,65,4],[44,0,44,4],[54,0,54,4],[64,0,64,4],[45,3,45,4],[55,3,55,4],[66,3,66,4]]}
["2D Payout"]
["Entry Fee","# Entries","% Payback","Added $","  Total Payout"]
[100,12,0.8,0,{"$f":"(A3*$C$3)*B3+D3","v":960}]
[]
["% in each D",0.7,0.3,"Total % =",{"$f":"SUM(B5:C5)","v":1}]
[null,"1D","2D"]
[null,{"$f":"(($A$3*$B$3*$C$3*$B$5)+($D$3*$B$5))","v":672},{"$f":"(($A$3*$B$3*$C$3*$C$5)+($D$3*$C$5))","v":288}]
["Totals",{"$f":"SUM(B7)","v":672},{"$f":"SUM(C7)","v":288},{"$f":"SUM(B8:C8)","v":960}]
[]
["For 1-7 riders 1 place"]
["Placings","1D","2D"]
["1st",{"$f":"$B$7*$E$12","v":672},{"$f":"$C$7*$E$5","v":288},"è",1]
["Totals",{"$f":"SUM(B12:B12)","v":672},{"$f":"SUM(C12:C12)","v":288},{"$f":"SUM(B13:C13)","v":960},{"$f":"SUM(E12)","v":1}]
[]
["For 8-11 riders 2 places"]
["Placings","1D","2D"]
["1st",{"$f":"$B$7*$E$17","v":403.2},{"$f":"$C$7*$E$17","v":172.79999999999998},"è",0.6]
["2nd",{"$f":"$B$7*$E$18","v":268.8},{"$f":"$C$7*$E$18","v":115.2},"è",0.4]
["Totals",{"$f":"SUM(B17:B18)","v":672},{"$f":"SUM(C17:C18)","v":288},{"$f":"SUM(B19:C19)","v":960},{"$f":"SUM(E17:E18)","v":1}]
[]
["For 12-15 riders 3 places"]
["Placings","1D","2D"]
["1st",{"$f":"$B$7*$E$23","v":336},{"$f":"$C$7*$E$23","v":144},"è",0.5]
["2nd",{"$f":"$B$7*$E$24","v":201.6},{"$f":"$C$7*$E$24","v":86.399999999999991},"è",0.3]
["3rd",{"$f":"$B$7*$E$25","v":134.4},{"$f":"$C$7*$E$25","v":57.6},"è",0.2]
["Totals",{"$f":"SUM(B23:B25)","v":672},{"$f":"SUM(C23:C25)","v":288},{"$f":"SUM(B26:C26)","v":960},{"$f":"SUM(E23:E25)","v":1}]
[]
["For 16-19 riders 4 places"]
["Placings","1D","2D"]
["1st",{"$f":"$B$7*$E$30","v":268.8},{"$f":"$C$7*$E$30","v":115.2},"è",0.4]
["2nd",{"$f":"$B$7*$E$31","v":201.6},{"$f":"$C$7*$E$31","v":86.399999999999991},"è",0.3]
["3rd",{"$f":"$B$7*$E$32","v":134.4},{"$f":"$C$7*$E$32","v":57.6},"è",0.2]
["4th",{"$f":"$B$7*$E$33","v":67.2},{"$f":"$C$7*$E$33","v":28.8},"è",0.1]
["Totals",{"$f":"SUM(B30:B33)","v":672},{"$f":"SUM(C30:C33)","v":288},{"$f":"SUM(B34:C34)","v":960},{"$f":"SUM(E30:E33)","v":0.99999999999999989}]
[]
["For 20-23 riders 5 places"]
["Placings","1D","2D"]
["1st",{"$f":"$B$7*$E$38","v":201.6},{"$f":"$C$7*$E$38","v":86.399999999999991},"è",0.3]
["2nd",{"$f":"$B$7*$E$39","v":168},{"$f":"$C$7*$E$39","v":72},"è",0.25]
["3rd",{"$f":"$B$7*$E$40","v":134.4},{"$f":"$C$7*$E$40","v":57.6},"è",0.2]
["4th",{"$f":"$B$7*$E$41","v":100.8},{"$f":"$C$7*$E$41","v":43.199999999999996},"è",0.15]
["5th",{"$f":"$B$7*$E$42","v":67.2},{"$f":"$C$7*$E$42","v":28.8},"è",0.1]
["Totals",{"$f":"SUM(B38:B42)","v":672},{"$f":"SUM(C38:C42)","v":288},{"$f":"SUM(B43:C43)","v":960},{"$f":"SUM(E38:E42)","v":1}]
[]
["For 24-27 riders 6 places"]
["Placings","1D","2D"]
["1st",{"$f":"$B$7*$E$47","v":168},{"$f":"$C$7*$E$47","v":72},"è",0.25]
["2nd",{"$f":"$B$7*$E$48","v":134.4},{"$f":"$C$7*$E$48","v":57.6},"è",0.2]
["3rd",{"$f":"$B$7*$E$49","v":120.96},{"$f":"$C$7*$E$49","v":51.839999999999996},"è",0.18]
["4th",{"$f":"$B$7*$E$50","v":100.8},{"$f":"$C$7*$E$50","v":43.199999999999996},"è",0.15]
["5th",{"$f":"$B$7*$E$51","v":80.64},{"$f":"$C$7*$E$51","v":34.56},"è",0.12]
["6th",{"$f":"$B$7*$E$52","v":67.2},{"$f":"$C$7*$E$52","v":28.8},"è",0.1]
["Totals",{"$f":"SUM(B47:B52)","v":672},{"$f":"SUM(C47:C52)","v":288},{"$f":"SUM(B53:C53)","v":960},{"$f":"SUM(E47:E52)","v":1}]
[]
["For 28-31 riders 7 places"]
["Placings","1D","2D"]
["1st",{"$f":"$B$7*$E$57","v":147.84},{"$f":"$C$7*$E$57","v":63.36},"è",0.22]
["2nd",{"$f":"$B$7*$E$58","v":120.96},{"$f":"$C$7*$E$58","v":51.839999999999996},"è",0.18]
["3rd",{"$f":"$B$7*$E$59","v":107.52},{"$f":"$C$7*$E$59","v":46.08},"è",0.16]
["4th",{"$f":"$B$7*$E$60","v":94.080000000000013},{"$f":"$C$7*$E$60","v":40.320000000000007},"è",0.14000000000000001]
["5th",{"$f":"$B$7*$E$61","v":80.64},{"$f":"$C$7*$E$61","v":34.56},"è",0.12]
["6th",{"$f":"$B$7*$E$62","v":67.2},{"$f":"$C$7*$E$62","v":28.8},"è",0.1]
["7th",{"$f":"$B$7*$E$63","v":53.76},{"$f":"$C$7*$E$63","v":23.04},"è",0.08]
["Totals",{"$f":"SUM(B57:B63)","v":672},{"$f":"SUM(C57:C63)","v":288},{"$f":"SUM(B64:C64)","v":960},{"$f":"SUM(E57:E63)","v":1}]
[]
["For 32 or more riders 8 places"]
["Placings","1D","2D"]
["1st",{"$f":"$B$7*$E$68","v":154.56},{"$f":"$C$7*$E$68","v":66.240000000000009},"è",0.23]
["2nd",{"$f":"$B$7*$E$69","v":134.4},{"$f":"$C$7*$E$69","v":57.6},"è",0.2]
["3rd",{"$f":"$B$7*$E$70","v":114.24000000000001},{"$f":"$C$7*$E$70","v":48.96},"è",0.17]
["4th",{"$f":"$B$7*$E$71","v":94.080000000000013},{"$f":"$C$7*$E$71","v":40.320000000000007},"è",0.14000000000000001]
["5th",{"$f":"$B$7*$E$72","v":73.92},{"$f":"$C$7*$E$72","v":31.68},"è",0.11]
["6th",{"$f":"$B$7*$E$73","v":53.76},{"$f":"$C$7*$E$73","v":23.04},"è",0.08]
["7th",{"$f":"$B$7*$E$74","v":33.6},{"$f":"$C$7*$E$74","v":14.4},"è",0.05]
["8th",{"$f":"$B$7*$E$75","v":13.44},{"$f":"$C$7*$E$75","v":5.76},"è",0.02]
["Totals",{"$f":"SUM(B68:B75)","v":672.00000000000011},{"$f":"SUM(C68:C75)","v":288},{"$f":"SUM(B76:C76)","v":960.00000000000011},{"$f":"SUM(E68:E75)","v":1}]

{"sheet":"3D Payout","index":12,"n_rows":76,"n_cols":6,"rows_kept":76,"cut":false,"hidden":true,"merged":[[20,0,20,5],[26,0,26,5],[65,0,65,5],[44,0,44,5],[54,0,54,5],[27,0,27,5],[35,0,35,5],[21,4,21,5],[55,4,55,5],[45,4,45,5],[36,4,36,5],[28,4,28,5],[34,0,34,5],[0,0,0,5],[3,0,3,5],[8,0,8,5],[9,0,9,5],[5,5,7,5],[5,4,6,4],[13,0,13,5],[19,0,19,5],[14,0,14,5],[15,4,15,5],[10,4,10,5],[76,0,76,5],[43,0,43,5],[53,0,53,5],[64,0,64,5],[66,4,66,5]]}
["3D Payout"]
["Entry Fee","# Entries","% Payback","$ From Entry","Added $","  Total Payout"]
[10,3,0.8,{"$f":"$A$3*$C$3*$B$3","v":24},null,{"$f":"$D$3+$E$3","v":24}]
[]
["% in each D",0.5,0.3,0.2,"Total % =",{"$f":"SUM(B5:D5)","v":1}]
[null,"1D","2D","3D"]
[null,{"$f":"(($A$3*$B$3*$C$3*$B$5)+($E$3*$B$5))","v":12},{"$f":"(($A$3*$B$3*$C$3*$C$5)+($E$3*$C$5))","v":7.1999999999999993},{"$f":"(($A$3*$B$3*$C$3*$D$5)+($E$3*$D$5))","v":4.8000000000000007}]
["Totals",{"$f":"SUM(B7)","v":12},{"$f":"SUM(C7)","v":7.1999999999999993},4.8000000000000007,{"$f":"SUM(B8:D8)","v":24}]
[]
["For 1-10 riders 1 place"]
["Placings","1D","2D","3D"]
["1st",{"$f":"$B$7*$F$12","v":12},{"$f":"$C$7*$F$12","v":7.1999999999999993},{"$f":"$D$7*$F$12","v":4.8000000000000007},"è",1]
["Totals",{"$f":"SUM(B12:B12)","v":12},{"$f":"SUM(C12:C12)","v":7.1999999999999993},{"$f":"SUM(D12:D12)","v":4.8000000000000007},{"$f":"SUM(B13:D13)","v":24},{"$f":"SUM(F12)","v":1}]
[]
["For 11-15 riders 2 places"]
["Placings","1D","2D","3D"]
["1st",{"$f":"$B$7*$F$17","v":7.1999999999999993},{"$f":"$C$7*$F$17","v":4.3199999999999994},{"$f":"$D$7*$F$17","v":2.8800000000000003},"è",0.6]
["2nd",{"$f":"$B$7*$F$18","v":4.8000000000000007},{"$f":"$C$7*$F$18","v":2.88},{"$f":"$D$7*$F$18","v":1.9200000000000004},"è",0.4]
["Totals",{"$f":"SUM(B17:B18)","v":12},{"$f":"SUM(C17:C18)","v":7.1999999999999993},{"$f":"SUM(D17:D18)","v":4.8000000000000007},{"$f":"SUM(B19:D19)","v":24},{"$f":"SUM(F17:F18)","v":1}]
[]
["For 16-30 riders 3 places"]
["Placings","1D","2D","3D"]
["1st",{"$f":"$B$7*$F$23","v":6},{"$f":"$C$7*$F$23","v":3.5999999999999996},{"$f":"$D$7*$F$23","v":2.4000000000000004},"è",0.5]
["2nd",{"$f":"$B$7*$F$24","v":3.5999999999999996},{"$f":"$C$7*$F$24","v":2.1599999999999997},{"$f":"$D$7*$F$24","v":1.4400000000000002},"è",0.3]
["3rd",{"$f":"$B$7*$F$25","v":2.4000000000000004},{"$f":"$C$7*$F$25","v":1.44},{"$f":"$D$7*$F$25","v":0.96000000000000019},"è",0.2]
["Totals",{"$f":"SUM(B23:B25)","v":12},{"$f":"SUM(C23:C25)","v":7.1999999999999993},{"$f":"SUM(D22:D25)","v":4.8000000000000007},{"$f":"SUM(B26:D26)","v":24},{"$f":"SUM(F23:F25)","v":1}]
[]
["For 31-60 riders 4 places"]
["Placings","1D","2D","3D"]
["1st",{"$f":"$B$7*$F$30","v":5.04},{"$f":"$C$7*$F$30","v":3.0239999999999996},{"$f":"$D$7*$F$30","v":2.016},"è",0.42]
["2nd",{"$f":"$B$7*$F$31","v":3.4799999999999995},{"$f":"$C$7*$F$31","v":2.0879999999999996},{"$f":"$D$7*$F$31","v":1.3920000000000001},"è",0.28999999999999998]
["3rd",{"$f":"$B$7*$F$32","v":2.2800000000000002},{"$f":"$C$7*$F$32","v":1.3679999999999999},{"$f":"$D$7*$F$32","v":0.91200000000000014},"è",0.19]
["4th",{"$f":"$B$7*$F$33","v":1.2000000000000002},{"$f":"$C$7*$F$33","v":0.72},{"$f":"$D$7*$F$33","v":0.48000000000000009},"è",0.1]
["Totals",{"$f":"SUM(B30:B33)","v":12},{"$f":"SUM(C30:C33)","v":7.1999999999999984},{"$f":"SUM(D30:D33)","v":4.8000000000000007},{"$f":"SUM(B34:D34)","v":24},{"$f":"SUM(F30:F33)","v":0.99999999999999989}]
[]
["For 61-90 riders 5 places"]
["Placings","1D","2D","3D"]
["1st",{"$f":"$B$7*$F$38","v":4.5600000000000005},{"$f":"$C$7*$F$38","v":2.7359999999999998},{"$f":"$D$7*$F$38","v":1.8240000000000003},"è",0.38]
["2nd",{"$f":"$B$7*$F$39","v":3.3600000000000003},{"$f":"$C$7*$F$39","v":2.016},{"$f":"$D$7*$F$39","v":1.3440000000000003},"è",0.28000000000000003]
["3rd",{"$f":"$B$7*$F$40","v":2.16},{"$f":"$C$7*$F$40","v":1.2959999999999998},{"$f":"$D$7*$F$40","v":0.8640000000000001},"è",0.18]
["4th",{"$f":"$B$7*$F$41","v":1.2000000000000002},{"$f":"$C$7*$F$41","v":0.72},{"$f":"$D$7*$F$41","v":0.48000000000000009},"è",0.1]
["5th",{"$f":"$B$7*$F$42","v":0.72},{"$f":"$C$7*$F$42","v":0.43199999999999994},{"$f":"$D$7*$F$42","v":0.28800000000000003},"è",0.06]
["Totals",{"$f":"SUM(B38:B42)","v":12.000000000000002},{"$f":"SUM(C38:C42)","v":7.1999999999999993},{"$f":"SUM(D38:D42)","v":4.8000000000000016},{"$f":"SUM(B43:D43)","v":24.000000000000004},{"$f":"SUM(F38:F42)","v":1}]
[]
["For 91-120 riders 6 places"]
["Placings","1D","2D","3D"]
["1st",{"$f":"$B$7*$F$47","v":4.32},{"$f":"$C$7*$F$47","v":2.5919999999999996},{"$f":"$D$7*$F$47","v":1.7280000000000002},"è",0.36]
["2nd",{"$f":"$B$7*$F$48","v":3.12},{"$f":"$C$7*$F$48","v":1.8719999999999999},{"$f":"$D$7*$F$48","v":1.2480000000000002},"è",0.26]
["3rd",{"$f":"$B$7*$F$49","v":1.92},{"$f":"$C$7*$F$49","v":1.1519999999999999},{"$f":"$D$7*$F$49","v":0.76800000000000013},"è",0.16]
["4th",{"$f":"$B$7*$F$50","v":1.2000000000000002},{"$f":"$C$7*$F$50","v":0.72},{"$f":"$D$7*$F$50","v":0.48000000000000009},"è",0.1]
["5th",{"$f":"$B$7*$F$51","v":0.84000000000000008},{"$f":"$C$7*$F$51","v":0.504},{"$f":"$D$7*$F$51","v":0.33600000000000008},"è",7.0000000000000007E-2]
["6th",{"$f":"$B$7*$F$52","v":0.60000000000000009},{"$f":"$C$7*$F$52","v":0.36},{"$f":"$D$7*$F$52","v":0.24000000000000005},"è",0.05]
["Totals",{"$f":"SUM(B47:B52)","v":11.999999999999998},{"$f":"SUM(C47:C52)","v":7.2},{"$f":"SUM(D47:D52)","v":4.8000000000000016},{"$f":"SUM(B53:D53)","v":24},{"$f":"SUM(F47:F52)","v":1}]
[]
["For 121-200 riders 7 places"]
["Placings","1D","2D","3D"]
["1st",{"$f":"$B$7*$F$57","v":3.12},{"$f":"$C$7*$F$57","v":1.8719999999999999},{"$f":"$D$7*$F$57","v":1.2480000000000002},"è",0.26]
["2nd",{"$f":"$B$7*$F$58","v":2.4000000000000004},{"$f":"$C$7*$F$58","v":1.44},{"$f":"$D$7*$F$58","v":0.96000000000000019},"è",0.2]
["3rd",{"$f":"$B$7*$F$59","v":1.7999999999999998},{"$f":"$C$7*$F$59","v":1.0799999999999998},{"$f":"$D$7*$F$59","v":0.72000000000000008},"è",0.15]
["4th",{"$f":"$B$7*$F$60","v":1.44},{"$f":"$C$7*$F$60","v":0.86399999999999988},{"$f":"$D$7*$F$60","v":0.57600000000000007},"è",0.12]
["5th",{"$f":"$B$7*$F$61","v":1.2000000000000002},{"$f":"$C$7*$F$61","v":0.72},{"$f":"$D$7*$F$61","v":0.48000000000000009},"è",0.1]
["6th",{"$f":"$B$7*$F$62","v":1.08},{"$f":"$C$7*$F$62","v":0.64799999999999991},{"$f":"$D$7*$F$62","v":0.43200000000000005},"è",0.09]
["7th",{"$f":"$B$7*$F$63","v":0.96},{"$f":"$C$7*$F$63","v":0.57599999999999996},{"$f":"$D$7*$F$63","v":0.38400000000000006},"è",0.08]
["Totals",{"$f":"SUM(B57:B63)","v":12},{"$f":"SUM(C57:C63)","v":7.1999999999999984},{"$f":"SUM(D57:D63)","v":4.8000000000000007},{"$f":"SUM(B64:D64)","v":24},{"$f":"SUM(F57:F63)","v":0.99999999999999989}]
[]
["For 201 or more riders 8 places"]
["Placings","1D","2D","3D"]
["1st",{"$f":"$B$7*0.24","v":2.88},{"$f":"$C$7*0.24","v":1.7279999999999998},{"$f":"$D$7*0.24","v":1.1520000000000001},"è",0.24]
["2nd",{"$f":"$B$7*0.18","v":2.16},{"$f":"$C$7*0.18","v":1.2959999999999998},{"$f":"$D$7*0.18","v":0.8640000000000001},"è",0.18]
["3rd",{"$f":"$B$7*0.15","v":1.7999999999999998},{"$f":"$C$7*0.15","v":1.0799999999999998},{"$f":"$D$7*0.15","v":0.72000000000000008},"è",0.15]
["4th",{"$f":"$B$7*0.12","v":1.44},{"$f":"$C$7*0.12","v":0.86399999999999988},{"$f":"$D$7*0.12","v":0.57600000000000007},"è",0.12]
["5th",{"$f":"$B$7*0.1","v":1.2000000000000002},{"$f":"$C$7*0.1","v":0.72},{"$f":"$D$7*0.1","v":0.48000000000000009},"è",0.1]
["6th",{"$f":"$B$7*0.08","v":0.96},{"$f":"$C$7*0.08","v":0.57599999999999996},{"$f":"$D$7*0.08","v":0.38400000000000006},"è",0.08]
["7th",{"$f":"$B$7*0.07","v":0.84000000000000008},{"$f":"$C$7*0.07","v":0.504},{"$f":"$D$7*0.07","v":0.33600000000000008},"è",7.0000000000000007E-2]
["8th",{"$f":"$B$7*0.06","v":0.72},{"$f":"$C$7*0.06","v":0.43199999999999994},{"$f":"$D$7*0.06","v":0.28800000000000003},"è",0.06]
["Totals",{"$f":"SUM(B68:B75)","v":12.000000000000002},{"$f":"SUM(C68:C75)","v":7.1999999999999993},{"$f":"SUM(D68:D75)","v":4.8000000000000007},{"$f":"SUM(B76:D76)","v":24.000000000000004},{"$f":"SUM(F68:F75)","v":1}]

{"sheet":"4D Payout BBR","index":13,"n_rows":172,"n_cols":7,"rows_kept":172,"cut":false,"hidden":true,"merged":[[139,0,139,6],[140,5,140,6],[79,0,79,6],[80,0,80,6],[81,5,81,6],[96,0,96,6],[97,5,97,6],[95,0,95,6],[114,0,114,6],[115,0,115,6],[55,5,55,6],[65,0,65,6],[66,0,66,6],[116,5,116,6],[138,0,138,6],[0,0,0,6],[3,0,3,6],[5,5,6,5],[5,6,7,6],[8,0,8,6],[9,0,9,6],[10,5,10,6],[13,0,13,6],[14,0,14,6],[20,0,20,6],[172,0,172,5],[21,5,21,6],[15,5,15,6],[27,0,27,6],[45,5,45,6],[54,0,54,6],[28,5,28,6],[35,0,35,6],[36,5,36,6],[44,0,44,6],[19,0,19,6],[67,5,67,6],[53,0,53,6],[43,0,43,6],[34,0,34,6],[26,0,26,6]]}
["4D Payout BBR"]
["Entry Fee","# Entries","% Payback","$ From Entry","Added $","Total Payout"]
[40,200,0.8,{"$f":"$A$3*$C$3*$B$3","v":6400},1100,{"$f":"($A$3*$C$3)*$B$3+$E$3","v":7500}]
[]
["% in each D",0.35,0.3,0.2,0.15,"Total % Payout",{"$f":"SUM(B5:E5)","v":0.99999999999999989}]
[null,"1D","2D","3D","4D"]
[null,{"$f":"(($A$3*$B$3*$C$3*0.35)+($E$3/4))","v":2515},{"$f":"(($A$3*$B$3*$C$3*0.3)+($E$3/4))","v":2195},{"$f":"(($A$3*$B$3*$C$3*0.2)+($E$3/4))","v":1555},{"$f":"(($A$3*$B$3*$C$3*0.15)+($E$3/4))","v":1235}]
["Totals",{"$f":"SUM(B7)","v":2515},{"$f":"SUM(C7)","v":2195},1555,1235,{"$f":"SUM(B8:E8)","v":7500}]
[]
["For 1-16 riders 1 place"]
["Placings","1D","2D","3D","4D"]
["1st",{"$f":"$B$7*$G$12","v":2515},{"$f":"$C$7*$G$12","v":2195},{"$f":"$D$7*$G$12","v":1555},{"$f":"$E$7*$G$12","v":1235},"è",1]
["Totals",{"$f":"SUM(B12:B12)","v":2515},{"$f":"SUM(C12:C12)","v":2195},{"$f":"SUM(D12:D12)","v":1555},{"$f":"SUM(E12:E12)","v":1235},{"$f":"SUM(B13:E13)","v":7500},{"$f":"SUM(G12)","v":1}]
[]
["For 17-33 riders 2 places"]
["Placings","1D","2D","3D","4D"]
["1st",{"$f":"$B$7*$G$17","v":1509},{"$f":"$C$7*$G$17","v":1317},{"$f":"$D$7*$G$17","v":933},{"$f":"$E$7*$G$17","v":741},"è",0.6]
["2nd",{"$f":"$B$7*$G$18","v":1006},{"$f":"$C$7*$G$18","v":878},{"$f":"$D$7*$G$18","v":622},{"$f":"$E$7*$G$18","v":494},"è",0.4]
["Totals",{"$f":"SUM(B17:B18)","v":2515},{"$f":"SUM(C17:C18)","v":2195},{"$f":"SUM(D17:D18)","v":1555},{"$f":"SUM(E17:E18)","v":1235},{"$f":"SUM(B19:E19)","v":7500},{"$f":"SUM(G17:G18)","v":1}]
[]
["For 34-66 riders 3 places"]
["Placings","1D","2D","3D","4D"]
["1st",{"$f":"$B$7*$G$23","v":1257.5},{"$f":"$C$7*$G$23","v":1097.5},{"$f":"$D$7*$G$23","v":777.5},{"$f":"$E$7*$G$23","v":617.5},"è",0.5]
["2nd",{"$f":"$B$7*$G$24","v":754.5},{"$f":"$C$7*$G$24","v":658.5},{"$f":"$D$7*$G$24","v":466.5},{"$f":"$E$7*$G$24","v":370.5},"è",0.3]
["3rd",{"$f":"$B$7*$G$25","v":503},{"$f":"$C$7*$G$25","v":439},{"$f":"$D$7*$G$25","v":311},{"$f":"$E$7*$G$25","v":247},"è",0.2]
["Totals",{"$f":"SUM(B23:B25)","v":2515},{"$f":"SUM(C23:C25)","v":2195},{"$f":"SUM(D23:D25)","v":1555},{"$f":"SUM(E23:E25)","v":1235},{"$f":"SUM(B26:E26)","v":7500},{"$f":"SUM(G23:G25)","v":1}]
[]
["For 97-95 riders 4 places"]
["Placings","1D","2D","3D","4D"]
["1st",{"$f":"$B$7*$G$30","v":1006},{"$f":"$C$7*$G$30","v":878},{"$f":"$D$7*$G$30","v":622},{"$f":"$E$7*$G$30","v":494},"è",0.4]
["2nd",{"$f":"$B$7*$G$31","v":754.5},{"$f":"$C$7*$G$31","v":658.5},{"$f":"$D$7*$G$31","v":466.5},{"$f":"$E$7*$G$31","v":370.5},"è",0.3]
["3rd",{"$f":"$B$7*$G$32","v":503},{"$f":"$C$7*$G$32","v":439},{"$f":"$D$7*$G$32","v":311},{"$f":"$E$7*$G$32","v":247},"è",0.2]
["4th",{"$f":"$B$7*$G$33","v":251.5},{"$f":"$C$7*$G$33","v":219.5},{"$f":"$D$7*$G$33","v":155.5},{"$f":"$E$7*$G$33","v":123.5},"è",0.1]
["Totals",{"$f":"SUM(B30:B33)","v":2515},{"$f":"SUM(C30:C33)","v":2195},{"$f":"SUM(D30:D33)","v":1555},{"$f":"SUM(E30:E33)","v":1235},{"$f":"SUM(B34:E34)","v":7500},{"$f":"SUM(G30:G33)","v":0.99999999999999989}]
[]
["For 96-133 riders 5 places"]
["Placings","1D","2D","3D","4D"]
["1st",{"$f":"$B$7*$G$38","v":829.95},{"$f":"$C$7*$G$38","v":724.35},{"$f":"$D$7*G38","v":513.15},{"$f":"$E$7*$G$38","v":407.55},"è",0.33]
["2nd",{"$f":"$B$7*$G$39","v":679.05000000000007},{"$f":"$C$7*$G$39","v":592.65000000000009},{"$f":"$D$7*$G$39","v":419.85},{"$f":"$E$7*$G$39","v":333.45000000000005},"è",0.27]
["3rd",{"$f":"$B$7*$G$40","v":503},{"$f":"$C$7*$G$40","v":439},{"$f":"$D$7*$G$40","v":311},{"$f":"$E$7*$G$40","v":247},"è",0.2]
["4th",{"$f":"$B$7*$G$41","v":326.95},{"$f":"$C$7*$G$41","v":285.35000000000002},{"$f":"$D$7*$G$41","v":202.15},{"$f":"$E$7*$G$41","v":160.55000000000001},"è",0.13]
["5th",{"$f":"$B$7*$G$42","v":176.05},{"$f":"$C$7*$G$42","v":153.65},{"$f":"$D$7*$G$42","v":108.85000000000001},{"$f":"$E$7*$G$42","v":86.45},"è",7.0000000000000007E-2]
["Totals",{"$f":"SUM(B38:B42)","v":2515},{"$f":"SUM(C38:C42)","v":2195},{"$f":"SUM(D38:D42)","v":1555},{"$f":"SUM(E38:E42)","v":1235},{"$f":"SUM(B43:E43)","v":7500},{"$f":"SUM(G38:G42)","v":1}]
[]
["For 134-166 riders 6 places"]
["Placings","1D","2D","3D","4D"]
["1st",{"$f":"$B$7*$G$47","v":729.34999999999991},{"$f":"$C$7*$G$47","v":636.54999999999995},{"$f":"$D$7*$G$47","v":450.95},{"$f":"$E$7*$G$47","v":358.15},"è",0.28999999999999998]
["2nd",{"$f":"$B$7*$G$48","v":603.6},{"$f":"$C$7*$G$48","v":526.79999999999995},{"$f":"$D$7*$G$48","v":373.2},{"$f":"$E$7*$G$48","v":296.39999999999998},"è",0.24]
["3rd",{"$f":"$B$7*$G$49","v":477.85},{"$f":"$C$7*$G$49","v":417.05},{"$f":"$D$7*$G$49","v":295.45},{"$f":"$E$7*$G$49","v":234.65},"è",0.19]
["4th",{"$f":"$B$7*$G$50","v":352.1},{"$f":"$C$7*$G$50","v":307.3},{"$f":"$D$7*$G$50","v":217.70000000000002},{"$f":"$E$7*$G$50","v":172.9},"è",0.14000000000000001]
["5th",{"$f":"$B$7*$G$51","v":226.35},{"$f":"$C$7*$G$51","v":197.54999999999998},{"$f":"$D$7*$G$51","v":139.94999999999999},{"$f":"$E$7*$G$51","v":111.14999999999999},"è",0.09]
["6th",{"$f":"$B$7*$G$52","v":125.75},{"$f":"$C$7*$G$52","v":109.75},{"$f":"$D$7*$G$52","v":77.75},{"$f":"$E$7*$G$52","v":61.75},"è",0.05]
["Totals",{"$f":"SUM(B47:B52)","v":2514.9999999999995},{"$f":"SUM(C47:C52)","v":2195},{"$f":"SUM(D47:D52)","v":1555},{"$f":"SUM(E47:E52)","v":1235},{"$f":"SUM(B53:E53)","v":7500},{"$f":"SUM(G47:G52)","v":1}]
[]
["For 167-222 riders 8 places"]
["Placings","1D","2D","3D","4D"]
["1st",{"$f":"$B$7*$G$57","v":603.6},{"$f":"$C$7*$G$57","v":526.79999999999995},{"$f":"$D$7*$G$57","v":373.2},{"$f":"$E$7*$G$57","v":296.39999999999998},"è",0.24]
["2nd",{"$f":"$B$7*$G$58","v":503},{"$f":"$C$7*$G$58","v":439},{"$f":"$D$7*$G$58","v":311},{"$f":"$E$7*$G$58","v":247},"è",0.2]
["3rd",{"$f":"$B$7*$G$59","v":427.55},{"$f":"$C$7*$G$59","v":373.15000000000003},{"$f":"$D$7*$G$59","v":264.35000000000002},{"$f":"$E$7*$G$59","v":209.95000000000002},"è",0.17]
["4th",{"$f":"$B$7*$G$60","v":326.95},{"$f":"$C$7*$G$60","v":285.35000000000002},{"$f":"$D$7*$G$60","v":202.15},{"$f":"$E$7*$G$60","v":160.55000000000001},"è",0.13]
["5th",{"$f":"$B$7*$G$61","v":251.5},{"$f":"$C$7*$G$61","v":219.5},{"$f":"$D$7*$G$61","v":155.5},{"$f":"$E$7*$G$61","v":123.5},"è",0.1]
["6th",{"$f":"$B$7*$G$62","v":176.05},{"$f":"$C$7*$G$62","v":153.65},{"$f":"$D$7*$G$62","v":108.85000000000001},{"$f":"$E$7*$G$62","v":86.45},"è",7.0000000000000007E-2]
["7th",{"$f":"$B$7*$G$63","v":125.75},{"$f":"$C$7*$G$63","v":109.75},{"$f":"$D$7*$G$63","v":77.75},{"$f":"$E$7*$G$63","v":61.75},"è",0.05]
["8th",{"$f":"$B$7*$G$64","v":100.60000000000001},{"$f":"$C$7*$G$64","v":87.8},{"$f":"$D$7*$G$64","v":62.2},{"$f":"$E$7*$G$64","v":49.4},"è",0.04]
["Totals",{"$f":"SUM(B57:B64)","v":2515},{"$f":"SUM(C57:C64)","v":2195.0000000000005},{"$f":"SUM(D57:D64)","v":1555},{"$f":"SUM(E57:E64)","v":1235.0000000000002},{"$f":"SUM(B65:E65)","v":7500},{"$f":"SUM(G57:G64)","v":1}]
[]
["For 223-333 riders 10 places"]
["Placings","1D","2D","3D","4D"]
["1st",{"$f":"$B$7*$G$69","v":528.15},{"$f":"$C$7*$G$69","v":460.95},{"$f":"$D$7*$G$69","v":326.55},{"$f":"$E$7*$G$69","v":259.34999999999997},"è",0.21]
["2nd",{"$f":"$B$7*$G$70","v":452.7},{"$f":"$C$7*$G$70","v":395.09999999999997},{"$f":"$D$7*$G$70","v":279.89999999999998},{"$f":"$E$7*$G$70","v":222.29999999999998},"è",0.18]
["3rd",{"$f":"$B$7*$G$71","v":377.25},{"$f":"$C$7*$G$71","v":329.25},{"$f":"$D$7*$G$71","v":233.25},{"$f":"$E$7*$G$71","v":185.25},"è",0.15]
["4th",{"$f":"$B$7*$G$72","v":301.8},{"$f":"$C$7*$G$72","v":263.39999999999998},{"$f":"$D$7*$G$72","v":186.6},{"$f":"$E$7*$G$72","v":148.19999999999999},"è",0.12]
["5th",{"$f":"$B$7*$G$73","v":226.35},{"$f":"$C$7*$G$73","v":197.54999999999998},{"$f":"$D$7*$G$73","v":139.94999999999999},{"$f":"$E$7*$G$73","v":111.14999999999999},"è",0.09]
["6th",{"$f":"$B$7*$G$74","v":176.05},{"$f":"$C$7*$G$74","v":153.65},{"$f":"$D$7*$G$74","v":108.85000000000001},{"$f":"$E$7*$G$74","v":86.45},"è",7.0000000000000007E-2]
["7th",{"$f":"$B$7*$G$75","v":150.9},{"$f":"$C$7*$G$75","v":131.69999999999999},{"$f":"$D$7*$G$75","v":93.3},{"$f":"$E$7*$G$75","v":74.099999999999994},"è",0.06]
["8th",{"$f":"$B$7*$G$76","v":125.75},{"$f":"$C$7*$G$76","v":109.75},{"$f":"$D$7*$G$76","v":77.75},{"$f":"$E$7*$G$76","v":61.75},"è",0.05]
["9th",{"$f":"$B$7*$G$77","v":100.60000000000001},{"$f":"$C$7*$G$77","v":87.8},{"$f":"$D$7*$G$77","v":62.2},{"$f":"$E$7*$G$77","v":49.4},"è",0.04]
["10th",{"$f":"$B$7*$G$78","v":75.45},{"$f":"$C$7*$G$78","v":65.849999999999994},{"$f":"$D$7*$G$78","v":46.65},{"$f":"$E$7*$G$78","v":37.049999999999997},"è",0.03]
["Totals",{"$f":"SUM(B69:B78)","v":2514.9999999999995},{"$f":"SUM(C69:C78)","v":2195},{"$f":"SUM(D69:D78)","v":1555},{"$f":"SUM(E69:E78)","v":1235},{"$f":"B79+C79+D79+E79","v":7500},{"$f":"SUM(G69:G78)","v":1.0000000000000002}]
[]
["For 334-500 riders 12 places"]
["Placings","1D","2D","3D","4D"]
["1st",{"$f":"$B$7*$G$83","v":477.85},{"$f":"$C$7*$G$83","v":417.05},{"$f":"$D$7*$G$83","v":295.45},{"$f":"$E$7*$G$83","v":234.65},"è",0.19]
["2nd",{"$f":"$B$7*$G$84","v":377.25},{"$f":"$C$7*$G$84","v":329.25},{"$f":"$D$7*$G$84","v":233.25},{"$f":"$E$7*$G$84","v":185.25},"è",0.15]
["3rd",{"$f":"$B$7*$G$85","v":301.8},{"$f":"$C$7*$G$85","v":263.39999999999998},{"$f":"$D$7*$G$85","v":186.6},{"$f":"$E$7*$G$85","v":148.19999999999999},"è",0.12]
["4th",{"$f":"$B$7*$G$86","v":251.5},{"$f":"$C$7*$G$86","v":219.5},{"$f":"$D$7*$G$86","v":155.5},{"$f":"$E$7*$G$86","v":123.5},"è",0.1]
["5th",{"$f":"$B$7*$G$87","v":226.35},{"$f":"$C$7*$G$87","v":197.54999999999998},{"$f":"$D$7*$G$87","v":139.94999999999999},{"$f":"$E$7*$G$87","v":111.14999999999999},"è",0.09]
["6th",{"$f":"$B$7*$G$88","v":201.20000000000002},{"$f":"$C$7*$G$88","v":175.6},{"$f":"$D$7*$G$88","v":124.4},{"$f":"$E$7*$G$88","v":98.8},"è",0.08]
["7th",{"$f":"$B$7*$G$89","v":176.05},{"$f":"$C$7*$G$89","v":153.65},{"$f":"$D$7*$G$89","v":108.85000000000001},{"$f":"$E$7*$G$89","v":86.45},"è",7.0000000000000007E-2]
["8th",{"$f":"$B$7*$G$90","v":150.9},{"$f":"$C$7*$G$90","v":131.69999999999999},{"$f":"$D$7*$G$90","v":93.3},{"$f":"$E$7*$G$90","v":74.099999999999994},"è",0.06]
["9th",{"$f":"$B$7*$G$91","v":125.75},{"$f":"$C$7*$G$91","v":109.75},{"$f":"$D$7*$G$91","v":77.75},{"$f":"$E$7*$G$91","v":61.75},"è",0.05]
["10th",{"$f":"$B$7*$G$92","v":100.60000000000001},{"$f":"$C$7*$G$92","v":87.8},{"$f":"$D$7*$G$92","v":62.2},{"$f":"$E$7*$G$92","v":49.4},"è",0.04]
["11th",{"$f":"$B$7*$G$93","v":75.45},{"$f":"$C$7*$G$93","v":65.849999999999994},{"$f":"$D$7*$G$93","v":46.65},{"$f":"$E$7*$G$93","v":37.049999999999997},"è",0.03]
["12th",{"$f":"$B$7*$G$94","v":50.300000000000004},{"$f":"$C$7*$G$94","v":43.9},{"$f":"$D$7*$G$94","v":31.1},{"$f":"$E$7*$G$94","v":24.7},"è",0.02]
["Totals",{"$f":"SUM(B83:B94)","v":2515},{"$f":"SUM(C83:C94)","v":2195},1555,1235,{"$f":"B95+C95+D95+E95","v":7500},{"$f":"SUM(G83:G94)","v":1}]
[]
["For 501-750 riders 15 places"]
["Placings","1D","2D","3D","4D"]
["1st",{"$f":"$B$7*$G$99","v":452.7},{"$f":"$C$7*$G$99","v":395.09999999999997},{"$f":"$D$7*$G$99","v":279.89999999999998},{"$f":"$E$7*$G$99","v":222.29999999999998},"è",0.18]
["2nd",{"$f":"$B$7*$G$100","v":377.25},{"$f":"$C$7*$G$100","v":329.25},{"$f":"$D$7*$G$100","v":233.25},{"$f":"$E$7*$G$100","v":185.25},"è",0.15]
["3rd",{"$f":"$B$7*$G$101","v":301.8},{"$f":"$C$7*$G$101","v":263.39999999999998},{"$f":"$D$7*$G$101","v":186.6},{"$f":"$E$7*$G$101","v":148.19999999999999},"è",0.12]
["4th",{"$f":"$B$7*$G$102","v":251.5},{"$f":"$C$7*$G$102","v":219.5},{"$f":"$D$7*$G$102","v":155.5},{"$f":"$E$7*$G$102","v":123.5},"è",0.1]
["5th",{"$f":"$B$7*$G$103","v":213.77500000000001},{"$f":"$C$7*$G$103","v":186.57500000000002},{"$f":"$D$7*$G$103","v":132.17500000000001},{"$f":"$E$7*$G$103","v":104.97500000000001},"è",8.5000000000000006E-2]
["6th",{"$f":"$B$7*$G$104","v":176.05},{"$f":"$C$7*$G$104","v":153.65},{"$f":"$D$7*$G$104","v":108.85000000000001},{"$f":"$E$7*$G$104","v":86.45},"è",7.0000000000000007E-2]
["7th",{"$f":"$B$7*$G$105","v":150.9},{"$f":"$C$7*$G$105","v":131.69999999999999},{"$f":"$D$7*$G$105","v":93.3},{"$f":"$E$7*$G$105","v":74.099999999999994},"è",0.06]
["8th",{"$f":"$B$7*$G$106","v":125.75},{"$f":"$C$7*$G$106","v":109.75},{"$f":"$D$7*$G$106","v":77.75},{"$f":"$E$7*$G$106","v":61.75},"è",0.05]
["9th",{"$f":"$B$7*$G$107","v":106.8875},{"$f":"$C$7*$G$107","v":93.287500000000009},{"$f":"$D$7*$G$107","v":66.087500000000006},{"$f":"$E$7*$G$107","v":52.487500000000004},"è",4.2500000000000003E-2]
["10th",{"$f":"$B$7*$G$108","v":88.025000000000006},{"$f":"$C$7*$G$108","v":76.825000000000003},{"$f":"$D$7*$G$108","v":54.425000000000004},{"$f":"$E$7*$G$108","v":43.225000000000001},"è",3.5000000000000003E-2]
["11th",{"$f":"$B$7*$G$109","v":75.45},{"$f":"$C$7*$G$109","v":65.849999999999994},{"$f":"$D$7*$G$109","v":46.65},{"$f":"$E$7*$G$109","v":37.049999999999997},"è",0.03]
["12th",{"$f":"$B$7*$G$110","v":62.875},{"$f":"$C$7*$G$110","v":54.875},{"$f":"$D$7*$G$110","v":38.875},{"$f":"$E$7*$G$110","v":30.875},"è",2.5000000000000001E-2]
["13th",{"$f":"$B$7*$G$111","v":50.300000000000004},{"$f":"$C$7*$G$111","v":43.9},{"$f":"$D$7*$G$111","v":31.1},{"$f":"$E$7*$G$111","v":24.7},"è",0.02]
["14th",{"$f":"$B$7*$G$112","v":44.012500000000003},{"$f":"$C$7*$G$112","v":38.412500000000001},{"$f":"$D$7*$G$112","v":27.212500000000002},{"$f":"$E$7*$G$112","v":21.612500000000001},"è",1.7500000000000002E-2]
["15th",{"$f":"$B$7*$G$113","v":37.725000000000001},{"$f":"$C$7*$G$113","v":32.924999999999997},{"$f":"$D$7*$G$113","v":23.324999999999999},{"$f":"$E$7*$G$113","v":18.524999999999999},"è",1.4999999999999999E-2]
["Totals",{"$f":"SUM(B99:B113)","v":2515},{"$f":"SUM(C99:C113)","v":2195},1555,1235,{"$f":"B114+C114+D114+E114","v":7500},{"$f":"SUM(G99:G113)","v":1}]
[]
["For 751-1200 riders 20 places"]
["Placings","1D","2D","3D","4D"]
["1st",{"$f":"$B$7*$G$118","v":352.1},{"$f":"$C$7*$G$118","v":307.3},{"$f":"$D$7*$G$118","v":217.70000000000002},{"$f":"$E$7*$G$118","v":172.9},"è",0.14000000000000001]
["2nd",{"$f":"$B$7*$G$119","v":276.64999999999998},{"$f":"$C$7*$G$119","v":241.45},{"$f":"$D$7*$G$119","v":171.05},{"$f":"$E$7*$G$119","v":135.85},"è",0.11]
["3rd",{"$f":"$B$7*$G$120","v":226.35},{"$f":"$C$7*$G$120","v":197.54999999999998},{"$f":"$D$7*$G$120","v":139.94999999999999},{"$f":"$E$7*$G$120","v":111.14999999999999},"è",0.09]
["4th",{"$f":"$B$7*$G$121","v":193.655},{"$f":"$C$7*$G$121","v":169.01499999999999},{"$f":"$D$7*$G$121","v":119.735},{"$f":"$E$7*$G$121","v":95.094999999999999},"è",7.6999999999999999E-2]
["5th",{"$f":"$B$7*$G$122","v":176.05},{"$f":"$C$7*$G$122","v":153.65},{"$f":"$D$7*$G$122","v":108.85000000000001},{"$f":"$E$7*$G$122","v":86.45},"è",7.0000000000000007E-2]
["6th",{"$f":"$B$7*$G$123","v":163.47499999999999},{"$f":"$C$7*$G$123","v":142.67500000000001},{"$f":"$D$7*$G$123","v":101.075},{"$f":"$E$7*$G$123","v":80.275000000000006},"è",6.5000000000000002E-2]
["7th",{"$f":"$B$7*$G$124","v":150.9},{"$f":"$C$7*$G$124","v":131.69999999999999},{"$f":"$D$7*$G$124","v":93.3},{"$f":"$E$7*$G$124","v":74.099999999999994},"è",0.06]
["8th",{"$f":"$B$7*$G$125","v":138.32499999999999},{"$f":"$C$7*$G$125","v":120.72499999999999},{"$f":"$D$7*$G$125","v":85.525000000000006},{"$f":"$E$7*$G$125","v":67.924999999999997},"è",5.5E-2]
["9th",{"$f":"$B$7*$G$126","v":125.75},{"$f":"$C$7*$G$126","v":109.75},{"$f":"$D$7*$G$126","v":77.75},{"$f":"$E$7*$G$126","v":61.75},"è",0.05]
["10th",{"$f":"$B$7*$G$127","v":113.175},{"$f":"$C$7*$G$127","v":98.774999999999991},{"$f":"$D$7*$G$127","v":69.974999999999994},{"$f":"$E$7*$G$127","v":55.574999999999996},"è",4.4999999999999998E-2]
["11th",{"$f":"$B$7*$G$128","v":100.60000000000001},{"$f":"$C$7*$G$128","v":87.8},{"$f":"$D$7*$G$128","v":62.2},{"$f":"$E$7*$G$128","v":49.4},"è",0.04]
["12th",{"$f":"$B$7*$G$129","v":93.054999999999993},{"$f":"$C$7*$G$129","v":81.214999999999989},{"$f":"$D$7*$G$129","v":57.534999999999997},{"$f":"$E$7*$G$129","v":45.695},"è",3.6999999999999998E-2]
["13th",{"$f":"$B$7*$G$130","v":82.995000000000005},{"$f":"$C$7*$G$130","v":72.435000000000002},{"$f":"$D$7*$G$130","v":51.315000000000005},{"$f":"$E$7*$G$130","v":40.755000000000003},"è",3.3000000000000002E-2]
["14th",{"$f":"$B$7*$G$131","v":72.935000000000002},{"$f":"$C$7*$G$131","v":63.655000000000001},{"$f":"$D$7*$G$131","v":45.094999999999999},{"$f":"$E$7*$G$131","v":35.815000000000005},"è",2.9000000000000001E-2]
["15th",{"$f":"$B$7*$G$132","v":62.875},{"$f":"$C$7*$G$132","v":54.875},{"$f":"$D$7*$G$132","v":38.875},{"$f":"$E$7*$G$132","v":30.875},"è",2.5000000000000001E-2]
["16th",{"$f":"$B$7*$G$133","v":52.815000000000005},{"$f":"$C$7*$G$133","v":46.095000000000006},{"$f":"$D$7*$G$133","v":32.655000000000001},{"$f":"$E$7*$G$133","v":25.935000000000002},"è",2.1000000000000001E-2]
["17th",{"$f":"$B$7*$G$134","v":42.755000000000003},{"$f":"$C$7*$G$134","v":37.315000000000005},{"$f":"$D$7*$G$134","v":26.435000000000002},{"$f":"$E$7*$G$134","v":20.995000000000001},"è",1.7000000000000001E-2]
["18th",{"$f":"$B$7*$G$135","v":35.21},{"$f":"$C$7*$G$135","v":30.73},{"$f":"$D$7*$G$135","v":21.77},{"$f":"$E$7*$G$135","v":17.29},"è",1.4E-2]
["19th",{"$f":"$B$7*$G$136","v":30.18},{"$f":"$C$7*$G$136","v":26.34},{"$f":"$D$7*$G$136","v":18.66},{"$f":"$E$7*$G$136","v":14.82},"è",1.2E-2]
["20th",{"$f":"$B$7*$G$137","v":25.150000000000002},{"$f":"$C$7*$G$137","v":21.95},{"$f":"$D$7*$G$137","v":15.55},{"$f":"$E$7*$G$137","v":12.35},"è",0.01]
["Totals",{"$f":"SUM(B118:B137)","v":2515},{"$f":"SUM(C118:C137)","v":2194.9999999999995},1555.0000000000002,1234.9999999999998,{"$f":"B138+C138+D138+E138","v":7500},{"$f":"SUM(G118:G137)","v":1.0000000000000004}]
[]
["For 1201 or More riders 30 places"]
["Placings","1D","2D","3D","4D"]
["1st",{"$f":"$B$7*$G$142","v":301.8},{"$f":"$C$7*$G$142","v":263.39999999999998},{"$f":"$D$7*$G$142","v":186.6},{"$f":"$E$7*$G$142","v":148.19999999999999},"è",0.12]
["2nd",{"$f":"$B$7*$G$143","v":238.92500000000001},{"$f":"$C$7*$G$143","v":208.52500000000001},{"$f":"$D$7*$G$143","v":147.72499999999999},{"$f":"$E$7*$G$143","v":117.325},"è",9.5000000000000001E-2]
["3rd",{"$f":"$B$7*$G$144","v":183.595},{"$f":"$C$7*$G$144","v":160.23499999999999},{"$f":"$D$7*$G$144","v":113.51499999999999},{"$f":"$E$7*$G$144","v":90.155000000000001},"è",7.2999999999999995E-2]
["4th",{"$f":"$B$7*$G$145","v":155.93},{"$f":"$C$7*$G$145","v":136.09},{"$f":"$D$7*$G$145","v":96.41},{"$f":"$E$7*$G$145","v":76.569999999999993},"è",6.2E-2]
["5th",{"$f":"$B$7*$G$146","v":125.75},{"$f":"$C$7*$G$146","v":109.75},{"$f":"$D$7*$G$146","v":77.75},{"$f":"$E$7*$G$146","v":61.75},"è",0.05]
["6th",{"$f":"$B$7*$G$147","v":113.175},{"$f":"$C$7*$G$147","v":98.774999999999991},{"$f":"$D$7*$G$147","v":69.974999999999994},{"$f":"$E$7*$G$147","v":55.574999999999996},"è",4.4999999999999998E-2]
["7th",{"$f":"$B$7*$G$148","v":108.145},{"$f":"$C$7*$G$148","v":94.384999999999991},{"$f":"$D$7*$G$148","v":66.864999999999995},{"$f":"$E$7*$G$148","v":53.104999999999997},"è",4.2999999999999997E-2]
["8th",{"$f":"$B$7*$G$149","v":100.60000000000001},{"$f":"$C$7*$G$149","v":87.8},{"$f":"$D$7*$G$149","v":62.2},{"$f":"$E$7*$G$149","v":49.4},"è",0.04]
["9th",{"$f":"$B$7*$G$150","v":93.054999999999993},{"$f":"$C$7*$G$150","v":81.214999999999989},{"$f":"$D$7*$G$150","v":57.534999999999997},{"$f":"$E$7*$G$150","v":45.695},"è",3.6999999999999998E-2]
["10th",{"$f":"$B$7*$G$151","v":88.025000000000006},{"$f":"$C$7*$G$151","v":76.825000000000003},{"$f":"$D$7*$G$151","v":54.425000000000004},{"$f":"$E$7*$G$151","v":43.225000000000001},"è",3.5000000000000003E-2]
["11th",{"$f":"$B$7*$G$152","v":82.995000000000005},{"$f":"$C$7*$G$152","v":72.435000000000002},{"$f":"$D$7*$G$152","v":51.315000000000005},{"$f":"$E$7*$G$152","v":40.755000000000003},"è",3.3000000000000002E-2]
["12th",{"$f":"$B$7*$G$153","v":77.965000000000003},{"$f":"$C$7*$G$153","v":68.045000000000002},{"$f":"$D$7*$G$153","v":48.204999999999998},{"$f":"$E$7*$G$153","v":38.284999999999997},"è",3.1E-2]
["13th",{"$f":"$B$7*$G$154","v":72.935000000000002},{"$f":"$C$7*$G$154","v":63.655000000000001},{"$f":"$D$7*$G$154","v":45.094999999999999},{"$f":"$E$7*$G$154","v":35.815000000000005},"è",2.9000000000000001E-2]
["14th",{"$f":"$B$7*$G$155","v":67.905000000000001},{"$f":"$C$7*$G$155","v":59.265000000000001},{"$f":"$D$7*$G$155","v":41.984999999999999},{"$f":"$E$7*$G$155","v":33.344999999999999},"è",2.7E-2]
["15th",{"$f":"$B$7*$G$156","v":62.875},{"$f":"$C$7*$G$156","v":54.875},{"$f":"$D$7*$G$156","v":38.875},{"$f":"$E$7*$G$156","v":30.875},"è",2.5000000000000001E-2]
["16th",{"$f":"$B$7*$G$157","v":60.36},{"$f":"$C$7*$G$157","v":52.68},{"$f":"$D$7*$G$157","v":37.32},{"$f":"$E$7*$G$157","v":29.64},"è",2.4E-2]
["17th",{"$f":"$B$7*$G$158","v":57.844999999999999},{"$f":"$C$7*$G$158","v":50.484999999999999},{"$f":"$D$7*$G$158","v":35.765000000000001},{"$f":"$E$7*$G$158","v":28.405000000000001},"è",2.3E-2]
["18th",{"$f":"$B$7*$G$159","v":55.33},{"$f":"$C$7*$G$159","v":48.29},{"$f":"$D$7*$G$159","v":34.21},{"$f":"$E$7*$G$159","v":27.169999999999998},"è",2.1999999999999999E-2]
["19th",{"$f":"$B$7*$G$160","v":52.815000000000005},{"$f":"$C$7*$G$160","v":46.095000000000006},{"$f":"$D$7*$G$160","v":32.655000000000001},{"$f":"$E$7*$G$160","v":25.935000000000002},"è",2.1000000000000001E-2]
["20th",{"$f":"$B$7*$G$161","v":50.300000000000004},{"$f":"$C$7*$G$161","v":43.9},{"$f":"$D$7*$G$161","v":31.1},{"$f":"$E$7*$G$161","v":24.7},"è",0.02]
["21st",{"$f":"$B$7*$G$162","v":47.784999999999997},{"$f":"$C$7*$G$162","v":41.704999999999998},{"$f":"$D$7*$G$162","v":29.544999999999998},{"$f":"$E$7*$G$162","v":23.465},"è",1.9E-2]
["22nd",{"$f":"$B$7*$G$163","v":45.269999999999996},{"$f":"$C$7*$G$163","v":39.51},{"$f":"$D$7*$G$163","v":27.99},{"$f":"$E$7*$G$163","v":22.229999999999997},"è",1.7999999999999999E-2]
["23rd",{"$f":"$B$7*$G$164","v":42.755000000000003},{"$f":"$C$7*$G$164","v":37.315000000000005},{"$f":"$D$7*$G$164","v":26.435000000000002},{"$f":"$E$7*$G$164","v":20.995000000000001},"è",1.7000000000000001E-2]
["24th",{"$f":"$B$7*$G$165","v":40.24},{"$f":"$C$7*$G$165","v":35.119999999999997},{"$f":"$D$7*$G$165","v":24.88},{"$f":"$E$7*$G$165","v":19.760000000000002},"è",1.6E-2]
["25th",{"$f":"$B$7*$G$166","v":37.725000000000001},{"$f":"$C$7*$G$166","v":32.924999999999997},{"$f":"$D$7*$G$166","v":23.324999999999999},{"$f":"$E$7*$G$166","v":18.524999999999999},"è",1.4999999999999999E-2]
["26th",{"$f":"$B$7*$G$167","v":35.21},{"$f":"$C$7*$G$167","v":30.73},{"$f":"$D$7*$G$167","v":21.77},{"$f":"$E$7*$G$167","v":17.29},"è",1.4E-2]
["27th",{"$f":"$B$7*$G$168","v":32.695},{"$f":"$C$7*$G$168","v":28.535},{"$f":"$D$7*$G$168","v":20.215},{"$f":"$E$7*$G$168","v":16.055},"è",1.2999999999999999E-2]
["28th",{"$f":"$B$7*$G$169","v":30.18},{"$f":"$C$7*$G$169","v":26.34},{"$f":"$D$7*$G$169","v":18.66},{"$f":"$E$7*$G$169","v":14.82},"è",1.2E-2]
["29th",{"$f":"$B$7*$G$170","v":27.664999999999999},{"$f":"$C$7*$G$170","v":24.145},{"$f":"$D$7*$G$170","v":17.105},{"$f":"$E$7*$G$170","v":13.584999999999999},"è",1.0999999999999999E-2]
["30th",{"$f":"$B$7*$G$171","v":25.150000000000002},{"$f":"$C$7*$G$171","v":21.95},{"$f":"$D$7*$G$171","v":15.55},{"$f":"$E$7*$G$171","v":12.35},"è",0.01]
["Totals",{"$f":"SUM(B142:B171)","v":2514.9999999999995},{"$f":"SUM(C142:C171)","v":2194.9999999999995},{"$f":"SUM(D142:D171)","v":1555},{"$f":"SUM(E142:E171)","v":1234.9999999999998},{"$f":"B172+C172+D172+E172","v":7499.9999999999991},{"$f":"SUM(G142:G171)","v":1.0000000000000002}]

{"sheet":"5D Payout BBR","index":14,"n_rows":172,"n_cols":8,"rows_kept":172,"cut":false,"hidden":false,"merged":[[139,0,139,7],[80,0,80,7],[95,0,95,7],[96,0,96,7],[81,6,81,7],[97,6,97,7],[116,6,116,7],[114,0,114,7],[115,0,115,7],[65,0,65,7],[66,0,66,7],[79,0,79,7],[67,6,67,7],[138,0,138,7],[44,0,44,7],[45,6,45,7],[53,0,53,7],[54,0,54,7],[55,6,55,7],[0,0,0,7],[3,0,3,7],[8,0,8,7],[9,0,9,7],[5,6,6,6],[10,6,10,7],[13,0,13,7],[14,0,14,7],[140,6,140,7],[5,7,7,7],[15,6,15,7],[19,0,19,7],[20,0,20,7],[21,6,21,7],[26,0,26,7],[27,0,27,7],[28,6,28,7],[34,0,34,7],[35,0,35,7],[36,6,36,7],[43,0,43,7]]}
["5D Payout BBR"]
["Entry Fee","# Entries","% Payback","$ From Entry","Added $","Total Payout","Total $ Held"]
[50,368,0.8,{"$f":"$A$3*$C$3*$B$3","v":14720},2000,{"$f":"($A$3*$C$3)*$B$3+$E$3","v":16720},{"$f":"$A$3*(100%-$C$3)*$B$3","v":3679.9999999999995}]
[]
["% in each D",0.3,0.25,0.2,0.15,0.1,"Total % Payout",{"$f":"SUM(B5:F5)","v":1}]
[null,"1D","2D","3D","4D","5D"]
[null,{"$f":"(($A$3*$B$3*$C$3*$B$5)+($E$3*$B$5))","v":5016},{"$f":"(($A$3*$B$3*$C$3*$C$5)+($E$3*$C$5))","v":4180},{"$f":"(($A$3*$B$3*$C$3*$D$5)+($E$3*$D$5))","v":3344},{"$f":"(($A$3*$B$3*$C$3*$E$5)+($E$3*$E$5))","v":2508},{"$f":"(($A$3*$B$3*$C$3*$F$5)+($E$3*$F$5))","v":1672}]
["Totals",{"$f":"SUM(B7)","v":5016},{"$f":"SUM(C7)","v":4180},3344,2508,1672,{"$f":"SUM(B8:F8)","v":16720}]
[]
["For 1-25 riders 1 place"]
["Placings","1D","2D","3D","4D","5D"]
["1st",{"$f":"$B$7*$H$12","v":5016},{"$f":"$C$7*$H$12","v":4180},{"$f":"$D$7*$H$12","v":3344},{"$f":"$E$7*$H$12","v":2508},{"$f":"$F$7*$H$12","v":1672},"è",1]
["Totals",{"$f":"SUM(B12:B12)","v":5016},{"$f":"SUM(C12:C12)","v":4180},{"$f":"SUM(D12:D12)","v":3344},{"$f":"SUM(E12:E12)","v":2508},{"$f":"SUM(F12)","v":1672},{"$f":"SUM(B13:F13)","v":16720},{"$f":"SUM(H12)","v":1}]
[]
["For 26-50 riders 2 places"]
["Placings","1D","2D","3D","4D","5D"]
["1st",{"$f":"$B$7*$H$17","v":3009.6},{"$f":"$C$7*$H$17","v":2508},{"$f":"$D$7*$H$17","v":2006.3999999999999},{"$f":"$E$7*$H$17","v":1504.8},{"$f":"$F$7*$H$17","v":1003.1999999999999},"è",0.6]
["2nd",{"$f":"$B$7*$H$18","v":2006.4},{"$f":"$C$7*$H$18","v":1672},{"$f":"$D$7*$H$18","v":1337.6000000000001},{"$f":"$E$7*$H$18","v":1003.2},{"$f":"$F$7*$H$18","v":668.80000000000007},"è",0.4]
["Totals",{"$f":"SUM(B17:B18)","v":5016},{"$f":"SUM(C17:C18)","v":4180},{"$f":"SUM(D17:D18)","v":3344},{"$f":"SUM(E17:E18)","v":2508},{"$f":"SUM(F17:F18)","v":1672},{"$f":"SUM(B19:F19)","v":16720},{"$f":"SUM(H17:H18)","v":1}]
[]
["For 51-100 riders 3 places"]
["Placings","1D","2D","3D","4D","5D"]
["1st",{"$f":"$B$7*$H$23","v":2508},{"$f":"$C$7*$H$23","v":2090},{"$f":"$D$7*$H$23","v":1672},{"$f":"$E$7*$H$23","v":1254},{"$f":"$F$7*$H$23","v":836},"è",0.5]
["2nd",{"$f":"$B$7*$H$24","v":1504.8},{"$f":"$C$7*$H$24","v":1254},{"$f":"$D$7*$H$24","v":1003.1999999999999},{"$f":"$E$7*$H$24","v":752.4},{"$f":"$F$7*$H$24","v":501.59999999999997},"è",0.3]
["3rd",{"$f":"$B$7*$H$25","v":1003.2},{"$f":"$C$7*$H$25","v":836},{"$f":"$D$7*$H$25","v":668.80000000000007},{"$f":"$E$7*$H$25","v":501.6},{"$f":"$F$7*$H$25","v":334.40000000000003},"è",0.2]
["Totals",{"$f":"SUM(B23:B25)","v":5016},{"$f":"SUM(C23:C25)","v":4180},{"$f":"SUM(D23:D25)","v":3344},{"$f":"SUM(E23:E25)","v":2508},{"$f":"SUM(F23:F25)","v":1672},{"$f":"SUM(B26:F26)","v":16720},{"$f":"SUM(H23:H25)","v":1}]
[]
["For 101-143 riders 4 places"]
["Placings","1D","2D","3D","4D","5D"]
["1st",{"$f":"$B$7*$H$30","v":2006.4},{"$f":"$C$7*$H$30","v":1672},{"$f":"$D$7*$H$30","v":1337.6000000000001},{"$f":"$E$7*$H$30","v":1003.2},{"$f":"$F$7*$H$30","v":668.80000000000007},"è",0.4]
["2nd",{"$f":"$B$7*$H$31","v":1504.8},{"$f":"$C$7*$H$31","v":1254},{"$f":"$D$7*$H$31","v":1003.1999999999999},{"$f":"$E$7*$H$31","v":752.4},{"$f":"$F$7*$H$31","v":501.59999999999997},"è",0.3]
["3rd",{"$f":"$B$7*$H$32","v":1003.2},{"$f":"$C$7*$H$32","v":836},{"$f":"$D$7*$H$32","v":668.80000000000007},{"$f":"$E$7*$H$32","v":501.6},{"$f":"$F$7*$H$32","v":334.40000000000003},"è",0.2]
["4th",{"$f":"$B$7*$H$33","v":501.6},{"$f":"$C$7*$H$33","v":418},{"$f":"$D$7*$H$33","v":334.40000000000003},{"$f":"$E$7*$H$33","v":250.8},{"$f":"$F$7*$H$33","v":167.20000000000002},"è",0.1]
["Totals",{"$f":"SUM(B30:B33)","v":5016},{"$f":"SUM(C30:C33)","v":4180},{"$f":"SUM(D30:D33)","v":3344.0000000000005},{"$f":"SUM(E30:E33)","v":2508},{"$f":"SUM(F30:F33)","v":1672.0000000000002},{"$f":"SUM(B34:F34)","v":16720},{"$f":"SUM(H30:H33)","v":0.99999999999999989}]
[]
["For 144-200 riders 5 places"]
["Placings","1D","2D","3D","4D","5D"]
["1st",{"$f":"$B$7*$H$38","v":1655.28},{"$f":"$C$7*$H$38","v":1379.4},{"$f":"$D$7*$H$38","v":1103.52},{"$f":"$E$7*$H$38","v":827.64},{"$f":"$F$7*$H$38","v":551.76},"è",0.33]
["2nd",{"$f":"$B$7*$H$39","v":1354.3200000000002},{"$f":"$C$7*$H$39","v":1128.6000000000001},{"$f":"$D$7*$H$39","v":902.88000000000011},{"$f":"$E$7*$H$39","v":677.16000000000008},{"$f":"$F$7*$H$39","v":451.44000000000005},"è",0.27]
["3rd",{"$f":"$B$7*$H$40","v":1003.2},{"$f":"$C$7*$H$40","v":836},{"$f":"$D$7*$H$40","v":668.80000000000007},{"$f":"$E$7*$H$40","v":501.6},{"$f":"$F$7*$H$40","v":334.40000000000003},"è",0.2]
["4th",{"$f":"$B$7*$H$41","v":652.08000000000004},{"$f":"$C$7*$H$41","v":543.4},{"$f":"$D$7*$H$41","v":434.72},{"$f":"$E$7*$H$41","v":326.04000000000002},{"$f":"$F$7*$H$41","v":217.36},"è",0.13]
["5th",{"$f":"$B$7*$H$42","v":351.12000000000006},{"$f":"$C$7*$H$42","v":292.60000000000002},{"$f":"$D$7*$H$42","v":234.08},{"$f":"$E$7*$H$42","v":175.56000000000003},{"$f":"$F$7*$H$42","v":117.04},"è",7.0000000000000007E-2]
["Totals",{"$f":"SUM(B38:B42)","v":5016},{"$f":"SUM(C38:C42)","v":4180},{"$f":"SUM(D38:D42)","v":3344},{"$f":"SUM(E38:E42)","v":2508},{"$f":"SUM(F38:F42)","v":1672},{"$f":"SUM(B43:F43)","v":16720},{"$f":"SUM(H38:H42)","v":1}]
[]
["For 201-250 riders 6 places"]
["Placings","1D","2D","3D","4D","5D"]
["1st",{"$f":"$B$7*$H$47","v":1454.6399999999999},{"$f":"$C$7*$H$47","v":1212.1999999999998},{"$f":"$D$7*$H$47","v":969.75999999999988},{"$f":"$E$7*$H$47","v":727.31999999999994},{"$f":"$F$7*$H$47","v":484.87999999999994},"è",0.28999999999999998]
["2nd",{"$f":"$B$7*$H$48","v":1203.8399999999999},{"$f":"$C$7*$H$48","v":1003.1999999999999},{"$f":"$D$7*$H$48","v":802.56},{"$f":"$E$7*$H$48","v":601.91999999999996},{"$f":"$F$7*$H$48","v":401.28},"è",0.24]
["3rd",{"$f":"$B$7*$H$49","v":953.04},{"$f":"$C$7*$H$49","v":794.2},{"$f":"$D$7*$H$49","v":635.36},{"$f":"$E$7*$H$49","v":476.52},{"$f":"$F$7*$H$49","v":317.68},"è",0.19]
["4th",{"$f":"$B$7*$H$50","v":702.24000000000012},{"$f":"$C$7*$H$50","v":585.20000000000005},{"$f":"$D$7*$H$50","v":468.16},{"$f":"$E$7*$H$50","v":351.12000000000006},{"$f":"$F$7*$H$50","v":234.08},"è",0.14000000000000001]
["5th",{"$f":"$B$7*$H$51","v":451.44},{"$f":"$C$7*$H$51","v":376.2},{"$f":"$D$7*$H$51","v":300.95999999999998},{"$f":"$E$7*$H$51","v":225.72},{"$f":"$F$7*$H$51","v":150.47999999999999},"è",0.09]
["6th",{"$f":"$B$7*$H$52","v":250.8},{"$f":"$C$7*$H$52","v":209},{"$f":"$D$7*$H$52","v":167.20000000000002},{"$f":"$E$7*$H$52","v":125.4},{"$f":"$F$7*$H$52","v":83.600000000000009},"è",0.05]
["Totals",{"$f":"SUM(B47:B52)","v":5015.9999999999991},{"$f":"SUM(C47:C52)","v":4179.9999999999991},{"$f":"SUM(D47:D52)","v":3343.9999999999995},{"$f":"SUM(E47:E52)","v":2507.9999999999995},{"$f":"SUM(F47:F52)","v":1671.9999999999998},{"$f":"SUM(B53:F53)","v":16719.999999999996},{"$f":"SUM(H47:H52)","v":1}]
[]
["For 251-333 riders 8 places"]
["Placings","1D","2D","3D","4D","5D"]
["1st",{"$f":"$B$7*$H$57","v":1203.8399999999999},{"$f":"$C$7*$H$57","v":1003.1999999999999},{"$f":"$D$7*$H$57","v":802.56},{"$f":"$E$7*$H$57","v":601.91999999999996},{"$f":"$F$7*$H$57","v":401.28},"è",0.24]
["2nd",{"$f":"$B$7*$H$58","v":1003.2},{"$f":"$C$7*$H$58","v":836},{"$f":"$D$7*$H$58","v":668.80000000000007},{"$f":"$E$7*$H$58","v":501.6},{"$f":"$F$7*$H$58","v":334.40000000000003},"è",0.2]
["3rd",{"$f":"$B$7*$H$59","v":852.72},{"$f":"$C$7*$H$59","v":710.6},{"$f":"$D$7*$H$59","v":568.48},{"$f":"$E$7*$H$59","v":426.36},{"$f":"$F$7*$H$59","v":284.24},"è",0.17]
["4th",{"$f":"$B$7*$H$60","v":652.08000000000004},{"$f":"$C$7*$H$60","v":543.4},{"$f":"$D$7*$H$60","v":434.72},{"$f":"$E$7*$H$60","v":326.04000000000002},{"$f":"$F$7*$H$60","v":217.36},"è",0.13]
["5th",{"$f":"$B$7*$H$61","v":501.6},{"$f":"$C$7*$H$61","v":418},{"$f":"$D$7*$H$61","v":334.40000000000003},{"$f":"$E$7*$H$61","v":250.8},{"$f":"$F$7*$H$61","v":167.20000000000002},"è",0.1]
["6th",{"$f":"$B$7*$H$62","v":351.12000000000006},{"$f":"$C$7*$H$62","v":292.60000000000002},{"$f":"$D$7*$H$62","v":234.08},{"$f":"$E$7*$H$62","v":175.56000000000003},{"$f":"$F$7*$H$62","v":117.04},"è",7.0000000000000007E-2]
["7th",{"$f":"$B$7*$H$63","v":250.8},{"$f":"$C$7*$H$63","v":209},{"$f":"$D$7*$H$63","v":167.20000000000002},{"$f":"$E$7*$H$63","v":125.4},{"$f":"$F$7*$H$63","v":83.600000000000009},"è",0.05]
["8th",{"$f":"$B$7*$H$64","v":200.64000000000001},{"$f":"$C$7*$H$64","v":167.20000000000002},{"$f":"$D$7*$H$64","v":133.76},{"$f":"$E$7*$H$64","v":100.32000000000001},{"$f":"$F$7*$H$64","v":66.88},"è",0.04]
["Totals",{"$f":"SUM(B57:B64)","v":5016.0000000000009},{"$f":"SUM(C57:C64)","v":4180},{"$f":"SUM(D57:D64)","v":3344},{"$f":"SUM(E57:E64)","v":2508.0000000000005},{"$f":"SUM(F57:F64)","v":1672},{"$f":"SUM(B65:F65)","v":16720},{"$f":"SUM(H57:H64)","v":1}]
[]
["For 334-500 riders 10 places"]
["Placings","1D","2D","3D","4D","5D"]
["1st",{"$f":"$B$7*$H$69","v":1053.3599999999999},{"$f":"$C$7*$H$69","v":877.8},{"$f":"$D$7*$H$69","v":702.24},{"$f":"$E$7*$H$69","v":526.67999999999995},{"$f":"$F$7*$H$69","v":351.12},"è",0.21]
["2nd",{"$f":"$B$7*$H$70","v":902.88},{"$f":"$C$7*$H$70","v":752.4},{"$f":"$D$7*$H$70","v":601.91999999999996},{"$f":"$E$7*$H$70","v":451.44},{"$f":"$F$7*$H$70","v":300.95999999999998},"è",0.18]
["3rd",{"$f":"$B$7*$H$71","v":752.4},{"$f":"$C$7*$H$71","v":627},{"$f":"$D$7*$H$71","v":501.59999999999997},{"$f":"$E$7*$H$71","v":376.2},{"$f":"$F$7*$H$71","v":250.79999999999998},"è",0.15]
["4th",{"$f":"$B$7*$H$72","v":601.91999999999996},{"$f":"$C$7*$H$72","v":501.59999999999997},{"$f":"$D$7*$H$72","v":401.28},{"$f":"$E$7*$H$72","v":300.95999999999998},{"$f":"$F$7*$H$72","v":200.64},"è",0.12]
["5th",{"$f":"$B$7*$H$73","v":451.44},{"$f":"$C$7*$H$73","v":376.2},{"$f":"$D$7*$H$73","v":300.95999999999998},{"$f":"$E$7*$H$73","v":225.72},{"$f":"$F$7*$H$73","v":150.47999999999999},"è",0.09]
["6th",{"$f":"$B$7*$H$74","v":351.12000000000006},{"$f":"$C$7*$H$74","v":292.60000000000002},{"$f":"$D$7*$H$74","v":234.08},{"$f":"$E$7*$H$74","v":175.56000000000003},{"$f":"$F$7*$H$74","v":117.04},"è",7.0000000000000007E-2]
["7th",{"$f":"$B$7*$H$75","v":300.95999999999998},{"$f":"$C$7*$H$75","v":250.79999999999998},{"$f":"$D$7*$H$75","v":200.64},{"$f":"$E$7*$H$75","v":150.47999999999999},{"$f":"$F$7*$H$75","v":100.32},"è",0.06]
["8th",{"$f":"$B$7*$H$76","v":250.8},{"$f":"$C$7*$H$76","v":209},{"$f":"$D$7*$H$76","v":167.20000000000002},{"$f":"$E$7*$H$76","v":125.4},{"$f":"$F$7*$H$76","v":83.600000000000009},"è",0.05]
["9th",{"$f":"$B$7*$H$77","v":200.64000000000001},{"$f":"$C$7*$H$77","v":167.20000000000002},{"$f":"$D$7*$H$77","v":133.76},{"$f":"$E$7*$H$77","v":100.32000000000001},{"$f":"$F$7*$H$77","v":66.88},"è",0.04]
["10th",{"$f":"$B$7*$H$78","v":150.47999999999999},{"$f":"$C$7*$H$78","v":125.39999999999999},{"$f":"$D$7*$H$78","v":100.32},{"$f":"$E$7*$H$78","v":75.239999999999995},{"$f":"$F$7*$H$78","v":50.16},"è",0.03]
["Totals",{"$f":"SUM(B69:B78)","v":5016},{"$f":"SUM(C69:C78)","v":4179.9999999999991},3343.9999999999995,2508,1671.9999999999998,{"$f":"SUM(B79:F79)","v":16720},{"$f":"SUM(H69:H78)","v":1.0000000000000002}]
[]
["For 501-666 riders 12 places"]
["Placings","1D","2D","3D","4D","5D"]
["1st",{"$f":"$B$7*$H$83","v":953.04},{"$f":"$C$7*$H$83","v":794.2},{"$f":"$D$7*$H$83","v":635.36},{"$f":"$E$7*$H$83","v":476.52},{"$f":"$F$7*$H$83","v":317.68},"è",0.19]
["2nd",{"$f":"$B$7*$H$84","v":752.4},{"$f":"$C$7*$H$84","v":627},{"$f":"$D$7*$H$84","v":501.59999999999997},{"$f":"$E$7*$H$84","v":376.2},{"$f":"$F$7*$H$84","v":250.79999999999998},"è",0.15]
["3rd",{"$f":"$B$7*$H$85","v":601.91999999999996},{"$f":"$C$7*$H$85","v":501.59999999999997},{"$f":"$D$7*$H$85","v":401.28},{"$f":"$E$7*$H$85","v":300.95999999999998},{"$f":"$F$7*$H$85","v":200.64},"è",0.12]
["4th",{"$f":"$B$7*$H$86","v":501.6},{"$f":"$C$7*$H$86","v":418},{"$f":"$D$7*$H$86","v":334.40000000000003},{"$f":"$E$7*$H$86","v":250.8},{"$f":"$F$7*$H$86","v":167.20000000000002},"è",0.1]
["5th",{"$f":"$B$7*$H$87","v":451.44},{"$f":"$C$7*$H$87","v":376.2},{"$f":"$D$7*$H$87","v":300.95999999999998},{"$f":"$E$7*$H$87","v":225.72},{"$f":"$F$7*$H$87","v":150.47999999999999},"è",0.09]
["6th",{"$f":"$B$7*$H$88","v":401.28000000000003},{"$f":"$C$7*$H$88","v":334.40000000000003},{"$f":"$D$7*$H$88","v":267.52},{"$f":"$E$7*$H$88","v":200.64000000000001},{"$f":"$F$7*$H$88","v":133.76},"è",0.08]
["7th",{"$f":"$B$7*$H$89","v":351.12000000000006},{"$f":"$C$7*$H$89","v":292.60000000000002},{"$f":"$D$7*$H$89","v":234.08},{"$f":"$E$7*$H$89","v":175.56000000000003},{"$f":"$F$7*$H$89","v":117.04},"è",7.0000000000000007E-2]
["8th",{"$f":"$B$7*$H$90","v":300.95999999999998},{"$f":"$C$7*$H$90","v":250.79999999999998},{"$f":"$D$7*$H$90","v":200.64},{"$f":"$E$7*$H$90","v":150.47999999999999},{"$f":"$F$7*$H$90","v":100.32},"è",0.06]
["9th",{"$f":"$B$7*$H$91","v":250.8},{"$f":"$C$7*$H$91","v":209},{"$f":"$D$7*$H$91","v":167.20000000000002},{"$f":"$E$7*$H$91","v":125.4},{"$f":"$F$7*$H$91","v":83.600000000000009},"è",0.05]
["10th",{"$f":"$B$7*$H$92","v":200.64000000000001},{"$f":"$C$7*$H$92","v":167.20000000000002},{"$f":"$D$7*$H$92","v":133.76},{"$f":"$E$7*$H$92","v":100.32000000000001},{"$f":"$F$7*$H$92","v":66.88},"è",0.04]
["11th",{"$f":"$B$7*$H$93","v":150.47999999999999},{"$f":"$C$7*$H$93","v":125.39999999999999},{"$f":"$D$7*$H$93","v":100.32},{"$f":"$E$7*$H$93","v":75.239999999999995},{"$f":"$F$7*$H$93","v":50.16},"è",0.03]
["12th",{"$f":"$B$7*$H$94","v":100.32000000000001},{"$f":"$C$7*$H$94","v":83.600000000000009},{"$f":"$D$7*$H$94","v":66.88},{"$f":"$E$7*$H$94","v":50.160000000000004},{"$f":"$F$7*$H$94","v":33.44},"è",0.02]
["Totals",{"$f":"SUM(B83:B94)","v":5016},{"$f":"SUM(C83:C94)","v":4180},{"$f":"SUM(D83:D94)","v":3343.9999999999995},{"$f":"SUM(E83:E94)","v":2508},{"$f":"SUM(F83:F94)","v":1671.9999999999998},{"$f":"SUM(B95:F95)","v":16720},{"$f":"SUM(H83:H94)","v":1}]
[]
["For 667-1000 riders 15 places"]
["Placings","1D","2D","3D","4D","5D"]
["1st",{"$f":"$B$7*$H$99","v":902.88},{"$f":"$C$7*$H$99","v":752.4},{"$f":"$D$7*$H$99","v":601.91999999999996},{"$f":"$E$7*$H$99","v":451.44},{"$f":"$F$7*$H$99","v":300.95999999999998},"è",0.18]
["2nd",{"$f":"$B$7*$H$100","v":752.4},{"$f":"$C$7*$H$100","v":627},{"$f":"$D$7*$H$100","v":501.59999999999997},{"$f":"$E$7*$H$100","v":376.2},{"$f":"$F$7*$H$100","v":250.79999999999998},"è",0.15]
["3rd",{"$f":"$B$7*$H$101","v":601.91999999999996},{"$f":"$C$7*$H$101","v":501.59999999999997},{"$f":"$D$7*$H$101","v":401.28},{"$f":"$E$7*$H$101","v":300.95999999999998},{"$f":"$F$7*$H$101","v":200.64},"è",0.12]
["4th",{"$f":"$B$7*$H$102","v":501.6},{"$f":"$C$7*$H$102","v":418},{"$f":"$D$7*$H$102","v":334.40000000000003},{"$f":"$E$7*$H$102","v":250.8},{"$f":"$F$7*$H$102","v":167.20000000000002},"è",0.1]
["5th",{"$f":"$B$7*$H$103","v":426.36},{"$f":"$C$7*$H$103","v":355.3},{"$f":"$D$7*$H$103","v":284.24},{"$f":"$E$7*$H$103","v":213.18},{"$f":"$F$7*$H$103","v":142.12},"è",8.5000000000000006E-2]
["6th",{"$f":"$B$7*$H$104","v":351.12000000000006},{"$f":"$C$7*$H$104","v":292.60000000000002},{"$f":"$D$7*$H$104","v":234.08},{"$f":"$E$7*$H$104","v":175.56000000000003},{"$f":"$F$7*$H$104","v":117.04},"è",7.0000000000000007E-2]
["7th",{"$f":"$B$7*$H$105","v":300.95999999999998},{"$f":"$C$7*$H$105","v":250.79999999999998},{"$f":"$D$7*$H$105","v":200.64},{"$f":"$E$7*$H$105","v":150.47999999999999},{"$f":"$F$7*$H$105","v":100.32},"è",0.06]
["8th",{"$f":"$B$7*$H$106","v":250.8},{"$f":"$C$7*$H$106","v":209},{"$f":"$D$7*$H$106","v":167.20000000000002},{"$f":"$E$7*$H$106","v":125.4},{"$f":"$F$7*$H$106","v":83.600000000000009},"è",0.05]
["9th",{"$f":"$B$7*$H$107","v":213.18},{"$f":"$C$7*$H$107","v":177.65},{"$f":"$D$7*$H$107","v":142.12},{"$f":"$E$7*$H$107","v":106.59},{"$f":"$F$7*$H$107","v":71.06},"è",4.2500000000000003E-2]
["10th",{"$f":"$B$7*$H$108","v":175.56000000000003},{"$f":"$C$7*$H$108","v":146.30000000000001},{"$f":"$D$7*$H$108","v":117.04},{"$f":"$E$7*$H$108","v":87.780000000000015},{"$f":"$F$7*$H$108","v":58.52},"è",3.5000000000000003E-2]
["11th",{"$f":"$B$7*$H$109","v":150.47999999999999},{"$f":"$C$7*$H$109","v":125.39999999999999},{"$f":"$D$7*$H$109","v":100.32},{"$f":"$E$7*$H$109","v":75.239999999999995},{"$f":"$F$7*$H$109","v":50.16},"è",0.03]
["12th",{"$f":"$B$7*$H$110","v":125.4},{"$f":"$C$7*$H$110","v":104.5},{"$f":"$D$7*$H$110","v":83.600000000000009},{"$f":"$E$7*$H$110","v":62.7},{"$f":"$F$7*$H$110","v":41.800000000000004},"è",2.5000000000000001E-2]
["13th",{"$f":"$B$7*$H$111","v":100.32000000000001},{"$f":"$C$7*$H$111","v":83.600000000000009},{"$f":"$D$7*$H$111","v":66.88},{"$f":"$E$7*$H$111","v":50.160000000000004},{"$f":"$F$7*$H$111","v":33.44},"è",0.02]
["14th",{"$f":"$B$7*$H$112","v":87.780000000000015},{"$f":"$C$7*$H$112","v":73.150000000000006},{"$f":"$D$7*$H$112","v":58.52},{"$f":"$E$7*$H$112","v":43.890000000000008},{"$f":"$F$7*$H$112","v":29.26},"è",1.7500000000000002E-2]
["15th",{"$f":"$B$7*$H$113","v":75.239999999999995},{"$f":"$C$7*$H$113","v":62.699999999999996},{"$f":"$D$7*$H$113","v":50.16},{"$f":"$E$7*$H$113","v":37.619999999999997},{"$f":"$F$7*$H$113","v":25.08},"è",1.4999999999999999E-2]
["Totals",{"$f":"SUM(B99:B113)","v":5015.9999999999991},{"$f":"SUM(C99:C113)","v":4180},{"$f":"SUM(D99:D113)","v":3343.9999999999995},{"$f":"SUM(E99:E113)","v":2507.9999999999995},{"$f":"SUM(F99:F113)","v":1671.9999999999998},{"$f":"SUM(B114:F114)","v":16720},{"$f":"SUM(H99:H113)","v":1}]
[]
["For 1001-1500 riders 20 places"]
["Placings","1D","2D","3D","4D","5D"]
["1st",{"$f":"$B$7*$H$118","v":702.24000000000012},{"$f":"$C$7*$H$118","v":585.20000000000005},{"$f":"$D$7*$H$118","v":468.16},{"$f":"$E$7*$H$118","v":351.12000000000006},{"$f":"$F$7*$H$118","v":234.08},"è",0.14000000000000001]
["2nd",{"$f":"$B$7*$H$119","v":551.76},{"$f":"$C$7*$H$119","v":459.8},{"$f":"$D$7*$H$119","v":367.84},{"$f":"$E$7*$H$119","v":275.88},{"$f":"$F$7*$H$119","v":183.92},"è",0.11]
["3rd",{"$f":"$B$7*$H$120","v":451.44},{"$f":"$C$7*$H$120","v":376.2},{"$f":"$D$7*$H$120","v":300.95999999999998},{"$f":"$E$7*$H$120","v":225.72},{"$f":"$F$7*$H$120","v":150.47999999999999},"è",0.09]
["4th",{"$f":"$B$7*$H$121","v":386.23199999999997},{"$f":"$C$7*$H$121","v":321.86},{"$f":"$D$7*$H$121","v":257.488},{"$f":"$E$7*$H$121","v":193.11599999999999},{"$f":"$F$7*$H$121","v":128.744},"è",7.6999999999999999E-2]
["5th",{"$f":"$B$7*$H$122","v":351.12000000000006},{"$f":"$C$7*$H$122","v":292.60000000000002},{"$f":"$D$7*$H$122","v":234.08},{"$f":"$E$7*$H$122","v":175.56000000000003},{"$f":"$F$7*$H$122","v":117.04},"è",7.0000000000000007E-2]
["6th",{"$f":"$B$7*$H$123","v":326.04000000000002},{"$f":"$C$7*$H$123","v":271.7},{"$f":"$D$7*$H$123","v":217.36},{"$f":"$E$7*$H$123","v":163.02000000000001},{"$f":"$F$7*$H$123","v":108.68},"è",6.5000000000000002E-2]
["7th",{"$f":"$B$7*$H$124","v":300.95999999999998},{"$f":"$C$7*$H$124","v":250.79999999999998},{"$f":"$D$7*$H$124","v":200.64},{"$f":"$E$7*$H$124","v":150.47999999999999},{"$f":"$F$7*$H$124","v":100.32},"è",0.06]
["8th",{"$f":"$B$7*$H$125","v":275.88},{"$f":"$C$7*$H$125","v":229.9},{"$f":"$D$7*$H$125","v":183.92},{"$f":"$E$7*$H$125","v":137.94},{"$f":"$F$7*$H$125","v":91.96},"è",5.5E-2]
["9th",{"$f":"$B$7*$H$126","v":250.8},{"$f":"$C$7*$H$126","v":209},{"$f":"$D$7*$H$126","v":167.20000000000002},{"$f":"$E$7*$H$126","v":125.4},{"$f":"$F$7*$H$126","v":83.600000000000009},"è",0.05]
["10th",{"$f":"$B$7*$H$127","v":225.72},{"$f":"$C$7*$H$127","v":188.1},{"$f":"$D$7*$H$127","v":150.47999999999999},{"$f":"$E$7*$H$127","v":112.86},{"$f":"$F$7*$H$127","v":75.239999999999995},"è",4.4999999999999998E-2]
["11th",{"$f":"$B$7*$H$128","v":200.64000000000001},{"$f":"$C$7*$H$128","v":167.20000000000002},{"$f":"$D$7*$H$128","v":133.76},{"$f":"$E$7*$H$128","v":100.32000000000001},{"$f":"$F$7*$H$128","v":66.88},"è",0.04]
["12th",{"$f":"$B$7*$H$129","v":185.59199999999998},{"$f":"$C$7*$H$129","v":154.66},{"$f":"$D$7*$H$129","v":123.72799999999999},{"$f":"$E$7*$H$129","v":92.795999999999992},{"$f":"$F$7*$H$129","v":61.863999999999997},"è",3.6999999999999998E-2]
["13th",{"$f":"$B$7*$H$130","v":165.52800000000002},{"$f":"$C$7*$H$130","v":137.94},{"$f":"$D$7*$H$130","v":110.352},{"$f":"$E$7*$H$130","v":82.76400000000001},{"$f":"$F$7*$H$130","v":55.176000000000002},"è",3.3000000000000002E-2]
["14th",{"$f":"$B$7*$H$131","v":145.464},{"$f":"$C$7*$H$131","v":121.22000000000001},{"$f":"$D$7*$H$131","v":96.975999999999999},{"$f":"$E$7*$H$131","v":72.731999999999999},{"$f":"$F$7*$H$131","v":48.488},"è",2.9000000000000001E-2]
["15th",{"$f":"$B$7*$H$132","v":125.4},{"$f":"$C$7*$H$132","v":104.5},{"$f":"$D$7*$H$132","v":83.600000000000009},{"$f":"$E$7*$H$132","v":62.7},{"$f":"$F$7*$H$132","v":41.800000000000004},"è",2.5000000000000001E-2]
["16th",{"$f":"$B$7*$H$133","v":105.33600000000001},{"$f":"$C$7*$H$133","v":87.78},{"$f":"$D$7*$H$133","v":70.224000000000004},{"$f":"$E$7*$H$133","v":52.668000000000006},{"$f":"$F$7*$H$133","v":35.112000000000002},"è",2.1000000000000001E-2]
["17th",{"$f":"$B$7*$H$134","v":85.272000000000006},{"$f":"$C$7*$H$134","v":71.06},{"$f":"$D$7*$H$134","v":56.848000000000006},{"$f":"$E$7*$H$134","v":42.636000000000003},{"$f":"$F$7*$H$134","v":28.424000000000003},"è",1.7000000000000001E-2]
["18th",{"$f":"$B$7*$H$135","v":70.224000000000004},{"$f":"$C$7*$H$135","v":58.52},{"$f":"$D$7*$H$135","v":46.816000000000003},{"$f":"$E$7*$H$135","v":35.112000000000002},{"$f":"$F$7*$H$135","v":23.408000000000001},"è",1.4E-2]
["19th",{"$f":"$B$7*$H$136","v":60.192},{"$f":"$C$7*$H$136","v":50.160000000000004},{"$f":"$D$7*$H$136","v":40.128},{"$f":"$E$7*$H$136","v":30.096},{"$f":"$F$7*$H$136","v":20.064},"è",1.2E-2]
["20th",{"$f":"$B$7*$H$137","v":50.160000000000004},{"$f":"$C$7*$H$137","v":41.800000000000004},{"$f":"$D$7*$H$137","v":33.44},{"$f":"$E$7*$H$137","v":25.080000000000002},{"$f":"$F$7*$H$137","v":16.72},"è",0.01]
["Totals",{"$f":"SUM(B118:B137)","v":5016},{"$f":"SUM(C118:C137)","v":4180},3344,2508,1672,{"$f":"SUM(B138:F138)","v":16720},{"$f":"SUM(H118:H137)","v":1.0000000000000004}]
[]
["For 1501 or More riders 30 places"]
["Placings","1D","2D","3D","4D","5D"]
["1st",{"$f":"$B$7*$H142","v":601.91999999999996},{"$f":"$C$7*$H142","v":501.59999999999997},{"$f":"$D$7*$H142","v":401.28},{"$f":"$E$7*$H142","v":300.95999999999998},{"$f":"$F$7*$H142","v":200.64},"è",0.12]
["2nd",{"$f":"$B$7*$H143","v":476.52},397.1,317.68,238.26,158.84,"è",9.5000000000000001E-2]
["3rd",{"$f":"$B$7*$H144","v":366.16799999999995},305.14,244.11199999999999,183.08399999999997,122.056,"è",7.2999999999999995E-2]
["4th",{"$f":"$B$7*$H145","v":310.99200000000002},259.16000000000003,207.328,155.49600000000001,103.664,"è",6.2E-2]
["5th",250.8,209,167.20000000000002,125.4,83.600000000000009,"è",0.05]
["6th",225.72,188.1,150.47999999999999,112.86,75.239999999999995,"è",4.4999999999999998E-2]
["7th",215.68799999999999,179.73999999999998,143.792,107.84399999999999,71.896000000000001,"è",4.2999999999999997E-2]
["8th",200.64000000000001,167.20000000000002,133.76,100.32000000000001,66.88,"è",0.04]
["9th",185.59199999999998,154.66,123.72799999999999,92.795999999999992,61.863999999999997,"è",3.6999999999999998E-2]
["10th",175.56000000000003,146.30000000000001,117.04,87.780000000000015,58.52,"è",3.5000000000000003E-2]
["11th",165.52800000000002,137.94,110.352,82.76400000000001,55.176000000000002,"è",3.3000000000000002E-2]
["12th",155.49600000000001,129.58000000000001,103.664,77.748000000000005,51.832000000000001,"è",3.1E-2]
["13th",145.464,121.22000000000001,96.975999999999999,72.731999999999999,48.488,"è",2.9000000000000001E-2]
["14th",135.43199999999999,112.86,90.287999999999997,67.715999999999994,45.143999999999998,"è",2.7E-2]
["15th",125.4,104.5,83.600000000000009,62.7,41.800000000000004,"è",2.5000000000000001E-2]
["16th",120.384,100.32000000000001,80.256,60.192,40.128,"è",2.4E-2]
["17th",115.36799999999999,96.14,76.911999999999992,57.683999999999997,38.455999999999996,"è",2.3E-2]
["18th",110.35199999999999,91.96,73.567999999999998,55.175999999999995,36.783999999999999,"è",2.1999999999999999E-2]
["19th",105.33600000000001,87.78,70.224000000000004,52.668000000000006,35.112000000000002,"è",2.1000000000000001E-2]
["20th",100.32000000000001,83.600000000000009,66.88,50.160000000000004,33.44,"è",0.02]
["21st",95.304000000000002,79.42,63.536000000000001,47.652000000000001,31.768000000000001,"è",1.9E-2]
["22nd",90.287999999999997,75.239999999999995,60.191999999999993,45.143999999999998,30.095999999999997,"è",1.7999999999999999E-2]
["23rd",85.272000000000006,71.06,56.848000000000006,42.636000000000003,28.424000000000003,"è",1.7000000000000001E-2]
["24th",80.256,66.88,53.503999999999998,40.128,26.751999999999999,"è",1.6E-2]
["25th",75.239999999999995,62.699999999999996,50.16,37.619999999999997,25.08,"è",1.4999999999999999E-2]
["26th",70.224000000000004,58.52,46.816000000000003,35.112000000000002,23.408000000000001,"è",1.4E-2]
["27th",65.207999999999998,54.339999999999996,43.472000000000001,32.603999999999999,21.736000000000001,"è",1.2999999999999999E-2]
["28th",60.192,50.160000000000004,40.128,30.096,20.064,"è",1.2E-2]
["29th",55.175999999999995,45.98,36.783999999999999,27.587999999999997,18.391999999999999,"è",1.0999999999999999E-2]
["30th",50.160000000000004,41.800000000000004,33.44,25.080000000000002,16.72,"è",0.01]
["Totals",{"$f":"SUM(B142:B171)","v":5015.9999999999991},{"$f":"SUM(C142:C171)","v":4180},3344.0000000000005,2507.9999999999995,1672.0000000000002,{"$f":"SUM(B172:F172)","v":16720},{"$f":"SUM(H142:H171)","v":1.0000000000000002}]

{"sheet":"DON'T TOUCH","index":15,"n_rows":6,"n_cols":5,"rows_kept":6,"cut":false,"hidden":true,"merged":[]}
[]
["Yes",null,"S",5,"X"]
[null,null,"A",10]
[null,null,"Y",15]
[null,null,"P","BP"]
[null,null,null,"SCR"]