{"text_format":"2","workbook":"xlsx","n_sheets":16,"sheets":["Highstakes","Open","Senior","Adult","8&under","Youth","Derby","Futurity","12 & Under","Average","BFA 2D Payout","2D Payout","3D Payout","4D Payout BBR","5D Payout BBR","DON'T TOUCH"],"not_rendered":{"charts":0,"images":0,"macros":0,"external_links":0,"defined_names":7,"comments":0,"pivot_tables":0},"unopened":[],"bounds":{"document_bytes":16777216,"sheet_cells":100000,"run_cost":"one","rows_first":2000,"rows_last":500,"rows_between":2000,"halvings":0,"cell_chars":16384,"cell_head_chars":4096},"cells_cut":0,"cells_raw":0,"read":"whole","date_system":"1900"}

{"sheet":"Highstakes","index":0,"n_rows":301,"n_cols":8,"rows_kept":301,"cut":false,"hidden":false,"merged":[]}
["Der","Draw","Rider Name","Horse Name","Time","Final Time","Placing","Money Earned"]
[null,1,"Jolene Montogmery","Promise Me A Jet",null,15.727,"1st",912]
[null,2,"Trina Murray","Fuel For Dash",null,15.909000000000001,"2nd",608]
[null,3,"Renee Stuckey","Leo San Ta Fame",null,15.949]
[null,4,"Danyelle Campbell","Famous Dungarees",null,15.989000000000001]
[null,5,"Jolene Montogmery","Jets Heart N Soul",null,15.991]
[null,6,"Phillip Kenyon","Tillies Hayday",null,16.007999999999999]
[null,7,"Sonyia Mcharge","A Sharp French Guy",null,16.016999999999999]
[null,8,"Danyelle Campbell","Lady Ta Da",null,16.178999999999998]
[null,9,"Denny Ralls","Ease De Hank",null,16.187000000000001]
[null,10,"Susan Agnew","Jet N Ta Fame",null,16.295000000000002]
[null,11,"Denny Ralls","Sweet Movin Firewater",null,16.581]
[null,12,"Sonyia Mcharge","Ima Sharpdancinjudge",null,16.898]
[null,13,"Tyesha Carroll","Oh So French",null,18.972000000000001]
[null,14,"Molli Montgomery","Makin Ya Famous",null,"NT 15.797"]
[null,15,"Molli Montgomery","Legsgonewild",null,"NT 16.060"]
[null,16,"Shea Lynn Leach","Loui Bug",null,"nt15.906"]
[null,17,"Whitney Davison","Confederateslastlady",null,"nt15.961"]
[null,18,"Kassie Mowry","Girls Dig Fame",null,"nt16.116"]
[null,19,"Lynn Brown","This Guys No Angel",null,"nt16.373"]
[null,20]
[null,21]
[null,22]
[null,23]
[null,24]
[null,25]
[null,26]
[null,27]
[null,28]
[null,29]
[null,30]
[null,31]
[null,32]
[null,33]
[null,34,null,null,null,{"$f":"IF(OR(#REF!=5,#REF!=10,#REF!= 15,#REF!= \"BP\",#REF!=\"SCR\"),\"NT\",E35)","v":{"$error":"#REF!"}}]
[null,35,null,null,null,{"$f":"IF(OR(#REF!=5,#REF!=10,#REF!= 15,#REF!= \"BP\",#REF!=\"SCR\"),\"NT\",E36)","v":{"$error":"#REF!"}}]
[null,36,null,null,null,{"$f":"IF(OR(#REF!=5,#REF!=10,#REF!= 15,#REF!= \"BP\",#REF!=\"SCR\"),\"NT\",E37)","v":{"$error":"#REF!"}}]
[null,37,null,null,null,{"$f":"IF(OR(#REF!=5,#REF!=10,#REF!= 15,#REF!= \"BP\",#REF!=\"SCR\"),\"NT\",E38)","v":{"$error":"#REF!"}}]
[null,38,null,null,null,{"$f":"IF(OR(#REF!=5,#REF!=10,#REF!= 15,#REF!= \"BP\",#REF!=\"SCR\"),\"NT\",E39)","v":{"$error":"#REF!"}}]
[null,39,null,null,null,{"$f":"IF(OR(#REF!=5,#REF!=10,#REF!= 15,#REF!= \"BP\",#REF!=\"SCR\"),\"NT\",E40)","v":{"$error":"#REF!"}}]
[null,40,null,null,null,{"$f":"IF(OR(#REF!=5,#REF!=10,#REF!= 15,#REF!= \"BP\",#REF!=\"SCR\"),\"NT\",E41)","v":{"$error":"#REF!"}}]
[null,41,null,null,null,{"$f":"IF(OR(#REF!=5,#REF!=10,#REF!= 15,#REF!= \"BP\",#REF!=\"SCR\"),\"NT\",E42)","v":{"$error":"#REF!"}}]
[null,42,null,null,null,{"$f":"IF(OR(#REF!=5,#REF!=10,#REF!= 15,#REF!= \"BP\",#REF!=\"SCR\"),\"NT\",E43)","v":{"$error":"#REF!"}}]
[null,43,null,null,null,{"$f":"IF(OR(#REF!=5,#REF!=10,#REF!= 15,#REF!= \"BP\",#REF!=\"SCR\"),\"NT\",E44)","v":{"$error":"#REF!"}}]
[null,44,null,null,null,{"$f":"IF(OR(#REF!=5,#REF!=10,#REF!= 15,#REF!= \"BP\",#REF!=\"SCR\"),\"NT\",E45)","v":{"$error":"#REF!"}}]
[null,45,null,null,null,{"$f":"IF(OR(#REF!=5,#REF!=10,#REF!= 15,#REF!= \"BP\",#REF!=\"SCR\"),\"NT\",E46)","v":{"$error":"#REF!"}}]
[null,46,null,null,null,{"$f":"IF(OR(#REF!=5,#REF!=10,#REF!= 15,#REF!= \"BP\",#REF!=\"SCR\"),\"NT\",E47)","v":{"$error":"#REF!"}}]
[null,47,null,null,null,{"$f":"IF(OR(#REF!=5,#REF!=10,#REF!= 15,#REF!= \"BP\",#REF!=\"SCR\"),\"NT\",E48)","v":{"$error":"#REF!"}}]
[null,48,null,null,null,{"$f":"IF(OR(#REF!=5,#REF!=10,#REF!= 15,#REF!= \"BP\",#REF!=\"SCR\"),\"NT\",E49)","v":{"$error":"#REF!"}}]
[null,49,null,null,null,{"$f":"IF(OR(#REF!=5,#REF!=10,#REF!= 15,#REF!= \"BP\",#REF!=\"SCR\"),\"NT\",E50)","v":{"$error":"#REF!"}}]
[null,50,null,null,null,{"$f":"IF(OR(#REF!=5,#REF!=10,#REF!= 15,#REF!= \"BP\",#REF!=\"SCR\"),\"NT\",E51)","v":{"$error":"#REF!"}}]
[null,51,null,null,null,{"$f":"IF(OR(#REF!=5,#REF!=10,#REF!= 15,#REF!= \"BP\",#REF!=\"SCR\"),\"NT\",E52)","v":{"$error":"#REF!"}}]
[null,52,null,null,null,{"$f":"IF(OR(#REF!=5,#REF!=10,#REF!= 15,#REF!= \"BP\",#REF!=\"SCR\"),\"NT\",E53)","v":{"$error":"#REF!"}}]
[null,53,null,null,null,{"$f":"IF(OR(#REF!=5,#REF!=10,#REF!= 15,#REF!= \"BP\",#REF!=\"SCR\"),\"NT\",E54)","v":{"$error":"#REF!"}}]
[null,54,null,null,null,{"$f":"IF(OR(#REF!=5,#REF!=10,#REF!= 15,#REF!= \"BP\",#REF!=\"SCR\"),\"NT\",E55)","v":{"$error":"#REF!"}}]
[null,55,null,null,null,{"$f":"IF(OR(#REF!=5,#REF!=10,#REF!= 15,#REF!= \"BP\",#REF!=\"SCR\"),\"NT\",E56)","v":{"$error":"#REF!"}}]
[null,56,null,null,null,{"$f":"IF(OR(#REF!=5,#REF!=10,#REF!= 15,#REF!= \"BP\",#REF!=\"SCR\"),\"NT\",E57)","v":{"$error":"#REF!"}}]
[null,57,null,null,null,{"$f":"IF(OR(#REF!=5,#REF!=10,#REF!= 15,#REF!= \"BP\",#REF!=\"SCR\"),\"NT\",E58)","v":{"$error":"#REF!"}}]
[null,58,null,null,null,{"$f":"IF(OR(#REF!=5,#REF!=10,#REF!= 15,#REF!= \"BP\",#REF!=\"SCR\"),\"NT\",E59)","v":{"$error":"#REF!"}}]
[null,59,null,null,null,{"$f":"IF(OR(#REF!=5,#REF!=10,#REF!= 15,#REF!= \"BP\",#REF!=\"SCR\"),\"NT\",E60)","v":{"$error":"#REF!"}}]
[null,60,null,null,null,{"$f":"IF(OR(#REF!=5,#REF!=10,#REF!= 15,#REF!= \"BP\",#REF!=\"SCR\"),\"NT\",E61)","v":{"$error":"#REF!"}}]
[null,61,null,null,null,{"$f":"IF(OR(#REF!=5,#REF!=10,#REF!= 15,#REF!= \"BP\",#REF!=\"SCR\"),\"NT\",E62)","v":{"$error":"#REF!"}}]
[null,62,null,null,null,{"$f":"IF(OR(#REF!=5,#REF!=10,#REF!= 15,#REF!= \"BP\",#REF!=\"SCR\"),\"NT\",E63)","v":{"$error":"#REF!"}}]
[null,63,null,null,null,{"$f":"IF(OR(#REF!=5,#REF!=10,#REF!= 15,#REF!= \"BP\",#REF!=\"SCR\"),\"NT\",E64)","v":{"$error":"#REF!"}}]
[null,64,null,null,null,{"$f":"IF(OR(#REF!=5,#REF!=10,#REF!= 15,#REF!= \"BP\",#REF!=\"SCR\"),\"NT\",E65)","v":{"$error":"#REF!"}}]
[null,65,null,null,null,{"$f":"IF(OR(#REF!=5,#REF!=10,#REF!= 15,#REF!= \"BP\",#REF!=\"SCR\"),\"NT\",E66)","v":{"$error":"#REF!"}}]
[null,66,null,null,null,{"$f":"IF(OR(#REF!=5,#REF!=10,#REF!= 15,#REF!= \"BP\",#REF!=\"SCR\"),\"NT\",E67)","v":{"$error":"#REF!"}}]
[null,67,null,null,null,{"$f":"IF(OR(#REF!=5,#REF!=10,#REF!= 15,#REF!= \"BP\",#REF!=\"SCR\"),\"NT\",E68)","v":{"$error":"#REF!"}}]
[null,68,null,null,null,{"$f":"IF(OR(#REF!=5,#REF!=10,#REF!= 15,#REF!= \"BP\",#REF!=\"SCR\"),\"NT\",E69)","v":{"$error":"#REF!"}}]
[null,69,null,null,null,{"$f":"IF(OR(#REF!=5,#REF!=10,#REF!= 15,#REF!= \"BP\",#REF!=\"SCR\"),\"NT\",E70)","v":{"$error":"#REF!"}}]
[null,70,null,null,null,{"$f":"IF(OR(#REF!=5,#REF!=10,#REF!= 15,#REF!= \"BP\",#REF!=\"SCR\"),\"NT\",E71)","v":{"$error":"#REF!"}}]
[null,71,null,null,null,{"$f":"IF(OR(#REF!=5,#REF!=10,#REF!= 15,#REF!= \"BP\",#REF!=\"SCR\"),\"NT\",E72)","v":{"$error":"#REF!"}}]
[null,72,null,null,null,{"$f":"IF(OR(#REF!=5,#REF!=10,#REF!= 15,#REF!= \"BP\",#REF!=\"SCR\"),\"NT\",E73)","v":{"$error":"#REF!"}}]
[null,73,null,null,null,{"$f":"IF(OR(#REF!=5,#REF!=10,#REF!= 15,#REF!= \"BP\",#REF!=\"SCR\"),\"NT\",E74)","v":{"$error":"#REF!"}}]
[null,74,null,null,null,{"$f":"IF(OR(#REF!=5,#REF!=10,#REF!= 15,#REF!= \"BP\",#REF!=\"SCR\"),\"NT\",E75)","v":{"$error":"#REF!"}}]
[null,75,null,null,null,{"$f":"IF(OR(#REF!=5,#REF!=10,#REF!= 15,#REF!= \"BP\",#REF!=\"SCR\"),\"NT\",E76)","v":{"$error":"#REF!"}}]
[null,76,null,null,null,{"$f":"IF(OR(#REF!=5,#REF!=10,#REF!= 15,#REF!= \"BP\",#REF!=\"SCR\"),\"NT\",E77)","v":{"$error":"#REF!"}}]
[null,77,null,null,null,{"$f":"IF(OR(#REF!=5,#REF!=10,#REF!= 15,#REF!= \"BP\",#REF!=\"SCR\"),\"NT\",E78)","v":{"$error":"#REF!"}}]
[null,78,null,null,null,{"$f":"IF(OR(#REF!=5,#REF!=10,#REF!= 15,#REF!= \"BP\",#REF!=\"SCR\"),\"NT\",E79)","v":{"$error":"#REF!"}}]
[null,79,null,null,null,{"$f":"IF(OR(#REF!=5,#REF!=10,#REF!= 15,#REF!= \"BP\",#REF!=\"SCR\"),\"NT\",E80)","v":{"$error":"#REF!"}}]
[null,80,null,null,null,{"$f":"IF(OR(#REF!=5,#REF!=10,#REF!= 15,#REF!= \"BP\",#REF!=\"SCR\"),\"NT\",E81)","v":{"$error":"#REF!"}}]
[null,81,null,null,null,{"$f":"IF(OR(#REF!=5,#REF!=10,#REF!= 15,#REF!= \"BP\",#REF!=\"SCR\"),\"NT\",E82)","v":{"$error":"#REF!"}}]
[null,82,null,null,null,{"$f":"IF(OR(#REF!=5,#REF!=10,#REF!= 15,#REF!= \"BP\",#REF!=\"SCR\"),\"NT\",E83)","v":{"$error":"#REF!"}}]
[null,83,null,null,null,{"$f":"IF(OR(#REF!=5,#REF!=10,#REF!= 15,#REF!= \"BP\",#REF!=\"SCR\"),\"NT\",E84)","v":{"$error":"#REF!"}}]
[null,84,null,null,null,{"$f":"IF(OR(#REF!=5,#REF!=10,#REF!= 15,#REF!= \"BP\",#REF!=\"SCR\"),\"NT\",E85)","v":{"$error":"#REF!"}}]
[null,85,null,null,null,{"$f":"IF(OR(#REF!=5,#REF!=10,#REF!= 15,#REF!= \"BP\",#REF!=\"SCR\"),\"NT\",E86)","v":{"$error":"#REF!"}}]
[null,86,null,null,null,{"$f":"IF(OR(#REF!=5,#REF!=10,#REF!= 15,#REF!= \"BP\",#REF!=\"SCR\"),\"NT\",E87)","v":{"$error":"#REF!"}}]
[null,87,null,null,null,{"$f":"IF(OR(#REF!=5,#REF!=10,#REF!= 15,#REF!= \"BP\",#REF!=\"SCR\"),\"NT\",E88)","v":{"$error":"#REF!"}}]
[null,88,null,null,null,{"$f":"IF(OR(#REF!=5,#REF!=10,#REF!= 15,#REF!= \"BP\",#REF!=\"SCR\"),\"NT\",E89)","v":{"$error":"#REF!"}}]
[null,89,null,null,null,{"$f":"IF(OR(#REF!=5,#REF!=10,#REF!= 15,#REF!= \"BP\",#REF!=\"SCR\"),\"NT\",E90)","v":{"$error":"#REF!"}}]
[null,90,null,null,null,{"$f":"IF(OR(#REF!=5,#REF!=10,#REF!= 15,#REF!= \"BP\",#REF!=\"SCR\"),\"NT\",E91)","v":{"$error":"#REF!"}}]
[null,91,null,null,null,{"$f":"IF(OR(#REF!=5,#REF!=10,#REF!= 15,#REF!= \"BP\",#REF!=\"SCR\"),\"NT\",E92)","v":{"$error":"#REF!"}}]
[null,92,null,null,null,{"$f":"IF(OR(#REF!=5,#REF!=10,#REF!= 15,#REF!= \"BP\",#REF!=\"SCR\"),\"NT\",E93)","v":{"$error":"#REF!"}}]
[null,93,null,null,null,{"$f":"IF(OR(#REF!=5,#REF!=10,#REF!= 15,#REF!= \"BP\",#REF!=\"SCR\"),\"NT\",E94)","v":{"$error":"#REF!"}}]
[null,94,null,null,null,{"$f":"IF(OR(#REF!=5,#REF!=10,#REF!= 15,#REF!= \"BP\",#REF!=\"SCR\"),\"NT\",E95)","v":{"$error":"#REF!"}}]
[null,95,null,null,null,{"$f":"IF(OR(#REF!=5,#REF!=10,#REF!= 15,#REF!= \"BP\",#REF!=\"SCR\"),\"NT\",E96)","v":{"$error":"#REF!"}}]
[null,96,null,null,null,{"$f":"IF(OR(#REF!=5,#REF!=10,#REF!= 15,#REF!= \"BP\",#REF!=\"SCR\"),\"NT\",E97)","v":{"$error":"#REF!"}}]
[null,97,null,null,null,{"$f":"IF(OR(#REF!=5,#REF!=10,#REF!= 15,#REF!= \"BP\",#REF!=\"SCR\"),\"NT\",E98)","v":{"$error":"#REF!"}}]
[null,98,null,null,null,{"$f":"IF(OR(#REF!=5,#REF!=10,#REF!= 15,#REF!= \"BP\",#REF!=\"SCR\"),\"NT\",E99)","v":{"$error":"#REF!"}}]
[null,99,null,null,null,{"$f":"IF(OR(#REF!=5,#REF!=10,#REF!= 15,#REF!= \"BP\",#REF!=\"SCR\"),\"NT\",E100)","v":{"$error":"#REF!"}}]
[null,100,null,null,null,{"$f":"IF(OR(#REF!=5,#REF!=10,#REF!= 15,#REF!= \"BP\",#REF!=\"SCR\"),\"NT\",E101)","v":{"$error":"#REF!"}}]
[null,101,null,null,null,{"$f":"IF(OR(#REF!=5,#REF!=10,#REF!= 15,#REF!= \"BP\",#REF!=\"SCR\"),\"NT\",E102)","v":{"$error":"#REF!"}}]
[null,102,null,null,null,{"$f":"IF(OR(#REF!=5,#REF!=10,#REF!= 15,#REF!= \"BP\",#REF!=\"SCR\"),\"NT\",E103)","v":{"$error":"#REF!"}}]
[null,103,null,null,null,{"$f":"IF(OR(#REF!=5,#REF!=10,#REF!= 15,#REF!= \"BP\",#REF!=\"SCR\"),\"NT\",E104)","v":{"$error":"#REF!"}}]
[null,104,null,null,null,{"$f":"IF(OR(#REF!=5,#REF!=10,#REF!= 15,#REF!= \"BP\",#REF!=\"SCR\"),\"NT\",E105)","v":{"$error":"#REF!"}}]
[null,105,null,null,null,{"$f":"IF(OR(#REF!=5,#REF!=10,#REF!= 15,#REF!= \"BP\",#REF!=\"SCR\"),\"NT\",E106)","v":{"$error":"#REF!"}}]
[null,106,null,null,null,{"$f":"IF(OR(#REF!=5,#REF!=10,#REF!= 15,#REF!= \"BP\",#REF!=\"SCR\"),\"NT\",E107)","v":{"$error":"#REF!"}}]
[null,107,null,null,null,{"$f":"IF(OR(#REF!=5,#REF!=10,#REF!= 15,#REF!= \"BP\",#REF!=\"SCR\"),\"NT\",E108)","v":{"$error":"#REF!"}}]
[null,108,null,null,null,{"$f":"IF(OR(#REF!=5,#REF!=10,#REF!= 15,#REF!= \"BP\",#REF!=\"SCR\"),\"NT\",E109)","v":{"$error":"#REF!"}}]
[null,109,null,null,null,{"$f":"IF(OR(#REF!=5,#REF!=10,#REF!= 15,#REF!= \"BP\",#REF!=\"SCR\"),\"NT\",E110)","v":{"$error":"#REF!"}}]
[null,110,null,null,null,{"$f":"IF(OR(#REF!=5,#REF!=10,#REF!= 15,#REF!= \"BP\",#REF!=\"SCR\"),\"NT\",E111)","v":{"$error":"#REF!"}}]
[null,111,null,null,null,{"$f":"IF(OR(#REF!=5,#REF!=10,#REF!= 15,#REF!= \"BP\",#REF!=\"SCR\"),\"NT\",E112)","v":{"$error":"#REF!"}}]
[null,112,null,null,null,{"$f":"IF(OR(#REF!=5,#REF!=10,#REF!= 15,#REF!= \"BP\",#REF!=\"SCR\"),\"NT\",E113)","v":{"$error":"#REF!"}}]
[null,113,null,null,null,{"$f":"IF(OR(#REF!=5,#REF!=10,#REF!= 15,#REF!= \"BP\",#REF!=\"SCR\"),\"NT\",E114)","v":{"$error":"#REF!"}}]
[null,114,null,null,null,{"$f":"IF(OR(#REF!=5,#REF!=10,#REF!= 15,#REF!= \"BP\",#REF!=\"SCR\"),\"NT\",E115)","v":{"$error":"#REF!"}}]
[null,115,null,null,null,{"$f":"IF(OR(#REF!=5,#REF!=10,#REF!= 15,#REF!= \"BP\",#REF!=\"SCR\"),\"NT\",E116)","v":{"$error":"#REF!"}}]
[null,116,null,null,null,{"$f":"IF(OR(#REF!=5,#REF!=10,#REF!= 15,#REF!= \"BP\",#REF!=\"SCR\"),\"NT\",E117)","v":{"$error":"#REF!"}}]
[null,117,null,null,null,{"$f":"IF(OR(#REF!=5,#REF!=10,#REF!= 15,#REF!= \"BP\",#REF!=\"SCR\"),\"NT\",E118)","v":{"$error":"#REF!"}}]
[null,118,null,null,null,{"$f":"IF(OR(#REF!=5,#REF!=10,#REF!= 15,#REF!= \"BP\",#REF!=\"SCR\"),\"NT\",E119)","v":{"$error":"#REF!"}}]
[null,119,null,null,null,{"$f":"IF(OR(#REF!=5,#REF!=10,#REF!= 15,#REF!= \"BP\",#REF!=\"SCR\"),\"NT\",E120)","v":{"$error":"#REF!"}}]
[null,120,null,null,null,{"$f":"IF(OR(#REF!=5,#REF!=10,#REF!= 15,#REF!= \"BP\",#REF!=\"SCR\"),\"NT\",E121)","v":{"$error":"#REF!"}}]
[null,121,null,null,null,{"$f":"IF(OR(#REF!=5,#REF!=10,#REF!= 15,#REF!= \"BP\",#REF!=\"SCR\"),\"NT\",E122)","v":{"$error":"#REF!"}}]
[null,122,null,null,null,{"$f":"IF(OR(#REF!=5,#REF!=10,#REF!= 15,#REF!= \"BP\",#REF!=\"SCR\"),\"NT\",E123)","v":{"$error":"#REF!"}}]
[null,123,null,null,null,{"$f":"IF(OR(#REF!=5,#REF!=10,#REF!= 15,#REF!= \"BP\",#REF!=\"SCR\"),\"NT\",E124)","v":{"$error":"#REF!"}}]
[null,124,null,null,null,{"$f":"IF(OR(#REF!=5,#REF!=10,#REF!= 15,#REF!= \"BP\",#REF!=\"SCR\"),\"NT\",E125)","v":{"$error":"#REF!"}}]
[null,125,null,null,null,{"$f":"IF(OR(#REF!=5,#REF!=10,#REF!= 15,#REF!= \"BP\",#REF!=\"SCR\"),\"NT\",E126)","v":{"$error":"#REF!"}}]
[null,126,null,null,null,{"$f":"IF(OR(#REF!=5,#REF!=10,#REF!= 15,#REF!= \"BP\",#REF!=\"SCR\"),\"NT\",E127)","v":{"$error":"#REF!"}}]
[null,127,null,null,null,{"$f":"IF(OR(#REF!=5,#REF!=10,#REF!= 15,#REF!= \"BP\",#REF!=\"SCR\"),\"NT\",E128)","v":{"$error":"#REF!"}}]
[null,128,null,null,null,{"$f":"IF(OR(#REF!=5,#REF!=10,#REF!= 15,#REF!= \"BP\",#REF!=\"SCR\"),\"NT\",E129)","v":{"$error":"#REF!"}}]
[null,129,null,null,null,{"$f":"IF(OR(#REF!=5,#REF!=10,#REF!= 15,#REF!= \"BP\",#REF!=\"SCR\"),\"NT\",E130)","v":{"$error":"#REF!"}}]
[null,130,null,null,null,{"$f":"IF(OR(#REF!=5,#REF!=10,#REF!= 15,#REF!= \"BP\",#REF!=\"SCR\"),\"NT\",E131)","v":{"$error":"#REF!"}}]
[null,131,null,null,null,{"$f":"IF(OR(#REF!=5,#REF!=10,#REF!= 15,#REF!= \"BP\",#REF!=\"SCR\"),\"NT\",E132)","v":{"$error":"#REF!"}}]
[null,132,null,null,null,{"$f":"IF(OR(#REF!=5,#REF!=10,#REF!= 15,#REF!= \"BP\",#REF!=\"SCR\"),\"NT\",E133)","v":{"$error":"#REF!"}}]
[null,133,null,null,null,{"$f":"IF(OR(#REF!=5,#REF!=10,#REF!= 15,#REF!= \"BP\",#REF!=\"SCR\"),\"NT\",E134)","v":{"$error":"#REF!"}}]
[null,134,null,null,null,{"$f":"IF(OR(#REF!=5,#REF!=10,#REF!= 15,#REF!= \"BP\",#REF!=\"SCR\"),\"NT\",E135)","v":{"$error":"#REF!"}}]
[null,135,null,null,null,{"$f":"IF(OR(#REF!=5,#REF!=10,#REF!= 15,#REF!= \"BP\",#REF!=\"SCR\"),\"NT\",E136)","v":{"$error":"#REF!"}}]
[null,136,null,null,null,{"$f":"IF(OR(#REF!=5,#REF!=10,#REF!= 15,#REF!= \"BP\",#REF!=\"SCR\"),\"NT\",E137)","v":{"$error":"#REF!"}}]
[null,137,null,null,null,{"$f":"IF(OR(#REF!=5,#REF!=10,#REF!= 15,#REF!= \"BP\",#REF!=\"SCR\"),\"NT\",E138)","v":{"$error":"#REF!"}}]
[null,138,null,null,null,{"$f":"IF(OR(#REF!=5,#REF!=10,#REF!= 15,#REF!= \"BP\",#REF!=\"SCR\"),\"NT\",E139)","v":{"$error":"#REF!"}}]
[null,139,null,null,null,{"$f":"IF(OR(#REF!=5,#REF!=10,#REF!= 15,#REF!= \"BP\",#REF!=\"SCR\"),\"NT\",E140)","v":{"$error":"#REF!"}}]
[null,140,null,null,null,{"$f":"IF(OR(#REF!=5,#REF!=10,#REF!= 15,#REF!= \"BP\",#REF!=\"SCR\"),\"NT\",E141)","v":{"$error":"#REF!"}}]
[null,141,null,null,null,{"$f":"IF(OR(#REF!=5,#REF!=10,#REF!= 15,#REF!= \"BP\",#REF!=\"SCR\"),\"NT\",E142)","v":{"$error":"#REF!"}}]
[null,142,null,null,null,{"$f":"IF(OR(#REF!=5,#REF!=10,#REF!= 15,#REF!= \"BP\",#REF!=\"SCR\"),\"NT\",E143)","v":{"$error":"#REF!"}}]
[null,143,null,null,null,{"$f":"IF(OR(#REF!=5,#REF!=10,#REF!= 15,#REF!= \"BP\",#REF!=\"SCR\"),\"NT\",E144)","v":{"$error":"#REF!"}}]
[null,144,null,null,null,{"$f":"IF(OR(#REF!=5,#REF!=10,#REF!= 15,#REF!= \"BP\",#REF!=\"SCR\"),\"NT\",E145)","v":{"$error":"#REF!"}}]
[null,145,null,null,null,{"$f":"IF(OR(#REF!=5,#REF!=10,#REF!= 15,#REF!= \"BP\",#REF!=\"SCR\"),\"NT\",E146)","v":{"$error":"#REF!"}}]
[null,146,null,null,null,{"$f":"IF(OR(#REF!=5,#REF!=10,#REF!= 15,#REF!= \"BP\",#REF!=\"SCR\"),\"NT\",E147)","v":{"$error":"#REF!"}}]
[null,147,null,null,null,{"$f":"IF(OR(#REF!=5,#REF!=10,#REF!= 15,#REF!= \"BP\",#REF!=\"SCR\"),\"NT\",E148)","v":{"$error":"#REF!"}}]
[null,148,null,null,null,{"$f":"IF(OR(#REF!=5,#REF!=10,#REF!= 15,#REF!= \"BP\",#REF!=\"SCR\"),\"NT\",E149)","v":{"$error":"#REF!"}}]
[null,149,null,null,null,{"$f":"IF(OR(#REF!=5,#REF!=10,#REF!= 15,#REF!= \"BP\",#REF!=\"SCR\"),\"NT\",E150)","v":{"$error":"#REF!"}}]
[null,150,null,null,null,{"$f":"IF(OR(#REF!=5,#REF!=10,#REF!= 15,#REF!= \"BP\",#REF!=\"SCR\"),\"NT\",E151)","v":{"$error":"#REF!"}}]
[null,151,null,null,null,{"$f":"IF(OR(#REF!=5,#REF!=10,#REF!= 15,#REF!= \"BP\",#REF!=\"SCR\"),\"NT\",E152)","v":{"$error":"#REF!"}}]
[null,152,null,null,null,{"$f":"IF(OR(#REF!=5,#REF!=10,#REF!= 15,#REF!= \"BP\",#REF!=\"SCR\"),\"NT\",E153)","v":{"$error":"#REF!"}}]
[null,153,null,null,null,{"$f":"IF(OR(#REF!=5,#REF!=10,#REF!= 15,#REF!= \"BP\",#REF!=\"SCR\"),\"NT\",E154)","v":{"$error":"#REF!"}}]
[null,154,null,null,null,{"$f":"IF(OR(#REF!=5,#REF!=10,#REF!= 15,#REF!= \"BP\",#REF!=\"SCR\"),\"NT\",E155)","v":{"$error":"#REF!"}}]
[null,155,null,null,null,{"$f":"IF(OR(#REF!=5,#REF!=10,#REF!= 15,#REF!= \"BP\",#REF!=\"SCR\"),\"NT\",E156)","v":{"$error":"#REF!"}}]
[null,156,null,null,null,{"$f":"IF(OR(#REF!=5,#REF!=10,#REF!= 15,#REF!= \"BP\",#REF!=\"SCR\"),\"NT\",E157)","v":{"$error":"#REF!"}}]
[null,157,null,null,null,{"$f":"IF(OR(#REF!=5,#REF!=10,#REF!= 15,#REF!= \"BP\",#REF!=\"SCR\"),\"NT\",E158)","v":{"$error":"#REF!"}}]
[null,158,null,null,null,{"$f":"IF(OR(#REF!=5,#REF!=10,#REF!= 15,#REF!= \"BP\",#REF!=\"SCR\"),\"NT\",E159)","v":{"$error":"#REF!"}}]
[null,159,null,null,null,{"$f":"IF(OR(#REF!=5,#REF!=10,#REF!= 15,#REF!= \"BP\",#REF!=\"SCR\"),\"NT\",E160)","v":{"$error":"#REF!"}}]
[null,160,null,null,null,{"$f":"IF(OR(#REF!=5,#REF!=10,#REF!= 15,#REF!= \"BP\",#REF!=\"SCR\"),\"NT\",E161)","v":{"$error":"#REF!"}}]
[null,161,null,null,null,{"$f":"IF(OR(#REF!=5,#REF!=10,#REF!= 15,#REF!= \"BP\",#REF!=\"SCR\"),\"NT\",E162)","v":{"$error":"#REF!"}}]
[null,162,null,null,null,{"$f":"IF(OR(#REF!=5,#REF!=10,#REF!= 15,#REF!= \"BP\",#REF!=\"SCR\"),\"NT\",E163)","v":{"$error":"#REF!"}}]
[null,163,null,null,null,{"$f":"IF(OR(#REF!=5,#REF!=10,#REF!= 15,#REF!= \"BP\",#REF!=\"SCR\"),\"NT\",E164)","v":{"$error":"#REF!"}}]
[null,164,null,null,null,{"$f":"IF(OR(#REF!=5,#REF!=10,#REF!= 15,#REF!= \"BP\",#REF!=\"SCR\"),\"NT\",E165)","v":{"$error":"#REF!"}}]
[null,165,null,null,null,{"$f":"IF(OR(#REF!=5,#REF!=10,#REF!= 15,#REF!= \"BP\",#REF!=\"SCR\"),\"NT\",E166)","v":{"$error":"#REF!"}}]
[null,166,null,null,null,{"$f":"IF(OR(#REF!=5,#REF!=10,#REF!= 15,#REF!= \"BP\",#REF!=\"SCR\"),\"NT\",E167)","v":{"$error":"#REF!"}}]
[null,167,null,null,null,{"$f":"IF(OR(#REF!=5,#REF!=10,#REF!= 15,#REF!= \"BP\",#REF!=\"SCR\"),\"NT\",E168)","v":{"$error":"#REF!"}}]
[null,168,null,null,null,{"$f":"IF(OR(#REF!=5,#REF!=10,#REF!= 15,#REF!= \"BP\",#REF!=\"SCR\"),\"NT\",E169)","v":{"$error":"#REF!"}}]
[null,169,null,null,null,{"$f":"IF(OR(#REF!=5,#REF!=10,#REF!= 15,#REF!= \"BP\",#REF!=\"SCR\"),\"NT\",E170)","v":{"$error":"#REF!"}}]
[null,170,null,null,null,{"$f":"IF(OR(#REF!=5,#REF!=10,#REF!= 15,#REF!= \"BP\",#REF!=\"SCR\"),\"NT\",E171)","v":{"$error":"#REF!"}}]
[null,171,null,null,null,{"$f":"IF(OR(#REF!=5,#REF!=10,#REF!= 15,#REF!= \"BP\",#REF!=\"SCR\"),\"NT\",E172)","v":{"$error":"#REF!"}}]
[null,172,null,null,null,{"$f":"IF(OR(#REF!=5,#REF!=10,#REF!= 15,#REF!= \"BP\",#REF!=\"SCR\"),\"NT\",E173)","v":{"$error":"#REF!"}}]
[null,173,null,null,null,{"$f":"IF(OR(#REF!=5,#REF!=10,#REF!= 15,#REF!= \"BP\",#REF!=\"SCR\"),\"NT\",E174)","v":{"$error":"#REF!"}}]
[null,174,null,null,null,{"$f":"IF(OR(#REF!=5,#REF!=10,#REF!= 15,#REF!= \"BP\",#REF!=\"SCR\"),\"NT\",E175)","v":{"$error":"#REF!"}}]
[null,175,null,null,null,{"$f":"IF(OR(#REF!=5,#REF!=10,#REF!= 15,#REF!= \"BP\",#REF!=\"SCR\"),\"NT\",E176)","v":{"$error":"#REF!"}}]
[null,176,null,null,null,{"$f":"IF(OR(#REF!=5,#REF!=10,#REF!= 15,#REF!= \"BP\",#REF!=\"SCR\"),\"NT\",E177)","v":{"$error":"#REF!"}}]
[null,177,null,null,null,{"$f":"IF(OR(#REF!=5,#REF!=10,#REF!= 15,#REF!= \"BP\",#REF!=\"SCR\"),\"NT\",E178)","v":{"$error":"#REF!"}}]
[null,178,null,null,null,{"$f":"IF(OR(#REF!=5,#REF!=10,#REF!= 15,#REF!= \"BP\",#REF!=\"SCR\"),\"NT\",E179)","v":{"$error":"#REF!"}}]
[null,179,null,null,null,{"$f":"IF(OR(#REF!=5,#REF!=10,#REF!= 15,#REF!= \"BP\",#REF!=\"SCR\"),\"NT\",E180)","v":{"$error":"#REF!"}}]
[null,180,null,null,null,{"$f":"IF(OR(#REF!=5,#REF!=10,#REF!= 15,#REF!= \"BP\",#REF!=\"SCR\"),\"NT\",E181)","v":{"$error":"#REF!"}}]
[null,181,null,null,null,{"$f":"IF(OR(#REF!=5,#REF!=10,#REF!= 15,#REF!= \"BP\",#REF!=\"SCR\"),\"NT\",E182)","v":{"$error":"#REF!"}}]
[null,182,null,null,null,{"$f":"IF(OR(#REF!=5,#REF!=10,#REF!= 15,#REF!= \"BP\",#REF!=\"SCR\"),\"NT\",E183)","v":{"$error":"#REF!"}}]
[null,183,null,null,null,{"$f":"IF(OR(#REF!=5,#REF!=10,#REF!= 15,#REF!= \"BP\",#REF!=\"SCR\"),\"NT\",E184)","v":{"$error":"#REF!"}}]
[null,184,null,null,null,{"$f":"IF(OR(#REF!=5,#REF!=10,#REF!= 15,#REF!= \"BP\",#REF!=\"SCR\"),\"NT\",E185)","v":{"$error":"#REF!"}}]
[null,185,null,null,null,{"$f":"IF(OR(#REF!=5,#REF!=10,#REF!= 15,#REF!= \"BP\",#REF!=\"SCR\"),\"NT\",E186)","v":{"$error":"#REF!"}}]
[null,186,null,null,null,{"$f":"IF(OR(#REF!=5,#REF!=10,#REF!= 15,#REF!= \"BP\",#REF!=\"SCR\"),\"NT\",E187)","v":{"$error":"#REF!"}}]
[null,187,null,null,null,{"$f":"IF(OR(#REF!=5,#REF!=10,#REF!= 15,#REF!= \"BP\",#REF!=\"SCR\"),\"NT\",E188)","v":{"$error":"#REF!"}}]
[null,188,null,null,null,{"$f":"IF(OR(#REF!=5,#REF!=10,#REF!= 15,#REF!= \"BP\",#REF!=\"SCR\"),\"NT\",E189)","v":{"$error":"#REF!"}}]
[null,189,null,null,null,{"$f":"IF(OR(#REF!=5,#REF!=10,#REF!= 15,#REF!= \"BP\",#REF!=\"SCR\"),\"NT\",E190)","v":{"$error":"#REF!"}}]
[null,190,null,null,null,{"$f":"IF(OR(#REF!=5,#REF!=10,#REF!= 15,#REF!= \"BP\",#REF!=\"SCR\"),\"NT\",E191)","v":{"$error":"#REF!"}}]
[null,191,null,null,null,{"$f":"IF(OR(#REF!=5,#REF!=10,#REF!= 15,#REF!= \"BP\",#REF!=\"SCR\"),\"NT\",E192)","v":{"$error":"#REF!"}}]
[null,192,null,null,null,{"$f":"IF(OR(#REF!=5,#REF!=10,#REF!= 15,#REF!= \"BP\",#REF!=\"SCR\"),\"NT\",E193)","v":{"$error":"#REF!"}}]
[null,193,null,null,null,{"$f":"IF(OR(#REF!=5,#REF!=10,#REF!= 15,#REF!= \"BP\",#REF!=\"SCR\"),\"NT\",E194)","v":{"$error":"#REF!"}}]
[null,194,null,null,null,{"$f":"IF(OR(#REF!=5,#REF!=10,#REF!= 15,#REF!= \"BP\",#REF!=\"SCR\"),\"NT\",E195)","v":{"$error":"#REF!"}}]
[null,195,null,null,null,{"$f":"IF(OR(#REF!=5,#REF!=10,#REF!= 15,#REF!= \"BP\",#REF!=\"SCR\"),\"NT\",E196)","v":{"$error":"#REF!"}}]
[null,196,null,null,null,{"$f":"IF(OR(#REF!=5,#REF!=10,#REF!= 15,#REF!= \"BP\",#REF!=\"SCR\"),\"NT\",E197)","v":{"$error":"#REF!"}}]
[null,197,null,null,null,{"$f":"IF(OR(#REF!=5,#REF!=10,#REF!= 15,#REF!= \"BP\",#REF!=\"SCR\"),\"NT\",E198)","v":{"$error":"#REF!"}}]
[null,198,null,null,null,{"$f":"IF(OR(#REF!=5,#REF!=10,#REF!= 15,#REF!= \"BP\",#REF!=\"SCR\"),\"NT\",E199)","v":{"$error":"#REF!"}}]
[null,199,null,null,null,{"$f":"IF(OR(#REF!=5,#REF!=10,#REF!= 15,#REF!= \"BP\",#REF!=\"SCR\"),\"NT\",E200)","v":{"$error":"#REF!"}}]
[null,200,null,null,null,{"$f":"IF(OR(#REF!=5,#REF!=10,#REF!= 15,#REF!= \"BP\",#REF!=\"SCR\"),\"NT\",E201)","v":{"$error":"#REF!"}}]
[null,201,null,null,null,{"$f":"IF(OR(#REF!=5,#REF!=10,#REF!= 15,#REF!= \"BP\",#REF!=\"SCR\"),\"NT\",E202)","v":{"$error":"#REF!"}}]
[null,202,null,null,null,{"$f":"IF(OR(#REF!=5,#REF!=10,#REF!= 15,#REF!= \"BP\",#REF!=\"SCR\"),\"NT\",E203)","v":{"$error":"#REF!"}}]
[null,203,null,null,null,{"$f":"IF(OR(#REF!=5,#REF!=10,#REF!= 15,#REF!= \"BP\",#REF!=\"SCR\"),\"NT\",E204)","v":{"$error":"#REF!"}}]
[null,204,null,null,null,{"$f":"IF(OR(#REF!=5,#REF!=10,#REF!= 15,#REF!= \"BP\",#REF!=\"SCR\"),\"NT\",E205)","v":{"$error":"#REF!"}}]
[null,205,null,null,null,{"$f":"IF(OR(#REF!=5,#REF!=10,#REF!= 15,#REF!= \"BP\",#REF!=\"SCR\"),\"NT\",E206)","v":{"$error":"#REF!"}}]
[null,206,null,null,null,{"$f":"IF(OR(#REF!=5,#REF!=10,#REF!= 15,#REF!= \"BP\",#REF!=\"SCR\"),\"NT\",E207)","v":{"$error":"#REF!"}}]
[null,207,null,null,null,{"$f":"IF(OR(#REF!=5,#REF!=10,#REF!= 15,#REF!= \"BP\",#REF!=\"SCR\"),\"NT\",E208)","v":{"$error":"#REF!"}}]
[null,208,null,null,null,{"$f":"IF(OR(#REF!=5,#REF!=10,#REF!= 15,#REF!= \"BP\",#REF!=\"SCR\"),\"NT\",E209)","v":{"$error":"#REF!"}}]
[null,209,null,null,null,{"$f":"IF(OR(#REF!=5,#REF!=10,#REF!= 15,#REF!= \"BP\",#REF!=\"SCR\"),\"NT\",E210)","v":{"$error":"#REF!"}}]
[null,210,null,null,null,{"$f":"IF(OR(#REF!=5,#REF!=10,#REF!= 15,#REF!= \"BP\",#REF!=\"SCR\"),\"NT\",E211)","v":{"$error":"#REF!"}}]
[null,211,null,null,null,{"$f":"IF(OR(#REF!=5,#REF!=10,#REF!= 15,#REF!= \"BP\",#REF!=\"SCR\"),\"NT\",E212)","v":{"$error":"#REF!"}}]
[null,212,null,null,null,{"$f":"IF(OR(#REF!=5,#REF!=10,#REF!= 15,#REF!= \"BP\",#REF!=\"SCR\"),\"NT\",E213)","v":{"$error":"#REF!"}}]
[null,213,null,null,null,{"$f":"IF(OR(#REF!=5,#REF!=10,#REF!= 15,#REF!= \"BP\",#REF!=\"SCR\"),\"NT\",E214)","v":{"$error":"#REF!"}}]
[null,214,null,null,null,{"$f":"IF(OR(#REF!=5,#REF!=10,#REF!= 15,#REF!= \"BP\",#REF!=\"SCR\"),\"NT\",E215)","v":{"$error":"#REF!"}}]
[null,215,null,null,null,{"$f":"IF(OR(#REF!=5,#REF!=10,#REF!= 15,#REF!= \"BP\",#REF!=\"SCR\"),\"NT\",E216)","v":{"$error":"#REF!"}}]
[null,216,null,null,null,{"$f":"IF(OR(#REF!=5,#REF!=10,#REF!= 15,#REF!= \"BP\",#REF!=\"SCR\"),\"NT\",E217)","v":{"$error":"#REF!"}}]
[null,217,null,null,null,{"$f":"IF(OR(#REF!=5,#REF!=10,#REF!= 15,#REF!= \"BP\",#REF!=\"SCR\"),\"NT\",E218)","v":{"$error":"#REF!"}}]
[null,218,null,null,null,{"$f":"IF(OR(#REF!=5,#REF!=10,#REF!= 15,#REF!= \"BP\",#REF!=\"SCR\"),\"NT\",E219)","v":{"$error":"#REF!"}}]
[null,219,null,null,null,{"$f":"IF(OR(#REF!=5,#REF!=10,#REF!= 15,#REF!= \"BP\",#REF!=\"SCR\"),\"NT\",E220)","v":{"$error":"#REF!"}}]
[null,220,null,null,null,{"$f":"IF(OR(#REF!=5,#REF!=10,#REF!= 15,#REF!= \"BP\",#REF!=\"SCR\"),\"NT\",E221)","v":{"$error":"#REF!"}}]
[null,221,null,null,null,{"$f":"IF(OR(#REF!=5,#REF!=10,#REF!= 15,#REF!= \"BP\",#REF!=\"SCR\"),\"NT\",E222)","v":{"$error":"#REF!"}}]
[null,222,null,null,null,{"$f":"IF(OR(#REF!=5,#REF!=10,#REF!= 15,#REF!= \"BP\",#REF!=\"SCR\"),\"NT\",E223)","v":{"$error":"#REF!"}}]
[null,223,null,null,null,{"$f":"IF(OR(#REF!=5,#REF!=10,#REF!= 15,#REF!= \"BP\",#REF!=\"SCR\"),\"NT\",E224)","v":{"$error":"#REF!"}}]
[null,224,null,null,null,{"$f":"IF(OR(#REF!=5,#REF!=10,#REF!= 15,#REF!= \"BP\",#REF!=\"SCR\"),\"NT\",E225)","v":{"$error":"#REF!"}}]
[null,225,null,null,null,{"$f":"IF(OR(#REF!=5,#REF!=10,#REF!= 15,#REF!= \"BP\",#REF!=\"SCR\"),\"NT\",E226)","v":{"$error":"#REF!"}}]
[null,226,null,null,null,{"$f":"IF(OR(#REF!=5,#REF!=10,#REF!= 15,#REF!= \"BP\",#REF!=\"SCR\"),\"NT\",E227)","v":{"$error":"#REF!"}}]
[null,227,null,null,null,{"$f":"IF(OR(#REF!=5,#REF!=10,#REF!= 15,#REF!= \"BP\",#REF!=\"SCR\"),\"NT\",E228)","v":{"$error":"#REF!"}}]
[null,228,null,null,null,{"$f":"IF(OR(#REF!=5,#REF!=10,#REF!= 15,#REF!= \"BP\",#REF!=\"SCR\"),\"NT\",E229)","v":{"$error":"#REF!"}}]
[null,229,null,null,null,{"$f":"IF(OR(#REF!=5,#REF!=10,#REF!= 15,#REF!= \"BP\",#REF!=\"SCR\"),\"NT\",E230)","v":{"$error":"#REF!"}}]
[null,230,null,null,null,{"$f":"IF(OR(#REF!=5,#REF!=10,#REF!= 15,#REF!= \"BP\",#REF!=\"SCR\"),\"NT\",E231)","v":{"$error":"#REF!"}}]
[null,231,null,null,null,{"$f":"IF(OR(#REF!=5,#REF!=10,#REF!= 15,#REF!= \"BP\",#REF!=\"SCR\"),\"NT\",E232)","v":{"$error":"#REF!"}}]
[null,232,null,null,null,{"$f":"IF(OR(#REF!=5,#REF!=10,#REF!= 15,#REF!= \"BP\",#REF!=\"SCR\"),\"NT\",E233)","v":{"$error":"#REF!"}}]
[null,233,null,null,null,{"$f":"IF(OR(#REF!=5,#REF!=10,#REF!= 15,#REF!= \"BP\",#REF!=\"SCR\"),\"NT\",E234)","v":{"$error":"#REF!"}}]
[null,234,null,null,null,{"$f":"IF(OR(#REF!=5,#REF!=10,#REF!= 15,#REF!= \"BP\",#REF!=\"SCR\"),\"NT\",E235)","v":{"$error":"#REF!"}}]
[null,235,null,null,null,{"$f":"IF(OR(#REF!=5,#REF!=10,#REF!= 15,#REF!= \"BP\",#REF!=\"SCR\"),\"NT\",E236)","v":{"$error":"#REF!"}}]
[null,236,null,null,null,{"$f":"IF(OR(#REF!=5,#REF!=10,#REF!= 15,#REF!= \"BP\",#REF!=\"SCR\"),\"NT\",E237)","v":{"$error":"#REF!"}}]
[null,237,null,null,null,{"$f":"IF(OR(#REF!=5,#REF!=10,#REF!= 15,#REF!= \"BP\",#REF!=\"SCR\"),\"NT\",E238)","v":{"$error":"#REF!"}}]
[null,238,null,null,null,{"$f":"IF(OR(#REF!=5,#REF!=10,#REF!= 15,#REF!= \"BP\",#REF!=\"SCR\"),\"NT\",E239)","v":{"$error":"#REF!"}}]
[null,239,null,null,null,{"$f":"IF(OR(#REF!=5,#REF!=10,#REF!= 15,#REF!= \"BP\",#REF!=\"SCR\"),\"NT\",E240)","v":{"$error":"#REF!"}}]
[null,240,null,null,null,{"$f":"IF(OR(#REF!=5,#REF!=10,#REF!= 15,#REF!= \"BP\",#REF!=\"SCR\"),\"NT\",E241)","v":{"$error":"#REF!"}}]
[null,241,null,null,null,{"$f":"IF(OR(#REF!=5,#REF!=10,#REF!= 15,#REF!= \"BP\",#REF!=\"SCR\"),\"NT\",E242)","v":{"$error":"#REF!"}}]
[null,242,null,null,null,{"$f":"IF(OR(#REF!=5,#REF!=10,#REF!= 15,#REF!= \"BP\",#REF!=\"SCR\"),\"NT\",E243)","v":{"$error":"#REF!"}}]
[null,243,null,null,null,{"$f":"IF(OR(#REF!=5,#REF!=10,#REF!= 15,#REF!= \"BP\",#REF!=\"SCR\"),\"NT\",E244)","v":{"$error":"#REF!"}}]
[null,244,null,null,null,{"$f":"IF(OR(#REF!=5,#REF!=10,#REF!= 15,#REF!= \"BP\",#REF!=\"SCR\"),\"NT\",E245)","v":{"$error":"#REF!"}}]
[null,245,null,null,null,{"$f":"IF(OR(#REF!=5,#REF!=10,#REF!= 15,#REF!= \"BP\",#REF!=\"SCR\"),\"NT\",E246)","v":{"$error":"#REF!"}}]
[null,246,null,null,null,{"$f":"IF(OR(#REF!=5,#REF!=10,#REF!= 15,#REF!= \"BP\",#REF!=\"SCR\"),\"NT\",E247)","v":{"$error":"#REF!"}}]
[null,247,null,null,null,{"$f":"IF(OR(#REF!=5,#REF!=10,#REF!= 15,#REF!= \"BP\",#REF!=\"SCR\"),\"NT\",E248)","v":{"$error":"#REF!"}}]
[null,248,null,null,null,{"$f":"IF(OR(#REF!=5,#REF!=10,#REF!= 15,#REF!= \"BP\",#REF!=\"SCR\"),\"NT\",E249)","v":{"$error":"#REF!"}}]
[null,249,null,null,null,{"$f":"IF(OR(#REF!=5,#REF!=10,#REF!= 15,#REF!= \"BP\",#REF!=\"SCR\"),\"NT\",E250)","v":{"$error":"#REF!"}}]
[null,250,null,null,null,{"$f":"IF(OR(#REF!=5,#REF!=10,#REF!= 15,#REF!= \"BP\",#REF!=\"SCR\"),\"NT\",E251)","v":{"$error":"#REF!"}}]
[null,251,null,null,null,{"$f":"IF(OR(#REF!=5,#REF!=10,#REF!= 15,#REF!= \"BP\",#REF!=\"SCR\"),\"NT\",E252)","v":{"$error":"#REF!"}}]
[null,252,null,null,null,{"$f":"IF(OR(#REF!=5,#REF!=10,#REF!= 15,#REF!= \"BP\",#REF!=\"SCR\"),\"NT\",E253)","v":{"$error":"#REF!"}}]
[null,253,null,null,null,{"$f":"IF(OR(#REF!=5,#REF!=10,#REF!= 15,#REF!= \"BP\",#REF!=\"SCR\"),\"NT\",E254)","v":{"$error":"#REF!"}}]
[null,254,null,null,null,{"$f":"IF(OR(#REF!=5,#REF!=10,#REF!= 15,#REF!= \"BP\",#REF!=\"SCR\"),\"NT\",E255)","v":{"$error":"#REF!"}}]
[null,255,null,null,null,{"$f":"IF(OR(#REF!=5,#REF!=10,#REF!= 15,#REF!= \"BP\",#REF!=\"SCR\"),\"NT\",E256)","v":{"$error":"#REF!"}}]
[null,256,null,null,null,{"$f":"IF(OR(#REF!=5,#REF!=10,#REF!= 15,#REF!= \"BP\",#REF!=\"SCR\"),\"NT\",E257)","v":{"$error":"#REF!"}}]
[null,257,null,null,null,{"$f":"IF(OR(#REF!=5,#REF!=10,#REF!= 15,#REF!= \"BP\",#REF!=\"SCR\"),\"NT\",E258)","v":{"$error":"#REF!"}}]
[null,258,null,null,null,{"$f":"IF(OR(#REF!=5,#REF!=10,#REF!= 15,#REF!= \"BP\",#REF!=\"SCR\"),\"NT\",E259)","v":{"$error":"#REF!"}}]
[null,259,null,null,null,{"$f":"IF(OR(#REF!=5,#REF!=10,#REF!= 15,#REF!= \"BP\",#REF!=\"SCR\"),\"NT\",E260)","v":{"$error":"#REF!"}}]
[null,260,null,null,null,{"$f":"IF(OR(#REF!=5,#REF!=10,#REF!= 15,#REF!= \"BP\",#REF!=\"SCR\"),\"NT\",E261)","v":{"$error":"#REF!"}}]
[null,261,null,null,null,{"$f":"IF(OR(#REF!=5,#REF!=10,#REF!= 15,#REF!= \"BP\",#REF!=\"SCR\"),\"NT\",E262)","v":{"$error":"#REF!"}}]
[null,262,null,null,null,{"$f":"IF(OR(#REF!=5,#REF!=10,#REF!= 15,#REF!= \"BP\",#REF!=\"SCR\"),\"NT\",E263)","v":{"$error":"#REF!"}}]
[null,263,null,null,null,{"$f":"IF(OR(#REF!=5,#REF!=10,#REF!= 15,#REF!= \"BP\",#REF!=\"SCR\"),\"NT\",E264)","v":{"$error":"#REF!"}}]
[null,264,null,null,null,{"$f":"IF(OR(#REF!=5,#REF!=10,#REF!= 15,#REF!= \"BP\",#REF!=\"SCR\"),\"NT\",E265)","v":{"$error":"#REF!"}}]
[null,265,null,null,null,{"$f":"IF(OR(#REF!=5,#REF!=10,#REF!= 15,#REF!= \"BP\",#REF!=\"SCR\"),\"NT\",E266)","v":{"$error":"#REF!"}}]
[null,266,null,null,null,{"$f":"IF(OR(#REF!=5,#REF!=10,#REF!= 15,#REF!= \"BP\",#REF!=\"SCR\"),\"NT\",E267)","v":{"$error":"#REF!"}}]
[null,267,null,null,null,{"$f":"IF(OR(#REF!=5,#REF!=10,#REF!= 15,#REF!= \"BP\",#REF!=\"SCR\"),\"NT\",E268)","v":{"$error":"#REF!"}}]
[null,268,null,null,null,{"$f":"IF(OR(#REF!=5,#REF!=10,#REF!= 15,#REF!= \"BP\",#REF!=\"SCR\"),\"NT\",E269)","v":{"$error":"#REF!"}}]
[null,269,null,null,null,{"$f":"IF(OR(#REF!=5,#REF!=10,#REF!= 15,#REF!= \"BP\",#REF!=\"SCR\"),\"NT\",E270)","v":{"$error":"#REF!"}}]
[null,270,null,null,null,{"$f":"IF(OR(#REF!=5,#REF!=10,#REF!= 15,#REF!= \"BP\",#REF!=\"SCR\"),\"NT\",E271)","v":{"$error":"#REF!"}}]
[null,271,null,null,null,{"$f":"IF(OR(#REF!=5,#REF!=10,#REF!= 15,#REF!= \"BP\",#REF!=\"SCR\"),\"NT\",E272)","v":{"$error":"#REF!"}}]
[null,272,null,null,null,{"$f":"IF(OR(#REF!=5,#REF!=10,#REF!= 15,#REF!= \"BP\",#REF!=\"SCR\"),\"NT\",E273)","v":{"$error":"#REF!"}}]
[null,273,null,null,null,{"$f":"IF(OR(#REF!=5,#REF!=10,#REF!= 15,#REF!= \"BP\",#REF!=\"SCR\"),\"NT\",E274)","v":{"$error":"#REF!"}}]
[null,274,null,null,null,{"$f":"IF(OR(#REF!=5,#REF!=10,#REF!= 15,#REF!= \"BP\",#REF!=\"SCR\"),\"NT\",E275)","v":{"$error":"#REF!"}}]
[null,275,null,null,null,{"$f":"IF(OR(#REF!=5,#REF!=10,#REF!= 15,#REF!= \"BP\",#REF!=\"SCR\"),\"NT\",E276)","v":{"$error":"#REF!"}}]
[null,276,null,null,null,{"$f":"IF(OR(#REF!=5,#REF!=10,#REF!= 15,#REF!= \"BP\",#REF!=\"SCR\"),\"NT\",E277)","v":{"$error":"#REF!"}}]
[null,277,null,null,null,{"$f":"IF(OR(#REF!=5,#REF!=10,#REF!= 15,#REF!= \"BP\",#REF!=\"SCR\"),\"NT\",E278)","v":{"$error":"#REF!"}}]
[null,278,null,null,null,{"$f":"IF(OR(#REF!=5,#REF!=10,#REF!= 15,#REF!= \"BP\",#REF!=\"SCR\"),\"NT\",E279)","v":{"$error":"#REF!"}}]
[null,279,null,null,null,{"$f":"IF(OR(#REF!=5,#REF!=10,#REF!= 15,#REF!= \"BP\",#REF!=\"SCR\"),\"NT\",E280)","v":{"$error":"#REF!"}}]
[null,280,null,null,null,{"$f":"IF(OR(#REF!=5,#REF!=10,#REF!= 15,#REF!= \"BP\",#REF!=\"SCR\"),\"NT\",E281)","v":{"$error":"#REF!"}}]
[null,281,null,null,null,{"$f":"IF(OR(#REF!=5,#REF!=10,#REF!= 15,#REF!= \"BP\",#REF!=\"SCR\"),\"NT\",E282)","v":{"$error":"#REF!"}}]
[null,282,null,null,null,{"$f":"IF(OR(#REF!=5,#REF!=10,#REF!= 15,#REF!= \"BP\",#REF!=\"SCR\"),\"NT\",E283)","v":{"$error":"#REF!"}}]
[null,283,null,null,null,{"$f":"IF(OR(#REF!=5,#REF!=10,#REF!= 15,#REF!= \"BP\",#REF!=\"SCR\"),\"NT\",E284)","v":{"$error":"#REF!"}}]
[null,284,null,null,null,{"$f":"IF(OR(#REF!=5,#REF!=10,#REF!= 15,#REF!= \"BP\",#REF!=\"SCR\"),\"NT\",E285)","v":{"$error":"#REF!"}}]
[null,285,null,null,null,{"$f":"IF(OR(#REF!=5,#REF!=10,#REF!= 15,#REF!= \"BP\",#REF!=\"SCR\"),\"NT\",E286)","v":{"$error":"#REF!"}}]
[null,286,null,null,null,{"$f":"IF(OR(#REF!=5,#REF!=10,#REF!= 15,#REF!= \"BP\",#REF!=\"SCR\"),\"NT\",E287)","v":{"$error":"#REF!"}}]
[null,287,null,null,null,{"$f":"IF(OR(#REF!=5,#REF!=10,#REF!= 15,#REF!= \"BP\",#REF!=\"SCR\"),\"NT\",E288)","v":{"$error":"#REF!"}}]
[null,288,null,null,null,{"$f":"IF(OR(#REF!=5,#REF!=10,#REF!= 15,#REF!= \"BP\",#REF!=\"SCR\"),\"NT\",E289)","v":{"$error":"#REF!"}}]
[null,289,null,null,null,{"$f":"IF(OR(#REF!=5,#REF!=10,#REF!= 15,#REF!= \"BP\",#REF!=\"SCR\"),\"NT\",E290)","v":{"$error":"#REF!"}}]
[null,290,null,null,null,{"$f":"IF(OR(#REF!=5,#REF!=10,#REF!= 15,#REF!= \"BP\",#REF!=\"SCR\"),\"NT\",E291)","v":{"$error":"#REF!"}}]
[null,291,null,null,null,{"$f":"IF(OR(#REF!=5,#REF!=10,#REF!= 15,#REF!= \"BP\",#REF!=\"SCR\"),\"NT\",E292)","v":{"$error":"#REF!"}}]
[null,292,null,null,null,{"$f":"IF(OR(#REF!=5,#REF!=10,#REF!= 15,#REF!= \"BP\",#REF!=\"SCR\"),\"NT\",E293)","v":{"$error":"#REF!"}}]
[null,293,null,null,null,{"$f":"IF(OR(#REF!=5,#REF!=10,#REF!= 15,#REF!= \"BP\",#REF!=\"SCR\"),\"NT\",E294)","v":{"$error":"#REF!"}}]
[null,294,null,null,null,{"$f":"IF(OR(#REF!=5,#REF!=10,#REF!= 15,#REF!= \"BP\",#REF!=\"SCR\"),\"NT\",E295)","v":{"$error":"#REF!"}}]
[null,295,null,null,null,{"$f":"IF(OR(#REF!=5,#REF!=10,#REF!= 15,#REF!= \"BP\",#REF!=\"SCR\"),\"NT\",E296)","v":{"$error":"#REF!"}}]
[null,296,null,null,null,{"$f":"IF(OR(#REF!=5,#REF!=10,#REF!= 15,#REF!= \"BP\",#REF!=\"SCR\"),\"NT\",E297)","v":{"$error":"#REF!"}}]
[null,297,null,null,null,{"$f":"IF(OR(#REF!=5,#REF!=10,#REF!= 15,#REF!= \"BP\",#REF!=\"SCR\"),\"NT\",E298)","v":{"$error":"#REF!"}}]
[null,298,null,null,null,{"$f":"IF(OR(#REF!=5,#REF!=10,#REF!= 15,#REF!= \"BP\",#REF!=\"SCR\"),\"NT\",E299)","v":{"$error":"#REF!"}}]
[null,299,null,null,null,{"$f":"IF(OR(#REF!=5,#REF!=10,#REF!= 15,#REF!= \"BP\",#REF!=\"SCR\"),\"NT\",E300)","v":{"$error":"#REF!"}}]
[null,300,null,null,null,{"$f":"IF(OR(#REF!=5,#REF!=10,#REF!= 15,#REF!= \"BP\",#REF!=\"SCR\"),\"NT\",E301)","v":{"$error":"#REF!"}}]

{"sheet":"Open","index":1,"n_rows":500,"n_cols":25,"rows_kept":500,"cut":false,"hidden":false,"merged":[[1,0,1,20],[0,0,0,20],[13,22,13,23],[15,22,15,23],[16,22,16,23],[2,22,2,23],[9,22,9,23],[10,22,10,23],[12,22,12,23]]}
[]
["SUNDAY Open "]
["Futurity","HS","Der","Age Inct.","Am","Carry","T/C","F/F","Mem","Nom","Av","BBR","WPRA","Draw","Rider Name","Horse Name","Pen","Time","Final Time","Placing","Money Earned",null,"D Placing",null,"Split"]
[{"$nulls":12},20401,131,"Ryann Pedone","Feel The Sting",null,15.497,null,"1D 1st",1056.96,null,"1D",15.497]
["X","X",null,"A",{"$nulls":8},"20165L",308,"Jolene Montogmery","Promise Me A Jet",null,15.727,null,"1D 1st",881,null,"2D",15.997,0.5]
[{"$nulls":13},209,"Kathy Fields","Regarding Numbers",null,15.789,null,"1D 3rd",748.68000000000006,null,"3D",16.497,0.5]
[{"$nulls":13},10,"Wendy Suhn","HLH Streakin A Fling",null,15.891,null,"1D 4th",572.52,null,"4D",16.997,0.5]
[{"$nulls":12},26789,252,"Shannon Pearson","Reds Roany Pony",null,15.894,null,"1D 5th",440.40000000000003,null,"5D",17.497,0.5]
[null,"X",{"$nulls":10},23088,77,"Trina Murray","Fuel For Dash",null,15.909000000000001,null,"1D 6th",308.28000000000003]
["X",{"$nulls":11},"W24490",144,"Davie King","Brook",null,15.946999999999999,null,"1D 7th",220.20000000000002,null,"# Entered"]
[null,"X","X","S",{"$nulls":9},302,"Renee Stuckey","Leo San Ta Fame",null,15.949,null,"1D 8th",176.16,null,318]
[{"$nulls":13},191,"Megan Archino","Montana Blue Drift",null,15.952999999999999]
["X",null,null,"A",{"$nulls":8},"20165L",275,"Jolene Montogmery","Double Dipped In Fame",null,15.96,{"$nulls":4},"# Ran"]
[null,null,null,"S",{"$nulls":9},233,"Martha Smith","Firewater Make Me Happy",null,15.964,{"$nulls":4},318]
[{"$nulls":13},219,"Chaney Speight","KN Alice",null,15.968999999999999]
["X",null,null,"A",{"$nulls":8},4585,37,"Kelly Allen","Miss JB 133",null,15.975,{"$nulls":4},"# Left"]
[null,"X",{"$nulls":7},"Laura Pearson",null,null,null,262,"Danyelle Campbell","Famous Dungarees",null,15.989000000000001,{"$nulls":4},{"$f":"$W$11-$W$14","v":0}]
["X","X",null,"A",{"$nulls":8},"20165L",292,"Jolene Montogmery","Jets Heart N Soul",null,15.991]
[{"$nulls":13},150,"Taylor Langdon","Sneak",null,15.999000000000001,null,"2D 1st",880.8]
[null,"X",{"$nulls":11},202,"Phillip Kenyon","Tillies Hayday",null,16.007999999999999,null,"2D 2nd",734]
[null,"X",null,"A",{"$nulls":8},"R26485",247,"Sonyia Mcharge","A Sharp French Guy",null,16.016999999999999,null,"2D 3rd",623.90000000000009]
[{"$nulls":13},228,"Justine Botner","Hel on Socks",null,16.067,null,"2D 4th",477.1]
[null,null,null,"S",{"$nulls":8},4650,33,"Raylene Cox","Ya Give Me Fever",null,16.091000000000001,null,"2D 5th",367]
[{"$nulls":12},21228,175,"Lisa Wernli","Dashondownsue",null,16.109000000000002,null,"2D 6th",256.90000000000003]
[{"$nulls":12},"W24490",201,"Davie King","Tom",null,16.116,null,"2D 7th",183.5]
[null,null,"X",{"$nulls":10},148,"Phillip Kenyon","SV Sun Kinda Wonder",null,16.117000000000001,null,"2D 8th",146.80000000000001]
[{"$nulls":13},265,"Shari Taggart","UX Flit N Fabulous",null,16.131]
[null,null,null,"A",{"$nulls":9},215,"Rebba Wright","Ceo Kinda Beautiful",null,16.151]
[{"$nulls":13},122,"Cindy Stone","Super Sonic Corona",null,16.164999999999999]
[null,null,null,"A",{"$nulls":9},236,"Rebba Wright","Ceo Kinda Sassy Gal",null,16.172999999999998]
["X","X",{"$nulls":11},271,"Danyelle Campbell","Lady Ta Da",null,16.178999999999998]
[{"$nulls":13},208,"Nicki Zimmerman","John Wayne",null,16.184000000000001]
[{"$nulls":13},116,"Taylor Langdon","Vegas",null,16.184999999999999]
[{"$nulls":12},"W24490",172,"Davie King","Alvin",null,16.184999999999999]
[null,"X",null,"A",{"$nulls":9},39,"Denny Ralls","Ease De Hank",null,16.187000000000001]
[null,null,"X","A",{"$nulls":8},4298,83,"Andrea Cline","J Lo Fame",null,16.190999999999999]
["X",{"$nulls":11},20401,97,"Ryann Pedone","Elmers On Fire",null,16.21]
[{"$nulls":12},"R23024",56,"Riley Chown","Slate",null,16.245000000000001]
["X",{"$nulls":11},4298,45,"Andrea Cline","Fame Us First Lady",null,16.265999999999998]
[null,null,null,"S",{"$nulls":9},226,"Donna Ramsey","BB's Royal Dream",null,16.266999999999999]
[null,null,null,"S",{"$nulls":9},118,"Martha Reeves","No Pressure On Me",null,16.279]
[{"$nulls":13},288,"Emily Mangione","Wild Rock",null,16.283000000000001]
[{"$nulls":13},22,"Betina Felton","Takeminewithatwist",null,16.283999999999999]
["X",{"$nulls":11},20401,60,"Ryann Pedone","Coco Bongo",null,16.285]
[null,null,null,"S",{"$nulls":9},277,"Lynn Saunders","Popcorn",null,16.291]
[null,"X","X","A",{"$nulls":9},249,"Susan Agnew","Jet N Ta Fame",null,16.295000000000002]
[null,null,null,"S",{"$nulls":9},140,"Tamet Gould","The Final Donut",null,16.306000000000001]
["X",null,null,"A",{"$nulls":8},"20165L",257,"Jolene Montogmery","Send Me Send Me",null,16.315000000000001]
[{"$nulls":13},29,"Jana Kurosky","Winnie Reds Kai",null,16.321999999999999]
[{"$nulls":13},214,"Tessa Ruberg","Rulls Little Lady Go",null,16.327999999999999]
["X",null,null,"A",{"$nulls":8},"20165L",241,"Jolene Montogmery","Chicados Bully",null,16.332000000000001]
[{"$nulls":13},246,"Sherri Barnes","Famous Little Jet",null,16.334]
[{"$nulls":13},132,"Janee Ornelas","Drifter",null,16.350999999999999]
[{"$nulls":13},224,"Kylee Cook ","GHJAG07",null,16.37]
[null,null,"X",{"$nulls":10},139,"Kelsey Gordon","Prada",null,16.376000000000001]
[{"$nulls":13},78,"Tori Volk","Stompinoutthefire",null,16.388999999999999]
[{"$nulls":13},126,"Pete Oen ","H2",null,16.401]
[{"$nulls":12},"W24490",119,"Davie King","Blizard",null,16.411999999999999]
[{"$nulls":12},"R22073",133,"Natalie Kurosky","Nelson",null,16.414999999999999]
["X",{"$nulls":11},20401,4,"Ryann Pedone","Turn N With Ease",null,16.417999999999999]
[{"$nulls":13},232,"Kassie Mowry","Hallellujah Epic",null,16.425000000000001]
[{"$nulls":13},210,"Belinda Coppinger","Knox",null,16.443000000000001]
[null,null,null,"A",{"$nulls":8},4598,170,"Holly Fenoglio","Flame of Fame",null,16.451000000000001]
[null,null,null,"S",{"$nulls":9},153,"Terry Vogel","Frenchman",null,16.456]
[{"$nulls":13},109,"Pattie Mackie","Sterling",null,16.457000000000001]
[null,null,null,"S",{"$nulls":8},21228,152,"Lisa Wernli","Flashs Fine Effort",null,16.46]
[{"$nulls":13},13,"Charlotte Edwards","VF Temtations",null,16.474]
[null,null,null,"S",{"$nulls":9},197,"Martha Smith","Victory Blue Moon",null,16.486999999999998]
[null,null,null,"A",{"$nulls":9},14,"Jade Crago","CM Bubblin Dynamite",null,16.492000000000001]
[{"$nulls":12},"R26603L",70,"Annabelle Martin","DTF Makinf My Way",null,16.492000000000001]
["X",{"$nulls":11},20401,38,"Ryann Pedone","NNN Sixums Firewater",null,16.497,null,"3D 1st",704.64]
[{"$nulls":12},21228,117,"Lisa Wernli","Real Famous Lill",null,16.507000000000001,null,"3D 2nd",587.20000000000005]
[{"$nulls":13},36,"Alex Stokes","Mo Sugar Bars Bee",null,16.510999999999999,null,"3D 3rd ",499.12000000000006]
[{"$nulls":13},306,"Courtney Schiel","Ghetto",null,16.521999999999998,null,"3D 4th/5th",338]
[{"$nulls":13},314,"Justice Phillips","Reys Of Blonde",null,16.521999999999998,null,"3D 4th/5th",338]
[null,null,null,"S",{"$nulls":9},227,"Donna Tippen","Lyla",null,16.536000000000001,null,"3D 6th ",205.52]
[null,null,null,"A",{"$nulls":9},74,"Tianti Carter","Rocking Wilma",null,16.538,null,"3D 7th/8th",132]
[{"$nulls":13},92,"Victoria Alexander","Frostbite",null,16.538,null,"3D 7th/8th",132]
[{"$nulls":13},217,"Darcie Moody","RGR Marble Magic",null,16.545999999999999]
[{"$nulls":13},187,"Kathy Warren","Gonnagetluckytonight",null,16.553000000000001]
[{"$nulls":13},318,"Gabbie Grothe","DJ",null,16.555]
["X",null,null,"A",{"$nulls":8},4585,9,"Kelly Allen","Miss JB 1315",null,16.559000000000001]
[{"$nulls":13},156,"Jo Fisher","Marla",null,16.559999999999999]
[{"$nulls":13},316,"Keeley Buhrmester","Boston Black Bear",null,16.561]
[{"$nulls":13},99,"Missy Piper","Boomer  ",null,16.562000000000001]
[{"$nulls":13},88,"Karly Houser","Hobbys Lil Stinker",null,16.573]
[null,"X",null,"A",{"$nulls":9},6,"Denny Ralls","Sweet Movin Firewater",null,16.581]
[{"$nulls":13},250,"Emily Mangione","Rock Roll N Repete",null,16.599]
[{"$nulls":13},157,"Chelsea Young","Hemi",null,16.603000000000002]
[{"$nulls":13},24,"Shannon Black","TS Jets Blazin Lena",null,16.603999999999999]
["X",{"$nulls":11},4298,2,"Andrea Cline","Freighttrain C",null,16.606000000000002]
[{"$nulls":12},"R23024",30,"Riley Chown","Heza Dash Ta Honor",null,16.620999999999999]
[{"$nulls":13},309,"Bryan Taylor","Choo",null,16.622]
[null,null,null,"A",{"$nulls":9},165,"Jaime Sealock","Jesta Poco Dash",null,16.625]
[null,null,null,"A",{"$nulls":8},20875,12,"Cassidy Rabb","VF Coup Fulla Coins",null,16.634]
[{"$nulls":13},286,"Bryan Taylor","Gypsy",null,16.635999999999999]
[{"$nulls":13},127,"Kelsey Ornelas","Frosty ",null,16.638000000000002]
[null,null,"X","A",{"$nulls":8},26483,283,"Ali Armstrong","Anniesgonnarunorelse",null,16.638999999999999]
[{"$nulls":13},225,"Dristin Dorman","Easy",null,16.638999999999999]
[{"$nulls":12},"W1407",121,"Erin Reich","Pie",null,16.64]
[{"$nulls":13},200,"Jolene Jones","Streakin Louie",null,16.652999999999999]
[null,null,null,"Y",{"$nulls":9},143,"Haley Hunt","Shez Jettn Speed",null,16.655000000000001]
[{"$nulls":13},130,"Alexis Barfield","Colonel Lexi Frost",null,16.658999999999999]
[null,null,null,"S",{"$nulls":9},16,"Simone Elmore","Badger A Conchadrift",null,16.663]
[null,null,null,"S",{"$nulls":9},57,"Jodi Stovall","Miss French Drifter",null,16.664000000000001]
[{"$nulls":12},"R23024",87,"Riley Chown","Lady Frost Te",null,16.664000000000001]
[{"$nulls":13},171,"Ashley Alligood","TF Savage Sissy",null,16.664999999999999]
[{"$nulls":13},193,"Daisy Baird","Elisha's Arrow",null,16.669]
[{"$nulls":13},183,"Kaela Morgan","Yes We Can",null,16.678999999999998]
[null,null,null,"S",{"$nulls":9},28,"Sydney Ryan","Lyndis Sonny Lights",null,16.683]
[{"$nulls":13},104,"Pete Oen ","H1",null,16.683]
[{"$nulls":13},167,"Daryll Kessler","Irish Firewater",null,16.687999999999999]
[null,null,null,"A",{"$nulls":9},124,"Adelita Tyson","H1",null,16.702000000000002]
[{"$nulls":13},207,"Janee Ornelas","Lackey",null,16.702999999999999]
[{"$nulls":13},206,"Kassie Mowry","Heavens Illuminator",null,16.704000000000001]
[null,null,null,"S",{"$nulls":8},15602,18,"Lisa Cotter","Outlaw John Dillenger",null,16.713999999999999]
[null,null,null,"S",{"$nulls":9},68,"Cindy Ware","Jackies Parr Three",null,16.725000000000001]
[{"$nulls":13},81,"Heather Veld","BA Daddy Wuza Rocker",null,16.725999999999999]
[{"$nulls":13},223,"Gretchen Goedeken","Fine Whatever",null,16.757999999999999]
[null,null,null,"Y",{"$nulls":9},199,"Esmeralda Garcia","Earl",null,16.768000000000001]
[{"$nulls":13},264,"Kayli Morris","Fortune In Fuel",null,16.768000000000001]
[{"$nulls":12},23470,40,"Dani Buhler","Boons Scooter",null,16.77]
[{"$nulls":13},327,"Kylena Hager","Barbie",null,16.771999999999998]
[{"$nulls":13},220,"Lauren Merica","Rhetas Rheta",null,16.777999999999999]
[{"$nulls":13},313,"Lauren Russell","Streaken For Fun",null,16.779]
[{"$nulls":13},54,"Jessica Dahl","Peppy Wimpy Cutter",null,16.780999999999999]
[{"$nulls":13},311,"Shannon Iverson","Tuff",null,16.782]
[{"$nulls":13},125,"Tyler Rivette","H2",null,16.783000000000001]
[{"$nulls":13},62,"Kristi Tuinei","Zippys Cash Ta Fame",null,16.785]
[null,null,null,"S",{"$nulls":9},303,"Lynn Saunders","Chumly",null,16.79]
[{"$nulls":13},102,"Tyler Rivette","H1",null,16.79]
[{"$nulls":13},259,"Karen Rego","Echosrunnawaybay",null,16.794]
[{"$nulls":13},151,"Pete Oen ","H3",null,16.797000000000001]
[{"$nulls":13},222,"Anna Byer","Bahama",null,16.809999999999999]
[{"$nulls":12},25907,94,"Kacey Kirby","VVR Corona Dash",null,16.818999999999999]
[{"$nulls":13},238,"Lauren Merica","Jess Imagine That",null,16.821000000000002]
[{"$nulls":13},196,"Alex Hall","Rocket Star Bay",null,16.821999999999999]
[{"$nulls":13},310,"Jennifer Fite","Firewater Edition",null,16.835999999999999]
[{"$nulls":13},20,"Kristi Tuinei","Luckys Doubletrouble",null,16.838999999999999]
[null,null,"X",{"$nulls":10},90,"Cody Hornbuckle","Mountain Of Fame",null,16.844999999999999]
[{"$nulls":13},205,"Pam Smith","Elkie",null,16.846]
[{"$nulls":13},66,"Jade Crago","CM Bubblin Barbie",null,16.863]
[null,null,null,"Y",{"$nulls":9},76,"Rebekah McQueen","Leo San Peppy Belle",null,16.864000000000001]
[{"$nulls":13},168,"Lacy Billingsley","Fireant",null,16.87]
[null,null,null,"S",{"$nulls":9},73,"Connie Randolph","Hot Rod Kitty",null,16.873000000000001]
[{"$nulls":13},305,"JT Cooper","The Master Himself",null,16.873000000000001]
[null,null,null,"A",{"$nulls":9},256,"Alisha Todd","Sheza Amarillo Doc",null,16.876999999999999]
[{"$nulls":13},17,"Misty Peak","Amos",null,16.884]
[null,null,null,"Y",{"$nulls":9},120,"Madison Reich","Kit",null,16.885999999999999]
[{"$nulls":13},284,"Sally Preston","Cee U Later Gator",null,16.893999999999998]
[{"$nulls":13},96,"Kelsey Gordon","Pete",null,16.895]
[null,null,"X",{"$nulls":10},49,"Reenie Wahlert","Famous Little Pistol",null,16.896999999999998]
[null,"X",null,"A",{"$nulls":8},"R26485",285,"Sonyia Mcharge","Ima Sharpdancinjudge",null,16.898]
[{"$nulls":12},20401,174,"Ryann Pedone","Preacher",null,16.905999999999999]
[{"$nulls":13},95,"Brooke Sully","EZ",null,16.908000000000001]
[{"$nulls":13},50,"Victoria Alexander","JD Diamonds Drift",null,16.93]
[null,null,null,"A",{"$nulls":9},84,"Lorinda Van Newkirk","Hot N On Fire",null,16.943999999999999]
[{"$nulls":13},235,"Tessa Ruberg","Rita",null,16.952999999999999]
[{"$nulls":13},177,"Kylee Cook ","Executing the Cause",null,16.954999999999998]
["X",{"$nulls":11},"R23848L",7,"Krista Lucas","Crown Royal Jet",null,16.962]
[null,null,null,"A",{"$nulls":9},251,"Brandi Williams","Frosted Mini Chex",null,16.965]
[null,null,null,"Y",{"$nulls":9},112,"Stormi Branch","Demon",null,16.965]
[null,null,null,"A",{"$nulls":9},103,"Tiffany Cox","Lacy",null,17.007000000000001,null,"4D 1st",528.48]
[null,null,null,"S",{"$nulls":9},155,"Karen Manning","Shut the Flamin Door",null,17.007999999999999,null,"4D 2nd",440.40000000000003]
[{"$nulls":13},145,"Maddi Hickmon","Missy",null,17.021000000000001,null,"4D 3rd",374.34000000000003]
[{"$nulls":13},75,"Chandler Fletcher","Journey",null,17.024999999999999,null,"4D 4th",286.26]
[null,null,null,"S",{"$nulls":8},22281,59,"Debbie Raab","Easy Talent",null,17.03,null,"4D 5th/6th",187]
[null,null,null,"Y",{"$nulls":9},162,"Esmeralda Garcia","Romeo Mills",null,17.03,null,"4D 5th/6th",187]
[null,null,null,"S",{"$nulls":9},1,"Kathy Minteer","Little Bit",null,17.036000000000001,null,"4D 7th/8th",99]
[{"$nulls":13},216,"Jessica Patanella","SMJ Madagascars First",null,17.036000000000001,null,"4D 7th/8th",99]
[{"$nulls":13},328,"Bailey Lodermeier","Willies at the Bar",null,17.042999999999999]
[{"$nulls":13},268,"Jessica Byrn","PC Frosty Remnic",null,17.059000000000001]
["X",{"$nulls":12},67,"Jeff Amsden","Dez On Firewater",null,17.074000000000002]
[{"$nulls":13},190,"Summer Kutchera","FC Classic Sunday",null,17.096]
[{"$nulls":13},274,"Terri Stitle","Rapido Rose",null,17.097999999999999]
[null,null,null,"Y",{"$nulls":9},269,"Kaylee Berry","Smart Lil Dulce 101",null,17.099]
[{"$nulls":13},181,"Terry Vogel","All Night Corona",null,17.114000000000001]
[{"$nulls":13},105,"Emily Williams","Nic Goes Hollywood",null,17.117000000000001]
[{"$nulls":13},85,"Lori Zabel","Unfaded Fame",null,17.134]
[null,null,null,"S",{"$nulls":9},188,"Jay Jay McMahan","A Cats Playmate",null,17.143000000000001]
[null,null,null,"Y",{"$nulls":9},319,"Summer Sanders","Too Tall",null,17.143000000000001]
[null,null,null,"S",{"$nulls":9},25,"Jan Davis","Woody B Perky",null,17.16]
[{"$nulls":13},69,"Missy Piper","Abby",null,17.163]
[null,null,"X",{"$nulls":10},240,"Phillip Kenyon","Contagious Charm",null,17.167000000000002]
[null,null,null,"S",{"$nulls":9},27,"Holly Pritchard","Bogies French Moon",null,17.170000000000002]
[{"$nulls":13},270,"Bryan Taylor","Snooky",null,17.175000000000001]
[{"$nulls":13},248,"Bryan Taylor","Badger",null,17.190999999999999]
[{"$nulls":13},107,"Chandler Fletcher","Rues Black Night",null,17.210999999999999]
[null,null,null,"S",{"$nulls":9},245,"Elaine Foreman","Boogies Moon Pie",null,17.224]
[{"$nulls":12},"R23848L",55,"Krista Lucas","Hand Off My Streaker",null,17.225999999999999]
[{"$nulls":13},185,"Karen Heward","Runnin Booger",null,17.225999999999999]
["x",{"$nulls":12},299,"Danyelle Campbell","JL Tularosa",null,17.231000000000002]
[{"$nulls":13},158,"Trudy Holloway","LR Peppy Lynx Chex",null,17.239000000000001]
[null,null,null,"S",{"$nulls":9},129,"Dana Chaddick","Nikki",null,17.245000000000001]
[{"$nulls":13},258,"Shannon Iverson","Willie",null,17.251000000000001]
[{"$nulls":13},61,"Shawn Smith","Jacko",null,17.265000000000001]
[{"$nulls":13},234,"Belinda Coppinger","Crush",null,17.268000000000001]
[{"$nulls":13},123,"Cody Hornbuckle","Big Bulls In Cowtown",null,17.271999999999998]
[{"$nulls":13},161,"Curt Watson","Peppy Fire Frost",null,17.279]
[{"$nulls":13},31,"Chelsie Petty","Jade",null,17.28]
[{"$nulls":13},147,"Mary Carter","Just Flit Me",null,17.288]
[{"$nulls":13},159,"Alex Hall","Sky High Fuel",null,17.306999999999999]
[null,null,null,"A",{"$nulls":9},115,"Tracey McCollough","Fast Fishin Cash",null,17.324000000000002]
[{"$nulls":13},230,"Lauren Thomas","Fancy",null,17.329000000000001]
[{"$nulls":13},166,"Denise Martin",null,null,17.37]
[null,null,null,"Y",{"$nulls":9},273,"Sydney Wollet","Hooked On Firewater",null,17.414000000000001]
[null,null,null,"A",{"$nulls":9},8,"Dee Dee Jordan","First Rappin Judge",null,17.427]
[{"$nulls":13},47,"Lisa Jo Velliquette","Namgis D 44",null,17.434999999999999]
[null,null,null,"S",{"$nulls":9},267,"Marj Dahle","JCS Mito Cutter",null,17.457000000000001]
[null,null,null,"A",{"$nulls":9},137,"Lynn Whisenant","Heza Wonder Streakin",null,17.489000000000001]
[{"$nulls":13},53,"Jesus Martin","Joes Wish Kitty",null,17.495000000000001]
[{"$nulls":13},64,"Charlotte Edwards","TJO Fire Six Rounds",null,17.506,null,"5D 1st",352.32]
[{"$nulls":13},154,"Lee Vogel","Imablueyedblondbitz",null,17.516999999999999,null,"5D 2nd",293.60000000000002]
[null,null,null,"S",{"$nulls":9},71,"Cheryl Chown","PC Vanilla Ice",null,17.550999999999998,null,"5D 3rd",249.56000000000003]
[{"$nulls":13},15,"Adrianna Ruckteschler","Six Pack Of Bug",null,17.567,null,"5D 4th",190.84]
["X",{"$nulls":12},204,"Lacy Billingsley","VF High N Famous",null,17.591000000000001,null,"5D 5th",146.80000000000001]
[null,null,null,"Y",{"$nulls":9},298,"Summer Sanders","Delta",null,17.625,null,"5D 6th",102.76]
[null,null,null,"Y",{"$nulls":9},192,"Haley Wright","Rockin C Angel",null,17.628,null,"5D 7th",73.400000000000006]
[{"$nulls":13},21,"Madison Wright","Centaro",null,17.667999999999999,null,"5D 8th",58.72]
[{"$nulls":13},160,"Angelica Bannister","Luna",null,17.716999999999999]
[{"$nulls":13},326,"Lori Buschbacher","Smokin Guns N Roses",null,17.742000000000001]
[{"$nulls":13},307,"Natalie Broussard","HQH Doc Dash",null,17.748999999999999]
[null,null,null,"A",{"$nulls":9},295,"Brandi Williams","Cha Cha Shorty",null,17.753]
[{"$nulls":13},325,"Charmayne Newkirk","H2",null,17.8]
[null,null,null,"A",{"$nulls":9},51,"Kellie Autry","Array For First Team",null,17.844999999999999]
[{"$nulls":13},136,"Kim Otwell","Boots Justalena",null,17.847000000000001]
[null,null,"X",{"$nulls":10},108,"Dani Buhler","Cheers To That",null,17.850000000000001]
[{"$nulls":13},141,"Megan Wilson","Joe E Boxer",null,17.858000000000001]
[null,null,null,"S",{"$nulls":9},253,"Katy Holloway","Namgis D 18",null,17.911999999999999]
[null,null,null,"A",{"$nulls":9},65,"Dee Dee Jordan","Blazin Corona Cutie",null,17.969000000000001]
[{"$nulls":13},93,"Pascale Sylvain","Heins",null,18.001000000000001]
[{"$nulls":13},98,"Patty Ralls","Jeeper",null,18.047999999999998]
[{"$nulls":13},164,"Jolene Jones","Dance By Design",null,18.077000000000002]
[{"$nulls":13},203,"Jaime Sealock","Mercedes",null,18.097000000000001]
["X",null,null,"A",{"$nulls":9},282,"Susan Agnew","Splash Da Firewater",null,18.108000000000001]
[null,null,null,"Y",{"$nulls":9},26,"Payton Schoonover","Phantom",null,18.183]
[{"$nulls":13},243,"Jennifer Fite","Sister Sue",null,18.193999999999999]
[{"$nulls":13},11,"Emily Williams","Six Moons Frostyfire",null,18.306999999999999]
[{"$nulls":13},312,"Shari Taggart","French Fry",null,18.309999999999999]
[null,null,null,"Y",{"$nulls":9},82,"Maddy Myers","Graves Tassie Pepper",null,18.341999999999999]
[{"$nulls":13},128,"Chelsea Young","Okee",null,18.361999999999998]
[{"$nulls":13},106,"Maddi Hickmon","Dolly",null,18.381]
[null,null,null,"Y",{"$nulls":9},63,"Mikayla Cearley","Docs Part Bueno Bar",null,18.43]
[{"$nulls":13},135,"Jordan Ernst","Waiting On Smoke",null,18.445]
[{"$nulls":13},294,"Valerie Contreras","Diesel",null,18.488]
[{"$nulls":13},182,"Debbie Watson","Hop Along Leroy",null,18.545999999999999]
[{"$nulls":13},239,"Kristin Dorman","Grey",null,18.622]
[null,null,null,"Y",{"$nulls":9},297,"Brynn Owens","Oakley",null,18.7]
[{"$nulls":13},184,"Whitney Kaminkski","TS Crazy Magic",null,18.716000000000001]
[{"$nulls":13},46,"Vernon Dickson","Kings Turf Dancer",null,18.728000000000002]
[{"$nulls":13},3,"Victoria Alexander","Roo Barrymore",null,18.817]
[null,"X",{"$nulls":10},25650,296,"Tyesha Carroll","Oh So French",null,18.972000000000001]
[{"$nulls":13},255,"Stacey Turner","BamBam",null,19.033000000000001]
[{"$nulls":13},218,"Majia Bennet","Copper",null,19.175999999999998]
[{"$nulls":13},231,"Jolene Jones","Hes Mighty Holy",null,19.407]
["X",{"$nulls":12},323,"Jessi Thompson","Hitting Hennessy",null,19.652999999999999]
[{"$nulls":13},304,"Alyssa Urbanek","Fueled With Dinero",null,19.797999999999998]
[{"$nulls":13},279,"Jessie Ratliff","Imacoronaeyeopner",null,19.815999999999999]
[{"$nulls":13},276,"Liz Nichols","EMW Ready Ruffian",null,19.916]
[{"$nulls":13},301,"Charmayne Newkirk","H1",null,20.207999999999998]
[{"$nulls":13},113,"Lori Zabel","Gimmeallyourlovin",null,20.372]
[{"$nulls":13},58,"Taylor Flores","Aftons Moonlite",null,20.773]
[{"$nulls":13},281,"Jordan Henderson","Peptos Hpt Pepper",null,25.297999999999998]
[{"$nulls":13},180,"Alondra Garcia","Scarlett",null,27.657]
[null,null,null,"A",{"$nulls":9},272,"Karissa Jones","Anita Lot A Cash",null,"NT"]
[null,null,null,"S",{"$nulls":9},32,"Terry Weeks","Streak Ta Da Sky",null,"nt"]
[null,null,null,"Y",{"$nulls":9},289,"Sofia Caballero","Pa Jones Perks",null,"NT"]
[{"$nulls":13},142,"Lori Zabel","VF Naturally Famous",null,"nt"]
[null,"X","X","A",{"$nulls":9},266,"Molli Montgomery","Makin Ya Famous",null,"NT 15.797"]
[null,"X","X","A",{"$nulls":9},315,"Molli Montgomery","Legsgonewild",null,"NT 16.060"]
[{"$nulls":13},321,"Alyssa Urbanek","My Calls Are Bugged",null,"NT 16.077"]
[null,null,null,"S",{"$nulls":9},324,"Stacey Gates","Johnny On The Rocks",null,"NT 16.078"]
[{"$nulls":12},"R15197",278,"Sadie Weldon","Boots Classy Perks",null,"NT 16.168"]
[{"$nulls":13},280,"Sherri Barnes","Racing For Perks",null,"NT 16.168"]
[null,null,null,"A",{"$nulls":9},322,"Abby Youngblood","TDN Duster Blue",null,"NT 16.429"]
["X",null,null,"A",{"$nulls":9},290,"Molli Montgomery","Strawflyin The Gold",null,"NT 16.573"]
[{"$nulls":12},"R15197",244,"Sadie Weldon","WB Runaway Pumkin",null,"NT 16.584"]
[{"$nulls":13},300,"Cindy Jons","Dinero",null,"NT 16.842"]
[null,null,null,"S",{"$nulls":9},291,"Elaine Foreman","Ta Fame Ina Dash",null,"NT 16.900"]
[{"$nulls":13},263,"Fran Denham","Frenchies Light On Cash",null,"NT 17.045"]
[null,null,null,"Y",{"$nulls":9},260,"Brynn Owens","Jr",null,"NT 17.175"]
[{"$nulls":13},317,"Cindy Jons","Frenzy",null,"NT 17.182"]
[null,null,null,"S",{"$nulls":9},320,"Liz Holder","Honorey Angel",null,"NT 17.346"]
[{"$nulls":13},254,"Timberly Erickson","Mines Fast",null,"NT 23.365"]
[{"$nulls":13},293,"Shari Taggart","Margarita Red Rita",null,"NT 23.652"]
[{"$nulls":13},178,"Tyler Rivette","H4",null,"nt15.752"]
[null,"X","X",{"$nulls":9},24269,52,"Shea Lynn Leach","Loui Bug",null,"nt15.906"]
[null,"X",{"$nulls":11},189,"Whitney Davison","Confederateslastlady",null,"nt15.961"]
[{"$nulls":12},7584,5,"Shea Lynn Leach","Berthas Dancer",null,"nt16.020"]
[null,null,null,"S",{"$nulls":8},1828,221,"Carolyn Uhler","Lil Pep O Gold",null,"nt16.023"]
[null,"X","X","A",{"$nulls":9},194,"Kassie Mowry","Girls Dig Fame",null,"nt16.116"]
[{"$nulls":12},23470,72,"Dani Buhler","Flashy French Kirk",null,"nt16.123"]
[{"$nulls":13},86,"Terry Vogel","H1",null,"nt16.203"]
[null,null,null,"Y",{"$nulls":9},149,"Biloxi Shultz","Sheza Peasa Pie",null,"nt16.204"]
[{"$nulls":13},146,"Pattie Mackie","Dunnit",null,"nt16.237"]
[null,null,"X","S",{"$nulls":9},179,"Karen Manning","Shut the Blazin Door",null,"nt16.241"]
[{"$nulls":13},212,"Candie Miner","Cinch",null,"nt16.258"]
[{"$nulls":12},"W1407",173,"Erin Reich","Sallee",null,"nt16.274"]
[null,null,null,"S",{"$nulls":9},229,"Kelly Bruner","Hollywood",null,"nt16.302"]
[null,null,null,"Y",{"$nulls":9},198,"Biloxi Shultz","Missan Lena",null,"nt16.317"]
[{"$nulls":13},48,"Wendy Suhn","She B Astreakin",null,"nt16.356"]
[null,"X",{"$nulls":10},"W2481",79,"Lynn Brown","This Guys No Angel",null,"nt16.373"]
[null,null,null,"Y",{"$nulls":9},176,"Biloxi Shultz","Senor La Jolla",null,"nt16.385"]
[{"$nulls":12},"R22073",163,"Natalie Kurosky","Rylee",null,"nt16.386"]
[{"$nulls":13},169,"Pam Smith","Wicked",null,"nt16.506"]
[{"$nulls":13},111,"Adrianna Ruckteschler","Mr Spoon",null,"nt16.639"]
[{"$nulls":13},19,"Diana Cory","JC Swift Sunfrost",null,"nt16.706"]
[{"$nulls":13},110,"Haley Hunt","TF Savage Lady",null,"nt16.860"]
[{"$nulls":13},186,"Daryll Kessler","Barclosed No Firewater",null,"nt16.892"]
[{"$nulls":13},195,"Nicole Martin",null,null,"nt16.903"]
[{"$nulls":13},89,"Deven Riggins","SV Southern Comfort",null,"nt16.948"]
[{"$nulls":13},237,"Chaney Speight","The French Luv Fame",null,"nt16.992"]
[{"$nulls":13},34,"Karen Shelley","Flying Bar Bailey",null,"nt17.130"]
[{"$nulls":13},134,"Bonnie Ray","Ed",null,"nt17.178"]
[{"$nulls":13},80,"Alex Stokes","View this Lady Rose",null,"nt17.593"]
[{"$nulls":13},35,"Kim Otwell","SBJ Storry Queen",null,"nt17.617"]
[{"$nulls":13},44,"Kendal Dickson","RGB Princess Gold",null,"nt17.840"]
[{"$nulls":13},114,"Ashley Hunt","Katies Got A Gun",null,"nt18.227"]
[{"$nulls":13},91,"Kelly Heaton","Harris",null,"nt18.649"]
[null,null,null,"S",{"$nulls":9},23,"Charlie Colella","Dashin Red Charger",null,"nt24.893"]
[{"$nulls":13},41,"Chandler Fletcher","Cor Dakota Sun",null,"refund"]
[{"$nulls":13},42,"Jordan Ernst","GWH Joe Song Doctari",null,"refund"]
[{"$nulls":13},43,"Sara Redden","Master Jimmy",null,"refund"]
[null,null,null,"S",{"$nulls":5},"Jessica Byrn",null,null,null,261,"Melanie Self","Ole Mans Aloha",null,"scratch"]
[{"$nulls":13},100,"scratch",null,null,"scratch"]
[{"$nulls":13},138,"scratch",null,null,"scratch"]
[null,null,"X",{"$nulls":10},242,"Glenn Stodart","Heaven Doosey Daisy",null,"scratch"]
[{"$nulls":13},287,"Whitney Wallace","Flipmia Streakin Bug",null,"scratch"]
[{"$nulls":13},329]
[{"$nulls":13},330]
[{"$nulls":13},331]
[{"$nulls":13},332]
[{"$nulls":13},333]
[{"$nulls":13},334]
[{"$nulls":13},335]
[{"$nulls":13},336]
[{"$nulls":13},337]
[{"$nulls":13},338]
[{"$nulls":13},339]
[{"$nulls":13},340]
[{"$nulls":13},341]
[{"$nulls":13},342]
[{"$nulls":13},343]
[{"$nulls":13},344]
[{"$nulls":13},345]
[{"$nulls":13},346]
[{"$nulls":13},347]
[{"$nulls":13},348]
[{"$nulls":13},349]
[{"$nulls":13},350]
[{"$nulls":13},351]
[{"$nulls":13},352]
[{"$nulls":13},353]
[{"$nulls":13},354]
[{"$nulls":13},355]
[{"$nulls":13},356]
[{"$nulls":13},357]
[{"$nulls":13},358]
[{"$nulls":13},359]
[{"$nulls":13},360]
[{"$nulls":13},361]
[{"$nulls":13},362]
[{"$nulls":13},363]
[{"$nulls":13},364]
[{"$nulls":13},365]
[{"$nulls":13},366]
[{"$nulls":13},367]
[{"$nulls":13},368]
[{"$nulls":13},369]
[{"$nulls":13},370]
[{"$nulls":13},371]
[{"$nulls":13},372]
[{"$nulls":13},373]
[{"$nulls":13},374]
[{"$nulls":13},375]
[{"$nulls":13},376]
[{"$nulls":13},377]
[{"$nulls":13},378]
[{"$nulls":13},379,{"$nulls":4},{"$f":"IF(OR(Q379=5,Q379=10, Q379=15, Q379=\"BP\",Q379=\"SCR\"),\"NT\",R379)","v":0}]
[{"$nulls":13},380,{"$nulls":4},{"$f":"IF(OR(Q380=5,Q380=10, Q380=15, Q380=\"BP\",Q380=\"SCR\"),\"NT\",R380)","v":0}]
[{"$nulls":13},381,{"$nulls":4},{"$f":"IF(OR(Q381=5,Q381=10, Q381=15, Q381=\"BP\",Q381=\"SCR\"),\"NT\",R381)","v":0}]
[{"$nulls":13},382,{"$nulls":4},{"$f":"IF(OR(Q382=5,Q382=10, Q382=15, Q382=\"BP\",Q382=\"SCR\"),\"NT\",R382)","v":0}]
[{"$nulls":13},383,{"$nulls":4},{"$f":"IF(OR(Q383=5,Q383=10, Q383=15, Q383=\"BP\",Q383=\"SCR\"),\"NT\",R383)","v":0}]
[{"$nulls":13},384,{"$nulls":4},{"$f":"IF(OR(Q384=5,Q384=10, Q384=15, Q384=\"BP\",Q384=\"SCR\"),\"NT\",R384)","v":0}]
[{"$nulls":13},385,{"$nulls":4},{"$f":"IF(OR(Q385=5,Q385=10, Q385=15, Q385=\"BP\",Q385=\"SCR\"),\"NT\",R385)","v":0}]
[{"$nulls":13},386,{"$nulls":4},{"$f":"IF(OR(Q386=5,Q386=10, Q386=15, Q386=\"BP\",Q386=\"SCR\"),\"NT\",R386)","v":0}]
[{"$nulls":13},387,{"$nulls":4},{"$f":"IF(OR(Q387=5,Q387=10, Q387=15, Q387=\"BP\",Q387=\"SCR\"),\"NT\",R387)","v":0}]
[{"$nulls":13},388,{"$nulls":4},{"$f":"IF(OR(Q388=5,Q388=10, Q388=15, Q388=\"BP\",Q388=\"SCR\"),\"NT\",R388)","v":0}]
[{"$nulls":13},389,{"$nulls":4},{"$f":"IF(OR(Q389=5,Q389=10, Q389=15, Q389=\"BP\",Q389=\"SCR\"),\"NT\",R389)","v":0}]
[{"$nulls":13},390,{"$nulls":4},{"$f":"IF(OR(Q390=5,Q390=10, Q390=15, Q390=\"BP\",Q390=\"SCR\"),\"NT\",R390)","v":0}]
[{"$nulls":13},391,{"$nulls":4},{"$f":"IF(OR(Q391=5,Q391=10, Q391=15, Q391=\"BP\",Q391=\"SCR\"),\"NT\",R391)","v":0}]
[{"$nulls":13},392,{"$nulls":4},{"$f":"IF(OR(Q392=5,Q392=10, Q392=15, Q392=\"BP\",Q392=\"SCR\"),\"NT\",R392)","v":0}]
[{"$nulls":13},393,{"$nulls":4},{"$f":"IF(OR(Q393=5,Q393=10, Q393=15, Q393=\"BP\",Q393=\"SCR\"),\"NT\",R393)","v":0}]
[{"$nulls":13},394,{"$nulls":4},{"$f":"IF(OR(Q394=5,Q394=10, Q394=15, Q394=\"BP\",Q394=\"SCR\"),\"NT\",R394)","v":0}]
[{"$nulls":13},395,{"$nulls":4},{"$f":"IF(OR(Q395=5,Q395=10, Q395=15, Q395=\"BP\",Q395=\"SCR\"),\"NT\",R395)","v":0}]
[{"$nulls":13},396,{"$nulls":4},{"$f":"IF(OR(Q396=5,Q396=10, Q396=15, Q396=\"BP\",Q396=\"SCR\"),\"NT\",R396)","v":0}]
[{"$nulls":13},397,{"$nulls":4},{"$f":"IF(OR(Q397=5,Q397=10, Q397=15, Q397=\"BP\",Q397=\"SCR\"),\"NT\",R397)","v":0}]
[{"$nulls":13},398,{"$nulls":4},{"$f":"IF(OR(Q398=5,Q398=10, Q398=15, Q398=\"BP\",Q398=\"SCR\"),\"NT\",R398)","v":0}]
[{"$nulls":13},399,{"$nulls":4},{"$f":"IF(OR(Q399=5,Q399=10, Q399=15, Q399=\"BP\",Q399=\"SCR\"),\"NT\",R399)","v":0}]
[{"$nulls":13},400,{"$nulls":4},{"$f":"IF(OR(Q400=5,Q400=10, Q400=15, Q400=\"BP\",Q400=\"SCR\"),\"NT\",R400)","v":0}]
[{"$nulls":13},401,{"$nulls":4},{"$f":"IF(OR(Q401=5,Q401=10, Q401=15, Q401=\"BP\",Q401=\"SCR\"),\"NT\",R401)","v":0}]
[{"$nulls":13},402,{"$nulls":4},{"$f":"IF(OR(Q402=5,Q402=10, Q402=15, Q402=\"BP\",Q402=\"SCR\"),\"NT\",R402)","v":0}]
[{"$nulls":13},403,{"$nulls":4},{"$f":"IF(OR(Q403=5,Q403=10, Q403=15, Q403=\"BP\",Q403=\"SCR\"),\"NT\",R403)","v":0}]
[{"$nulls":13},404,{"$nulls":4},{"$f":"IF(OR(Q404=5,Q404=10, Q404=15, Q404=\"BP\",Q404=\"SCR\"),\"NT\",R404)","v":0}]
[{"$nulls":13},405,{"$nulls":4},{"$f":"IF(OR(Q405=5,Q405=10, Q405=15, Q405=\"BP\",Q405=\"SCR\"),\"NT\",R405)","v":0}]
[{"$nulls":13},406,{"$nulls":4},{"$f":"IF(OR(Q406=5,Q406=10, Q406=15, Q406=\"BP\",Q406=\"SCR\"),\"NT\",R406)","v":0}]
[{"$nulls":13},407,{"$nulls":4},{"$f":"IF(OR(Q407=5,Q407=10, Q407=15, Q407=\"BP\",Q407=\"SCR\"),\"NT\",R407)","v":0}]
[{"$nulls":13},408,{"$nulls":4},{"$f":"IF(OR(Q408=5,Q408=10, Q408=15, Q408=\"BP\",Q408=\"SCR\"),\"NT\",R408)","v":0}]
[{"$nulls":13},409,{"$nulls":4},{"$f":"IF(OR(Q409=5,Q409=10, Q409=15, Q409=\"BP\",Q409=\"SCR\"),\"NT\",R409)","v":0}]
[{"$nulls":13},410,{"$nulls":4},{"$f":"IF(OR(Q410=5,Q410=10, Q410=15, Q410=\"BP\",Q410=\"SCR\"),\"NT\",R410)","v":0}]
[{"$nulls":13},411,{"$nulls":4},{"$f":"IF(OR(Q411=5,Q411=10, Q411=15, Q411=\"BP\",Q411=\"SCR\"),\"NT\",R411)","v":0}]
[{"$nulls":13},412,{"$nulls":4},{"$f":"IF(OR(Q412=5,Q412=10, Q412=15, Q412=\"BP\",Q412=\"SCR\"),\"NT\",R412)","v":0}]
[{"$nulls":13},413,{"$nulls":4},{"$f":"IF(OR(Q413=5,Q413=10, Q413=15, Q413=\"BP\",Q413=\"SCR\"),\"NT\",R413)","v":0}]
[{"$nulls":13},414,{"$nulls":4},{"$f":"IF(OR(Q414=5,Q414=10, Q414=15, Q414=\"BP\",Q414=\"SCR\"),\"NT\",R414)","v":0}]
[{"$nulls":13},415,{"$nulls":4},{"$f":"IF(OR(Q415=5,Q415=10, Q415=15, Q415=\"BP\",Q415=\"SCR\"),\"NT\",R415)","v":0}]
[{"$nulls":13},416,{"$nulls":4},{"$f":"IF(OR(Q416=5,Q416=10, Q416=15, Q416=\"BP\",Q416=\"SCR\"),\"NT\",R416)","v":0}]
[{"$nulls":13},417,{"$nulls":4},{"$f":"IF(OR(Q417=5,Q417=10, Q417=15, Q417=\"BP\",Q417=\"SCR\"),\"NT\",R417)","v":0}]
[{"$nulls":13},418,{"$nulls":4},{"$f":"IF(OR(Q418=5,Q418=10, Q418=15, Q418=\"BP\",Q418=\"SCR\"),\"NT\",R418)","v":0}]
[{"$nulls":13},419,{"$nulls":4},{"$f":"IF(OR(Q419=5,Q419=10, Q419=15, Q419=\"BP\",Q419=\"SCR\"),\"NT\",R419)","v":0}]
[{"$nulls":13},420,{"$nulls":4},{"$f":"IF(OR(Q420=5,Q420=10, Q420=15, Q420=\"BP\",Q420=\"SCR\"),\"NT\",R420)","v":0}]
[{"$nulls":13},421,{"$nulls":4},{"$f":"IF(OR(Q421=5,Q421=10, Q421=15, Q421=\"BP\",Q421=\"SCR\"),\"NT\",R421)","v":0}]
[{"$nulls":13},422,{"$nulls":4},{"$f":"IF(OR(Q422=5,Q422=10, Q422=15, Q422=\"BP\",Q422=\"SCR\"),\"NT\",R422)","v":0}]
[{"$nulls":13},423,{"$nulls":4},{"$f":"IF(OR(Q423=5,Q423=10, Q423=15, Q423=\"BP\",Q423=\"SCR\"),\"NT\",R423)","v":0}]
[{"$nulls":13},424,{"$nulls":4},{"$f":"IF(OR(Q424=5,Q424=10, Q424=15, Q424=\"BP\",Q424=\"SCR\"),\"NT\",R424)","v":0}]
[{"$nulls":13},425,{"$nulls":4},{"$f":"IF(OR(Q425=5,Q425=10, Q425=15, Q425=\"BP\",Q425=\"SCR\"),\"NT\",R425)","v":0}]
[{"$nulls":13},426,{"$nulls":4},{"$f":"IF(OR(Q426=5,Q426=10, Q426=15, Q426=\"BP\",Q426=\"SCR\"),\"NT\",R426)","v":0}]
[{"$nulls":13},427,{"$nulls":4},{"$f":"IF(OR(Q427=5,Q427=10, Q427=15, Q427=\"BP\",Q427=\"SCR\"),\"NT\",R427)","v":0}]
[{"$nulls":13},428,{"$nulls":4},{"$f":"IF(OR(Q428=5,Q428=10, Q428=15, Q428=\"BP\",Q428=\"SCR\"),\"NT\",R428)","v":0}]
[{"$nulls":13},429,{"$nulls":4},{"$f":"IF(OR(Q429=5,Q429=10, Q429=15, Q429=\"BP\",Q429=\"SCR\"),\"NT\",R429)","v":0}]
[{"$nulls":13},430,{"$nulls":4},{"$f":"IF(OR(Q430=5,Q430=10, Q430=15, Q430=\"BP\",Q430=\"SCR\"),\"NT\",R430)","v":0}]
[{"$nulls":13},431,{"$nulls":4},{"$f":"IF(OR(Q431=5,Q431=10, Q431=15, Q431=\"BP\",Q431=\"SCR\"),\"NT\",R431)","v":0}]
[{"$nulls":13},432,{"$nulls":4},{"$f":"IF(OR(Q432=5,Q432=10, Q432=15, Q432=\"BP\",Q432=\"SCR\"),\"NT\",R432)","v":0}]
[{"$nulls":13},433,{"$nulls":4},{"$f":"IF(OR(Q433=5,Q433=10, Q433=15, Q433=\"BP\",Q433=\"SCR\"),\"NT\",R433)","v":0}]
[{"$nulls":13},434,{"$nulls":4},{"$f":"IF(OR(Q434=5,Q434=10, Q434=15, Q434=\"BP\",Q434=\"SCR\"),\"NT\",R434)","v":0}]
[{"$nulls":13},435,{"$nulls":4},{"$f":"IF(OR(Q435=5,Q435=10, Q435=15, Q435=\"BP\",Q435=\"SCR\"),\"NT\",R435)","v":0}]
[{"$nulls":13},436,{"$nulls":4},{"$f":"IF(OR(Q436=5,Q436=10, Q436=15, Q436=\"BP\",Q436=\"SCR\"),\"NT\",R436)","v":0}]
[{"$nulls":13},437,{"$nulls":4},{"$f":"IF(OR(Q437=5,Q437=10, Q437=15, Q437=\"BP\",Q437=\"SCR\"),\"NT\",R437)","v":0}]
[{"$nulls":13},438,{"$nulls":4},{"$f":"IF(OR(Q438=5,Q438=10, Q438=15, Q438=\"BP\",Q438=\"SCR\"),\"NT\",R438)","v":0}]
[{"$nulls":13},439,{"$nulls":4},{"$f":"IF(OR(Q439=5,Q439=10, Q439=15, Q439=\"BP\",Q439=\"SCR\"),\"NT\",R439)","v":0}]
[{"$nulls":13},440,{"$nulls":4},{"$f":"IF(OR(Q440=5,Q440=10, Q440=15, Q440=\"BP\",Q440=\"SCR\"),\"NT\",R440)","v":0}]
[{"$nulls":13},441,{"$nulls":4},{"$f":"IF(OR(Q441=5,Q441=10, Q441=15, Q441=\"BP\",Q441=\"SCR\"),\"NT\",R441)","v":0}]
[{"$nulls":13},442,{"$nulls":4},{"$f":"IF(OR(Q442=5,Q442=10, Q442=15, Q442=\"BP\",Q442=\"SCR\"),\"NT\",R442)","v":0}]
[{"$nulls":13},443,{"$nulls":4},{"$f":"IF(OR(Q443=5,Q443=10, Q443=15, Q443=\"BP\",Q443=\"SCR\"),\"NT\",R443)","v":0}]
[{"$nulls":13},444,{"$nulls":4},{"$f":"IF(OR(Q444=5,Q444=10, Q444=15, Q444=\"BP\",Q444=\"SCR\"),\"NT\",R444)","v":0}]
[{"$nulls":13},445,{"$nulls":4},{"$f":"IF(OR(Q445=5,Q445=10, Q445=15, Q445=\"BP\",Q445=\"SCR\"),\"NT\",R445)","v":0}]
[{"$nulls":13},446,{"$nulls":4},{"$f":"IF(OR(Q446=5,Q446=10, Q446=15, Q446=\"BP\",Q446=\"SCR\"),\"NT\",R446)","v":0}]
[{"$nulls":13},447,{"$nulls":4},{"$f":"IF(OR(Q447=5,Q447=10, Q447=15, Q447=\"BP\",Q447=\"SCR\"),\"NT\",R447)","v":0}]
[{"$nulls":13},448,{"$nulls":4},{"$f":"IF(OR(Q448=5,Q448=10, Q448=15, Q448=\"BP\",Q448=\"SCR\"),\"NT\",R448)","v":0}]
[{"$nulls":13},449,{"$nulls":4},{"$f":"IF(OR(Q449=5,Q449=10, Q449=15, Q449=\"BP\",Q449=\"SCR\"),\"NT\",R449)","v":0}]
[{"$nulls":13},450,{"$nulls":4},{"$f":"IF(OR(Q450=5,Q450=10, Q450=15, Q450=\"BP\",Q450=\"SCR\"),\"NT\",R450)","v":0}]
[{"$nulls":13},451,{"$nulls":4},{"$f":"IF(OR(Q451=5,Q451=10, Q451=15, Q451=\"BP\",Q451=\"SCR\"),\"NT\",R451)","v":0}]
[{"$nulls":13},452,{"$nulls":4},{"$f":"IF(OR(Q452=5,Q452=10, Q452=15, Q452=\"BP\",Q452=\"SCR\"),\"NT\",R452)","v":0}]
[{"$nulls":13},453,{"$nulls":4},{"$f":"IF(OR(Q453=5,Q453=10, Q453=15, Q453=\"BP\",Q453=\"SCR\"),\"NT\",R453)","v":0}]
[{"$nulls":13},454,{"$nulls":4},{"$f":"IF(OR(Q454=5,Q454=10, Q454=15, Q454=\"BP\",Q454=\"SCR\"),\"NT\",R454)","v":0}]
[{"$nulls":13},455,{"$nulls":4},{"$f":"IF(OR(Q455=5,Q455=10, Q455=15, Q455=\"BP\",Q455=\"SCR\"),\"NT\",R455)","v":0}]
[{"$nulls":13},456,{"$nulls":4},{"$f":"IF(OR(Q456=5,Q456=10, Q456=15, Q456=\"BP\",Q456=\"SCR\"),\"NT\",R456)","v":0}]
[{"$nulls":13},457,{"$nulls":4},{"$f":"IF(OR(Q457=5,Q457=10, Q457=15, Q457=\"BP\",Q457=\"SCR\"),\"NT\",R457)","v":0}]
[{"$nulls":13},458,{"$nulls":4},{"$f":"IF(OR(Q458=5,Q458=10, Q458=15, Q458=\"BP\",Q458=\"SCR\"),\"NT\",R458)","v":0}]
[{"$nulls":13},459,{"$nulls":4},{"$f":"IF(OR(Q459=5,Q459=10, Q459=15, Q459=\"BP\",Q459=\"SCR\"),\"NT\",R459)","v":0}]
[{"$nulls":13},460,{"$nulls":4},{"$f":"IF(OR(Q460=5,Q460=10, Q460=15, Q460=\"BP\",Q460=\"SCR\"),\"NT\",R460)","v":0}]
[{"$nulls":13},461,{"$nulls":4},{"$f":"IF(OR(Q461=5,Q461=10, Q461=15, Q461=\"BP\",Q461=\"SCR\"),\"NT\",R461)","v":0}]
[{"$nulls":13},462,{"$nulls":4},{"$f":"IF(OR(Q462=5,Q462=10, Q462=15, Q462=\"BP\",Q462=\"SCR\"),\"NT\",R462)","v":0}]
[{"$nulls":13},463,{"$nulls":4},{"$f":"IF(OR(Q463=5,Q463=10, Q463=15, Q463=\"BP\",Q463=\"SCR\"),\"NT\",R463)","v":0}]
[{"$nulls":13},464,{"$nulls":4},{"$f":"IF(OR(Q464=5,Q464=10, Q464=15, Q464=\"BP\",Q464=\"SCR\"),\"NT\",R464)","v":0}]
[{"$nulls":13},465,{"$nulls":4},{"$f":"IF(OR(Q465=5,Q465=10, Q465=15, Q465=\"BP\",Q465=\"SCR\"),\"NT\",R465)","v":0}]
[{"$nulls":13},466,{"$nulls":4},{"$f":"IF(OR(Q466=5,Q466=10, Q466=15, Q466=\"BP\",Q466=\"SCR\"),\"NT\",R466)","v":0}]
[{"$nulls":13},467,{"$nulls":4},{"$f":"IF(OR(Q467=5,Q467=10, Q467=15, Q467=\"BP\",Q467=\"SCR\"),\"NT\",R467)","v":0}]
[{"$nulls":13},468,{"$nulls":4},{"$f":"IF(OR(Q468=5,Q468=10, Q468=15, Q468=\"BP\",Q468=\"SCR\"),\"NT\",R468)","v":0}]
[{"$nulls":13},469,{"$nulls":4},{"$f":"IF(OR(Q469=5,Q469=10, Q469=15, Q469=\"BP\",Q469=\"SCR\"),\"NT\",R469)","v":0}]
[{"$nulls":13},470,{"$nulls":4},{"$f":"IF(OR(Q470=5,Q470=10, Q470=15, Q470=\"BP\",Q470=\"SCR\"),\"NT\",R470)","v":0}]
[{"$nulls":13},471,{"$nulls":4},{"$f":"IF(OR(Q471=5,Q471=10, Q471=15, Q471=\"BP\",Q471=\"SCR\"),\"NT\",R471)","v":0}]
[{"$nulls":13},472,{"$nulls":4},{"$f":"IF(OR(Q472=5,Q472=10, Q472=15, Q472=\"BP\",Q472=\"SCR\"),\"NT\",R472)","v":0}]
[{"$nulls":13},473,{"$nulls":4},{"$f":"IF(OR(Q473=5,Q473=10, Q473=15, Q473=\"BP\",Q473=\"SCR\"),\"NT\",R473)","v":0}]
[{"$nulls":13},474,{"$nulls":4},{"$f":"IF(OR(Q474=5,Q474=10, Q474=15, Q474=\"BP\",Q474=\"SCR\"),\"NT\",R474)","v":0}]
[{"$nulls":13},475,{"$nulls":4},{"$f":"IF(OR(Q475=5,Q475=10, Q475=15, Q475=\"BP\",Q475=\"SCR\"),\"NT\",R475)","v":0}]
[{"$nulls":13},476,{"$nulls":4},{"$f":"IF(OR(Q476=5,Q476=10, Q476=15, Q476=\"BP\",Q476=\"SCR\"),\"NT\",R476)","v":0}]
[{"$nulls":13},477,{"$nulls":4},{"$f":"IF(OR(Q477=5,Q477=10, Q477=15, Q477=\"BP\",Q477=\"SCR\"),\"NT\",R477)","v":0}]
[{"$nulls":13},478,{"$nulls":4},{"$f":"IF(OR(Q478=5,Q478=10, Q478=15, Q478=\"BP\",Q478=\"SCR\"),\"NT\",R478)","v":0}]
[{"$nulls":13},479,{"$nulls":4},{"$f":"IF(OR(Q479=5,Q479=10, Q479=15, Q479=\"BP\",Q479=\"SCR\"),\"NT\",R479)","v":0}]
[{"$nulls":13},480,{"$nulls":4},{"$f":"IF(OR(Q480=5,Q480=10, Q480=15, Q480=\"BP\",Q480=\"SCR\"),\"NT\",R480)","v":0}]
[{"$nulls":13},481,{"$nulls":4},{"$f":"IF(OR(Q481=5,Q481=10, Q481=15, Q481=\"BP\",Q481=\"SCR\"),\"NT\",R481)","v":0}]
[{"$nulls":13},482,{"$nulls":4},{"$f":"IF(OR(Q482=5,Q482=10, Q482=15, Q482=\"BP\",Q482=\"SCR\"),\"NT\",R482)","v":0}]
[{"$nulls":13},483,{"$nulls":4},{"$f":"IF(OR(Q483=5,Q483=10, Q483=15, Q483=\"BP\",Q483=\"SCR\"),\"NT\",R483)","v":0}]
[{"$nulls":13},484,{"$nulls":4},{"$f":"IF(OR(Q484=5,Q484=10, Q484=15, Q484=\"BP\",Q484=\"SCR\"),\"NT\",R484)","v":0}]
[{"$nulls":13},485,{"$nulls":4},{"$f":"IF(OR(Q485=5,Q485=10, Q485=15, Q485=\"BP\",Q485=\"SCR\"),\"NT\",R485)","v":0}]
[{"$nulls":13},486,{"$nulls":4},{"$f":"IF(OR(Q486=5,Q486=10, Q486=15, Q486=\"BP\",Q486=\"SCR\"),\"NT\",R486)","v":0}]
[{"$nulls":13},487,{"$nulls":4},{"$f":"IF(OR(Q487=5,Q487=10, Q487=15, Q487=\"BP\",Q487=\"SCR\"),\"NT\",R487)","v":0}]
[{"$nulls":13},488,{"$nulls":4},{"$f":"IF(OR(Q488=5,Q488=10, Q488=15, Q488=\"BP\",Q488=\"SCR\"),\"NT\",R488)","v":0}]
[{"$nulls":13},489,{"$nulls":4},{"$f":"IF(OR(Q489=5,Q489=10, Q489=15, Q489=\"BP\",Q489=\"SCR\"),\"NT\",R489)","v":0}]
[{"$nulls":13},490,{"$nulls":4},{"$f":"IF(OR(Q490=5,Q490=10, Q490=15, Q490=\"BP\",Q490=\"SCR\"),\"NT\",R490)","v":0}]
[{"$nulls":13},491,{"$nulls":4},{"$f":"IF(OR(Q491=5,Q491=10, Q491=15, Q491=\"BP\",Q491=\"SCR\"),\"NT\",R491)","v":0}]
[{"$nulls":13},492,{"$nulls":4},{"$f":"IF(OR(Q492=5,Q492=10, Q492=15, Q492=\"BP\",Q492=\"SCR\"),\"NT\",R492)","v":0}]
[{"$nulls":13},493,{"$nulls":4},{"$f":"IF(OR(Q493=5,Q493=10, Q493=15, Q493=\"BP\",Q493=\"SCR\"),\"NT\",R493)","v":0}]
[{"$nulls":13},494,{"$nulls":4},{"$f":"IF(OR(Q494=5,Q494=10, Q494=15, Q494=\"BP\",Q494=\"SCR\"),\"NT\",R494)","v":0}]
[{"$nulls":13},495,{"$nulls":4},{"$f":"IF(OR(Q495=5,Q495=10, Q495=15, Q495=\"BP\",Q495=\"SCR\"),\"NT\",R495)","v":0}]
[{"$nulls":13},496,{"$nulls":4},{"$f":"IF(OR(Q496=5,Q496=10, Q496=15, Q496=\"BP\",Q496=\"SCR\"),\"NT\",R496)","v":0}]
[{"$nulls":13},497,{"$nulls":4},{"$f":"IF(OR(Q497=5,Q497=10, Q497=15, Q497=\"BP\",Q497=\"SCR\"),\"NT\",R497)","v":0}]
[{"$nulls":13},498,{"$nulls":4},{"$f":"IF(OR(Q498=5,Q498=10, Q498=15, Q498=\"BP\",Q498=\"SCR\"),\"NT\",R498)","v":0}]
[{"$nulls":13},499,{"$nulls":4},{"$f":"IF(OR(Q499=5,Q499=10, Q499=15, Q499=\"BP\",Q499=\"SCR\"),\"NT\",R499)","v":0}]
[{"$nulls":13},500,{"$nulls":4},{"$f":"IF(OR(Q500=5,Q500=10, Q500=15, Q500=\"BP\",Q500=\"SCR\"),\"NT\",R500)","v":0}]

{"sheet":"Senior","index":2,"n_rows":301,"n_cols":10,"rows_kept":301,"cut":false,"hidden":false,"merged":[]}
["Futurity","Der","Age Inct.","BBR","Draw","Rider Name","Horse Name","Time","Placing","Money Earned"]
[{"$nulls":4},1,"Renee Stuckey","Leo San Ta Fame",15.949,"1D 1st",160]
[{"$nulls":4},2,"Martha Smith","Firewater Make Me Happy",15.964,"1D 2nd",106]
[{"$nulls":4},3,"Raylene Cox","Ya Give Me Fever",16.091000000000001]
[{"$nulls":4},4,"Donna Ramsey","BB's Royal Dream",16.266999999999999]
[{"$nulls":4},5,"Martha Reeves","No Pressure On Me",16.279]
[{"$nulls":4},6,"Lynn Saunders","Popcorn",16.291]
[{"$nulls":4},7,"Tamet Gould","The Final Donut",16.306000000000001]
[{"$nulls":4},8,"Terry Vogel","Frenchman",16.456,"2D 1st",130]
[{"$nulls":4},9,"Lisa Wernli","Flashs Fine Effort",16.46,"2D 2nd",86]
[{"$nulls":4},10,"Martha Smith","Victory Blue Moon",16.486999999999998]
[{"$nulls":4},11,"Donna Tippen","Lyla",16.536000000000001]
[{"$nulls":4},12,"Simone Elmore","Badger A Conchadrift",16.663]
[{"$nulls":4},13,"Jodi Stovall","Miss French Drifter",16.664000000000001]
[{"$nulls":4},14,"Sydney Ryan","Lyndis Sonny Lights",16.683]
[{"$nulls":4},15,"Lisa Cotter","Outlaw John Dillenger",16.713999999999999]
[{"$nulls":4},16,"Cindy Ware","Jackies Parr Three",16.725000000000001]
[{"$nulls":4},17,"Lynn Saunders","Chumly",16.79]
[{"$nulls":4},18,"Connie Randolph","Hot Rod Kitty",16.873000000000001]
[{"$nulls":4},19,"Karen Manning","Shut the Flamin Door",17.007999999999999,"3D 1st",86]
[{"$nulls":4},20,"Debbie Raab","Easy Talent",17.03,"3D 2nd",58]
[{"$nulls":4},21,"Kathy Minteer","Little Bit",17.036000000000001]
[{"$nulls":4},22,"Jay Jay McMahan","A Cats Playmate",17.143000000000001]
[{"$nulls":4},23,"Jan Davis","Woody B Perky",17.16]
[{"$nulls":4},24,"Holly Pritchard","Bogies French Moon",17.170000000000002]
[{"$nulls":4},25,"Elaine Foreman","Boogies Moon Pie",17.224]
[{"$nulls":4},26,"Dana Chaddick","Nikki",17.245000000000001]
[{"$nulls":4},27,"Marj Dahle","JCS Mito Cutter",17.457000000000001,"4D 1st",65]
[{"$nulls":4},28,"Cheryl Chown","PC Vanilla Ice",17.550999999999998,"4D 2nd",43]
[{"$nulls":4},29,"Katy Holloway","Namgis D 18",17.911999999999999]
[{"$nulls":4},30,"Terry Weeks","Streak Ta Da Sky","nt"]
[{"$nulls":4},31,"Stacey Gates","Johnny On The Rocks","NT 16.078"]
[{"$nulls":4},32,"Elaine Foreman","Ta Fame Ina Dash","NT 16.900"]
[{"$nulls":4},33,"Liz Holder","Honorey Angel","NT 17.346"]
[{"$nulls":4},34,"Carolyn Uhler","Lil Pep O Gold","nt16.023"]
[{"$nulls":4},35,"Karen Manning","Shut the Blazin Door","nt16.241"]
[{"$nulls":4},36,"Kelly Bruner","Hollywood","nt16.302"]
[{"$nulls":4},37,"Charlie Colella","Dashin Red Charger","nt24.893"]
[{"$nulls":4},38,"Melanie Self","Ole Mans Aloha","scratch"]
[{"$nulls":4},39]
[{"$nulls":4},40]
[{"$nulls":4},41]
[{"$nulls":4},42]
[{"$nulls":4},43]
[{"$nulls":4},44]
[{"$nulls":4},45]
[{"$nulls":4},46]
[{"$nulls":4},47]
[{"$nulls":4},48]
[{"$nulls":4},49]
[{"$nulls":4},50]
[{"$nulls":4},51]
[{"$nulls":4},52]
[{"$nulls":4},53]
[{"$nulls":4},54]
[{"$nulls":4},55]
[{"$nulls":4},56]
[{"$nulls":4},57]
[{"$nulls":4},58]
[{"$nulls":4},59]
[{"$nulls":4},60]
[{"$nulls":4},61]
[{"$nulls":4},62]
[{"$nulls":4},63]
[{"$nulls":4},64]
[{"$nulls":4},65]
[{"$nulls":4},66]
[{"$nulls":4},67]
[{"$nulls":4},68]
[{"$nulls":4},69]
[{"$nulls":4},70]
[{"$nulls":4},71]
[{"$nulls":4},72]
[{"$nulls":4},73]
[{"$nulls":4},74]
[{"$nulls":4},75]
[{"$nulls":4},76]
[{"$nulls":4},77]
[{"$nulls":4},78]
[{"$nulls":4},79]
[{"$nulls":4},80]
[{"$nulls":4},81]
[{"$nulls":4},82]
[{"$nulls":4},83]
[{"$nulls":4},84]
[{"$nulls":4},85]
[{"$nulls":4},86]
[{"$nulls":4},87]
[{"$nulls":4},88]
[{"$nulls":4},89]
[{"$nulls":4},90]
[{"$nulls":4},91]
[{"$nulls":4},92]
[{"$nulls":4},93]
[{"$nulls":4},94]
[{"$nulls":4},95]
[{"$nulls":4},96]
[{"$nulls":4},97]
[{"$nulls":4},98]
[{"$nulls":4},99]
[{"$nulls":4},100]
[{"$nulls":4},101]
[{"$nulls":4},102]
[{"$nulls":4},103]
[{"$nulls":4},104]
[{"$nulls":4},105]
[{"$nulls":4},106]
[{"$nulls":4},107]
[{"$nulls":4},108]
[{"$nulls":4},109]
[{"$nulls":4},110]
[{"$nulls":4},111]
[{"$nulls":4},112]
[{"$nulls":4},113]
[{"$nulls":4},114]
[{"$nulls":4},115]
[{"$nulls":4},116]
[{"$nulls":4},117]
[{"$nulls":4},118]
[{"$nulls":4},119]
[{"$nulls":4},120]
[{"$nulls":4},121]
[{"$nulls":4},122]
[{"$nulls":4},123]
[{"$nulls":4},124]
[{"$nulls":4},125]
[{"$nulls":4},126]
[{"$nulls":4},127]
[{"$nulls":4},128]
[{"$nulls":4},129]
[{"$nulls":4},130]
[{"$nulls":4},131]
[{"$nulls":4},132]
[{"$nulls":4},133]
[{"$nulls":4},134]
[{"$nulls":4},135]
[{"$nulls":4},136]
[{"$nulls":4},137]
[{"$nulls":4},138]
[{"$nulls":4},139]
[{"$nulls":4},140]
[{"$nulls":4},141]
[{"$nulls":4},142]
[{"$nulls":4},143]
[{"$nulls":4},144]
[{"$nulls":4},145]
[{"$nulls":4},146]
[{"$nulls":4},147]
[{"$nulls":4},148]
[{"$nulls":4},149]
[{"$nulls":4},150]
[{"$nulls":4},151]
[{"$nulls":4},152]
[{"$nulls":4},153]
[{"$nulls":4},154]
[{"$nulls":4},155]
[{"$nulls":4},156]
[{"$nulls":4},157]
[{"$nulls":4},158]
[{"$nulls":4},159]
[{"$nulls":4},160]
[{"$nulls":4},161]
[{"$nulls":4},162]
[{"$nulls":4},163]
[{"$nulls":4},164]
[{"$nulls":4},165]
[{"$nulls":4},166]
[{"$nulls":4},167]
[{"$nulls":4},168]
[{"$nulls":4},169]
[{"$nulls":4},170]
[{"$nulls":4},171]
[{"$nulls":4},172]
[{"$nulls":4},173]
[{"$nulls":4},174]
[{"$nulls":4},175]
[{"$nulls":4},176]
[{"$nulls":4},177]
[{"$nulls":4},178]
[{"$nulls":4},179]
[{"$nulls":4},180]
[{"$nulls":4},181]
[{"$nulls":4},182]
[{"$nulls":4},183]
[{"$nulls":4},184]
[{"$nulls":4},185]
[{"$nulls":4},186]
[{"$nulls":4},187]
[{"$nulls":4},188]
[{"$nulls":4},189]
[{"$nulls":4},190]
[{"$nulls":4},191]
[{"$nulls":4},192]
[{"$nulls":4},193]
[{"$nulls":4},194]
[{"$nulls":4},195]
[{"$nulls":4},196]
[{"$nulls":4},197]
[{"$nulls":4},198]
[{"$nulls":4},199]
[{"$nulls":4},200]
[{"$nulls":4},201]
[{"$nulls":4},202]
[{"$nulls":4},203]
[{"$nulls":4},204]
[{"$nulls":4},205]
[{"$nulls":4},206]
[{"$nulls":4},207]
[{"$nulls":4},208]
[{"$nulls":4},209]
[{"$nulls":4},210]
[{"$nulls":4},211]
[{"$nulls":4},212]
[{"$nulls":4},213]
[{"$nulls":4},214]
[{"$nulls":4},215]
[{"$nulls":4},216]
[{"$nulls":4},217]
[{"$nulls":4},218]
[{"$nulls":4},219]
[{"$nulls":4},220]
[{"$nulls":4},221]
[{"$nulls":4},222]
[{"$nulls":4},223]
[{"$nulls":4},224]
[{"$nulls":4},225]
[{"$nulls":4},226]
[{"$nulls":4},227]
[{"$nulls":4},228]
[{"$nulls":4},229]
[{"$nulls":4},230]
[{"$nulls":4},231]
[{"$nulls":4},232]
[{"$nulls":4},233]
[{"$nulls":4},234]
[{"$nulls":4},235]
[{"$nulls":4},236]
[{"$nulls":4},237]
[{"$nulls":4},238]
[{"$nulls":4},239]
[{"$nulls":4},240]
[{"$nulls":4},241]
[{"$nulls":4},242]
[{"$nulls":4},243]
[{"$nulls":4},244]
[{"$nulls":4},245]
[{"$nulls":4},246]
[{"$nulls":4},247]
[{"$nulls":4},248]
[{"$nulls":4},249]
[{"$nulls":4},250]
[{"$nulls":4},251]
[{"$nulls":4},252]
[{"$nulls":4},253]
[{"$nulls":4},254]
[{"$nulls":4},255]
[{"$nulls":4},256]
[{"$nulls":4},257]
[{"$nulls":4},258]
[{"$nulls":4},259]
[{"$nulls":4},260]
[{"$nulls":4},261]
[{"$nulls":4},262]
[{"$nulls":4},263]
[{"$nulls":4},264]
[{"$nulls":4},265]
[{"$nulls":4},266]
[{"$nulls":4},267]
[{"$nulls":4},268]
[{"$nulls":4},269]
[{"$nulls":4},270]
[{"$nulls":4},271]
[{"$nulls":4},272]
[{"$nulls":4},273]
[{"$nulls":4},274]
[{"$nulls":4},275]
[{"$nulls":4},276]
[{"$nulls":4},277]
[{"$nulls":4},278]
[{"$nulls":4},279]
[{"$nulls":4},280]
[{"$nulls":4},281]
[{"$nulls":4},282]
[{"$nulls":4},283]
[{"$nulls":4},284]
[{"$nulls":4},285]
[{"$nulls":4},286]
[{"$nulls":4},287]
[{"$nulls":4},288]
[{"$nulls":4},289]
[{"$nulls":4},290]
[{"$nulls":4},291]
[{"$nulls":4},292]
[{"$nulls":4},293]
[{"$nulls":4},294]
[{"$nulls":4},295]
[{"$nulls":4},296]
[{"$nulls":4},297]
[{"$nulls":4},298]
[{"$nulls":4},299]
[{"$nulls":4},300]

{"sheet":"Adult","index":3,"n_rows":301,"n_cols":10,"rows_kept":301,"cut":false,"hidden":false,"merged":[]}
["Futurity","Der","Age Inct.","BBR","Draw","Rider Name","Horse Name","Time","Placing","Money Earned"]
[{"$nulls":4},1,"Jolene Montogmery","Promise Me A Jet",15.727,"1D 1st",168]
[{"$nulls":4},2,"Jolene Montogmery","Double Dipped In Fame",15.96,"2D 2nd",112]
[{"$nulls":4},3,"Kelly Allen","Miss JB 133",15.975]
[{"$nulls":4},4,"Jolene Montogmery","Jets Heart N Soul",15.991]
[{"$nulls":4},5,"Sonyia Mcharge","A Sharp French Guy",16.016999999999999]
[{"$nulls":4},6,"Rebba Wright","Ceo Kinda Beautiful",16.151]
[{"$nulls":4},7,"Rebba Wright","Ceo Kinda Sassy Gal",16.172999999999998]
[{"$nulls":4},8,"Denny Ralls","Ease De Hank",16.187000000000001]
[{"$nulls":4},9,"Andrea Cline","J Lo Fame",16.190999999999999]
[{"$nulls":4},10,"Susan Agnew","Jet N Ta Fame",16.295000000000002,"2D 1st",144]
[{"$nulls":4},11,"Jolene Montogmery","Send Me Send Me",16.315000000000001,"2D 2nd",96]
[{"$nulls":4},12,"Jolene Montogmery","Chicados Bully",16.332000000000001]
[{"$nulls":4},13,"Holly Fenoglio","Flame of Fame",16.451000000000001]
[{"$nulls":4},14,"Lisa Wernli","Flashs Fine Effort",16.46]
[{"$nulls":4},15,"Jade Crago","CM Bubblin Dynamite",16.492000000000001]
[{"$nulls":4},16,"Tianti Carter","Rocking Wilma",16.538]
[{"$nulls":4},17,"Kelly Allen","Miss JB 1315",16.559000000000001]
[{"$nulls":4},18,"Denny Ralls","Sweet Movin Firewater",16.581]
[{"$nulls":4},19,"Cassidy Rabb","VF Coup Fulla Coins",16.634]
[{"$nulls":4},20,"Ali Armstrong","Anniesgonnarunorelse",16.638999999999999]
[{"$nulls":4},21,"Adelita Tyson","H1",16.702000000000002]
[{"$nulls":4},22,"Alisha Todd","Sheza Amarillo Doc",16.876999999999999,"3D 1st",96]
[{"$nulls":4},23,"Sonyia Mcharge","Ima Sharpdancinjudge",16.898,"3D 2nd",64]
[{"$nulls":4},24,"Lorinda Van Newkirk","Hot N On Fire",16.943999999999999]
[{"$nulls":4},25,"Brandi Williams","Frosted Mini Chex",16.965]
[{"$nulls":4},26,"Tiffany Cox","Lacy",17.007000000000001]
[{"$nulls":4},27,"Tracey McCollough","Fast Fishin Cash",17.324000000000002,"4D 1st",72]
[{"$nulls":4},28,"Dee Dee Jordan","First Rappin Judge",17.427,"4D 2nd",48]
[{"$nulls":4},29,"Lynn Whisenant","Heza Wonder Streakin",17.489000000000001]
[{"$nulls":4},30,"Brandi Williams","Cha Cha Shorty",17.753]
[{"$nulls":4},31,"Kellie Autry","Array For First Team",17.844999999999999]
[{"$nulls":4},32,"Dee Dee Jordan","Blazin Corona Cutie",17.969000000000001]
[{"$nulls":4},33,"Susan Agnew","Splash Da Firewater",18.108000000000001]
[{"$nulls":4},34,"Payton Schoonover","Phantom",18.183]
[{"$nulls":4},35,"Karissa Jones","Anita Lot A Cash","NT"]
[{"$nulls":4},36,"Molli Montgomery","Makin Ya Famous","NT 15.797"]
[{"$nulls":4},37,"Molli Montgomery","Legsgonewild","NT 16.060"]
[{"$nulls":4},38,"Abby Youngblood","TDN Duster Blue","NT 16.429"]
[{"$nulls":4},39,"Molli Montgomery","Strawflyin The Gold","NT 16.573"]
[{"$nulls":4},40,"Kassie Mowry","Girls Dig Fame","nt16.116"]
[{"$nulls":4},41]
[{"$nulls":4},42]
[{"$nulls":4},43]
[{"$nulls":4},44]
[{"$nulls":4},45]
[{"$nulls":4},46]
[{"$nulls":4},47]
[{"$nulls":4},48]
[{"$nulls":4},49]
[{"$nulls":4},50]
[{"$nulls":4},51]
[{"$nulls":4},52]
[{"$nulls":4},53]
[{"$nulls":4},54]
[{"$nulls":4},55]
[{"$nulls":4},56]
[{"$nulls":4},57]
[{"$nulls":4},58]
[{"$nulls":4},59]
[{"$nulls":4},60]
[{"$nulls":4},61]
[{"$nulls":4},62]
[{"$nulls":4},63]
[{"$nulls":4},64]
[{"$nulls":4},65]
[{"$nulls":4},66]
[{"$nulls":4},67]
[{"$nulls":4},68]
[{"$nulls":4},69]
[{"$nulls":4},70]
[{"$nulls":4},71]
[{"$nulls":4},72]
[{"$nulls":4},73]
[{"$nulls":4},74]
[{"$nulls":4},75]
[{"$nulls":4},76]
[{"$nulls":4},77]
[{"$nulls":4},78]
[{"$nulls":4},79]
[{"$nulls":4},80]
[{"$nulls":4},81]
[{"$nulls":4},82]
[{"$nulls":4},83]
[{"$nulls":4},84]
[{"$nulls":4},85]
[{"$nulls":4},86]
[{"$nulls":4},87]
[{"$nulls":4},88]
[{"$nulls":4},89]
[{"$nulls":4},90]
[{"$nulls":4},91]
[{"$nulls":4},92]
[{"$nulls":4},93]
[{"$nulls":4},94]
[{"$nulls":4},95]
[{"$nulls":4},96]
[{"$nulls":4},97]
[{"$nulls":4},98]
[{"$nulls":4},99]
[{"$nulls":4},100]
[{"$nulls":4},101]
[{"$nulls":4},102]
[{"$nulls":4},103]
[{"$nulls":4},104]
[{"$nulls":4},105]
[{"$nulls":4},106]
[{"$nulls":4},107]
[{"$nulls":4},108]
[{"$nulls":4},109]
[{"$nulls":4},110]
[{"$nulls":4},111]
[{"$nulls":4},112]
[{"$nulls":4},113]
[{"$nulls":4},114]
[{"$nulls":4},115]
[{"$nulls":4},116]
[{"$nulls":4},117]
[{"$nulls":4},118]
[{"$nulls":4},119]
[{"$nulls":4},120]
[{"$nulls":4},121]
[{"$nulls":4},122]
[{"$nulls":4},123]
[{"$nulls":4},124]
[{"$nulls":4},125]
[{"$nulls":4},126]
[{"$nulls":4},127]
[{"$nulls":4},128]
[{"$nulls":4},129]
[{"$nulls":4},130]
[{"$nulls":4},131]
[{"$nulls":4},132]
[{"$nulls":4},133]
[{"$nulls":4},134]
[{"$nulls":4},135]
[{"$nulls":4},136]
[{"$nulls":4},137]
[{"$nulls":4},138]
[{"$nulls":4},139]
[{"$nulls":4},140]
[{"$nulls":4},141]
[{"$nulls":4},142]
[{"$nulls":4},143]
[{"$nulls":4},144]
[{"$nulls":4},145]
[{"$nulls":4},146]
[{"$nulls":4},147]
[{"$nulls":4},148]
[{"$nulls":4},149]
[{"$nulls":4},150]
[{"$nulls":4},151]
[{"$nulls":4},152]
[{"$nulls":4},153]
[{"$nulls":4},154]
[{"$nulls":4},155]
[{"$nulls":4},156]
[{"$nulls":4},157]
[{"$nulls":4},158]
[{"$nulls":4},159]
[{"$nulls":4},160]
[{"$nulls":4},161]
[{"$nulls":4},162]
[{"$nulls":4},163]
[{"$nulls":4},164]
[{"$nulls":4},165]
[{"$nulls":4},166]
[{"$nulls":4},167]
[{"$nulls":4},168]
[{"$nulls":4},169]
[{"$nulls":4},170]
[{"$nulls":4},171]
[{"$nulls":4},172]
[{"$nulls":4},173]
[{"$nulls":4},174]
[{"$nulls":4},175]
[{"$nulls":4},176]
[{"$nulls":4},177]
[{"$nulls":4},178]
[{"$nulls":4},179]
[{"$nulls":4},180]
[{"$nulls":4},181]
[{"$nulls":4},182]
[{"$nulls":4},183]
[{"$nulls":4},184]
[{"$nulls":4},185]
[{"$nulls":4},186]
[{"$nulls":4},187]
[{"$nulls":4},188]
[{"$nulls":4},189]
[{"$nulls":4},190]
[{"$nulls":4},191]
[{"$nulls":4},192]
[{"$nulls":4},193]
[{"$nulls":4},194]
[{"$nulls":4},195]
[{"$nulls":4},196]
[{"$nulls":4},197]
[{"$nulls":4},198]
[{"$nulls":4},199]
[{"$nulls":4},200]
[{"$nulls":4},201]
[{"$nulls":4},202]
[{"$nulls":4},203]
[{"$nulls":4},204]
[{"$nulls":4},205]
[{"$nulls":4},206]
[{"$nulls":4},207]
[{"$nulls":4},208]
[{"$nulls":4},209]
[{"$nulls":4},210]
[{"$nulls":4},211]
[{"$nulls":4},212]
[{"$nulls":4},213]
[{"$nulls":4},214]
[{"$nulls":4},215]
[{"$nulls":4},216]
[{"$nulls":4},217]
[{"$nulls":4},218]
[{"$nulls":4},219]
[{"$nulls":4},220]
[{"$nulls":4},221]
[{"$nulls":4},222]
[{"$nulls":4},223]
[{"$nulls":4},224]
[{"$nulls":4},225]
[{"$nulls":4},226]
[{"$nulls":4},227]
[{"$nulls":4},228]
[{"$nulls":4},229]
[{"$nulls":4},230]
[{"$nulls":4},231]
[{"$nulls":4},232]
[{"$nulls":4},233]
[{"$nulls":4},234]
[{"$nulls":4},235]
[{"$nulls":4},236]
[{"$nulls":4},237]
[{"$nulls":4},238]
[{"$nulls":4},239]
[{"$nulls":4},240]
[{"$nulls":4},241]
[{"$nulls":4},242]
[{"$nulls":4},243]
[{"$nulls":4},244]
[{"$nulls":4},245]
[{"$nulls":4},246]
[{"$nulls":4},247]
[{"$nulls":4},248]
[{"$nulls":4},249]
[{"$nulls":4},250]
[{"$nulls":4},251]
[{"$nulls":4},252]
[{"$nulls":4},253]
[{"$nulls":4},254]
[{"$nulls":4},255]
[{"$nulls":4},256]
[{"$nulls":4},257]
[{"$nulls":4},258]
[{"$nulls":4},259]
[{"$nulls":4},260]
[{"$nulls":4},261]
[{"$nulls":4},262]
[{"$nulls":4},263]
[{"$nulls":4},264]
[{"$nulls":4},265]
[{"$nulls":4},266]
[{"$nulls":4},267]
[{"$nulls":4},268]
[{"$nulls":4},269]
[{"$nulls":4},270]
[{"$nulls":4},271]
[{"$nulls":4},272]
[{"$nulls":4},273]
[{"$nulls":4},274]
[{"$nulls":4},275]
[{"$nulls":4},276]
[{"$nulls":4},277]
[{"$nulls":4},278]
[{"$nulls":4},279]
[{"$nulls":4},280]
[{"$nulls":4},281]
[{"$nulls":4},282]
[{"$nulls":4},283]
[{"$nulls":4},284]
[{"$nulls":4},285]
[{"$nulls":4},286]
[{"$nulls":4},287]
[{"$nulls":4},288]
[{"$nulls":4},289]
[{"$nulls":4},290]
[{"$nulls":4},291]
[{"$nulls":4},292]
[{"$nulls":4},293]
[{"$nulls":4},294]
[{"$nulls":4},295]
[{"$nulls":4},296]
[{"$nulls":4},297]
[{"$nulls":4},298]
[{"$nulls":4},299]
[{"$nulls":4},300]

{"sheet":"8&under","index":4,"n_rows":21,"n_cols":8,"rows_kept":21,"cut":false,"hidden":false,"merged":[]}
["Draw","Rider Name","Horse Name","Pen","Time","Final Time","Placing","Money Earned"]
[2,"Kyndall Pedone","Termite"]
[5,"Breelyn Black","Poptart"]
[4,"Cooper Peak","Dolly",null,null,{"$f":"IF(OR(D4=5,D4=10, D4=15, D4=\"BP\",D4=\"SCR\"),\"NT\",E4)","v":0}]
[3,"Brinley Howard","Sassy"]
[1]
[6,{"$nulls":4},{"$f":"IF(OR(D7=5,D7=10, D7=15, D7=\"BP\",D7=\"SCR\"),\"NT\",E7)","v":0}]
[7,{"$nulls":4},0]
[8,{"$nulls":4},0]
[9,{"$nulls":4},0]
[10,{"$nulls":4},0]
[11,{"$nulls":4},0]
[12,{"$nulls":4},0]
[13,{"$nulls":4},0]
[14,{"$nulls":4},0]
[15,{"$nulls":4},0]
[16,{"$nulls":4},0]
[17,{"$nulls":4},0]
[18,{"$nulls":4},0]
[19,{"$nulls":4},0]
[20,{"$nulls":4},0]

{"sheet":"Youth","index":5,"n_rows":301,"n_cols":10,"rows_kept":301,"cut":false,"hidden":false,"merged":[]}
["Futurity","Der","Age Inct.","BBR","Draw","Rider Name","Horse Name","Time","Placing","Money Earned"]
[{"$nulls":4},1,"Haley Hunt","Shez Jettn Speed",16.655000000000001,"1D 1st",200]
[{"$nulls":4},2,"Esmeralda Garcia","Earl",16.768000000000001]
[{"$nulls":4},3,"Rebekah McQueen","Leo San Peppy Belle",16.864000000000001]
[{"$nulls":4},4,"Madison Reich","Kit",16.885999999999999]
[{"$nulls":4},5,"Stormi Branch","Demon",16.965]
[{"$nulls":4},6,"Esmeralda Garcia","Romeo Mills",17.03]
[{"$nulls":4},7,"Kaylee Berry","Smart Lil Dulce 101",17.099]
[{"$nulls":4},8,"Summer Sanders","Too Tall",17.143000000000001]
[{"$nulls":4},9,"Sydney Wollet","Hooked On Firewater",17.414000000000001,"2D 1st",120]
[{"$nulls":4},10,"Summer Sanders","Delta",17.625]
[{"$nulls":4},11,"Haley Wright","Rockin C Angel",17.628]
[{"$nulls":4},12,"Payton Schoonover","Phantom",18.183,"4D 1st",80]
[{"$nulls":4},13,"Maddy Myers","Graves Tassie Pepper",18.341999999999999]
[{"$nulls":4},14,"Mikayla Cearley","Docs Part Bueno Bar",18.43]
[{"$nulls":4},15,"Brynn Owens","Oakley",18.7]
[{"$nulls":4},16,"Sofia Caballero","Pa Jones Perks","NT"]
[{"$nulls":4},17,"Brynn Owens","Jr","NT 17.175"]
[{"$nulls":4},18,"Biloxi Shultz","Sheza Peasa Pie","nt16.204"]
[{"$nulls":4},19,"Biloxi Shultz","Missan Lena","nt16.317"]
[{"$nulls":4},20,"Biloxi Shultz","Senor La Jolla","nt16.385"]
[{"$nulls":4},21]
[{"$nulls":4},22]
[{"$nulls":4},23]
[{"$nulls":4},24]
[{"$nulls":4},25]
[{"$nulls":4},26]
[{"$nulls":4},27]
[{"$nulls":4},28]
[{"$nulls":4},29]
[{"$nulls":4},30]
[{"$nulls":4},31]
[{"$nulls":4},32]
[{"$nulls":4},33]
[{"$nulls":4},34]
[{"$nulls":4},35]
[{"$nulls":4},36]
[{"$nulls":4},37]
[{"$nulls":4},38]
[{"$nulls":4},39]
[{"$nulls":4},40]
[{"$nulls":4},41]
[{"$nulls":4},42]
[{"$nulls":4},43]
[{"$nulls":4},44]
[{"$nulls":4},45]
[{"$nulls":4},46]
[{"$nulls":4},47]
[{"$nulls":4},48]
[{"$nulls":4},49]
[{"$nulls":4},50]
[{"$nulls":4},51]
[{"$nulls":4},52]
[{"$nulls":4},53]
[{"$nulls":4},54]
[{"$nulls":4},55]
[{"$nulls":4},56]
[{"$nulls":4},57]
[{"$nulls":4},58]
[{"$nulls":4},59]
[{"$nulls":4},60]
[{"$nulls":4},61]
[{"$nulls":4},62]
[{"$nulls":4},63]
[{"$nulls":4},64]
[{"$nulls":4},65]
[{"$nulls":4},66]
[{"$nulls":4},67]
[{"$nulls":4},68]
[{"$nulls":4},69]
[{"$nulls":4},70]
[{"$nulls":4},71]
[{"$nulls":4},72]
[{"$nulls":4},73]
[{"$nulls":4},74]
[{"$nulls":4},75]
[{"$nulls":4},76]
[{"$nulls":4},77]
[{"$nulls":4},78]
[{"$nulls":4},79]
[{"$nulls":4},80]
[{"$nulls":4},81]
[{"$nulls":4},82]
[{"$nulls":4},83]
[{"$nulls":4},84]
[{"$nulls":4},85]
[{"$nulls":4},86]
[{"$nulls":4},87]
[{"$nulls":4},88]
[{"$nulls":4},89]
[{"$nulls":4},90]
[{"$nulls":4},91]
[{"$nulls":4},92]
[{"$nulls":4},93]
[{"$nulls":4},94]
[{"$nulls":4},95]
[{"$nulls":4},96]
[{"$nulls":4},97]
[{"$nulls":4},98]
[{"$nulls":4},99]
[{"$nulls":4},100]
[{"$nulls":4},101]
[{"$nulls":4},102]
[{"$nulls":4},103]
[{"$nulls":4},104]
[{"$nulls":4},105]
[{"$nulls":4},106]
[{"$nulls":4},107]
[{"$nulls":4},108]
[{"$nulls":4},109]
[{"$nulls":4},110]
[{"$nulls":4},111]
[{"$nulls":4},112]
[{"$nulls":4},113]
[{"$nulls":4},114]
[{"$nulls":4},115]
[{"$nulls":4},116]
[{"$nulls":4},117]
[{"$nulls":4},118]
[{"$nulls":4},119]
[{"$nulls":4},120]
[{"$nulls":4},121]
[{"$nulls":4},122]
[{"$nulls":4},123]
[{"$nulls":4},124]
[{"$nulls":4},125]
[{"$nulls":4},126]
[{"$nulls":4},127]
[{"$nulls":4},128]
[{"$nulls":4},129]
[{"$nulls":4},130]
[{"$nulls":4},131]
[{"$nulls":4},132]
[{"$nulls":4},133]
[{"$nulls":4},134]
[{"$nulls":4},135]
[{"$nulls":4},136]
[{"$nulls":4},137]
[{"$nulls":4},138]
[{"$nulls":4},139]
[{"$nulls":4},140]
[{"$nulls":4},141]
[{"$nulls":4},142]
[{"$nulls":4},143]
[{"$nulls":4},144]
[{"$nulls":4},145]
[{"$nulls":4},146]
[{"$nulls":4},147]
[{"$nulls":4},148]
[{"$nulls":4},149]
[{"$nulls":4},150]
[{"$nulls":4},151]
[{"$nulls":4},152]
[{"$nulls":4},153]
[{"$nulls":4},154]
[{"$nulls":4},155]
[{"$nulls":4},156]
[{"$nulls":4},157]
[{"$nulls":4},158]
[{"$nulls":4},159]
[{"$nulls":4},160]
[{"$nulls":4},161]
[{"$nulls":4},162]
[{"$nulls":4},163]
[{"$nulls":4},164]
[{"$nulls":4},165]
[{"$nulls":4},166]
[{"$nulls":4},167]
[{"$nulls":4},168]
[{"$nulls":4},169]
[{"$nulls":4},170]
[{"$nulls":4},171]
[{"$nulls":4},172]
[{"$nulls":4},173]
[{"$nulls":4},174]
[{"$nulls":4},175]
[{"$nulls":4},176]
[{"$nulls":4},177]
[{"$nulls":4},178]
[{"$nulls":4},179]
[{"$nulls":4},180]
[{"$nulls":4},181]
[{"$nulls":4},182]
[{"$nulls":4},183]
[{"$nulls":4},184]
[{"$nulls":4},185]
[{"$nulls":4},186]
[{"$nulls":4},187]
[{"$nulls":4},188]
[{"$nulls":4},189]
[{"$nulls":4},190]
[{"$nulls":4},191]
[{"$nulls":4},192]
[{"$nulls":4},193]
[{"$nulls":4},194]
[{"$nulls":4},195]
[{"$nulls":4},196]
[{"$nulls":4},197]
[{"$nulls":4},198]
[{"$nulls":4},199]
[{"$nulls":4},200]
[{"$nulls":4},201]
[{"$nulls":4},202]
[{"$nulls":4},203]
[{"$nulls":4},204]
[{"$nulls":4},205]
[{"$nulls":4},206]
[{"$nulls":4},207]
[{"$nulls":4},208]
[{"$nulls":4},209]
[{"$nulls":4},210]
[{"$nulls":4},211]
[{"$nulls":4},212]
[{"$nulls":4},213]
[{"$nulls":4},214]
[{"$nulls":4},215]
[{"$nulls":4},216]
[{"$nulls":4},217]
[{"$nulls":4},218]
[{"$nulls":4},219]
[{"$nulls":4},220]
[{"$nulls":4},221]
[{"$nulls":4},222]
[{"$nulls":4},223]
[{"$nulls":4},224]
[{"$nulls":4},225]
[{"$nulls":4},226]
[{"$nulls":4},227]
[{"$nulls":4},228]
[{"$nulls":4},229]
[{"$nulls":4},230]
[{"$nulls":4},231]
[{"$nulls":4},232]
[{"$nulls":4},233]
[{"$nulls":4},234]
[{"$nulls":4},235]
[{"$nulls":4},236]
[{"$nulls":4},237]
[{"$nulls":4},238]
[{"$nulls":4},239]
[{"$nulls":4},240]
[{"$nulls":4},241]
[{"$nulls":4},242]
[{"$nulls":4},243]
[{"$nulls":4},244]
[{"$nulls":4},245]
[{"$nulls":4},246]
[{"$nulls":4},247]
[{"$nulls":4},248]
[{"$nulls":4},249]
[{"$nulls":4},250]
[{"$nulls":4},251]
[{"$nulls":4},252]
[{"$nulls":4},253]
[{"$nulls":4},254]
[{"$nulls":4},255]
[{"$nulls":4},256]
[{"$nulls":4},257]
[{"$nulls":4},258]
[{"$nulls":4},259]
[{"$nulls":4},260]
[{"$nulls":4},261]
[{"$nulls":4},262]
[{"$nulls":4},263]
[{"$nulls":4},264]
[{"$nulls":4},265]
[{"$nulls":4},266]
[{"$nulls":4},267]
[{"$nulls":4},268]
[{"$nulls":4},269]
[{"$nulls":4},270]
[{"$nulls":4},271]
[{"$nulls":4},272]
[{"$nulls":4},273]
[{"$nulls":4},274]
[{"$nulls":4},275]
[{"$nulls":4},276]
[{"$nulls":4},277]
[{"$nulls":4},278]
[{"$nulls":4},279]
[{"$nulls":4},280]
[{"$nulls":4},281]
[{"$nulls":4},282]
[{"$nulls":4},283]
[{"$nulls":4},284]
[{"$nulls":4},285]
[{"$nulls":4},286]
[{"$nulls":4},287]
[{"$nulls":4},288]
[{"$nulls":4},289]
[{"$nulls":4},290]
[{"$nulls":4},291]
[{"$nulls":4},292]
[{"$nulls":4},293]
[{"$nulls":4},294]
[{"$nulls":4},295]
[{"$nulls":4},296]
[{"$nulls":4},297]
[{"$nulls":4},298]
[{"$nulls":4},299]
[{"$nulls":4},300]

{"sheet":"Derby","index":6,"n_rows":301,"n_cols":8,"rows_kept":301,"cut":false,"hidden":false,"merged":[]}
["Der","Draw","Rider Name","Horse Name","Time","Final Time","Placing","Money Earned"]
[null,1,"Renee Stuckey","Leo San Ta Fame",null,15.949,"1D 1st",224]
[null,2,"Phillip Kenyon","SV Sun Kinda Wonder",null,16.117000000000001]
[null,3,"Andrea Cline","J Lo Fame",null,16.190999999999999]
[null,4,"Susan Agnew","Jet N Ta Fame",null,16.295000000000002]
[null,5,"Kelsey Gordon","Prada",null,16.376000000000001]
[null,6,"Ali Armstrong","Anniesgonnarunorelse",null,16.638999999999999,"2D 1st",96]
[null,7,"Cody Hornbuckle","Mountain Of Fame",null,16.844999999999999]
[null,8,"Reenie Wahlert","Famous Little Pistol",null,16.896999999999998]
[null,9,"Phillip Kenyon","Contagious Charm",null,17.167000000000002]
[null,10,"Dani Buhler","Cheers To That",null,17.850000000000001]
[null,11,"Molli Montgomery","Makin Ya Famous",null,"NT 15.797"]
[null,12,"Molli Montgomery","Legsgonewild",null,"NT 16.060"]
[null,13,"Shea Lynn Leach","Loui Bug",null,"nt15.906"]
[null,14,"Kassie Mowry","Girls Dig Fame",null,"nt16.116"]
[null,15,"Karen Manning","Shut the Blazin Door",null,"nt16.241"]
[null,16,"Glenn Stodart","Heaven Doosey Daisy",null,"scratch"]
[null,17]
[null,18]
[null,19]
[null,20]
[null,21]
[null,22]
[null,23]
[null,24]
[null,25]
[null,26]
[null,27]
[null,28]
[null,29]
[null,30]
[null,31]
[null,32]
[null,33]
[null,34,null,null,null,{"$f":"IF(OR(#REF!=5,#REF!=10,#REF!= 15,#REF!= \"BP\",#REF!=\"SCR\"),\"NT\",E35)","v":{"$error":"#REF!"}}]
[null,35,null,null,null,{"$f":"IF(OR(#REF!=5,#REF!=10,#REF!= 15,#REF!= \"BP\",#REF!=\"SCR\"),\"NT\",E36)","v":{"$error":"#REF!"}}]
[null,36,null,null,null,{"$f":"IF(OR(#REF!=5,#REF!=10,#REF!= 15,#REF!= \"BP\",#REF!=\"SCR\"),\"NT\",E37)","v":{"$error":"#REF!"}}]
[null,37,null,null,null,{"$f":"IF(OR(#REF!=5,#REF!=10,#REF!= 15,#REF!= \"BP\",#REF!=\"SCR\"),\"NT\",E38)","v":{"$error":"#REF!"}}]
[null,38,null,null,null,{"$f":"IF(OR(#REF!=5,#REF!=10,#REF!= 15,#REF!= \"BP\",#REF!=\"SCR\"),\"NT\",E39)","v":{"$error":"#REF!"}}]
[null,39,null,null,null,{"$f":"IF(OR(#REF!=5,#REF!=10,#REF!= 15,#REF!= \"BP\",#REF!=\"SCR\"),\"NT\",E40)","v":{"$error":"#REF!"}}]
[null,40,null,null,null,{"$f":"IF(OR(#REF!=5,#REF!=10,#REF!= 15,#REF!= \"BP\",#REF!=\"SCR\"),\"NT\",E41)","v":{"$error":"#REF!"}}]
[null,41,null,null,null,{"$f":"IF(OR(#REF!=5,#REF!=10,#REF!= 15,#REF!= \"BP\",#REF!=\"SCR\"),\"NT\",E42)","v":{"$error":"#REF!"}}]
[null,42,null,null,null,{"$f":"IF(OR(#REF!=5,#REF!=10,#REF!= 15,#REF!= \"BP\",#REF!=\"SCR\"),\"NT\",E43)","v":{"$error":"#REF!"}}]
[null,43,null,null,null,{"$f":"IF(OR(#REF!=5,#REF!=10,#REF!= 15,#REF!= \"BP\",#REF!=\"SCR\"),\"NT\",E44)","v":{"$error":"#REF!"}}]
[null,44,null,null,null,{"$f":"IF(OR(#REF!=5,#REF!=10,#REF!= 15,#REF!= \"BP\",#REF!=\"SCR\"),\"NT\",E45)","v":{"$error":"#REF!"}}]
[null,45,null,null,null,{"$f":"IF(OR(#REF!=5,#REF!=10,#REF!= 15,#REF!= \"BP\",#REF!=\"SCR\"),\"NT\",E46)","v":{"$error":"#REF!"}}]
[null,46,null,null,null,{"$f":"IF(OR(#REF!=5,#REF!=10,#REF!= 15,#REF!= \"BP\",#REF!=\"SCR\"),\"NT\",E47)","v":{"$error":"#REF!"}}]
[null,47,null,null,null,{"$f":"IF(OR(#REF!=5,#REF!=10,#REF!= 15,#REF!= \"BP\",#REF!=\"SCR\"),\"NT\",E48)","v":{"$error":"#REF!"}}]
[null,48,null,null,null,{"$f":"IF(OR(#REF!=5,#REF!=10,#REF!= 15,#REF!= \"BP\",#REF!=\"SCR\"),\"NT\",E49)","v":{"$error":"#REF!"}}]
[null,49,null,null,null,{"$f":"IF(OR(#REF!=5,#REF!=10,#REF!= 15,#REF!= \"BP\",#REF!=\"SCR\"),\"NT\",E50)","v":{"$error":"#REF!"}}]
[null,50,null,null,null,{"$f":"IF(OR(#REF!=5,#REF!=10,#REF!= 15,#REF!= \"BP\",#REF!=\"SCR\"),\"NT\",E51)","v":{"$error":"#REF!"}}]
[null,51,null,null,null,{"$f":"IF(OR(#REF!=5,#REF!=10,#REF!= 15,#REF!= \"BP\",#REF!=\"SCR\"),\"NT\",E52)","v":{"$error":"#REF!"}}]
[null,52,null,null,null,{"$f":"IF(OR(#REF!=5,#REF!=10,#REF!= 15,#REF!= \"BP\",#REF!=\"SCR\"),\"NT\",E53)","v":{"$error":"#REF!"}}]
[null,53,null,null,null,{"$f":"IF(OR(#REF!=5,#REF!=10,#REF!= 15,#REF!= \"BP\",#REF!=\"SCR\"),\"NT\",E54)","v":{"$error":"#REF!"}}]
[null,54,null,null,null,{"$f":"IF(OR(#REF!=5,#REF!=10,#REF!= 15,#REF!= \"BP\",#REF!=\"SCR\"),\"NT\",E55)","v":{"$error":"#REF!"}}]
[null,55,null,null,null,{"$f":"IF(OR(#REF!=5,#REF!=10,#REF!= 15,#REF!= \"BP\",#REF!=\"SCR\"),\"NT\",E56)","v":{"$error":"#REF!"}}]
[null,56,null,null,null,{"$f":"IF(OR(#REF!=5,#REF!=10,#REF!= 15,#REF!= \"BP\",#REF!=\"SCR\"),\"NT\",E57)","v":{"$error":"#REF!"}}]
[null,57,null,null,null,{"$f":"IF(OR(#REF!=5,#REF!=10,#REF!= 15,#REF!= \"BP\",#REF!=\"SCR\"),\"NT\",E58)","v":{"$error":"#REF!"}}]
[null,58,null,null,null,{"$f":"IF(OR(#REF!=5,#REF!=10,#REF!= 15,#REF!= \"BP\",#REF!=\"SCR\"),\"NT\",E59)","v":{"$error":"#REF!"}}]
[null,59,null,null,null,{"$f":"IF(OR(#REF!=5,#REF!=10,#REF!= 15,#REF!= \"BP\",#REF!=\"SCR\"),\"NT\",E60)","v":{"$error":"#REF!"}}]
[null,60,null,null,null,{"$f":"IF(OR(#REF!=5,#REF!=10,#REF!= 15,#REF!= \"BP\",#REF!=\"SCR\"),\"NT\",E61)","v":{"$error":"#REF!"}}]
[null,61,null,null,null,{"$f":"IF(OR(#REF!=5,#REF!=10,#REF!= 15,#REF!= \"BP\",#REF!=\"SCR\"),\"NT\",E62)","v":{"$error":"#REF!"}}]
[null,62,null,null,null,{"$f":"IF(OR(#REF!=5,#REF!=10,#REF!= 15,#REF!= \"BP\",#REF!=\"SCR\"),\"NT\",E63)","v":{"$error":"#REF!"}}]
[null,63,null,null,null,{"$f":"IF(OR(#REF!=5,#REF!=10,#REF!= 15,#REF!= \"BP\",#REF!=\"SCR\"),\"NT\",E64)","v":{"$error":"#REF!"}}]
[null,64,null,null,null,{"$f":"IF(OR(#REF!=5,#REF!=10,#REF!= 15,#REF!= \"BP\",#REF!=\"SCR\"),\"NT\",E65)","v":{"$error":"#REF!"}}]
[null,65,null,null,null,{"$f":"IF(OR(#REF!=5,#REF!=10,#REF!= 15,#REF!= \"BP\",#REF!=\"SCR\"),\"NT\",E66)","v":{"$error":"#REF!"}}]
[null,66,null,null,null,{"$f":"IF(OR(#REF!=5,#REF!=10,#REF!= 15,#REF!= \"BP\",#REF!=\"SCR\"),\"NT\",E67)","v":{"$error":"#REF!"}}]
[null,67,null,null,null,{"$f":"IF(OR(#REF!=5,#REF!=10,#REF!= 15,#REF!= \"BP\",#REF!=\"SCR\"),\"NT\",E68)","v":{"$error":"#REF!"}}]
[null,68,null,null,null,{"$f":"IF(OR(#REF!=5,#REF!=10,#REF!= 15,#REF!= \"BP\",#REF!=\"SCR\"),\"NT\",E69)","v":{"$error":"#REF!"}}]
[null,69,null,null,null,{"$f":"IF(OR(#REF!=5,#REF!=10,#REF!= 15,#REF!= \"BP\",#REF!=\"SCR\"),\"NT\",E70)","v":{"$error":"#REF!"}}]
[null,70,null,null,null,{"$f":"IF(OR(#REF!=5,#REF!=10,#REF!= 15,#REF!= \"BP\",#REF!=\"SCR\"),\"NT\",E71)","v":{"$error":"#REF!"}}]
[null,71,null,null,null,{"$f":"IF(OR(#REF!=5,#REF!=10,#REF!= 15,#REF!= \"BP\",#REF!=\"SCR\"),\"NT\",E72)","v":{"$error":"#REF!"}}]
[null,72,null,null,null,{"$f":"IF(OR(#REF!=5,#REF!=10,#REF!= 15,#REF!= \"BP\",#REF!=\"SCR\"),\"NT\",E73)","v":{"$error":"#REF!"}}]
[null,73,null,null,null,{"$f":"IF(OR(#REF!=5,#REF!=10,#REF!= 15,#REF!= \"BP\",#REF!=\"SCR\"),\"NT\",E74)","v":{"$error":"#REF!"}}]
[null,74,null,null,null,{"$f":"IF(OR(#REF!=5,#REF!=10,#REF!= 15,#REF!= \"BP\",#REF!=\"SCR\"),\"NT\",E75)","v":{"$error":"#REF!"}}]
[null,75,null,null,null,{"$f":"IF(OR(#REF!=5,#REF!=10,#REF!= 15,#REF!= \"BP\",#REF!=\"SCR\"),\"NT\",E76)","v":{"$error":"#REF!"}}]
[null,76,null,null,null,{"$f":"IF(OR(#REF!=5,#REF!=10,#REF!= 15,#REF!= \"BP\",#REF!=\"SCR\"),\"NT\",E77)","v":{"$error":"#REF!"}}]
[null,77,null,null,null,{"$f":"IF(OR(#REF!=5,#REF!=10,#REF!= 15,#REF!= \"BP\",#REF!=\"SCR\"),\"NT\",E78)","v":{"$error":"#REF!"}}]
[null,78,null,null,null,{"$f":"IF(OR(#REF!=5,#REF!=10,#REF!= 15,#REF!= \"BP\",#REF!=\"SCR\"),\"NT\",E79)","v":{"$error":"#REF!"}}]
[null,79,null,null,null,{"$f":"IF(OR(#REF!=5,#REF!=10,#REF!= 15,#REF!= \"BP\",#REF!=\"SCR\"),\"NT\",E80)","v":{"$error":"#REF!"}}]
[null,80,null,null,null,{"$f":"IF(OR(#REF!=5,#REF!=10,#REF!= 15,#REF!= \"BP\",#REF!=\"SCR\"),\"NT\",E81)","v":{"$error":"#REF!"}}]
[null,81,null,null,null,{"$f":"IF(OR(#REF!=5,#REF!=10,#REF!= 15,#REF!= \"BP\",#REF!=\"SCR\"),\"NT\",E82)","v":{"$error":"#REF!"}}]
[null,82,null,null,null,{"$f":"IF(OR(#REF!=5,#REF!=10,#REF!= 15,#REF!= \"BP\",#REF!=\"SCR\"),\"NT\",E83)","v":{"$error":"#REF!"}}]
[null,83,null,null,null,{"$f":"IF(OR(#REF!=5,#REF!=10,#REF!= 15,#REF!= \"BP\",#REF!=\"SCR\"),\"NT\",E84)","v":{"$error":"#REF!"}}]
[null,84,null,null,null,{"$f":"IF(OR(#REF!=5,#REF!=10,#REF!= 15,#REF!= \"BP\",#REF!=\"SCR\"),\"NT\",E85)","v":{"$error":"#REF!"}}]
[null,85,null,null,null,{"$f":"IF(OR(#REF!=5,#REF!=10,#REF!= 15,#REF!= \"BP\",#REF!=\"SCR\"),\"NT\",E86)","v":{"$error":"#REF!"}}]
[null,86,null,null,null,{"$f":"IF(OR(#REF!=5,#REF!=10,#REF!= 15,#REF!= \"BP\",#REF!=\"SCR\"),\"NT\",E87)","v":{"$error":"#REF!"}}]
[null,87,null,null,null,{"$f":"IF(OR(#REF!=5,#REF!=10,#REF!= 15,#REF!= \"BP\",#REF!=\"SCR\"),\"NT\",E88)","v":{"$error":"#REF!"}}]
[null,88,null,null,null,{"$f":"IF(OR(#REF!=5,#REF!=10,#REF!= 15,#REF!= \"BP\",#REF!=\"SCR\"),\"NT\",E89)","v":{"$error":"#REF!"}}]
[null,89,null,null,null,{"$f":"IF(OR(#REF!=5,#REF!=10,#REF!= 15,#REF!= \"BP\",#REF!=\"SCR\"),\"NT\",E90)","v":{"$error":"#REF!"}}]
[null,90,null,null,null,{"$f":"IF(OR(#REF!=5,#REF!=10,#REF!= 15,#REF!= \"BP\",#REF!=\"SCR\"),\"NT\",E91)","v":{"$error":"#REF!"}}]
[null,91,null,null,null,{"$f":"IF(OR(#REF!=5,#REF!=10,#REF!= 15,#REF!= \"BP\",#REF!=\"SCR\"),\"NT\",E92)","v":{"$error":"#REF!"}}]
[null,92,null,null,null,{"$f":"IF(OR(#REF!=5,#REF!=10,#REF!= 15,#REF!= \"BP\",#REF!=\"SCR\"),\"NT\",E93)","v":{"$error":"#REF!"}}]
[null,93,null,null,null,{"$f":"IF(OR(#REF!=5,#REF!=10,#REF!= 15,#REF!= \"BP\",#REF!=\"SCR\"),\"NT\",E94)","v":{"$error":"#REF!"}}]
[null,94,null,null,null,{"$f":"IF(OR(#REF!=5,#REF!=10,#REF!= 15,#REF!= \"BP\",#REF!=\"SCR\"),\"NT\",E95)","v":{"$error":"#REF!"}}]
[null,95,null,null,null,{"$f":"IF(OR(#REF!=5,#REF!=10,#REF!= 15,#REF!= \"BP\",#REF!=\"SCR\"),\"NT\",E96)","v":{"$error":"#REF!"}}]
[null,96,null,null,null,{"$f":"IF(OR(#REF!=5,#REF!=10,#REF!= 15,#REF!= \"BP\",#REF!=\"SCR\"),\"NT\",E97)","v":{"$error":"#REF!"}}]
[null,97,null,null,null,{"$f":"IF(OR(#REF!=5,#REF!=10,#REF!= 15,#REF!= \"BP\",#REF!=\"SCR\"),\"NT\",E98)","v":{"$error":"#REF!"}}]
[null,98,null,null,null,{"$f":"IF(OR(#REF!=5,#REF!=10,#REF!= 15,#REF!= \"BP\",#REF!=\"SCR\"),\"NT\",E99)","v":{"$error":"#REF!"}}]
[null,99,null,null,null,{"$f":"IF(OR(#REF!=5,#REF!=10,#REF!= 15,#REF!= \"BP\",#REF!=\"SCR\"),\"NT\",E100)","v":{"$error":"#REF!"}}]
[null,100,null,null,null,{"$f":"IF(OR(#REF!=5,#REF!=10,#REF!= 15,#REF!= \"BP\",#REF!=\"SCR\"),\"NT\",E101)","v":{"$error":"#REF!"}}]
[null,101,null,null,null,{"$f":"IF(OR(#REF!=5,#REF!=10,#REF!= 15,#REF!= \"BP\",#REF!=\"SCR\"),\"NT\",E102)","v":{"$error":"#REF!"}}]
[null,102,null,null,null,{"$f":"IF(OR(#REF!=5,#REF!=10,#REF!= 15,#REF!= \"BP\",#REF!=\"SCR\"),\"NT\",E103)","v":{"$error":"#REF!"}}]
[null,103,null,null,null,{"$f":"IF(OR(#REF!=5,#REF!=10,#REF!= 15,#REF!= \"BP\",#REF!=\"SCR\"),\"NT\",E104)","v":{"$error":"#REF!"}}]
[null,104,null,null,null,{"$f":"IF(OR(#REF!=5,#REF!=10,#REF!= 15,#REF!= \"BP\",#REF!=\"SCR\"),\"NT\",E105)","v":{"$error":"#REF!"}}]
[null,105,null,null,null,{"$f":"IF(OR(#REF!=5,#REF!=10,#REF!= 15,#REF!= \"BP\",#REF!=\"SCR\"),\"NT\",E106)","v":{"$error":"#REF!"}}]
[null,106,null,null,null,{"$f":"IF(OR(#REF!=5,#REF!=10,#REF!= 15,#REF!= \"BP\",#REF!=\"SCR\"),\"NT\",E107)","v":{"$error":"#REF!"}}]
[null,107,null,null,null,{"$f":"IF(OR(#REF!=5,#REF!=10,#REF!= 15,#REF!= \"BP\",#REF!=\"SCR\"),\"NT\",E108)","v":{"$error":"#REF!"}}]
[null,108,null,null,null,{"$f":"IF(OR(#REF!=5,#REF!=10,#REF!= 15,#REF!= \"BP\",#REF!=\"SCR\"),\"NT\",E109)","v":{"$error":"#REF!"}}]
[null,109,null,null,null,{"$f":"IF(OR(#REF!=5,#REF!=10,#REF!= 15,#REF!= \"BP\",#REF!=\"SCR\"),\"NT\",E110)","v":{"$error":"#REF!"}}]
[null,110,null,null,null,{"$f":"IF(OR(#REF!=5,#REF!=10,#REF!= 15,#REF!= \"BP\",#REF!=\"SCR\"),\"NT\",E111)","v":{"$error":"#REF!"}}]
[null,111,null,null,null,{"$f":"IF(OR(#REF!=5,#REF!=10,#REF!= 15,#REF!= \"BP\",#REF!=\"SCR\"),\"NT\",E112)","v":{"$error":"#REF!"}}]
[null,112,null,null,null,{"$f":"IF(OR(#REF!=5,#REF!=10,#REF!= 15,#REF!= \"BP\",#REF!=\"SCR\"),\"NT\",E113)","v":{"$error":"#REF!"}}]
[null,113,null,null,null,{"$f":"IF(OR(#REF!=5,#REF!=10,#REF!= 15,#REF!= \"BP\",#REF!=\"SCR\"),\"NT\",E114)","v":{"$error":"#REF!"}}]
[null,114,null,null,null,{"$f":"IF(OR(#REF!=5,#REF!=10,#REF!= 15,#REF!= \"BP\",#REF!=\"SCR\"),\"NT\",E115)","v":{"$error":"#REF!"}}]
[null,115,null,null,null,{"$f":"IF(OR(#REF!=5,#REF!=10,#REF!= 15,#REF!= \"BP\",#REF!=\"SCR\"),\"NT\",E116)","v":{"$error":"#REF!"}}]
[null,116,null,null,null,{"$f":"IF(OR(#REF!=5,#REF!=10,#REF!= 15,#REF!= \"BP\",#REF!=\"SCR\"),\"NT\",E117)","v":{"$error":"#REF!"}}]
[null,117,null,null,null,{"$f":"IF(OR(#REF!=5,#REF!=10,#REF!= 15,#REF!= \"BP\",#REF!=\"SCR\"),\"NT\",E118)","v":{"$error":"#REF!"}}]
[null,118,null,null,null,{"$f":"IF(OR(#REF!=5,#REF!=10,#REF!= 15,#REF!= \"BP\",#REF!=\"SCR\"),\"NT\",E119)","v":{"$error":"#REF!"}}]
[null,119,null,null,null,{"$f":"IF(OR(#REF!=5,#REF!=10,#REF!= 15,#REF!= \"BP\",#REF!=\"SCR\"),\"NT\",E120)","v":{"$error":"#REF!"}}]
[null,120,null,null,null,{"$f":"IF(OR(#REF!=5,#REF!=10,#REF!= 15,#REF!= \"BP\",#REF!=\"SCR\"),\"NT\",E121)","v":{"$error":"#REF!"}}]
[null,121,null,null,null,{"$f":"IF(OR(#REF!=5,#REF!=10,#REF!= 15,#REF!= \"BP\",#REF!=\"SCR\"),\"NT\",E122)","v":{"$error":"#REF!"}}]
[null,122,null,null,null,{"$f":"IF(OR(#REF!=5,#REF!=10,#REF!= 15,#REF!= \"BP\",#REF!=\"SCR\"),\"NT\",E123)","v":{"$error":"#REF!"}}]
[null,123,null,null,null,{"$f":"IF(OR(#REF!=5,#REF!=10,#REF!= 15,#REF!= \"BP\",#REF!=\"SCR\"),\"NT\",E124)","v":{"$error":"#REF!"}}]
[null,124,null,null,null,{"$f":"IF(OR(#REF!=5,#REF!=10,#REF!= 15,#REF!= \"BP\",#REF!=\"SCR\"),\"NT\",E125)","v":{"$error":"#REF!"}}]
[null,125,null,null,null,{"$f":"IF(OR(#REF!=5,#REF!=10,#REF!= 15,#REF!= \"BP\",#REF!=\"SCR\"),\"NT\",E126)","v":{"$error":"#REF!"}}]
[null,126,null,null,null,{"$f":"IF(OR(#REF!=5,#REF!=10,#REF!= 15,#REF!= \"BP\",#REF!=\"SCR\"),\"NT\",E127)","v":{"$error":"#REF!"}}]
[null,127,null,null,null,{"$f":"IF(OR(#REF!=5,#REF!=10,#REF!= 15,#REF!= \"BP\",#REF!=\"SCR\"),\"NT\",E128)","v":{"$error":"#REF!"}}]
[null,128,null,null,null,{"$f":"IF(OR(#REF!=5,#REF!=10,#REF!= 15,#REF!= \"BP\",#REF!=\"SCR\"),\"NT\",E129)","v":{"$error":"#REF!"}}]
[null,129,null,null,null,{"$f":"IF(OR(#REF!=5,#REF!=10,#REF!= 15,#REF!= \"BP\",#REF!=\"SCR\"),\"NT\",E130)","v":{"$error":"#REF!"}}]
[null,130,null,null,null,{"$f":"IF(OR(#REF!=5,#REF!=10,#REF!= 15,#REF!= \"BP\",#REF!=\"SCR\"),\"NT\",E131)","v":{"$error":"#REF!"}}]
[null,131,null,null,null,{"$f":"IF(OR(#REF!=5,#REF!=10,#REF!= 15,#REF!= \"BP\",#REF!=\"SCR\"),\"NT\",E132)","v":{"$error":"#REF!"}}]
[null,132,null,null,null,{"$f":"IF(OR(#REF!=5,#REF!=10,#REF!= 15,#REF!= \"BP\",#REF!=\"SCR\"),\"NT\",E133)","v":{"$error":"#REF!"}}]
[null,133,null,null,null,{"$f":"IF(OR(#REF!=5,#REF!=10,#REF!= 15,#REF!= \"BP\",#REF!=\"SCR\"),\"NT\",E134)","v":{"$error":"#REF!"}}]
[null,134,null,null,null,{"$f":"IF(OR(#REF!=5,#REF!=10,#REF!= 15,#REF!= \"BP\",#REF!=\"SCR\"),\"NT\",E135)","v":{"$error":"#REF!"}}]
[null,135,null,null,null,{"$f":"IF(OR(#REF!=5,#REF!=10,#REF!= 15,#REF!= \"BP\",#REF!=\"SCR\"),\"NT\",E136)","v":{"$error":"#REF!"}}]
[null,136,null,null,null,{"$f":"IF(OR(#REF!=5,#REF!=10,#REF!= 15,#REF!= \"BP\",#REF!=\"SCR\"),\"NT\",E137)","v":{"$error":"#REF!"}}]
[null,137,null,null,null,{"$f":"IF(OR(#REF!=5,#REF!=10,#REF!= 15,#REF!= \"BP\",#REF!=\"SCR\"),\"NT\",E138)","v":{"$error":"#REF!"}}]
[null,138,null,null,null,{"$f":"IF(OR(#REF!=5,#REF!=10,#REF!= 15,#REF!= \"BP\",#REF!=\"SCR\"),\"NT\",E139)","v":{"$error":"#REF!"}}]
[null,139,null,null,null,{"$f":"IF(OR(#REF!=5,#REF!=10,#REF!= 15,#REF!= \"BP\",#REF!=\"SCR\"),\"NT\",E140)","v":{"$error":"#REF!"}}]
[null,140,null,null,null,{"$f":"IF(OR(#REF!=5,#REF!=10,#REF!= 15,#REF!= \"BP\",#REF!=\"SCR\"),\"NT\",E141)","v":{"$error":"#REF!"}}]
[null,141,null,null,null,{"$f":"IF(OR(#REF!=5,#REF!=10,#REF!= 15,#REF!= \"BP\",#REF!=\"SCR\"),\"NT\",E142)","v":{"$error":"#REF!"}}]
[null,142,null,null,null,{"$f":"IF(OR(#REF!=5,#REF!=10,#REF!= 15,#REF!= \"BP\",#REF!=\"SCR\"),\"NT\",E143)","v":{"$error":"#REF!"}}]
[null,143,null,null,null,{"$f":"IF(OR(#REF!=5,#REF!=10,#REF!= 15,#REF!= \"BP\",#REF!=\"SCR\"),\"NT\",E144)","v":{"$error":"#REF!"}}]
[null,144,null,null,null,{"$f":"IF(OR(#REF!=5,#REF!=10,#REF!= 15,#REF!= \"BP\",#REF!=\"SCR\"),\"NT\",E145)","v":{"$error":"#REF!"}}]
[null,145,null,null,null,{"$f":"IF(OR(#REF!=5,#REF!=10,#REF!= 15,#REF!= \"BP\",#REF!=\"SCR\"),\"NT\",E146)","v":{"$error":"#REF!"}}]
[null,146,null,null,null,{"$f":"IF(OR(#REF!=5,#REF!=10,#REF!= 15,#REF!= \"BP\",#REF!=\"SCR\"),\"NT\",E147)","v":{"$error":"#REF!"}}]
[null,147,null,null,null,{"$f":"IF(OR(#REF!=5,#REF!=10,#REF!= 15,#REF!= \"BP\",#REF!=\"SCR\"),\"NT\",E148)","v":{"$error":"#REF!"}}]
[null,148,null,null,null,{"$f":"IF(OR(#REF!=5,#REF!=10,#REF!= 15,#REF!= \"BP\",#REF!=\"SCR\"),\"NT\",E149)","v":{"$error":"#REF!"}}]
[null,149,null,null,null,{"$f":"IF(OR(#REF!=5,#REF!=10,#REF!= 15,#REF!= \"BP\",#REF!=\"SCR\"),\"NT\",E150)","v":{"$error":"#REF!"}}]
[null,150,null,null,null,{"$f":"IF(OR(#REF!=5,#REF!=10,#REF!= 15,#REF!= \"BP\",#REF!=\"SCR\"),\"NT\",E151)","v":{"$error":"#REF!"}}]
[null,151,null,null,null,{"$f":"IF(OR(#REF!=5,#REF!=10,#REF!= 15,#REF!= \"BP\",#REF!=\"SCR\"),\"NT\",E152)","v":{"$error":"#REF!"}}]
[null,152,null,null,null,{"$f":"IF(OR(#REF!=5,#REF!=10,#REF!= 15,#REF!= \"BP\",#REF!=\"SCR\"),\"NT\",E153)","v":{"$error":"#REF!"}}]
[null,153,null,null,null,{"$f":"IF(OR(#REF!=5,#REF!=10,#REF!= 15,#REF!= \"BP\",#REF!=\"SCR\"),\"NT\",E154)","v":{"$error":"#REF!"}}]
[null,154,null,null,null,{"$f":"IF(OR(#REF!=5,#REF!=10,#REF!= 15,#REF!= \"BP\",#REF!=\"SCR\"),\"NT\",E155)","v":{"$error":"#REF!"}}]
[null,155,null,null,null,{"$f":"IF(OR(#REF!=5,#REF!=10,#REF!= 15,#REF!= \"BP\",#REF!=\"SCR\"),\"NT\",E156)","v":{"$error":"#REF!"}}]
[null,156,null,null,null,{"$f":"IF(OR(#REF!=5,#REF!=10,#REF!= 15,#REF!= \"BP\",#REF!=\"SCR\"),\"NT\",E157)","v":{"$error":"#REF!"}}]
[null,157,null,null,null,{"$f":"IF(OR(#REF!=5,#REF!=10,#REF!= 15,#REF!= \"BP\",#REF!=\"SCR\"),\"NT\",E158)","v":{"$error":"#REF!"}}]
[null,158,null,null,null,{"$f":"IF(OR(#REF!=5,#REF!=10,#REF!= 15,#REF!= \"BP\",#REF!=\"SCR\"),\"NT\",E159)","v":{"$error":"#REF!"}}]
[null,159,null,null,null,{"$f":"IF(OR(#REF!=5,#REF!=10,#REF!= 15,#REF!= \"BP\",#REF!=\"SCR\"),\"NT\",E160)","v":{"$error":"#REF!"}}]
[null,160,null,null,null,{"$f":"IF(OR(#REF!=5,#REF!=10,#REF!= 15,#REF!= \"BP\",#REF!=\"SCR\"),\"NT\",E161)","v":{"$error":"#REF!"}}]
[null,161,null,null,null,{"$f":"IF(OR(#REF!=5,#REF!=10,#REF!= 15,#REF!= \"BP\",#REF!=\"SCR\"),\"NT\",E162)","v":{"$error":"#REF!"}}]
[null,162,null,null,null,{"$f":"IF(OR(#REF!=5,#REF!=10,#REF!= 15,#REF!= \"BP\",#REF!=\"SCR\"),\"NT\",E163)","v":{"$error":"#REF!"}}]
[null,163,null,null,null,{"$f":"IF(OR(#REF!=5,#REF!=10,#REF!= 15,#REF!= \"BP\",#REF!=\"SCR\"),\"NT\",E164)","v":{"$error":"#REF!"}}]
[null,164,null,null,null,{"$f":"IF(OR(#REF!=5,#REF!=10,#REF!= 15,#REF!= \"BP\",#REF!=\"SCR\"),\"NT\",E165)","v":{"$error":"#REF!"}}]
[null,165,null,null,null,{"$f":"IF(OR(#REF!=5,#REF!=10,#REF!= 15,#REF!= \"BP\",#REF!=\"SCR\"),\"NT\",E166)","v":{"$error":"#REF!"}}]
[null,166,null,null,null,{"$f":"IF(OR(#REF!=5,#REF!=10,#REF!= 15,#REF!= \"BP\",#REF!=\"SCR\"),\"NT\",E167)","v":{"$error":"#REF!"}}]
[null,167,null,null,null,{"$f":"IF(OR(#REF!=5,#REF!=10,#REF!= 15,#REF!= \"BP\",#REF!=\"SCR\"),\"NT\",E168)","v":{"$error":"#REF!"}}]
[null,168,null,null,null,{"$f":"IF(OR(#REF!=5,#REF!=10,#REF!= 15,#REF!= \"BP\",#REF!=\"SCR\"),\"NT\",E169)","v":{"$error":"#REF!"}}]
[null,169,null,null,null,{"$f":"IF(OR(#REF!=5,#REF!=10,#REF!= 15,#REF!= \"BP\",#REF!=\"SCR\"),\"NT\",E170)","v":{"$error":"#REF!"}}]
[null,170,null,null,null,{"$f":"IF(OR(#REF!=5,#REF!=10,#REF!= 15,#REF!= \"BP\",#REF!=\"SCR\"),\"NT\",E171)","v":{"$error":"#REF!"}}]
[null,171,null,null,null,{"$f":"IF(OR(#REF!=5,#REF!=10,#REF!= 15,#REF!= \"BP\",#REF!=\"SCR\"),\"NT\",E172)","v":{"$error":"#REF!"}}]
[null,172,null,null,null,{"$f":"IF(OR(#REF!=5,#REF!=10,#REF!= 15,#REF!= \"BP\",#REF!=\"SCR\"),\"NT\",E173)","v":{"$error":"#REF!"}}]
[null,173,null,null,null,{"$f":"IF(OR(#REF!=5,#REF!=10,#REF!= 15,#REF!= \"BP\",#REF!=\"SCR\"),\"NT\",E174)","v":{"$error":"#REF!"}}]
[null,174,null,null,null,{"$f":"IF(OR(#REF!=5,#REF!=10,#REF!= 15,#REF!= \"BP\",#REF!=\"SCR\"),\"NT\",E175)","v":{"$error":"#REF!"}}]
[null,175,null,null,null,{"$f":"IF(OR(#REF!=5,#REF!=10,#REF!= 15,#REF!= \"BP\",#REF!=\"SCR\"),\"NT\",E176)","v":{"$error":"#REF!"}}]
[null,176,null,null,null,{"$f":"IF(OR(#REF!=5,#REF!=10,#REF!= 15,#REF!= \"BP\",#REF!=\"SCR\"),\"NT\",E177)","v":{"$error":"#REF!"}}]
[null,177,null,null,null,{"$f":"IF(OR(#REF!=5,#REF!=10,#REF!= 15,#REF!= \"BP\",#REF!=\"SCR\"),\"NT\",E178)","v":{"$error":"#REF!"}}]
[null,178,null,null,null,{"$f":"IF(OR(#REF!=5,#REF!=10,#REF!= 15,#REF!= \"BP\",#REF!=\"SCR\"),\"NT\",E179)","v":{"$error":"#REF!"}}]
[null,179,null,null,null,{"$f":"IF(OR(#REF!=5,#REF!=10,#REF!= 15,#REF!= \"BP\",#REF!=\"SCR\"),\"NT\",E180)","v":{"$error":"#REF!"}}]
[null,180,null,null,null,{"$f":"IF(OR(#REF!=5,#REF!=10,#REF!= 15,#REF!= \"BP\",#REF!=\"SCR\"),\"NT\",E181)","v":{"$error":"#REF!"}}]
[null,181,null,null,null,{"$f":"IF(OR(#REF!=5,#REF!=10,#REF!= 15,#REF!= \"BP\",#REF!=\"SCR\"),\"NT\",E182)","v":{"$error":"#REF!"}}]
[null,182,null,null,null,{"$f":"IF(OR(#REF!=5,#REF!=10,#REF!= 15,#REF!= \"BP\",#REF!=\"SCR\"),\"NT\",E183)","v":{"$error":"#REF!"}}]
[null,183,null,null,null,{"$f":"IF(OR(#REF!=5,#REF!=10,#REF!= 15,#REF!= \"BP\",#REF!=\"SCR\"),\"NT\",E184)","v":{"$error":"#REF!"}}]
[null,184,null,null,null,{"$f":"IF(OR(#REF!=5,#REF!=10,#REF!= 15,#REF!= \"BP\",#REF!=\"SCR\"),\"NT\",E185)","v":{"$error":"#REF!"}}]
[null,185,null,null,null,{"$f":"IF(OR(#REF!=5,#REF!=10,#REF!= 15,#REF!= \"BP\",#REF!=\"SCR\"),\"NT\",E186)","v":{"$error":"#REF!"}}]
[null,186,null,null,null,{"$f":"IF(OR(#REF!=5,#REF!=10,#REF!= 15,#REF!= \"BP\",#REF!=\"SCR\"),\"NT\",E187)","v":{"$error":"#REF!"}}]
[null,187,null,null,null,{"$f":"IF(OR(#REF!=5,#REF!=10,#REF!= 15,#REF!= \"BP\",#REF!=\"SCR\"),\"NT\",E188)","v":{"$error":"#REF!"}}]
[null,188,null,null,null,{"$f":"IF(OR(#REF!=5,#REF!=10,#REF!= 15,#REF!= \"BP\",#REF!=\"SCR\"),\"NT\",E189)","v":{"$error":"#REF!"}}]
[null,189,null,null,null,{"$f":"IF(OR(#REF!=5,#REF!=10,#REF!= 15,#REF!= \"BP\",#REF!=\"SCR\"),\"NT\",E190)","v":{"$error":"#REF!"}}]
[null,190,null,null,null,{"$f":"IF(OR(#REF!=5,#REF!=10,#REF!= 15,#REF!= \"BP\",#REF!=\"SCR\"),\"NT\",E191)","v":{"$error":"#REF!"}}]
[null,191,null,null,null,{"$f":"IF(OR(#REF!=5,#REF!=10,#REF!= 15,#REF!= \"BP\",#REF!=\"SCR\"),\"NT\",E192)","v":{"$error":"#REF!"}}]
[null,192,null,null,null,{"$f":"IF(OR(#REF!=5,#REF!=10,#REF!= 15,#REF!= \"BP\",#REF!=\"SCR\"),\"NT\",E193)","v":{"$error":"#REF!"}}]
[null,193,null,null,null,{"$f":"IF(OR(#REF!=5,#REF!=10,#REF!= 15,#REF!= \"BP\",#REF!=\"SCR\"),\"NT\",E194)","v":{"$error":"#REF!"}}]
[null,194,null,null,null,{"$f":"IF(OR(#REF!=5,#REF!=10,#REF!= 15,#REF!= \"BP\",#REF!=\"SCR\"),\"NT\",E195)","v":{"$error":"#REF!"}}]
[null,195,null,null,null,{"$f":"IF(OR(#REF!=5,#REF!=10,#REF!= 15,#REF!= \"BP\",#REF!=\"SCR\"),\"NT\",E196)","v":{"$error":"#REF!"}}]
[null,196,null,null,null,{"$f":"IF(OR(#REF!=5,#REF!=10,#REF!= 15,#REF!= \"BP\",#REF!=\"SCR\"),\"NT\",E197)","v":{"$error":"#REF!"}}]
[null,197,null,null,null,{"$f":"IF(OR(#REF!=5,#REF!=10,#REF!= 15,#REF!= \"BP\",#REF!=\"SCR\"),\"NT\",E198)","v":{"$error":"#REF!"}}]
[null,198,null,null,null,{"$f":"IF(OR(#REF!=5,#REF!=10,#REF!= 15,#REF!= \"BP\",#REF!=\"SCR\"),\"NT\",E199)","v":{"$error":"#REF!"}}]
[null,199,null,null,null,{"$f":"IF(OR(#REF!=5,#REF!=10,#REF!= 15,#REF!= \"BP\",#REF!=\"SCR\"),\"NT\",E200)","v":{"$error":"#REF!"}}]
[null,200,null,null,null,{"$f":"IF(OR(#REF!=5,#REF!=10,#REF!= 15,#REF!= \"BP\",#REF!=\"SCR\"),\"NT\",E201)","v":{"$error":"#REF!"}}]
[null,201,null,null,null,{"$f":"IF(OR(#REF!=5,#REF!=10,#REF!= 15,#REF!= \"BP\",#REF!=\"SCR\"),\"NT\",E202)","v":{"$error":"#REF!"}}]
[null,202,null,null,null,{"$f":"IF(OR(#REF!=5,#REF!=10,#REF!= 15,#REF!= \"BP\",#REF!=\"SCR\"),\"NT\",E203)","v":{"$error":"#REF!"}}]
[null,203,null,null,null,{"$f":"IF(OR(#REF!=5,#REF!=10,#REF!= 15,#REF!= \"BP\",#REF!=\"SCR\"),\"NT\",E204)","v":{"$error":"#REF!"}}]
[null,204,null,null,null,{"$f":"IF(OR(#REF!=5,#REF!=10,#REF!= 15,#REF!= \"BP\",#REF!=\"SCR\"),\"NT\",E205)","v":{"$error":"#REF!"}}]
[null,205,null,null,null,{"$f":"IF(OR(#REF!=5,#REF!=10,#REF!= 15,#REF!= \"BP\",#REF!=\"SCR\"),\"NT\",E206)","v":{"$error":"#REF!"}}]
[null,206,null,null,null,{"$f":"IF(OR(#REF!=5,#REF!=10,#REF!= 15,#REF!= \"BP\",#REF!=\"SCR\"),\"NT\",E207)","v":{"$error":"#REF!"}}]
[null,207,null,null,null,{"$f":"IF(OR(#REF!=5,#REF!=10,#REF!= 15,#REF!= \"BP\",#REF!=\"SCR\"),\"NT\",E208)","v":{"$error":"#REF!"}}]
[null,208,null,null,null,{"$f":"IF(OR(#REF!=5,#REF!=10,#REF!= 15,#REF!= \"BP\",#REF!=\"SCR\"),\"NT\",E209)","v":{"$error":"#REF!"}}]
[null,209,null,null,null,{"$f":"IF(OR(#REF!=5,#REF!=10,#REF!= 15,#REF!= \"BP\",#REF!=\"SCR\"),\"NT\",E210)","v":{"$error":"#REF!"}}]
[null,210,null,null,null,{"$f":"IF(OR(#REF!=5,#REF!=10,#REF!= 15,#REF!= \"BP\",#REF!=\"SCR\"),\"NT\",E211)","v":{"$error":"#REF!"}}]
[null,211,null,null,null,{"$f":"IF(OR(#REF!=5,#REF!=10,#REF!= 15,#REF!= \"BP\",#REF!=\"SCR\"),\"NT\",E212)","v":{"$error":"#REF!"}}]
[null,212,null,null,null,{"$f":"IF(OR(#REF!=5,#REF!=10,#REF!= 15,#REF!= \"BP\",#REF!=\"SCR\"),\"NT\",E213)","v":{"$error":"#REF!"}}]
[null,213,null,null,null,{"$f":"IF(OR(#REF!=5,#REF!=10,#REF!= 15,#REF!= \"BP\",#REF!=\"SCR\"),\"NT\",E214)","v":{"$error":"#REF!"}}]
[null,214,null,null,null,{"$f":"IF(OR(#REF!=5,#REF!=10,#REF!= 15,#REF!= \"BP\",#REF!=\"SCR\"),\"NT\",E215)","v":{"$error":"#REF!"}}]
[null,215,null,null,null,{"$f":"IF(OR(#REF!=5,#REF!=10,#REF!= 15,#REF!= \"BP\",#REF!=\"SCR\"),\"NT\",E216)","v":{"$error":"#REF!"}}]
[null,216,null,null,null,{"$f":"IF(OR(#REF!=5,#REF!=10,#REF!= 15,#REF!= \"BP\",#REF!=\"SCR\"),\"NT\",E217)","v":{"$error":"#REF!"}}]
[null,217,null,null,null,{"$f":"IF(OR(#REF!=5,#REF!=10,#REF!= 15,#REF!= \"BP\",#REF!=\"SCR\"),\"NT\",E218)","v":{"$error":"#REF!"}}]
[null,218,null,null,null,{"$f":"IF(OR(#REF!=5,#REF!=10,#REF!= 15,#REF!= \"BP\",#REF!=\"SCR\"),\"NT\",E219)","v":{"$error":"#REF!"}}]
[null,219,null,null,null,{"$f":"IF(OR(#REF!=5,#REF!=10,#REF!= 15,#REF!= \"BP\",#REF!=\"SCR\"),\"NT\",E220)","v":{"$error":"#REF!"}}]
[null,220,null,null,null,{"$f":"IF(OR(#REF!=5,#REF!=10,#REF!= 15,#REF!= \"BP\",#REF!=\"SCR\"),\"NT\",E221)","v":{"$error":"#REF!"}}]
[null,221,null,null,null,{"$f":"IF(OR(#REF!=5,#REF!=10,#REF!= 15,#REF!= \"BP\",#REF!=\"SCR\"),\"NT\",E222)","v":{"$error":"#REF!"}}]
[null,222,null,null,null,{"$f":"IF(OR(#REF!=5,#REF!=10,#REF!= 15,#REF!= \"BP\",#REF!=\"SCR\"),\"NT\",E223)","v":{"$error":"#REF!"}}]
[null,223,null,null,null,{"$f":"IF(OR(#REF!=5,#REF!=10,#REF!= 15,#REF!= \"BP\",#REF!=\"SCR\"),\"NT\",E224)","v":{"$error":"#REF!"}}]
[null,224,null,null,null,{"$f":"IF(OR(#REF!=5,#REF!=10,#REF!= 15,#REF!= \"BP\",#REF!=\"SCR\"),\"NT\",E225)","v":{"$error":"#REF!"}}]
[null,225,null,null,null,{"$f":"IF(OR(#REF!=5,#REF!=10,#REF!= 15,#REF!= \"BP\",#REF!=\"SCR\"),\"NT\",E226)","v":{"$error":"#REF!"}}]
[null,226,null,null,null,{"$f":"IF(OR(#REF!=5,#REF!=10,#REF!= 15,#REF!= \"BP\",#REF!=\"SCR\"),\"NT\",E227)","v":{"$error":"#REF!"}}]
[null,227,null,null,null,{"$f":"IF(OR(#REF!=5,#REF!=10,#REF!= 15,#REF!= \"BP\",#REF!=\"SCR\"),\"NT\",E228)","v":{"$error":"#REF!"}}]
[null,228,null,null,null,{"$f":"IF(OR(#REF!=5,#REF!=10,#REF!= 15,#REF!= \"BP\",#REF!=\"SCR\"),\"NT\",E229)","v":{"$error":"#REF!"}}]
[null,229,null,null,null,{"$f":"IF(OR(#REF!=5,#REF!=10,#REF!= 15,#REF!= \"BP\",#REF!=\"SCR\"),\"NT\",E230)","v":{"$error":"#REF!"}}]
[null,230,null,null,null,{"$f":"IF(OR(#REF!=5,#REF!=10,#REF!= 15,#REF!= \"BP\",#REF!=\"SCR\"),\"NT\",E231)","v":{"$error":"#REF!"}}]
[null,231,null,null,null,{"$f":"IF(OR(#REF!=5,#REF!=10,#REF!= 15,#REF!= \"BP\",#REF!=\"SCR\"),\"NT\",E232)","v":{"$error":"#REF!"}}]
[null,232,null,null,null,{"$f":"IF(OR(#REF!=5,#REF!=10,#REF!= 15,#REF!= \"BP\",#REF!=\"SCR\"),\"NT\",E233)","v":{"$error":"#REF!"}}]
[null,233,null,null,null,{"$f":"IF(OR(#REF!=5,#REF!=10,#REF!= 15,#REF!= \"BP\",#REF!=\"SCR\"),\"NT\",E234)","v":{"$error":"#REF!"}}]
[null,234,null,null,null,{"$f":"IF(OR(#REF!=5,#REF!=10,#REF!= 15,#REF!= \"BP\",#REF!=\"SCR\"),\"NT\",E235)","v":{"$error":"#REF!"}}]
[null,235,null,null,null,{"$f":"IF(OR(#REF!=5,#REF!=10,#REF!= 15,#REF!= \"BP\",#REF!=\"SCR\"),\"NT\",E236)","v":{"$error":"#REF!"}}]
[null,236,null,null,null,{"$f":"IF(OR(#REF!=5,#REF!=10,#REF!= 15,#REF!= \"BP\",#REF!=\"SCR\"),\"NT\",E237)","v":{"$error":"#REF!"}}]
[null,237,null,null,null,{"$f":"IF(OR(#REF!=5,#REF!=10,#REF!= 15,#REF!= \"BP\",#REF!=\"SCR\"),\"NT\",E238)","v":{"$error":"#REF!"}}]
[null,238,null,null,null,{"$f":"IF(OR(#REF!=5,#REF!=10,#REF!= 15,#REF!= \"BP\",#REF!=\"SCR\"),\"NT\",E239)","v":{"$error":"#REF!"}}]
[null,239,null,null,null,{"$f":"IF(OR(#REF!=5,#REF!=10,#REF!= 15,#REF!= \"BP\",#REF!=\"SCR\"),\"NT\",E240)","v":{"$error":"#REF!"}}]
[null,240,null,null,null,{"$f":"IF(OR(#REF!=5,#REF!=10,#REF!= 15,#REF!= \"BP\",#REF!=\"SCR\"),\"NT\",E241)","v":{"$error":"#REF!"}}]
[null,241,null,null,null,{"$f":"IF(OR(#REF!=5,#REF!=10,#REF!= 15,#REF!= \"BP\",#REF!=\"SCR\"),\"NT\",E242)","v":{"$error":"#REF!"}}]
[null,242,null,null,null,{"$f":"IF(OR(#REF!=5,#REF!=10,#REF!= 15,#REF!= \"BP\",#REF!=\"SCR\"),\"NT\",E243)","v":{"$error":"#REF!"}}]
[null,243,null,null,null,{"$f":"IF(OR(#REF!=5,#REF!=10,#REF!= 15,#REF!= \"BP\",#REF!=\"SCR\"),\"NT\",E244)","v":{"$error":"#REF!"}}]
[null,244,null,null,null,{"$f":"IF(OR(#REF!=5,#REF!=10,#REF!= 15,#REF!= \"BP\",#REF!=\"SCR\"),\"NT\",E245)","v":{"$error":"#REF!"}}]
[null,245,null,null,null,{"$f":"IF(OR(#REF!=5,#REF!=10,#REF!= 15,#REF!= \"BP\",#REF!=\"SCR\"),\"NT\",E246)","v":{"$error":"#REF!"}}]
[null,246,null,null,null,{"$f":"IF(OR(#REF!=5,#REF!=10,#REF!= 15,#REF!= \"BP\",#REF!=\"SCR\"),\"NT\",E247)","v":{"$error":"#REF!"}}]
[null,247,null,null,null,{"$f":"IF(OR(#REF!=5,#REF!=10,#REF!= 15,#REF!= \"BP\",#REF!=\"SCR\"),\"NT\",E248)","v":{"$error":"#REF!"}}]
[null,248,null,null,null,{"$f":"IF(OR(#REF!=5,#REF!=10,#REF!= 15,#REF!= \"BP\",#REF!=\"SCR\"),\"NT\",E249)","v":{"$error":"#REF!"}}]
[null,249,null,null,null,{"$f":"IF(OR(#REF!=5,#REF!=10,#REF!= 15,#REF!= \"BP\",#REF!=\"SCR\"),\"NT\",E250)","v":{"$error":"#REF!"}}]
[null,250,null,null,null,{"$f":"IF(OR(#REF!=5,#REF!=10,#REF!= 15,#REF!= \"BP\",#REF!=\"SCR\"),\"NT\",E251)","v":{"$error":"#REF!"}}]
[null,251,null,null,null,{"$f":"IF(OR(#REF!=5,#REF!=10,#REF!= 15,#REF!= \"BP\",#REF!=\"SCR\"),\"NT\",E252)","v":{"$error":"#REF!"}}]
[null,252,null,null,null,{"$f":"IF(OR(#REF!=5,#REF!=10,#REF!= 15,#REF!= \"BP\",#REF!=\"SCR\"),\"NT\",E253)","v":{"$error":"#REF!"}}]
[null,253,null,null,null,{"$f":"IF(OR(#REF!=5,#REF!=10,#REF!= 15,#REF!= \"BP\",#REF!=\"SCR\"),\"NT\",E254)","v":{"$error":"#REF!"}}]
[null,254,null,null,null,{"$f":"IF(OR(#REF!=5,#REF!=10,#REF!= 15,#REF!= \"BP\",#REF!=\"SCR\"),\"NT\",E255)","v":{"$error":"#REF!"}}]
[null,255,null,null,null,{"$f":"IF(OR(#REF!=5,#REF!=10,#REF!= 15,#REF!= \"BP\",#REF!=\"SCR\"),\"NT\",E256)","v":{"$error":"#REF!"}}]
[null,256,null,null,null,{"$f":"IF(OR(#REF!=5,#REF!=10,#REF!= 15,#REF!= \"BP\",#REF!=\"SCR\"),\"NT\",E257)","v":{"$error":"#REF!"}}]
[null,257,null,null,null,{"$f":"IF(OR(#REF!=5,#REF!=10,#REF!= 15,#REF!= \"BP\",#REF!=\"SCR\"),\"NT\",E258)","v":{"$error":"#REF!"}}]
[null,258,null,null,null,{"$f":"IF(OR(#REF!=5,#REF!=10,#REF!= 15,#REF!= \"BP\",#REF!=\"SCR\"),\"NT\",E259)","v":{"$error":"#REF!"}}]
[null,259,null,null,null,{"$f":"IF(OR(#REF!=5,#REF!=10,#REF!= 15,#REF!= \"BP\",#REF!=\"SCR\"),\"NT\",E260)","v":{"$error":"#REF!"}}]
[null,260,null,null,null,{"$f":"IF(OR(#REF!=5,#REF!=10,#REF!= 15,#REF!= \"BP\",#REF!=\"SCR\"),\"NT\",E261)","v":{"$error":"#REF!"}}]
[null,261,null,null,null,{"$f":"IF(OR(#REF!=5,#REF!=10,#REF!= 15,#REF!= \"BP\",#REF!=\"SCR\"),\"NT\",E262)","v":{"$error":"#REF!"}}]
[null,262,null,null,null,{"$f":"IF(OR(#REF!=5,#REF!=10,#REF!= 15,#REF!= \"BP\",#REF!=\"SCR\"),\"NT\",E263)","v":{"$error":"#REF!"}}]
[null,263,null,null,null,{"$f":"IF(OR(#REF!=5,#REF!=10,#REF!= 15,#REF!= \"BP\",#REF!=\"SCR\"),\"NT\",E264)","v":{"$error":"#REF!"}}]
[null,264,null,null,null,{"$f":"IF(OR(#REF!=5,#REF!=10,#REF!= 15,#REF!= \"BP\",#REF!=\"SCR\"),\"NT\",E265)","v":{"$error":"#REF!"}}]
[null,265,null,null,null,{"$f":"IF(OR(#REF!=5,#REF!=10,#REF!= 15,#REF!= \"BP\",#REF!=\"SCR\"),\"NT\",E266)","v":{"$error":"#REF!"}}]
[null,266,null,null,null,{"$f":"IF(OR(#REF!=5,#REF!=10,#REF!= 15,#REF!= \"BP\",#REF!=\"SCR\"),\"NT\",E267)","v":{"$error":"#REF!"}}]
[null,267,null,null,null,{"$f":"IF(OR(#REF!=5,#REF!=10,#REF!= 15,#REF!= \"BP\",#REF!=\"SCR\"),\"NT\",E268)","v":{"$error":"#REF!"}}]
[null,268,null,null,null,{"$f":"IF(OR(#REF!=5,#REF!=10,#REF!= 15,#REF!= \"BP\",#REF!=\"SCR\"),\"NT\",E269)","v":{"$error":"#REF!"}}]
[null,269,null,null,null,{"$f":"IF(OR(#REF!=5,#REF!=10,#REF!= 15,#REF!= \"BP\",#REF!=\"SCR\"),\"NT\",E270)","v":{"$error":"#REF!"}}]
[null,270,null,null,null,{"$f":"IF(OR(#REF!=5,#REF!=10,#REF!= 15,#REF!= \"BP\",#REF!=\"SCR\"),\"NT\",E271)","v":{"$error":"#REF!"}}]
[null,271,null,null,null,{"$f":"IF(OR(#REF!=5,#REF!=10,#REF!= 15,#REF!= \"BP\",#REF!=\"SCR\"),\"NT\",E272)","v":{"$error":"#REF!"}}]
[null,272,null,null,null,{"$f":"IF(OR(#REF!=5,#REF!=10,#REF!= 15,#REF!= \"BP\",#REF!=\"SCR\"),\"NT\",E273)","v":{"$error":"#REF!"}}]
[null,273,null,null,null,{"$f":"IF(OR(#REF!=5,#REF!=10,#REF!= 15,#REF!= \"BP\",#REF!=\"SCR\"),\"NT\",E274)","v":{"$error":"#REF!"}}]
[null,274,null,null,null,{"$f":"IF(OR(#REF!=5,#REF!=10,#REF!= 15,#REF!= \"BP\",#REF!=\"SCR\"),\"NT\",E275)","v":{"$error":"#REF!"}}]
[null,275,null,null,null,{"$f":"IF(OR(#REF!=5,#REF!=10,#REF!= 15,#REF!= \"BP\",#REF!=\"SCR\"),\"NT\",E276)","v":{"$error":"#REF!"}}]
[null,276,null,null,null,{"$f":"IF(OR(#REF!=5,#REF!=10,#REF!= 15,#REF!= \"BP\",#REF!=\"SCR\"),\"NT\",E277)","v":{"$error":"#REF!"}}]
[null,277,null,null,null,{"$f":"IF(OR(#REF!=5,#REF!=10,#REF!= 15,#REF!= \"BP\",#REF!=\"SCR\"),\"NT\",E278)","v":{"$error":"#REF!"}}]
[null,278,null,null,null,{"$f":"IF(OR(#REF!=5,#REF!=10,#REF!= 15,#REF!= \"BP\",#REF!=\"SCR\"),\"NT\",E279)","v":{"$error":"#REF!"}}]
[null,279,null,null,null,{"$f":"IF(OR(#REF!=5,#REF!=10,#REF!= 15,#REF!= \"BP\",#REF!=\"SCR\"),\"NT\",E280)","v":{"$error":"#REF!"}}]
[null,280,null,null,null,{"$f":"IF(OR(#REF!=5,#REF!=10,#REF!= 15,#REF!= \"BP\",#REF!=\"SCR\"),\"NT\",E281)","v":{"$error":"#REF!"}}]
[null,281,null,null,null,{"$f":"IF(OR(#REF!=5,#REF!=10,#REF!= 15,#REF!= \"BP\",#REF!=\"SCR\"),\"NT\",E282)","v":{"$error":"#REF!"}}]
[null,282,null,null,null,{"$f":"IF(OR(#REF!=5,#REF!=10,#REF!= 15,#REF!= \"BP\",#REF!=\"SCR\"),\"NT\",E283)","v":{"$error":"#REF!"}}]
[null,283,null,null,null,{"$f":"IF(OR(#REF!=5,#REF!=10,#REF!= 15,#REF!= \"BP\",#REF!=\"SCR\"),\"NT\",E284)","v":{"$error":"#REF!"}}]
[null,284,null,null,null,{"$f":"IF(OR(#REF!=5,#REF!=10,#REF!= 15,#REF!= \"BP\",#REF!=\"SCR\"),\"NT\",E285)","v":{"$error":"#REF!"}}]
[null,285,null,null,null,{"$f":"IF(OR(#REF!=5,#REF!=10,#REF!= 15,#REF!= \"BP\",#REF!=\"SCR\"),\"NT\",E286)","v":{"$error":"#REF!"}}]
[null,286,null,null,null,{"$f":"IF(OR(#REF!=5,#REF!=10,#REF!= 15,#REF!= \"BP\",#REF!=\"SCR\"),\"NT\",E287)","v":{"$error":"#REF!"}}]
[null,287,null,null,null,{"$f":"IF(OR(#REF!=5,#REF!=10,#REF!= 15,#REF!= \"BP\",#REF!=\"SCR\"),\"NT\",E288)","v":{"$error":"#REF!"}}]
[null,288,null,null,null,{"$f":"IF(OR(#REF!=5,#REF!=10,#REF!= 15,#REF!= \"BP\",#REF!=\"SCR\"),\"NT\",E289)","v":{"$error":"#REF!"}}]
[null,289,null,null,null,{"$f":"IF(OR(#REF!=5,#REF!=10,#REF!= 15,#REF!= \"BP\",#REF!=\"SCR\"),\"NT\",E290)","v":{"$error":"#REF!"}}]
[null,290,null,null,null,{"$f":"IF(OR(#REF!=5,#REF!=10,#REF!= 15,#REF!= \"BP\",#REF!=\"SCR\"),\"NT\",E291)","v":{"$error":"#REF!"}}]
[null,291,null,null,null,{"$f":"IF(OR(#REF!=5,#REF!=10,#REF!= 15,#REF!= \"BP\",#REF!=\"SCR\"),\"NT\",E292)","v":{"$error":"#REF!"}}]
[null,292,null,null,null,{"$f":"IF(OR(#REF!=5,#REF!=10,#REF!= 15,#REF!= \"BP\",#REF!=\"SCR\"),\"NT\",E293)","v":{"$error":"#REF!"}}]
[null,293,null,null,null,{"$f":"IF(OR(#REF!=5,#REF!=10,#REF!= 15,#REF!= \"BP\",#REF!=\"SCR\"),\"NT\",E294)","v":{"$error":"#REF!"}}]
[null,294,null,null,null,{"$f":"IF(OR(#REF!=5,#REF!=10,#REF!= 15,#REF!= \"BP\",#REF!=\"SCR\"),\"NT\",E295)","v":{"$error":"#REF!"}}]
[null,295,null,null,null,{"$f":"IF(OR(#REF!=5,#REF!=10,#REF!= 15,#REF!= \"BP\",#REF!=\"SCR\"),\"NT\",E296)","v":{"$error":"#REF!"}}]
[null,296,null,null,null,{"$f":"IF(OR(#REF!=5,#REF!=10,#REF!= 15,#REF!= \"BP\",#REF!=\"SCR\"),\"NT\",E297)","v":{"$error":"#REF!"}}]
[null,297,null,null,null,{"$f":"IF(OR(#REF!=5,#REF!=10,#REF!= 15,#REF!= \"BP\",#REF!=\"SCR\"),\"NT\",E298)","v":{"$error":"#REF!"}}]
[null,298,null,null,null,{"$f":"IF(OR(#REF!=5,#REF!=10,#REF!= 15,#REF!= \"BP\",#REF!=\"SCR\"),\"NT\",E299)","v":{"$error":"#REF!"}}]
[null,299,null,null,null,{"$f":"IF(OR(#REF!=5,#REF!=10,#REF!= 15,#REF!= \"BP\",#REF!=\"SCR\"),\"NT\",E300)","v":{"$error":"#REF!"}}]
[null,300,null,null,null,{"$f":"IF(OR(#REF!=5,#REF!=10,#REF!= 15,#REF!= \"BP\",#REF!=\"SCR\"),\"NT\",E301)","v":{"$error":"#REF!"}}]

{"sheet":"Futurity","index":7,"n_rows":301,"n_cols":7,"rows_kept":301,"cut":false,"hidden":false,"merged":[]}
["Futurity","Draw","Rider Name","Horse Name","Final Time","Placing","Money Earned"]
[null,1,"Jolene Montogmery","Promise Me A Jet",15.727,"1D 1st",185]
[null,2,"Davie King","Brook",15.946999999999999,"1D 1st",123]
[null,3,"Jolene Montogmery","Double Dipped In Fame",15.96]
[null,4,"Kelly Allen","Miss JB 133",15.975]
[null,5,"Jolene Montogmery","Jets Heart N Soul",15.991]
[null,6,"Danyelle Campbell","Lady Ta Da",16.178999999999998]
[null,7,"Ryann Pedone","Elmers On Fire",16.21]
[null,8,"Andrea Cline","Fame Us First Lady",16.265999999999998,"2D 1st",79]
[null,9,"Ryann Pedone","Coco Bongo",16.285,"2D 2nd",53]
[null,10,"Jolene Montogmery","Send Me Send Me",16.315000000000001]
[null,11,"Jolene Montogmery","Chicados Bully",16.332000000000001]
[null,12,"Ryann Pedone","Turn N With Ease",16.417999999999999]
[null,13,"Ryann Pedone","NNN Sixums Firewater",16.497]
[null,14,"Kelly Allen","Miss JB 1315",16.559000000000001]
[null,15,"Andrea Cline","Freighttrain C",16.606000000000002]
[null,16,"Krista Lucas","Crown Royal Jet",16.962]
[null,17,"Jeff Amsden","Dez On Firewater",17.074000000000002]
[null,18,"Danyelle Campbell","JL Tularosa",17.231000000000002]
[null,19,"Lacy Billingsley","VF High N Famous",17.591000000000001]
[null,20,"Susan Agnew","Splash Da Firewater",18.108000000000001]
[null,21,"Jessi Thompson","Hitting Hennessy",19.652999999999999]
[null,22,"Molli Montgomery","Strawflyin The Gold","NT 16.573"]
[null,23]
[null,24]
[null,25]
[null,26]
[null,27]
[null,28]
[null,29]
[null,30,null,null,{"$f":"IF(OR(#REF!=5,#REF!=10,#REF!= 15,#REF!= \"BP\",#REF!=\"SCR\"),\"NT\",#REF!)","v":{"$error":"#REF!"}}]
[null,31,null,null,{"$f":"IF(OR(#REF!=5,#REF!=10,#REF!= 15,#REF!= \"BP\",#REF!=\"SCR\"),\"NT\",#REF!)","v":{"$error":"#REF!"}}]
[null,32,null,null,{"$f":"IF(OR(#REF!=5,#REF!=10,#REF!= 15,#REF!= \"BP\",#REF!=\"SCR\"),\"NT\",#REF!)","v":{"$error":"#REF!"}}]
[null,33,null,null,{"$f":"IF(OR(#REF!=5,#REF!=10,#REF!= 15,#REF!= \"BP\",#REF!=\"SCR\"),\"NT\",#REF!)","v":{"$error":"#REF!"}}]
[null,34,null,null,{"$f":"IF(OR(#REF!=5,#REF!=10,#REF!= 15,#REF!= \"BP\",#REF!=\"SCR\"),\"NT\",#REF!)","v":{"$error":"#REF!"}}]
[null,35,null,null,{"$f":"IF(OR(#REF!=5,#REF!=10,#REF!= 15,#REF!= \"BP\",#REF!=\"SCR\"),\"NT\",#REF!)","v":{"$error":"#REF!"}}]
[null,36,null,null,{"$f":"IF(OR(#REF!=5,#REF!=10,#REF!= 15,#REF!= \"BP\",#REF!=\"SCR\"),\"NT\",#REF!)","v":{"$error":"#REF!"}}]
[null,37,null,null,{"$f":"IF(OR(#REF!=5,#REF!=10,#REF!= 15,#REF!= \"BP\",#REF!=\"SCR\"),\"NT\",#REF!)","v":{"$error":"#REF!"}}]
[null,38,null,null,{"$f":"IF(OR(#REF!=5,#REF!=10,#REF!= 15,#REF!= \"BP\",#REF!=\"SCR\"),\"NT\",#REF!)","v":{"$error":"#REF!"}}]
[null,39,null,null,{"$f":"IF(OR(#REF!=5,#REF!=10,#REF!= 15,#REF!= \"BP\",#REF!=\"SCR\"),\"NT\",#REF!)","v":{"$error":"#REF!"}}]
[null,40,null,null,{"$f":"IF(OR(#REF!=5,#REF!=10,#REF!= 15,#REF!= \"BP\",#REF!=\"SCR\"),\"NT\",#REF!)","v":{"$error":"#REF!"}}]
[null,41,null,null,{"$f":"IF(OR(#REF!=5,#REF!=10,#REF!= 15,#REF!= \"BP\",#REF!=\"SCR\"),\"NT\",#REF!)","v":{"$error":"#REF!"}}]
[null,42,null,null,{"$f":"IF(OR(#REF!=5,#REF!=10,#REF!= 15,#REF!= \"BP\",#REF!=\"SCR\"),\"NT\",#REF!)","v":{"$error":"#REF!"}}]
[null,43,null,null,{"$f":"IF(OR(#REF!=5,#REF!=10,#REF!= 15,#REF!= \"BP\",#REF!=\"SCR\"),\"NT\",#REF!)","v":{"$error":"#REF!"}}]
[null,44,null,null,{"$f":"IF(OR(#REF!=5,#REF!=10,#REF!= 15,#REF!= \"BP\",#REF!=\"SCR\"),\"NT\",#REF!)","v":{"$error":"#REF!"}}]
[null,45,null,null,{"$f":"IF(OR(#REF!=5,#REF!=10,#REF!= 15,#REF!= \"BP\",#REF!=\"SCR\"),\"NT\",#REF!)","v":{"$error":"#REF!"}}]
[null,46,null,null,{"$f":"IF(OR(#REF!=5,#REF!=10,#REF!= 15,#REF!= \"BP\",#REF!=\"SCR\"),\"NT\",#REF!)","v":{"$error":"#REF!"}}]
[null,47,null,null,{"$f":"IF(OR(#REF!=5,#REF!=10,#REF!= 15,#REF!= \"BP\",#REF!=\"SCR\"),\"NT\",#REF!)","v":{"$error":"#REF!"}}]
[null,48,null,null,{"$f":"IF(OR(#REF!=5,#REF!=10,#REF!= 15,#REF!= \"BP\",#REF!=\"SCR\"),\"NT\",#REF!)","v":{"$error":"#REF!"}}]
[null,49,null,null,{"$f":"IF(OR(#REF!=5,#REF!=10,#REF!= 15,#REF!= \"BP\",#REF!=\"SCR\"),\"NT\",#REF!)","v":{"$error":"#REF!"}}]
[null,50,null,null,{"$f":"IF(OR(#REF!=5,#REF!=10,#REF!= 15,#REF!= \"BP\",#REF!=\"SCR\"),\"NT\",#REF!)","v":{"$error":"#REF!"}}]
[null,51,null,null,{"$f":"IF(OR(#REF!=5,#REF!=10,#REF!= 15,#REF!= \"BP\",#REF!=\"SCR\"),\"NT\",#REF!)","v":{"$error":"#REF!"}}]
[null,52,null,null,{"$f":"IF(OR(#REF!=5,#REF!=10,#REF!= 15,#REF!= \"BP\",#REF!=\"SCR\"),\"NT\",#REF!)","v":{"$error":"#REF!"}}]
[null,53,null,null,{"$f":"IF(OR(#REF!=5,#REF!=10,#REF!= 15,#REF!= \"BP\",#REF!=\"SCR\"),\"NT\",#REF!)","v":{"$error":"#REF!"}}]
[null,54,null,null,{"$f":"IF(OR(#REF!=5,#REF!=10,#REF!= 15,#REF!= \"BP\",#REF!=\"SCR\"),\"NT\",#REF!)","v":{"$error":"#REF!"}}]
[null,55,null,null,{"$f":"IF(OR(#REF!=5,#REF!=10,#REF!= 15,#REF!= \"BP\",#REF!=\"SCR\"),\"NT\",#REF!)","v":{"$error":"#REF!"}}]
[null,56,null,null,{"$f":"IF(OR(#REF!=5,#REF!=10,#REF!= 15,#REF!= \"BP\",#REF!=\"SCR\"),\"NT\",#REF!)","v":{"$error":"#REF!"}}]
[null,57,null,null,{"$f":"IF(OR(#REF!=5,#REF!=10,#REF!= 15,#REF!= \"BP\",#REF!=\"SCR\"),\"NT\",#REF!)","v":{"$error":"#REF!"}}]
[null,58,null,null,{"$f":"IF(OR(#REF!=5,#REF!=10,#REF!= 15,#REF!= \"BP\",#REF!=\"SCR\"),\"NT\",#REF!)","v":{"$error":"#REF!"}}]
[null,59,null,null,{"$f":"IF(OR(#REF!=5,#REF!=10,#REF!= 15,#REF!= \"BP\",#REF!=\"SCR\"),\"NT\",#REF!)","v":{"$error":"#REF!"}}]
[null,60,null,null,{"$f":"IF(OR(#REF!=5,#REF!=10,#REF!= 15,#REF!= \"BP\",#REF!=\"SCR\"),\"NT\",#REF!)","v":{"$error":"#REF!"}}]
[null,61,null,null,{"$f":"IF(OR(#REF!=5,#REF!=10,#REF!= 15,#REF!= \"BP\",#REF!=\"SCR\"),\"NT\",#REF!)","v":{"$error":"#REF!"}}]
[null,62,null,null,{"$f":"IF(OR(#REF!=5,#REF!=10,#REF!= 15,#REF!= \"BP\",#REF!=\"SCR\"),\"NT\",#REF!)","v":{"$error":"#REF!"}}]
[null,63,null,null,{"$f":"IF(OR(#REF!=5,#REF!=10,#REF!= 15,#REF!= \"BP\",#REF!=\"SCR\"),\"NT\",#REF!)","v":{"$error":"#REF!"}}]
[null,64,null,null,{"$f":"IF(OR(#REF!=5,#REF!=10,#REF!= 15,#REF!= \"BP\",#REF!=\"SCR\"),\"NT\",#REF!)","v":{"$error":"#REF!"}}]
[null,65,null,null,{"$f":"IF(OR(#REF!=5,#REF!=10,#REF!= 15,#REF!= \"BP\",#REF!=\"SCR\"),\"NT\",#REF!)","v":{"$error":"#REF!"}}]
[null,66,null,null,{"$f":"IF(OR(#REF!=5,#REF!=10,#REF!= 15,#REF!= \"BP\",#REF!=\"SCR\"),\"NT\",#REF!)","v":{"$error":"#REF!"}}]
[null,67,null,null,{"$f":"IF(OR(#REF!=5,#REF!=10,#REF!= 15,#REF!= \"BP\",#REF!=\"SCR\"),\"NT\",#REF!)","v":{"$error":"#REF!"}}]
[null,68,null,null,{"$f":"IF(OR(#REF!=5,#REF!=10,#REF!= 15,#REF!= \"BP\",#REF!=\"SCR\"),\"NT\",#REF!)","v":{"$error":"#REF!"}}]
[null,69,null,null,{"$f":"IF(OR(#REF!=5,#REF!=10,#REF!= 15,#REF!= \"BP\",#REF!=\"SCR\"),\"NT\",#REF!)","v":{"$error":"#REF!"}}]
[null,70,null,null,{"$f":"IF(OR(#REF!=5,#REF!=10,#REF!= 15,#REF!= \"BP\",#REF!=\"SCR\"),\"NT\",#REF!)","v":{"$error":"#REF!"}}]
[null,71,null,null,{"$f":"IF(OR(#REF!=5,#REF!=10,#REF!= 15,#REF!= \"BP\",#REF!=\"SCR\"),\"NT\",#REF!)","v":{"$error":"#REF!"}}]
[null,72,null,null,{"$f":"IF(OR(#REF!=5,#REF!=10,#REF!= 15,#REF!= \"BP\",#REF!=\"SCR\"),\"NT\",#REF!)","v":{"$error":"#REF!"}}]
[null,73,null,null,{"$f":"IF(OR(#REF!=5,#REF!=10,#REF!= 15,#REF!= \"BP\",#REF!=\"SCR\"),\"NT\",#REF!)","v":{"$error":"#REF!"}}]
[null,74,null,null,{"$f":"IF(OR(#REF!=5,#REF!=10,#REF!= 15,#REF!= \"BP\",#REF!=\"SCR\"),\"NT\",#REF!)","v":{"$error":"#REF!"}}]
[null,75,null,null,{"$f":"IF(OR(#REF!=5,#REF!=10,#REF!= 15,#REF!= \"BP\",#REF!=\"SCR\"),\"NT\",#REF!)","v":{"$error":"#REF!"}}]
[null,76,null,null,{"$f":"IF(OR(#REF!=5,#REF!=10,#REF!= 15,#REF!= \"BP\",#REF!=\"SCR\"),\"NT\",#REF!)","v":{"$error":"#REF!"}}]
[null,77,null,null,{"$f":"IF(OR(#REF!=5,#REF!=10,#REF!= 15,#REF!= \"BP\",#REF!=\"SCR\"),\"NT\",#REF!)","v":{"$error":"#REF!"}}]
[null,78,null,null,{"$f":"IF(OR(#REF!=5,#REF!=10,#REF!= 15,#REF!= \"BP\",#REF!=\"SCR\"),\"NT\",#REF!)","v":{"$error":"#REF!"}}]
[null,79,null,null,{"$f":"IF(OR(#REF!=5,#REF!=10,#REF!= 15,#REF!= \"BP\",#REF!=\"SCR\"),\"NT\",#REF!)","v":{"$error":"#REF!"}}]
[null,80,null,null,{"$f":"IF(OR(#REF!=5,#REF!=10,#REF!= 15,#REF!= \"BP\",#REF!=\"SCR\"),\"NT\",#REF!)","v":{"$error":"#REF!"}}]
[null,81,null,null,{"$f":"IF(OR(#REF!=5,#REF!=10,#REF!= 15,#REF!= \"BP\",#REF!=\"SCR\"),\"NT\",#REF!)","v":{"$error":"#REF!"}}]
[null,82,null,null,{"$f":"IF(OR(#REF!=5,#REF!=10,#REF!= 15,#REF!= \"BP\",#REF!=\"SCR\"),\"NT\",#REF!)","v":{"$error":"#REF!"}}]
[null,83,null,null,{"$f":"IF(OR(#REF!=5,#REF!=10,#REF!= 15,#REF!= \"BP\",#REF!=\"SCR\"),\"NT\",#REF!)","v":{"$error":"#REF!"}}]
[null,84,null,null,{"$f":"IF(OR(#REF!=5,#REF!=10,#REF!= 15,#REF!= \"BP\",#REF!=\"SCR\"),\"NT\",#REF!)","v":{"$error":"#REF!"}}]
[null,85,null,null,{"$f":"IF(OR(#REF!=5,#REF!=10,#REF!= 15,#REF!= \"BP\",#REF!=\"SCR\"),\"NT\",#REF!)","v":{"$error":"#REF!"}}]
[null,86,null,null,{"$f":"IF(OR(#REF!=5,#REF!=10,#REF!= 15,#REF!= \"BP\",#REF!=\"SCR\"),\"NT\",#REF!)","v":{"$error":"#REF!"}}]
[null,87,null,null,{"$f":"IF(OR(#REF!=5,#REF!=10,#REF!= 15,#REF!= \"BP\",#REF!=\"SCR\"),\"NT\",#REF!)","v":{"$error":"#REF!"}}]
[null,88,null,null,{"$f":"IF(OR(#REF!=5,#REF!=10,#REF!= 15,#REF!= \"BP\",#REF!=\"SCR\"),\"NT\",#REF!)","v":{"$error":"#REF!"}}]
[null,89,null,null,{"$f":"IF(OR(#REF!=5,#REF!=10,#REF!= 15,#REF!= \"BP\",#REF!=\"SCR\"),\"NT\",#REF!)","v":{"$error":"#REF!"}}]
[null,90,null,null,{"$f":"IF(OR(#REF!=5,#REF!=10,#REF!= 15,#REF!= \"BP\",#REF!=\"SCR\"),\"NT\",#REF!)","v":{"$error":"#REF!"}}]
[null,91,null,null,{"$f":"IF(OR(#REF!=5,#REF!=10,#REF!= 15,#REF!= \"BP\",#REF!=\"SCR\"),\"NT\",#REF!)","v":{"$error":"#REF!"}}]
[null,92,null,null,{"$f":"IF(OR(#REF!=5,#REF!=10,#REF!= 15,#REF!= \"BP\",#REF!=\"SCR\"),\"NT\",#REF!)","v":{"$error":"#REF!"}}]
[null,93,null,null,{"$f":"IF(OR(#REF!=5,#REF!=10,#REF!= 15,#REF!= \"BP\",#REF!=\"SCR\"),\"NT\",#REF!)","v":{"$error":"#REF!"}}]
[null,94,null,null,{"$f":"IF(OR(#REF!=5,#REF!=10,#REF!= 15,#REF!= \"BP\",#REF!=\"SCR\"),\"NT\",#REF!)","v":{"$error":"#REF!"}}]
[null,95,null,null,{"$f":"IF(OR(#REF!=5,#REF!=10,#REF!= 15,#REF!= \"BP\",#REF!=\"SCR\"),\"NT\",#REF!)","v":{"$error":"#REF!"}}]
[null,96,null,null,{"$f":"IF(OR(#REF!=5,#REF!=10,#REF!= 15,#REF!= \"BP\",#REF!=\"SCR\"),\"NT\",#REF!)","v":{"$error":"#REF!"}}]
[null,97,null,null,{"$f":"IF(OR(#REF!=5,#REF!=10,#REF!= 15,#REF!= \"BP\",#REF!=\"SCR\"),\"NT\",#REF!)","v":{"$error":"#REF!"}}]
[null,98,null,null,{"$f":"IF(OR(#REF!=5,#REF!=10,#REF!= 15,#REF!= \"BP\",#REF!=\"SCR\"),\"NT\",#REF!)","v":{"$error":"#REF!"}}]
[null,99,null,null,{"$f":"IF(OR(#REF!=5,#REF!=10,#REF!= 15,#REF!= \"BP\",#REF!=\"SCR\"),\"NT\",#REF!)","v":{"$error":"#REF!"}}]
[null,100,null,null,{"$f":"IF(OR(#REF!=5,#REF!=10,#REF!= 15,#REF!= \"BP\",#REF!=\"SCR\"),\"NT\",#REF!)","v":{"$error":"#REF!"}}]
[null,101,null,null,{"$f":"IF(OR(#REF!=5,#REF!=10,#REF!= 15,#REF!= \"BP\",#REF!=\"SCR\"),\"NT\",#REF!)","v":{"$error":"#REF!"}}]
[null,102,null,null,{"$f":"IF(OR(#REF!=5,#REF!=10,#REF!= 15,#REF!= \"BP\",#REF!=\"SCR\"),\"NT\",#REF!)","v":{"$error":"#REF!"}}]
[null,103,null,null,{"$f":"IF(OR(#REF!=5,#REF!=10,#REF!= 15,#REF!= \"BP\",#REF!=\"SCR\"),\"NT\",#REF!)","v":{"$error":"#REF!"}}]
[null,104,null,null,{"$f":"IF(OR(#REF!=5,#REF!=10,#REF!= 15,#REF!= \"BP\",#REF!=\"SCR\"),\"NT\",#REF!)","v":{"$error":"#REF!"}}]
[null,105,null,null,{"$f":"IF(OR(#REF!=5,#REF!=10,#REF!= 15,#REF!= \"BP\",#REF!=\"SCR\"),\"NT\",#REF!)","v":{"$error":"#REF!"}}]
[null,106,null,null,{"$f":"IF(OR(#REF!=5,#REF!=10,#REF!= 15,#REF!= \"BP\",#REF!=\"SCR\"),\"NT\",#REF!)","v":{"$error":"#REF!"}}]
[null,107,null,null,{"$f":"IF(OR(#REF!=5,#REF!=10,#REF!= 15,#REF!= \"BP\",#REF!=\"SCR\"),\"NT\",#REF!)","v":{"$error":"#REF!"}}]
[null,108,null,null,{"$f":"IF(OR(#REF!=5,#REF!=10,#REF!= 15,#REF!= \"BP\",#REF!=\"SCR\"),\"NT\",#REF!)","v":{"$error":"#REF!"}}]
[null,109,null,null,{"$f":"IF(OR(#REF!=5,#REF!=10,#REF!= 15,#REF!= \"BP\",#REF!=\"SCR\"),\"NT\",#REF!)","v":{"$error":"#REF!"}}]
[null,110,null,null,{"$f":"IF(OR(#REF!=5,#REF!=10,#REF!= 15,#REF!= \"BP\",#REF!=\"SCR\"),\"NT\",#REF!)","v":{"$error":"#REF!"}}]
[null,111,null,null,{"$f":"IF(OR(#REF!=5,#REF!=10,#REF!= 15,#REF!= \"BP\",#REF!=\"SCR\"),\"NT\",#REF!)","v":{"$error":"#REF!"}}]
[null,112,null,null,{"$f":"IF(OR(#REF!=5,#REF!=10,#REF!= 15,#REF!= \"BP\",#REF!=\"SCR\"),\"NT\",#REF!)","v":{"$error":"#REF!"}}]
[null,113,null,null,{"$f":"IF(OR(#REF!=5,#REF!=10,#REF!= 15,#REF!= \"BP\",#REF!=\"SCR\"),\"NT\",#REF!)","v":{"$error":"#REF!"}}]
[null,114,null,null,{"$f":"IF(OR(#REF!=5,#REF!=10,#REF!= 15,#REF!= \"BP\",#REF!=\"SCR\"),\"NT\",#REF!)","v":{"$error":"#REF!"}}]
[null,115,null,null,{"$f":"IF(OR(#REF!=5,#REF!=10,#REF!= 15,#REF!= \"BP\",#REF!=\"SCR\"),\"NT\",#REF!)","v":{"$error":"#REF!"}}]
[null,116,null,null,{"$f":"IF(OR(#REF!=5,#REF!=10,#REF!= 15,#REF!= \"BP\",#REF!=\"SCR\"),\"NT\",#REF!)","v":{"$error":"#REF!"}}]
[null,117,null,null,{"$f":"IF(OR(#REF!=5,#REF!=10,#REF!= 15,#REF!= \"BP\",#REF!=\"SCR\"),\"NT\",#REF!)","v":{"$error":"#REF!"}}]
[null,118,null,null,{"$f":"IF(OR(#REF!=5,#REF!=10,#REF!= 15,#REF!= \"BP\",#REF!=\"SCR\"),\"NT\",#REF!)","v":{"$error":"#REF!"}}]
[null,119,null,null,{"$f":"IF(OR(#REF!=5,#REF!=10,#REF!= 15,#REF!= \"BP\",#REF!=\"SCR\"),\"NT\",#REF!)","v":{"$error":"#REF!"}}]
[null,120,null,null,{"$f":"IF(OR(#REF!=5,#REF!=10,#REF!= 15,#REF!= \"BP\",#REF!=\"SCR\"),\"NT\",#REF!)","v":{"$error":"#REF!"}}]
[null,121,null,null,{"$f":"IF(OR(#REF!=5,#REF!=10,#REF!= 15,#REF!= \"BP\",#REF!=\"SCR\"),\"NT\",#REF!)","v":{"$error":"#REF!"}}]
[null,122,null,null,{"$f":"IF(OR(#REF!=5,#REF!=10,#REF!= 15,#REF!= \"BP\",#REF!=\"SCR\"),\"NT\",#REF!)","v":{"$error":"#REF!"}}]
[null,123,null,null,{"$f":"IF(OR(#REF!=5,#REF!=10,#REF!= 15,#REF!= \"BP\",#REF!=\"SCR\"),\"NT\",#REF!)","v":{"$error":"#REF!"}}]
[null,124,null,null,{"$f":"IF(OR(#REF!=5,#REF!=10,#REF!= 15,#REF!= \"BP\",#REF!=\"SCR\"),\"NT\",#REF!)","v":{"$error":"#REF!"}}]
[null,125,null,null,{"$f":"IF(OR(#REF!=5,#REF!=10,#REF!= 15,#REF!= \"BP\",#REF!=\"SCR\"),\"NT\",#REF!)","v":{"$error":"#REF!"}}]
[null,126,null,null,{"$f":"IF(OR(#REF!=5,#REF!=10,#REF!= 15,#REF!= \"BP\",#REF!=\"SCR\"),\"NT\",#REF!)","v":{"$error":"#REF!"}}]
[null,127,null,null,{"$f":"IF(OR(#REF!=5,#REF!=10,#REF!= 15,#REF!= \"BP\",#REF!=\"SCR\"),\"NT\",#REF!)","v":{"$error":"#REF!"}}]
[null,128,null,null,{"$f":"IF(OR(#REF!=5,#REF!=10,#REF!= 15,#REF!= \"BP\",#REF!=\"SCR\"),\"NT\",#REF!)","v":{"$error":"#REF!"}}]
[null,129,null,null,{"$f":"IF(OR(#REF!=5,#REF!=10,#REF!= 15,#REF!= \"BP\",#REF!=\"SCR\"),\"NT\",#REF!)","v":{"$error":"#REF!"}}]
[null,130,null,null,{"$f":"IF(OR(#REF!=5,#REF!=10,#REF!= 15,#REF!= \"BP\",#REF!=\"SCR\"),\"NT\",#REF!)","v":{"$error":"#REF!"}}]
[null,131,null,null,{"$f":"IF(OR(#REF!=5,#REF!=10,#REF!= 15,#REF!= \"BP\",#REF!=\"SCR\"),\"NT\",#REF!)","v":{"$error":"#REF!"}}]
[null,132,null,null,{"$f":"IF(OR(#REF!=5,#REF!=10,#REF!= 15,#REF!= \"BP\",#REF!=\"SCR\"),\"NT\",#REF!)","v":{"$error":"#REF!"}}]
[null,133,null,null,{"$f":"IF(OR(#REF!=5,#REF!=10,#REF!= 15,#REF!= \"BP\",#REF!=\"SCR\"),\"NT\",#REF!)","v":{"$error":"#REF!"}}]
[null,134,null,null,{"$f":"IF(OR(#REF!=5,#REF!=10,#REF!= 15,#REF!= \"BP\",#REF!=\"SCR\"),\"NT\",#REF!)","v":{"$error":"#REF!"}}]
[null,135,null,null,{"$f":"IF(OR(#REF!=5,#REF!=10,#REF!= 15,#REF!= \"BP\",#REF!=\"SCR\"),\"NT\",#REF!)","v":{"$error":"#REF!"}}]
[null,136,null,null,{"$f":"IF(OR(#REF!=5,#REF!=10,#REF!= 15,#REF!= \"BP\",#REF!=\"SCR\"),\"NT\",#REF!)","v":{"$error":"#REF!"}}]
[null,137,null,null,{"$f":"IF(OR(#REF!=5,#REF!=10,#REF!= 15,#REF!= \"BP\",#REF!=\"SCR\"),\"NT\",#REF!)","v":{"$error":"#REF!"}}]
[null,138,null,null,{"$f":"IF(OR(#REF!=5,#REF!=10,#REF!= 15,#REF!= \"BP\",#REF!=\"SCR\"),\"NT\",#REF!)","v":{"$error":"#REF!"}}]
[null,139,null,null,{"$f":"IF(OR(#REF!=5,#REF!=10,#REF!= 15,#REF!= \"BP\",#REF!=\"SCR\"),\"NT\",#REF!)","v":{"$error":"#REF!"}}]
[null,140,null,null,{"$f":"IF(OR(#REF!=5,#REF!=10,#REF!= 15,#REF!= \"BP\",#REF!=\"SCR\"),\"NT\",#REF!)","v":{"$error":"#REF!"}}]
[null,141,null,null,{"$f":"IF(OR(#REF!=5,#REF!=10,#REF!= 15,#REF!= \"BP\",#REF!=\"SCR\"),\"NT\",#REF!)","v":{"$error":"#REF!"}}]
[null,142,null,null,{"$f":"IF(OR(#REF!=5,#REF!=10,#REF!= 15,#REF!= \"BP\",#REF!=\"SCR\"),\"NT\",#REF!)","v":{"$error":"#REF!"}}]
[null,143,null,null,{"$f":"IF(OR(#REF!=5,#REF!=10,#REF!= 15,#REF!= \"BP\",#REF!=\"SCR\"),\"NT\",#REF!)","v":{"$error":"#REF!"}}]
[null,144,null,null,{"$f":"IF(OR(#REF!=5,#REF!=10,#REF!= 15,#REF!= \"BP\",#REF!=\"SCR\"),\"NT\",#REF!)","v":{"$error":"#REF!"}}]
[null,145,null,null,{"$f":"IF(OR(#REF!=5,#REF!=10,#REF!= 15,#REF!= \"BP\",#REF!=\"SCR\"),\"NT\",#REF!)","v":{"$error":"#REF!"}}]
[null,146,null,null,{"$f":"IF(OR(#REF!=5,#REF!=10,#REF!= 15,#REF!= \"BP\",#REF!=\"SCR\"),\"NT\",#REF!)","v":{"$error":"#REF!"}}]
[null,147,null,null,{"$f":"IF(OR(#REF!=5,#REF!=10,#REF!= 15,#REF!= \"BP\",#REF!=\"SCR\"),\"NT\",#REF!)","v":{"$error":"#REF!"}}]
[null,148,null,null,{"$f":"IF(OR(#REF!=5,#REF!=10,#REF!= 15,#REF!= \"BP\",#REF!=\"SCR\"),\"NT\",#REF!)","v":{"$error":"#REF!"}}]
[null,149,null,null,{"$f":"IF(OR(#REF!=5,#REF!=10,#REF!= 15,#REF!= \"BP\",#REF!=\"SCR\"),\"NT\",#REF!)","v":{"$error":"#REF!"}}]
[null,150,null,null,{"$f":"IF(OR(#REF!=5,#REF!=10,#REF!= 15,#REF!= \"BP\",#REF!=\"SCR\"),\"NT\",#REF!)","v":{"$error":"#REF!"}}]
[null,151,null,null,{"$f":"IF(OR(#REF!=5,#REF!=10,#REF!= 15,#REF!= \"BP\",#REF!=\"SCR\"),\"NT\",#REF!)","v":{"$error":"#REF!"}}]
[null,152,null,null,{"$f":"IF(OR(#REF!=5,#REF!=10,#REF!= 15,#REF!= \"BP\",#REF!=\"SCR\"),\"NT\",#REF!)","v":{"$error":"#REF!"}}]
[null,153,null,null,{"$f":"IF(OR(#REF!=5,#REF!=10,#REF!= 15,#REF!= \"BP\",#REF!=\"SCR\"),\"NT\",#REF!)","v":{"$error":"#REF!"}}]
[null,154,null,null,{"$f":"IF(OR(#REF!=5,#REF!=10,#REF!= 15,#REF!= \"BP\",#REF!=\"SCR\"),\"NT\",#REF!)","v":{"$error":"#REF!"}}]
[null,155,null,null,{"$f":"IF(OR(#REF!=5,#REF!=10,#REF!= 15,#REF!= \"BP\",#REF!=\"SCR\"),\"NT\",#REF!)","v":{"$error":"#REF!"}}]
[null,156,null,null,{"$f":"IF(OR(#REF!=5,#REF!=10,#REF!= 15,#REF!= \"BP\",#REF!=\"SCR\"),\"NT\",#REF!)","v":{"$error":"#REF!"}}]
[null,157,null,null,{"$f":"IF(OR(#REF!=5,#REF!=10,#REF!= 15,#REF!= \"BP\",#REF!=\"SCR\"),\"NT\",#REF!)","v":{"$error":"#REF!"}}]
[null,158,null,null,{"$f":"IF(OR(#REF!=5,#REF!=10,#REF!= 15,#REF!= \"BP\",#REF!=\"SCR\"),\"NT\",#REF!)","v":{"$error":"#REF!"}}]
[null,159,null,null,{"$f":"IF(OR(#REF!=5,#REF!=10,#REF!= 15,#REF!= \"BP\",#REF!=\"SCR\"),\"NT\",#REF!)","v":{"$error":"#REF!"}}]
[null,160,null,null,{"$f":"IF(OR(#REF!=5,#REF!=10,#REF!= 15,#REF!= \"BP\",#REF!=\"SCR\"),\"NT\",#REF!)","v":{"$error":"#REF!"}}]
[null,161,null,null,{"$f":"IF(OR(#REF!=5,#REF!=10,#REF!= 15,#REF!= \"BP\",#REF!=\"SCR\"),\"NT\",#REF!)","v":{"$error":"#REF!"}}]
[null,162,null,null,{"$f":"IF(OR(#REF!=5,#REF!=10,#REF!= 15,#REF!= \"BP\",#REF!=\"SCR\"),\"NT\",#REF!)","v":{"$error":"#REF!"}}]
[null,163,null,null,{"$f":"IF(OR(#REF!=5,#REF!=10,#REF!= 15,#REF!= \"BP\",#REF!=\"SCR\"),\"NT\",#REF!)","v":{"$error":"#REF!"}}]
[null,164,null,null,{"$f":"IF(OR(#REF!=5,#REF!=10,#REF!= 15,#REF!= \"BP\",#REF!=\"SCR\"),\"NT\",#REF!)","v":{"$error":"#REF!"}}]
[null,165,null,null,{"$f":"IF(OR(#REF!=5,#REF!=10,#REF!= 15,#REF!= \"BP\",#REF!=\"SCR\"),\"NT\",#REF!)","v":{"$error":"#REF!"}}]
[null,166,null,null,{"$f":"IF(OR(#REF!=5,#REF!=10,#REF!= 15,#REF!= \"BP\",#REF!=\"SCR\"),\"NT\",#REF!)","v":{"$error":"#REF!"}}]
[null,167,null,null,{"$f":"IF(OR(#REF!=5,#REF!=10,#REF!= 15,#REF!= \"BP\",#REF!=\"SCR\"),\"NT\",#REF!)","v":{"$error":"#REF!"}}]
[null,168,null,null,{"$f":"IF(OR(#REF!=5,#REF!=10,#REF!= 15,#REF!= \"BP\",#REF!=\"SCR\"),\"NT\",#REF!)","v":{"$error":"#REF!"}}]
[null,169,null,null,{"$f":"IF(OR(#REF!=5,#REF!=10,#REF!= 15,#REF!= \"BP\",#REF!=\"SCR\"),\"NT\",#REF!)","v":{"$error":"#REF!"}}]
[null,170,null,null,{"$f":"IF(OR(#REF!=5,#REF!=10,#REF!= 15,#REF!= \"BP\",#REF!=\"SCR\"),\"NT\",#REF!)","v":{"$error":"#REF!"}}]
[null,171,null,null,{"$f":"IF(OR(#REF!=5,#REF!=10,#REF!= 15,#REF!= \"BP\",#REF!=\"SCR\"),\"NT\",#REF!)","v":{"$error":"#REF!"}}]
[null,172,null,null,{"$f":"IF(OR(#REF!=5,#REF!=10,#REF!= 15,#REF!= \"BP\",#REF!=\"SCR\"),\"NT\",#REF!)","v":{"$error":"#REF!"}}]
[null,173,null,null,{"$f":"IF(OR(#REF!=5,#REF!=10,#REF!= 15,#REF!= \"BP\",#REF!=\"SCR\"),\"NT\",#REF!)","v":{"$error":"#REF!"}}]
[null,174,null,null,{"$f":"IF(OR(#REF!=5,#REF!=10,#REF!= 15,#REF!= \"BP\",#REF!=\"SCR\"),\"NT\",#REF!)","v":{"$error":"#REF!"}}]
[null,175,null,null,{"$f":"IF(OR(#REF!=5,#REF!=10,#REF!= 15,#REF!= \"BP\",#REF!=\"SCR\"),\"NT\",#REF!)","v":{"$error":"#REF!"}}]
[null,176,null,null,{"$f":"IF(OR(#REF!=5,#REF!=10,#REF!= 15,#REF!= \"BP\",#REF!=\"SCR\"),\"NT\",#REF!)","v":{"$error":"#REF!"}}]
[null,177,null,null,{"$f":"IF(OR(#REF!=5,#REF!=10,#REF!= 15,#REF!= \"BP\",#REF!=\"SCR\"),\"NT\",#REF!)","v":{"$error":"#REF!"}}]
[null,178,null,null,{"$f":"IF(OR(#REF!=5,#REF!=10,#REF!= 15,#REF!= \"BP\",#REF!=\"SCR\"),\"NT\",#REF!)","v":{"$error":"#REF!"}}]
[null,179,null,null,{"$f":"IF(OR(#REF!=5,#REF!=10,#REF!= 15,#REF!= \"BP\",#REF!=\"SCR\"),\"NT\",#REF!)","v":{"$error":"#REF!"}}]
[null,180,null,null,{"$f":"IF(OR(#REF!=5,#REF!=10,#REF!= 15,#REF!= \"BP\",#REF!=\"SCR\"),\"NT\",#REF!)","v":{"$error":"#REF!"}}]
[null,181,null,null,{"$f":"IF(OR(#REF!=5,#REF!=10,#REF!= 15,#REF!= \"BP\",#REF!=\"SCR\"),\"NT\",#REF!)","v":{"$error":"#REF!"}}]
[null,182,null,null,{"$f":"IF(OR(#REF!=5,#REF!=10,#REF!= 15,#REF!= \"BP\",#REF!=\"SCR\"),\"NT\",#REF!)","v":{"$error":"#REF!"}}]
[null,183,null,null,{"$f":"IF(OR(#REF!=5,#REF!=10,#REF!= 15,#REF!= \"BP\",#REF!=\"SCR\"),\"NT\",#REF!)","v":{"$error":"#REF!"}}]
[null,184,null,null,{"$f":"IF(OR(#REF!=5,#REF!=10,#REF!= 15,#REF!= \"BP\",#REF!=\"SCR\"),\"NT\",#REF!)","v":{"$error":"#REF!"}}]
[null,185,null,null,{"$f":"IF(OR(#REF!=5,#REF!=10,#REF!= 15,#REF!= \"BP\",#REF!=\"SCR\"),\"NT\",#REF!)","v":{"$error":"#REF!"}}]
[null,186,null,null,{"$f":"IF(OR(#REF!=5,#REF!=10,#REF!= 15,#REF!= \"BP\",#REF!=\"SCR\"),\"NT\",#REF!)","v":{"$error":"#REF!"}}]
[null,187,null,null,{"$f":"IF(OR(#REF!=5,#REF!=10,#REF!= 15,#REF!= \"BP\",#REF!=\"SCR\"),\"NT\",#REF!)","v":{"$error":"#REF!"}}]
[null,188,null,null,{"$f":"IF(OR(#REF!=5,#REF!=10,#REF!= 15,#REF!= \"BP\",#REF!=\"SCR\"),\"NT\",#REF!)","v":{"$error":"#REF!"}}]
[null,189,null,null,{"$f":"IF(OR(#REF!=5,#REF!=10,#REF!= 15,#REF!= \"BP\",#REF!=\"SCR\"),\"NT\",#REF!)","v":{"$error":"#REF!"}}]
[null,190,null,null,{"$f":"IF(OR(#REF!=5,#REF!=10,#REF!= 15,#REF!= \"BP\",#REF!=\"SCR\"),\"NT\",#REF!)","v":{"$error":"#REF!"}}]
[null,191,null,null,{"$f":"IF(OR(#REF!=5,#REF!=10,#REF!= 15,#REF!= \"BP\",#REF!=\"SCR\"),\"NT\",#REF!)","v":{"$error":"#REF!"}}]
[null,192,null,null,{"$f":"IF(OR(#REF!=5,#REF!=10,#REF!= 15,#REF!= \"BP\",#REF!=\"SCR\"),\"NT\",#REF!)","v":{"$error":"#REF!"}}]
[null,193,null,null,{"$f":"IF(OR(#REF!=5,#REF!=10,#REF!= 15,#REF!= \"BP\",#REF!=\"SCR\"),\"NT\",#REF!)","v":{"$error":"#REF!"}}]
[null,194,null,null,{"$f":"IF(OR(#REF!=5,#REF!=10,#REF!= 15,#REF!= \"BP\",#REF!=\"SCR\"),\"NT\",#REF!)","v":{"$error":"#REF!"}}]
[null,195,null,null,{"$f":"IF(OR(#REF!=5,#REF!=10,#REF!= 15,#REF!= \"BP\",#REF!=\"SCR\"),\"NT\",#REF!)","v":{"$error":"#REF!"}}]
[null,196,null,null,{"$f":"IF(OR(#REF!=5,#REF!=10,#REF!= 15,#REF!= \"BP\",#REF!=\"SCR\"),\"NT\",#REF!)","v":{"$error":"#REF!"}}]
[null,197,null,null,{"$f":"IF(OR(#REF!=5,#REF!=10,#REF!= 15,#REF!= \"BP\",#REF!=\"SCR\"),\"NT\",#REF!)","v":{"$error":"#REF!"}}]
[null,198,null,null,{"$f":"IF(OR(#REF!=5,#REF!=10,#REF!= 15,#REF!= \"BP\",#REF!=\"SCR\"),\"NT\",#REF!)","v":{"$error":"#REF!"}}]
[null,199,null,null,{"$f":"IF(OR(#REF!=5,#REF!=10,#REF!= 15,#REF!= \"BP\",#REF!=\"SCR\"),\"NT\",#REF!)","v":{"$error":"#REF!"}}]
[null,200,null,null,{"$f":"IF(OR(#REF!=5,#REF!=10,#REF!= 15,#REF!= \"BP\",#REF!=\"SCR\"),\"NT\",#REF!)","v":{"$error":"#REF!"}}]
[null,201,null,null,{"$f":"IF(OR(#REF!=5,#REF!=10,#REF!= 15,#REF!= \"BP\",#REF!=\"SCR\"),\"NT\",#REF!)","v":{"$error":"#REF!"}}]
[null,202,null,null,{"$f":"IF(OR(#REF!=5,#REF!=10,#REF!= 15,#REF!= \"BP\",#REF!=\"SCR\"),\"NT\",#REF!)","v":{"$error":"#REF!"}}]
[null,203,null,null,{"$f":"IF(OR(#REF!=5,#REF!=10,#REF!= 15,#REF!= \"BP\",#REF!=\"SCR\"),\"NT\",#REF!)","v":{"$error":"#REF!"}}]
[null,204,null,null,{"$f":"IF(OR(#REF!=5,#REF!=10,#REF!= 15,#REF!= \"BP\",#REF!=\"SCR\"),\"NT\",#REF!)","v":{"$error":"#REF!"}}]
[null,205,null,null,{"$f":"IF(OR(#REF!=5,#REF!=10,#REF!= 15,#REF!= \"BP\",#REF!=\"SCR\"),\"NT\",#REF!)","v":{"$error":"#REF!"}}]
[null,206,null,null,{"$f":"IF(OR(#REF!=5,#REF!=10,#REF!= 15,#REF!= \"BP\",#REF!=\"SCR\"),\"NT\",#REF!)","v":{"$error":"#REF!"}}]
[null,207,null,null,{"$f":"IF(OR(#REF!=5,#REF!=10,#REF!= 15,#REF!= \"BP\",#REF!=\"SCR\"),\"NT\",#REF!)","v":{"$error":"#REF!"}}]
[null,208,null,null,{"$f":"IF(OR(#REF!=5,#REF!=10,#REF!= 15,#REF!= \"BP\",#REF!=\"SCR\"),\"NT\",#REF!)","v":{"$error":"#REF!"}}]
[null,209,null,null,{"$f":"IF(OR(#REF!=5,#REF!=10,#REF!= 15,#REF!= \"BP\",#REF!=\"SCR\"),\"NT\",#REF!)","v":{"$error":"#REF!"}}]
[null,210,null,null,{"$f":"IF(OR(#REF!=5,#REF!=10,#REF!= 15,#REF!= \"BP\",#REF!=\"SCR\"),\"NT\",#REF!)","v":{"$error":"#REF!"}}]
[null,211,null,null,{"$f":"IF(OR(#REF!=5,#REF!=10,#REF!= 15,#REF!= \"BP\",#REF!=\"SCR\"),\"NT\",#REF!)","v":{"$error":"#REF!"}}]
[null,212,null,null,{"$f":"IF(OR(#REF!=5,#REF!=10,#REF!= 15,#REF!= \"BP\",#REF!=\"SCR\"),\"NT\",#REF!)","v":{"$error":"#REF!"}}]
[null,213,null,null,{"$f":"IF(OR(#REF!=5,#REF!=10,#REF!= 15,#REF!= \"BP\",#REF!=\"SCR\"),\"NT\",#REF!)","v":{"$error":"#REF!"}}]
[null,214,null,null,{"$f":"IF(OR(#REF!=5,#REF!=10,#REF!= 15,#REF!= \"BP\",#REF!=\"SCR\"),\"NT\",#REF!)","v":{"$error":"#REF!"}}]
[null,215,null,null,{"$f":"IF(OR(#REF!=5,#REF!=10,#REF!= 15,#REF!= \"BP\",#REF!=\"SCR\"),\"NT\",#REF!)","v":{"$error":"#REF!"}}]
[null,216,null,null,{"$f":"IF(OR(#REF!=5,#REF!=10,#REF!= 15,#REF!= \"BP\",#REF!=\"SCR\"),\"NT\",#REF!)","v":{"$error":"#REF!"}}]
[null,217,null,null,{"$f":"IF(OR(#REF!=5,#REF!=10,#REF!= 15,#REF!= \"BP\",#REF!=\"SCR\"),\"NT\",#REF!)","v":{"$error":"#REF!"}}]
[null,218,null,null,{"$f":"IF(OR(#REF!=5,#REF!=10,#REF!= 15,#REF!= \"BP\",#REF!=\"SCR\"),\"NT\",#REF!)","v":{"$error":"#REF!"}}]
[null,219,null,null,{"$f":"IF(OR(#REF!=5,#REF!=10,#REF!= 15,#REF!= \"BP\",#REF!=\"SCR\"),\"NT\",#REF!)","v":{"$error":"#REF!"}}]
[null,220,null,null,{"$f":"IF(OR(#REF!=5,#REF!=10,#REF!= 15,#REF!= \"BP\",#REF!=\"SCR\"),\"NT\",#REF!)","v":{"$error":"#REF!"}}]
[null,221,null,null,{"$f":"IF(OR(#REF!=5,#REF!=10,#REF!= 15,#REF!= \"BP\",#REF!=\"SCR\"),\"NT\",#REF!)","v":{"$error":"#REF!"}}]
[null,222,null,null,{"$f":"IF(OR(#REF!=5,#REF!=10,#REF!= 15,#REF!= \"BP\",#REF!=\"SCR\"),\"NT\",#REF!)","v":{"$error":"#REF!"}}]
[null,223,null,null,{"$f":"IF(OR(#REF!=5,#REF!=10,#REF!= 15,#REF!= \"BP\",#REF!=\"SCR\"),\"NT\",#REF!)","v":{"$error":"#REF!"}}]
[null,224,null,null,{"$f":"IF(OR(#REF!=5,#REF!=10,#REF!= 15,#REF!= \"BP\",#REF!=\"SCR\"),\"NT\",#REF!)","v":{"$error":"#REF!"}}]
[null,225,null,null,{"$f":"IF(OR(#REF!=5,#REF!=10,#REF!= 15,#REF!= \"BP\",#REF!=\"SCR\"),\"NT\",#REF!)","v":{"$error":"#REF!"}}]
[null,226,null,null,{"$f":"IF(OR(#REF!=5,#REF!=10,#REF!= 15,#REF!= \"BP\",#REF!=\"SCR\"),\"NT\",#REF!)","v":{"$error":"#REF!"}}]
[null,227,null,null,{"$f":"IF(OR(#REF!=5,#REF!=10,#REF!= 15,#REF!= \"BP\",#REF!=\"SCR\"),\"NT\",#REF!)","v":{"$error":"#REF!"}}]
[null,228,null,null,{"$f":"IF(OR(#REF!=5,#REF!=10,#REF!= 15,#REF!= \"BP\",#REF!=\"SCR\"),\"NT\",#REF!)","v":{"$error":"#REF!"}}]
[null,229,null,null,{"$f":"IF(OR(#REF!=5,#REF!=10,#REF!= 15,#REF!= \"BP\",#REF!=\"SCR\"),\"NT\",#REF!)","v":{"$error":"#REF!"}}]
[null,230,null,null,{"$f":"IF(OR(#REF!=5,#REF!=10,#REF!= 15,#REF!= \"BP\",#REF!=\"SCR\"),\"NT\",#REF!)","v":{"$error":"#REF!"}}]
[null,231,null,null,{"$f":"IF(OR(#REF!=5,#REF!=10,#REF!= 15,#REF!= \"BP\",#REF!=\"SCR\"),\"NT\",#REF!)","v":{"$error":"#REF!"}}]
[null,232,null,null,{"$f":"IF(OR(#REF!=5,#REF!=10,#REF!= 15,#REF!= \"BP\",#REF!=\"SCR\"),\"NT\",#REF!)","v":{"$error":"#REF!"}}]
[null,233,null,null,{"$f":"IF(OR(#REF!=5,#REF!=10,#REF!= 15,#REF!= \"BP\",#REF!=\"SCR\"),\"NT\",#REF!)","v":{"$error":"#REF!"}}]
[null,234,null,null,{"$f":"IF(OR(#REF!=5,#REF!=10,#REF!= 15,#REF!= \"BP\",#REF!=\"SCR\"),\"NT\",#REF!)","v":{"$error":"#REF!"}}]
[null,235,null,null,{"$f":"IF(OR(#REF!=5,#REF!=10,#REF!= 15,#REF!= \"BP\",#REF!=\"SCR\"),\"NT\",#REF!)","v":{"$error":"#REF!"}}]
[null,236,null,null,{"$f":"IF(OR(#REF!=5,#REF!=10,#REF!= 15,#REF!= \"BP\",#REF!=\"SCR\"),\"NT\",#REF!)","v":{"$error":"#REF!"}}]
[null,237,null,null,{"$f":"IF(OR(#REF!=5,#REF!=10,#REF!= 15,#REF!= \"BP\",#REF!=\"SCR\"),\"NT\",#REF!)","v":{"$error":"#REF!"}}]
[null,238,null,null,{"$f":"IF(OR(#REF!=5,#REF!=10,#REF!= 15,#REF!= \"BP\",#REF!=\"SCR\"),\"NT\",#REF!)","v":{"$error":"#REF!"}}]
[null,239,null,null,{"$f":"IF(OR(#REF!=5,#REF!=10,#REF!= 15,#REF!= \"BP\",#REF!=\"SCR\"),\"NT\",#REF!)","v":{"$error":"#REF!"}}]
[null,240,null,null,{"$f":"IF(OR(#REF!=5,#REF!=10,#REF!= 15,#REF!= \"BP\",#REF!=\"SCR\"),\"NT\",#REF!)","v":{"$error":"#REF!"}}]
[null,241,null,null,{"$f":"IF(OR(#REF!=5,#REF!=10,#REF!= 15,#REF!= \"BP\",#REF!=\"SCR\"),\"NT\",#REF!)","v":{"$error":"#REF!"}}]
[null,242,null,null,{"$f":"IF(OR(#REF!=5,#REF!=10,#REF!= 15,#REF!= \"BP\",#REF!=\"SCR\"),\"NT\",#REF!)","v":{"$error":"#REF!"}}]
[null,243,null,null,{"$f":"IF(OR(#REF!=5,#REF!=10,#REF!= 15,#REF!= \"BP\",#REF!=\"SCR\"),\"NT\",#REF!)","v":{"$error":"#REF!"}}]
[null,244,null,null,{"$f":"IF(OR(#REF!=5,#REF!=10,#REF!= 15,#REF!= \"BP\",#REF!=\"SCR\"),\"NT\",#REF!)","v":{"$error":"#REF!"}}]
[null,245,null,null,{"$f":"IF(OR(#REF!=5,#REF!=10,#REF!= 15,#REF!= \"BP\",#REF!=\"SCR\"),\"NT\",#REF!)","v":{"$error":"#REF!"}}]
[null,246,null,null,{"$f":"IF(OR(#REF!=5,#REF!=10,#REF!= 15,#REF!= \"BP\",#REF!=\"SCR\"),\"NT\",#REF!)","v":{"$error":"#REF!"}}]
[null,247,null,null,{"$f":"IF(OR(#REF!=5,#REF!=10,#REF!= 15,#REF!= \"BP\",#REF!=\"SCR\"),\"NT\",#REF!)","v":{"$error":"#REF!"}}]
[null,248,null,null,{"$f":"IF(OR(#REF!=5,#REF!=10,#REF!= 15,#REF!= \"BP\",#REF!=\"SCR\"),\"NT\",#REF!)","v":{"$error":"#REF!"}}]
[null,249,null,null,{"$f":"IF(OR(#REF!=5,#REF!=10,#REF!= 15,#REF!= \"BP\",#REF!=\"SCR\"),\"NT\",#REF!)","v":{"$error":"#REF!"}}]
[null,250,null,null,{"$f":"IF(OR(#REF!=5,#REF!=10,#REF!= 15,#REF!= \"BP\",#REF!=\"SCR\"),\"NT\",#REF!)","v":{"$error":"#REF!"}}]
[null,251,null,null,{"$f":"IF(OR(#REF!=5,#REF!=10,#REF!= 15,#REF!= \"BP\",#REF!=\"SCR\"),\"NT\",#REF!)","v":{"$error":"#REF!"}}]
[null,252,null,null,{"$f":"IF(OR(#REF!=5,#REF!=10,#REF!= 15,#REF!= \"BP\",#REF!=\"SCR\"),\"NT\",#REF!)","v":{"$error":"#REF!"}}]
[null,253,null,null,{"$f":"IF(OR(#REF!=5,#REF!=10,#REF!= 15,#REF!= \"BP\",#REF!=\"SCR\"),\"NT\",#REF!)","v":{"$error":"#REF!"}}]
[null,254,null,null,{"$f":"IF(OR(#REF!=5,#REF!=10,#REF!= 15,#REF!= \"BP\",#REF!=\"SCR\"),\"NT\",#REF!)","v":{"$error":"#REF!"}}]
[null,255,null,null,{"$f":"IF(OR(#REF!=5,#REF!=10,#REF!= 15,#REF!= \"BP\",#REF!=\"SCR\"),\"NT\",#REF!)","v":{"$error":"#REF!"}}]
[null,256,null,null,{"$f":"IF(OR(#REF!=5,#REF!=10,#REF!= 15,#REF!= \"BP\",#REF!=\"SCR\"),\"NT\",#REF!)","v":{"$error":"#REF!"}}]
[null,257,null,null,{"$f":"IF(OR(#REF!=5,#REF!=10,#REF!= 15,#REF!= \"BP\",#REF!=\"SCR\"),\"NT\",#REF!)","v":{"$error":"#REF!"}}]
[null,258,null,null,{"$f":"IF(OR(#REF!=5,#REF!=10,#REF!= 15,#REF!= \"BP\",#REF!=\"SCR\"),\"NT\",#REF!)","v":{"$error":"#REF!"}}]
[null,259,null,null,{"$f":"IF(OR(#REF!=5,#REF!=10,#REF!= 15,#REF!= \"BP\",#REF!=\"SCR\"),\"NT\",#REF!)","v":{"$error":"#REF!"}}]
[null,260,null,null,{"$f":"IF(OR(#REF!=5,#REF!=10,#REF!= 15,#REF!= \"BP\",#REF!=\"SCR\"),\"NT\",#REF!)","v":{"$error":"#REF!"}}]
[null,261,null,null,{"$f":"IF(OR(#REF!=5,#REF!=10,#REF!= 15,#REF!= \"BP\",#REF!=\"SCR\"),\"NT\",#REF!)","v":{"$error":"#REF!"}}]
[null,262,null,null,{"$f":"IF(OR(#REF!=5,#REF!=10,#REF!= 15,#REF!= \"BP\",#REF!=\"SCR\"),\"NT\",#REF!)","v":{"$error":"#REF!"}}]
[null,263,null,null,{"$f":"IF(OR(#REF!=5,#REF!=10,#REF!= 15,#REF!= \"BP\",#REF!=\"SCR\"),\"NT\",#REF!)","v":{"$error":"#REF!"}}]
[null,264,null,null,{"$f":"IF(OR(#REF!=5,#REF!=10,#REF!= 15,#REF!= \"BP\",#REF!=\"SCR\"),\"NT\",#REF!)","v":{"$error":"#REF!"}}]
[null,265,null,null,{"$f":"IF(OR(#REF!=5,#REF!=10,#REF!= 15,#REF!= \"BP\",#REF!=\"SCR\"),\"NT\",#REF!)","v":{"$error":"#REF!"}}]
[null,266,null,null,{"$f":"IF(OR(#REF!=5,#REF!=10,#REF!= 15,#REF!= \"BP\",#REF!=\"SCR\"),\"NT\",#REF!)","v":{"$error":"#REF!"}}]
[null,267,null,null,{"$f":"IF(OR(#REF!=5,#REF!=10,#REF!= 15,#REF!= \"BP\",#REF!=\"SCR\"),\"NT\",#REF!)","v":{"$error":"#REF!"}}]
[null,268,null,null,{"$f":"IF(OR(#REF!=5,#REF!=10,#REF!= 15,#REF!= \"BP\",#REF!=\"SCR\"),\"NT\",#REF!)","v":{"$error":"#REF!"}}]
[null,269,null,null,{"$f":"IF(OR(#REF!=5,#REF!=10,#REF!= 15,#REF!= \"BP\",#REF!=\"SCR\"),\"NT\",#REF!)","v":{"$error":"#REF!"}}]
[null,270,null,null,{"$f":"IF(OR(#REF!=5,#REF!=10,#REF!= 15,#REF!= \"BP\",#REF!=\"SCR\"),\"NT\",#REF!)","v":{"$error":"#REF!"}}]
[null,271,null,null,{"$f":"IF(OR(#REF!=5,#REF!=10,#REF!= 15,#REF!= \"BP\",#REF!=\"SCR\"),\"NT\",#REF!)","v":{"$error":"#REF!"}}]
[null,272,null,null,{"$f":"IF(OR(#REF!=5,#REF!=10,#REF!= 15,#REF!= \"BP\",#REF!=\"SCR\"),\"NT\",#REF!)","v":{"$error":"#REF!"}}]
[null,273,null,null,{"$f":"IF(OR(#REF!=5,#REF!=10,#REF!= 15,#REF!= \"BP\",#REF!=\"SCR\"),\"NT\",#REF!)","v":{"$error":"#REF!"}}]
[null,274,null,null,{"$f":"IF(OR(#REF!=5,#REF!=10,#REF!= 15,#REF!= \"BP\",#REF!=\"SCR\"),\"NT\",#REF!)","v":{"$error":"#REF!"}}]
[null,275,null,null,{"$f":"IF(OR(#REF!=5,#REF!=10,#REF!= 15,#REF!= \"BP\",#REF!=\"SCR\"),\"NT\",#REF!)","v":{"$error":"#REF!"}}]
[null,276,null,null,{"$f":"IF(OR(#REF!=5,#REF!=10,#REF!= 15,#REF!= \"BP\",#REF!=\"SCR\"),\"NT\",#REF!)","v":{"$error":"#REF!"}}]
[null,277,null,null,{"$f":"IF(OR(#REF!=5,#REF!=10,#REF!= 15,#REF!= \"BP\",#REF!=\"SCR\"),\"NT\",#REF!)","v":{"$error":"#REF!"}}]
[null,278,null,null,{"$f":"IF(OR(#REF!=5,#REF!=10,#REF!= 15,#REF!= \"BP\",#REF!=\"SCR\"),\"NT\",#REF!)","v":{"$error":"#REF!"}}]
[null,279,null,null,{"$f":"IF(OR(#REF!=5,#REF!=10,#REF!= 15,#REF!= \"BP\",#REF!=\"SCR\"),\"NT\",#REF!)","v":{"$error":"#REF!"}}]
[null,280,null,null,{"$f":"IF(OR(#REF!=5,#REF!=10,#REF!= 15,#REF!= \"BP\",#REF!=\"SCR\"),\"NT\",#REF!)","v":{"$error":"#REF!"}}]
[null,281,null,null,{"$f":"IF(OR(#REF!=5,#REF!=10,#REF!= 15,#REF!= \"BP\",#REF!=\"SCR\"),\"NT\",#REF!)","v":{"$error":"#REF!"}}]
[null,282,null,null,{"$f":"IF(OR(#REF!=5,#REF!=10,#REF!= 15,#REF!= \"BP\",#REF!=\"SCR\"),\"NT\",#REF!)","v":{"$error":"#REF!"}}]
[null,283,null,null,{"$f":"IF(OR(#REF!=5,#REF!=10,#REF!= 15,#REF!= \"BP\",#REF!=\"SCR\"),\"NT\",#REF!)","v":{"$error":"#REF!"}}]
[null,284,null,null,{"$f":"IF(OR(#REF!=5,#REF!=10,#REF!= 15,#REF!= \"BP\",#REF!=\"SCR\"),\"NT\",#REF!)","v":{"$error":"#REF!"}}]
[null,285,null,null,{"$f":"IF(OR(#REF!=5,#REF!=10,#REF!= 15,#REF!= \"BP\",#REF!=\"SCR\"),\"NT\",#REF!)","v":{"$error":"#REF!"}}]
[null,286,null,null,{"$f":"IF(OR(#REF!=5,#REF!=10,#REF!= 15,#REF!= \"BP\",#REF!=\"SCR\"),\"NT\",#REF!)","v":{"$error":"#REF!"}}]
[null,287,null,null,{"$f":"IF(OR(#REF!=5,#REF!=10,#REF!= 15,#REF!= \"BP\",#REF!=\"SCR\"),\"NT\",#REF!)","v":{"$error":"#REF!"}}]
[null,288,null,null,{"$f":"IF(OR(#REF!=5,#REF!=10,#REF!= 15,#REF!= \"BP\",#REF!=\"SCR\"),\"NT\",#REF!)","v":{"$error":"#REF!"}}]
[null,289,null,null,{"$f":"IF(OR(#REF!=5,#REF!=10,#REF!= 15,#REF!= \"BP\",#REF!=\"SCR\"),\"NT\",#REF!)","v":{"$error":"#REF!"}}]
[null,290,null,null,{"$f":"IF(OR(#REF!=5,#REF!=10,#REF!= 15,#REF!= \"BP\",#REF!=\"SCR\"),\"NT\",#REF!)","v":{"$error":"#REF!"}}]
[null,291,null,null,{"$f":"IF(OR(#REF!=5,#REF!=10,#REF!= 15,#REF!= \"BP\",#REF!=\"SCR\"),\"NT\",#REF!)","v":{"$error":"#REF!"}}]
[null,292,null,null,{"$f":"IF(OR(#REF!=5,#REF!=10,#REF!= 15,#REF!= \"BP\",#REF!=\"SCR\"),\"NT\",#REF!)","v":{"$error":"#REF!"}}]
[null,293,null,null,{"$f":"IF(OR(#REF!=5,#REF!=10,#REF!= 15,#REF!= \"BP\",#REF!=\"SCR\"),\"NT\",#REF!)","v":{"$error":"#REF!"}}]
[null,294,null,null,{"$f":"IF(OR(#REF!=5,#REF!=10,#REF!= 15,#REF!= \"BP\",#REF!=\"SCR\"),\"NT\",#REF!)","v":{"$error":"#REF!"}}]
[null,295,null,null,{"$f":"IF(OR(#REF!=5,#REF!=10,#REF!= 15,#REF!= \"BP\",#REF!=\"SCR\"),\"NT\",#REF!)","v":{"$error":"#REF!"}}]
[null,296,null,null,{"$f":"IF(OR(#REF!=5,#REF!=10,#REF!= 15,#REF!= \"BP\",#REF!=\"SCR\"),\"NT\",#REF!)","v":{"$error":"#REF!"}}]
[null,297,null,null,{"$f":"IF(OR(#REF!=5,#REF!=10,#REF!= 15,#REF!= \"BP\",#REF!=\"SCR\"),\"NT\",#REF!)","v":{"$error":"#REF!"}}]
[null,298,null,null,{"$f":"IF(OR(#REF!=5,#REF!=10,#REF!= 15,#REF!= \"BP\",#REF!=\"SCR\"),\"NT\",#REF!)","v":{"$error":"#REF!"}}]
[null,299,null,null,{"$f":"IF(OR(#REF!=5,#REF!=10,#REF!= 15,#REF!= \"BP\",#REF!=\"SCR\"),\"NT\",#REF!)","v":{"$error":"#REF!"}}]
[null,300,null,null,{"$f":"IF(OR(#REF!=5,#REF!=10,#REF!= 15,#REF!= \"BP\",#REF!=\"SCR\"),\"NT\",#REF!)","v":{"$error":"#REF!"}}]

{"sheet":"12 & Under","index":8,"n_rows":301,"n_cols":11,"rows_kept":301,"cut":false,"hidden":true,"merged":[]}
["Futurity","Der","Age Inct.","R/O","Draw","Rider Name","Horse Name","Time","Final Time","Placing","Money Earned"]
{"$rows_empty":31}
[{"$nulls":4},32]
[{"$nulls":4},33]
[{"$nulls":4},34]
[{"$nulls":4},35]
[{"$nulls":4},36]
[{"$nulls":4},37]
[{"$nulls":4},38]
[{"$nulls":4},39]
[{"$nulls":4},40]
[{"$nulls":4},41]
[{"$nulls":4},42]
[{"$nulls":4},43]
[{"$nulls":4},44]
[{"$nulls":4},45]
[{"$nulls":4},46]
[{"$nulls":4},47]
[{"$nulls":4},48]
[{"$nulls":4},49]
[{"$nulls":4},50]
[{"$nulls":4},51]
[{"$nulls":4},52]
[{"$nulls":4},53]
[{"$nulls":4},54]
[{"$nulls":4},55]
[{"$nulls":4},56]
[{"$nulls":4},57]
[{"$nulls":4},58]
[{"$nulls":4},59]
[{"$nulls":4},60]
[{"$nulls":4},61]
[{"$nulls":4},62]
[{"$nulls":4},63]
[{"$nulls":4},64]
[{"$nulls":4},65]
[{"$nulls":4},66]
[{"$nulls":4},67]
[{"$nulls":4},68]
[{"$nulls":4},69]
[{"$nulls":4},70]
[{"$nulls":4},71]
[{"$nulls":4},72]
[{"$nulls":4},73]
[{"$nulls":4},74]
[{"$nulls":4},75]
[{"$nulls":4},76]
[{"$nulls":4},77]
[{"$nulls":4},78]
[{"$nulls":4},79]
[{"$nulls":4},80]
[{"$nulls":4},81]
[{"$nulls":4},82]
[{"$nulls":4},83]
[{"$nulls":4},84]
[{"$nulls":4},85]
[{"$nulls":4},86]
[{"$nulls":4},87]
[{"$nulls":4},88]
[{"$nulls":4},89]
[{"$nulls":4},90]
[{"$nulls":4},91]
[{"$nulls":4},92]
[{"$nulls":4},93]
[{"$nulls":4},94]
[{"$nulls":4},95]
[{"$nulls":4},96]
[{"$nulls":4},97]
[{"$nulls":4},98]
[{"$nulls":4},99]
[{"$nulls":4},100]
[{"$nulls":4},101]
[{"$nulls":4},102]
[{"$nulls":4},103]
[{"$nulls":4},104]
[{"$nulls":4},105]
[{"$nulls":4},106]
[{"$nulls":4},107]
[{"$nulls":4},108]
[{"$nulls":4},109]
[{"$nulls":4},110]
[{"$nulls":4},111]
[{"$nulls":4},112]
[{"$nulls":4},113]
[{"$nulls":4},114]
[{"$nulls":4},115]
[{"$nulls":4},116]
[{"$nulls":4},117]
[{"$nulls":4},118]
[{"$nulls":4},119]
[{"$nulls":4},120]
[{"$nulls":4},121]
[{"$nulls":4},122]
[{"$nulls":4},123]
[{"$nulls":4},124]
[{"$nulls":4},125]
[{"$nulls":4},126]
[{"$nulls":4},127]
[{"$nulls":4},128]
[{"$nulls":4},129]
[{"$nulls":4},130]
[{"$nulls":4},131]
[{"$nulls":4},132]
[{"$nulls":4},133]
[{"$nulls":4},134]
[{"$nulls":4},135]
[{"$nulls":4},136]
[{"$nulls":4},137]
[{"$nulls":4},138]
[{"$nulls":4},139]
[{"$nulls":4},140]
[{"$nulls":4},141]
[{"$nulls":4},142]
[{"$nulls":4},143]
[{"$nulls":4},144]
[{"$nulls":4},145]
[{"$nulls":4},146]
[{"$nulls":4},147]
[{"$nulls":4},148]
[{"$nulls":4},149]
[{"$nulls":4},150]
[{"$nulls":4},151]
[{"$nulls":4},152]
[{"$nulls":4},153]
[{"$nulls":4},154]
[{"$nulls":4},155]
[{"$nulls":4},156]
[{"$nulls":4},157]
[{"$nulls":4},158]
[{"$nulls":4},159]
[{"$nulls":4},160]
[{"$nulls":4},161]
[{"$nulls":4},162]
[{"$nulls":4},163]
[{"$nulls":4},164]
[{"$nulls":4},165]
[{"$nulls":4},166]
[{"$nulls":4},167]
[{"$nulls":4},168]
[{"$nulls":4},169]
[{"$nulls":4},170]
[{"$nulls":4},171]
[{"$nulls":4},172]
[{"$nulls":4},173]
[{"$nulls":4},174]
[{"$nulls":4},175]
[{"$nulls":4},176]
[{"$nulls":4},177]
[{"$nulls":4},178]
[{"$nulls":4},179]
[{"$nulls":4},180]
[{"$nulls":4},181]
[{"$nulls":4},182]
[{"$nulls":4},183]
[{"$nulls":4},184]
[{"$nulls":4},185]
[{"$nulls":4},186]
[{"$nulls":4},187]
[{"$nulls":4},188]
[{"$nulls":4},189]
[{"$nulls":4},190]
[{"$nulls":4},191]
[{"$nulls":4},192]
[{"$nulls":4},193]
[{"$nulls":4},194]
[{"$nulls":4},195]
[{"$nulls":4},196]
[{"$nulls":4},197]
[{"$nulls":4},198]
[{"$nulls":4},199]
[{"$nulls":4},200]
[{"$nulls":4},201]
[{"$nulls":4},202]
[{"$nulls":4},203]
[{"$nulls":4},204]
[{"$nulls":4},205]
[{"$nulls":4},206]
[{"$nulls":4},207]
[{"$nulls":4},208]
[{"$nulls":4},209]
[{"$nulls":4},210]
[{"$nulls":4},211]
[{"$nulls":4},212]
[{"$nulls":4},213]
[{"$nulls":4},214]
[{"$nulls":4},215]
[{"$nulls":4},216]
[{"$nulls":4},217]
[{"$nulls":4},218]
[{"$nulls":4},219]
[{"$nulls":4},220]
[{"$nulls":4},221]
[{"$nulls":4},222]
[{"$nulls":4},223]
[{"$nulls":4},224]
[{"$nulls":4},225]
[{"$nulls":4},226]
[{"$nulls":4},227]
[{"$nulls":4},228]
[{"$nulls":4},229]
[{"$nulls":4},230]
[{"$nulls":4},231]
[{"$nulls":4},232]
[{"$nulls":4},233]
[{"$nulls":4},234]
[{"$nulls":4},235]
[{"$nulls":4},236]
[{"$nulls":4},237]
[{"$nulls":4},238]
[{"$nulls":4},239]
[{"$nulls":4},240]
[{"$nulls":4},241]
[{"$nulls":4},242]
[{"$nulls":4},243]
[{"$nulls":4},244]
[{"$nulls":4},245]
[{"$nulls":4},246]
[{"$nulls":4},247]
[{"$nulls":4},248]
[{"$nulls":4},249]
[{"$nulls":4},250]
[{"$nulls":4},251]
[{"$nulls":4},252]
[{"$nulls":4},253]
[{"$nulls":4},254]
[{"$nulls":4},255]
[{"$nulls":4},256]
[{"$nulls":4},257]
[{"$nulls":4},258]
[{"$nulls":4},259]
[{"$nulls":4},260]
[{"$nulls":4},261]
[{"$nulls":4},262]
[{"$nulls":4},263]
[{"$nulls":4},264]
[{"$nulls":4},265]
[{"$nulls":4},266]
[{"$nulls":4},267]
[{"$nulls":4},268]
[{"$nulls":4},269]
[{"$nulls":4},270]
[{"$nulls":4},271]
[{"$nulls":4},272]
[{"$nulls":4},273]
[{"$nulls":4},274]
[{"$nulls":4},275]
[{"$nulls":4},276]
[{"$nulls":4},277]
[{"$nulls":4},278]
[{"$nulls":4},279]
[{"$nulls":4},280]
[{"$nulls":4},281]
[{"$nulls":4},282]
[{"$nulls":4},283]
[{"$nulls":4},284]
[{"$nulls":4},285]
[{"$nulls":4},286]
[{"$nulls":4},287]
[{"$nulls":4},288]
[{"$nulls":4},289]
[{"$nulls":4},290]
[{"$nulls":4},291]
[{"$nulls":4},292]
[{"$nulls":4},293]
[{"$nulls":4},294]
[{"$nulls":4},295]
[{"$nulls":4},296]
[{"$nulls":4},297]
[{"$nulls":4},298]
[{"$nulls":4},299]
[{"$nulls":4},300]

{"sheet":"Average","index":9,"n_rows":503,"n_cols":31,"rows_kept":503,"cut":false,"hidden":false,"merged":[[0,0,0,26],[1,0,1,26],[2,28,2,29],[9,28,9,29],[10,28,10,29]]}
["Parker County Arena "]
["Open"]
["4 Yr Fut","5 Yr Fut","Der","Age Inct.","Am","Carry","T/C","F/F","Mem","Nom","Av","BBR","WPRA","Draw","Owner Name","Rider Name","Horse Name","Pen","Time 1","Final Time 1","Pen","Time 2","Final Time 2","Total Time","Average Time","Placing","Money Earned",null,"D Placing",null,"Split"]
[{"$nulls":13},1,{"$nulls":5},{"$f":"IF(OR(R4=5,R4=10, R4=15, R4=\"BP\",R4=\"SCR\"),\"NT\",S4)","v":0},null,null,{"$f":"IF(OR(U4=5,U4=10, U4=15, U4=\"BP\",U4=\"SCR\"),\"NT\",V4)","v":0},{"$f":"(T4+W4)","v":0},{"$f":"(T4+W4)/2","v":0},null,null,null,"1D"]
[{"$nulls":13},2,{"$nulls":5},0,null,null,0,0,0,null,null,null,"2D",{"$f":"$AD$4+$AE$5","v":0.5},0.5]
[{"$nulls":13},3,{"$nulls":5},0,null,null,0,0,0,null,null,null,"3D",{"$f":"$AD$5+$AE$6","v":1},0.5]
[{"$nulls":13},4,{"$nulls":5},0,null,null,0,0,0,null,null,null,"4D",{"$f":"$AD$6+$AE$7","v":1.5},0.5]
[{"$nulls":13},5,{"$nulls":5},0,null,null,0,0,0,null,null,null,"5D",{"$f":"$AD$7+$AE$8","v":2},0.5]
[{"$nulls":13},6,{"$nulls":5},0,null,null,0,0,0]
[{"$nulls":13},7,{"$nulls":5},0,null,null,0,0,0,null,null,null,"# Entered"]
[{"$nulls":13},8,{"$nulls":5},0,null,null,0,0,0,null,null,null,{"$f":"COUNTA(P4:P503)","v":0}]
[{"$nulls":13},9,{"$nulls":5},0,null,null,0,0,0]
[{"$nulls":13},10,{"$nulls":5},0,null,null,0,0,0]
[{"$nulls":13},11,{"$nulls":5},0,null,null,0,0,0]
[{"$nulls":13},12,{"$nulls":5},0,null,null,0,0,0]
[{"$nulls":13},13,{"$nulls":5},0,null,null,0,0,0]
[{"$nulls":13},14,{"$nulls":5},{"$f":"IF(OR(R17=5,R17=10, R17=15, R17=\"BP\",R17=\"SCR\"),\"NT\",S17)","v":0},null,null,{"$f":"IF(OR(U17=5,U17=10, U17=15, U17=\"BP\",U17=\"SCR\"),\"NT\",V17)","v":0},{"$f":"(T17+W17)","v":0},{"$f":"(T17+W17)/2","v":0}]
[{"$nulls":13},15,{"$nulls":5},0,null,null,0,0,0]
[{"$nulls":13},16,{"$nulls":5},0,null,null,0,0,0]
[{"$nulls":13},17,{"$nulls":5},0,null,null,0,0,0]
[{"$nulls":13},18,{"$nulls":5},0,null,null,0,0,0]
[{"$nulls":13},19,{"$nulls":5},0,null,null,0,0,0]
[{"$nulls":13},20,{"$nulls":5},0,null,null,0,0,0]
[{"$nulls":13},21,{"$nulls":5},0,null,null,0,0,0]
[{"$nulls":13},22,{"$nulls":5},0,null,null,0,0,0]
[{"$nulls":13},23,{"$nulls":5},0,null,null,0,0,0]
[{"$nulls":13},24,{"$nulls":5},0,null,null,0,0,0]
[{"$nulls":13},25,{"$nulls":5},0,null,null,0,0,0]
[{"$nulls":13},26,{"$nulls":5},0,null,null,0,0,0]
[{"$nulls":13},27,{"$nulls":5},0,null,null,0,0,0]
[{"$nulls":13},28,{"$nulls":5},0,null,null,0,0,0]
[{"$nulls":13},29,{"$nulls":5},0,null,null,0,0,0]
[{"$nulls":13},30,{"$nulls":5},0,null,null,0,0,0]
[{"$nulls":13},31,{"$nulls":5},0,null,null,0,0,0]
[{"$nulls":13},32,{"$nulls":5},0,null,null,0,0,0]
[{"$nulls":13},33,{"$nulls":5},0,null,null,0,0,0]
[{"$nulls":13},34,{"$nulls":5},0,null,null,0,0,0]
[{"$nulls":13},35,{"$nulls":5},0,null,null,0,0,0]
[{"$nulls":13},36,{"$nulls":5},0,null,null,0,0,0]
[{"$nulls":13},37,{"$nulls":5},0,null,null,0,0,0]
[{"$nulls":13},38,{"$nulls":5},0,null,null,0,0,0]
[{"$nulls":13},39,{"$nulls":5},0,null,null,0,0,0]
[{"$nulls":13},40,{"$nulls":5},0,null,null,0,0,0]
[{"$nulls":13},41,{"$nulls":5},0,null,null,0,0,0]
[{"$nulls":13},42,{"$nulls":5},0,null,null,0,0,0]
[{"$nulls":13},43,{"$nulls":5},0,null,null,0,0,0]
[{"$nulls":13},44,{"$nulls":5},0,null,null,0,0,0]
[{"$nulls":13},45,{"$nulls":5},0,null,null,0,0,0]
[{"$nulls":13},46,{"$nulls":5},0,null,null,0,0,0]
[{"$nulls":13},47,{"$nulls":5},0,null,null,0,0,0]
[{"$nulls":13},48,{"$nulls":5},0,null,null,0,0,0]
[{"$nulls":13},49,{"$nulls":5},0,null,null,0,0,0]
[{"$nulls":13},50,{"$nulls":5},0,null,null,0,0,0]
[{"$nulls":13},51,{"$nulls":5},0,null,null,0,0,0]
[{"$nulls":13},52,{"$nulls":5},0,null,null,0,0,0]
[{"$nulls":13},53,{"$nulls":5},0,null,null,0,0,0]
[{"$nulls":13},54,{"$nulls":5},0,null,null,0,0,0]
[{"$nulls":13},55,{"$nulls":5},0,null,null,0,0,0]
[{"$nulls":13},56,{"$nulls":5},0,null,null,0,0,0]
[{"$nulls":13},57,{"$nulls":5},0,null,null,0,0,0]
[{"$nulls":13},58,{"$nulls":5},0,null,null,0,0,0]
[{"$nulls":13},59,{"$nulls":5},0,null,null,0,0,0]
[{"$nulls":13},60,{"$nulls":5},0,null,null,0,0,0]
[{"$nulls":13},61,{"$nulls":5},0,null,null,0,0,0]
[{"$nulls":13},62,{"$nulls":5},0,null,null,0,0,0]
[{"$nulls":13},63,{"$nulls":5},0,null,null,0,0,0]
[{"$nulls":13},64,{"$nulls":5},0,null,null,0,0,0]
[{"$nulls":13},65,{"$nulls":5},0,null,null,0,0,0]
[{"$nulls":13},66,{"$nulls":5},{"$f":"IF(OR(R69=5,R69=10, R69=15, R69=\"BP\",R69=\"SCR\"),\"NT\",S69)","v":0},null,null,{"$f":"IF(OR(U69=5,U69=10, U69=15, U69=\"BP\",U69=\"SCR\"),\"NT\",V69)","v":0},{"$f":"(T69+W69)","v":0},{"$f":"(T69+W69)/2","v":0}]
[{"$nulls":13},67,{"$nulls":5},0,null,null,0,0,0]
[{"$nulls":13},68,{"$nulls":5},0,null,null,0,0,0]
[{"$nulls":13},69,{"$nulls":5},0,null,null,0,0,0]
[{"$nulls":13},70,{"$nulls":5},0,null,null,0,0,0]
[{"$nulls":13},71,{"$nulls":5},0,null,null,0,0,0]
[{"$nulls":13},72,{"$nulls":5},0,null,null,0,0,0]
[{"$nulls":13},73,{"$nulls":5},0,null,null,0,0,0]
[{"$nulls":13},74,{"$nulls":5},0,null,null,0,0,0]
[{"$nulls":13},75,{"$nulls":5},0,null,null,0,0,0]
[{"$nulls":13},76,{"$nulls":5},0,null,null,0,0,0]
[{"$nulls":13},77,{"$nulls":5},0,null,null,0,0,0]
[{"$nulls":13},78,{"$nulls":5},0,null,null,0,0,0]
[{"$nulls":13},79,{"$nulls":5},0,null,null,0,0,0]
[{"$nulls":13},80,{"$nulls":5},0,null,null,0,0,0]
[{"$nulls":13},81,{"$nulls":5},0,null,null,0,0,0]
[{"$nulls":13},82,{"$nulls":5},0,null,null,0,0,0]
[{"$nulls":13},83,{"$nulls":5},0,null,null,0,0,0]
[{"$nulls":13},84,{"$nulls":5},0,null,null,0,0,0]
[{"$nulls":13},85,{"$nulls":5},0,null,null,0,0,0]
[{"$nulls":13},86,{"$nulls":5},0,null,null,0,0,0]
[{"$nulls":13},87,{"$nulls":5},0,null,null,0,0,0]
[{"$nulls":13},88,{"$nulls":5},0,null,null,0,0,0]
[{"$nulls":13},89,{"$nulls":5},0,null,null,0,0,0]
[{"$nulls":13},90,{"$nulls":5},0,null,null,0,0,0]
[{"$nulls":13},91,{"$nulls":5},0,null,null,0,0,0]
[{"$nulls":13},92,{"$nulls":5},0,null,null,0,0,0]
[{"$nulls":13},93,{"$nulls":5},0,null,null,0,0,0]
[{"$nulls":13},94,{"$nulls":5},0,null,null,0,0,0]
[{"$nulls":13},95,{"$nulls":5},0,null,null,0,0,0]
[{"$nulls":13},96,{"$nulls":5},0,null,null,0,0,0]
[{"$nulls":13},97,{"$nulls":5},0,null,null,0,0,0]
[{"$nulls":13},98,{"$nulls":5},0,null,null,0,0,0]
[{"$nulls":13},99,{"$nulls":5},0,null,null,0,0,0]
[{"$nulls":13},100,{"$nulls":5},0,null,null,0,0,0]
[{"$nulls":13},101,{"$nulls":5},0,null,null,0,0,0]
[{"$nulls":13},102,{"$nulls":5},0,null,null,0,0,0]
[{"$nulls":13},103,{"$nulls":5},0,null,null,0,0,0]
[{"$nulls":13},104,{"$nulls":5},0,null,null,0,0,0]
[{"$nulls":13},105,{"$nulls":5},0,null,null,0,0,0]
[{"$nulls":13},106,{"$nulls":5},0,null,null,0,0,0]
[{"$nulls":13},107,{"$nulls":5},0,null,null,0,0,0]
[{"$nulls":13},108,{"$nulls":5},0,null,null,0,0,0]
[{"$nulls":13},109,{"$nulls":5},0,null,null,0,0,0]
[{"$nulls":13},110,{"$nulls":5},0,null,null,0,0,0]
[{"$nulls":13},111,{"$nulls":5},0,null,null,0,0,0]
[{"$nulls":13},112,{"$nulls":5},0,null,null,0,0,0]
[{"$nulls":13},113,{"$nulls":5},0,null,null,0,0,0]
[{"$nulls":13},114,{"$nulls":5},0,null,null,0,0,0]
[{"$nulls":13},115,{"$nulls":5},0,null,null,0,0,0]
[{"$nulls":13},116,{"$nulls":5},0,null,null,0,0,0]
[{"$nulls":13},117,{"$nulls":5},0,null,null,0,0,0]
[{"$nulls":13},118,{"$nulls":5},0,null,null,0,0,0]
[{"$nulls":13},119,{"$nulls":5},0,null,null,0,0,0]
[{"$nulls":13},120,{"$nulls":5},0,null,null,0,0,0]
[{"$nulls":13},121,{"$nulls":5},0,null,null,0,0,0]
[{"$nulls":13},122,{"$nulls":5},0,null,null,0,0,0]
[{"$nulls":13},123,{"$nulls":5},0,null,null,0,0,0]
[{"$nulls":13},124,{"$nulls":5},0,null,null,0,0,0]
[{"$nulls":13},125,{"$nulls":5},0,null,null,0,0,0]
[{"$nulls":13},126,{"$nulls":5},0,null,null,0,0,0]
[{"$nulls":13},127,{"$nulls":5},0,null,null,0,0,0]
[{"$nulls":13},128,{"$nulls":5},0,null,null,0,0,0]
[{"$nulls":13},129,{"$nulls":5},0,null,null,0,0,0]
[{"$nulls":13},130,{"$nulls":5},{"$f":"IF(OR(R133=5,R133=10, R133=15, R133=\"BP\",R133=\"SCR\"),\"NT\",S133)","v":0},null,null,{"$f":"IF(OR(U133=5,U133=10, U133=15, U133=\"BP\",U133=\"SCR\"),\"NT\",V133)","v":0},{"$f":"(T133+W133)","v":0},{"$f":"(T133+W133)/2","v":0}]
[{"$nulls":13},131,{"$nulls":5},0,null,null,0,0,0]
[{"$nulls":13},132,{"$nulls":5},0,null,null,0,0,0]
[{"$nulls":13},133,{"$nulls":5},0,null,null,0,0,0]
[{"$nulls":13},134,{"$nulls":5},0,null,null,0,0,0]
[{"$nulls":13},135,{"$nulls":5},0,null,null,0,0,0]
[{"$nulls":13},136,{"$nulls":5},0,null,null,0,0,0]
[{"$nulls":13},137,{"$nulls":5},0,null,null,0,0,0]
[{"$nulls":13},138,{"$nulls":5},0,null,null,0,0,0]
[{"$nulls":13},139,{"$nulls":5},0,null,null,0,0,0]
[{"$nulls":13},140,{"$nulls":5},0,null,null,0,0,0]
[{"$nulls":13},141,{"$nulls":5},0,null,null,0,0,0]
[{"$nulls":13},142,{"$nulls":5},0,null,null,0,0,0]
[{"$nulls":13},143,{"$nulls":5},0,null,null,0,0,0]
[{"$nulls":13},144,{"$nulls":5},0,null,null,0,0,0]
[{"$nulls":13},145,{"$nulls":5},0,null,null,0,0,0]
[{"$nulls":13},146,{"$nulls":5},0,null,null,0,0,0]
[{"$nulls":13},147,{"$nulls":5},0,null,null,0,0,0]
[{"$nulls":13},148,{"$nulls":5},0,null,null,0,0,0]
[{"$nulls":13},149,{"$nulls":5},0,null,null,0,0,0]
[{"$nulls":13},150,{"$nulls":5},0,null,null,0,0,0]
[{"$nulls":13},151,{"$nulls":5},0,null,null,0,0,0]
[{"$nulls":13},152,{"$nulls":5},0,null,null,0,0,0]
[{"$nulls":13},153,{"$nulls":5},0,null,null,0,0,0]
[{"$nulls":13},154,{"$nulls":5},0,null,null,0,0,0]
[{"$nulls":13},155,{"$nulls":5},0,null,null,0,0,0]
[{"$nulls":13},156,{"$nulls":5},0,null,null,0,0,0]
[{"$nulls":13},157,{"$nulls":5},0,null,null,0,0,0]
[{"$nulls":13},158,{"$nulls":5},0,null,null,0,0,0]
[{"$nulls":13},159,{"$nulls":5},0,null,null,0,0,0]
[{"$nulls":13},160,{"$nulls":5},0,null,null,0,0,0]
[{"$nulls":13},161,{"$nulls":5},0,null,null,0,0,0]
[{"$nulls":13},162,{"$nulls":5},0,null,null,0,0,0]
[{"$nulls":13},163,{"$nulls":5},0,null,null,0,0,0]
[{"$nulls":13},164,{"$nulls":5},0,null,null,0,0,0]
[{"$nulls":13},165,{"$nulls":5},0,null,null,0,0,0]
[{"$nulls":13},166,{"$nulls":5},0,null,null,0,0,0]
[{"$nulls":13},167,{"$nulls":5},0,null,null,0,0,0]
[{"$nulls":13},168,{"$nulls":5},0,null,null,0,0,0]
[{"$nulls":13},169,{"$nulls":5},0,null,null,0,0,0]
[{"$nulls":13},170,{"$nulls":5},0,null,null,0,0,0]
[{"$nulls":13},171,{"$nulls":5},0,null,null,0,0,0]
[{"$nulls":13},172,{"$nulls":5},0,null,null,0,0,0]
[{"$nulls":13},173,{"$nulls":5},0,null,null,0,0,0]
[{"$nulls":13},174,{"$nulls":5},0,null,null,0,0,0]
[{"$nulls":13},175,{"$nulls":5},0,null,null,0,0,0]
[{"$nulls":13},176,{"$nulls":5},0,null,null,0,0,0]
[{"$nulls":13},177,{"$nulls":5},0,null,null,0,0,0]
[{"$nulls":13},178,{"$nulls":5},0,null,null,0,0,0]
[{"$nulls":13},179,{"$nulls":5},0,null,null,0,0,0]
[{"$nulls":13},180,{"$nulls":5},0,null,null,0,0,0]
[{"$nulls":13},181,{"$nulls":5},0,null,null,0,0,0]
[{"$nulls":13},182,{"$nulls":5},0,null,null,0,0,0]
[{"$nulls":13},183,{"$nulls":5},0,null,null,0,0,0]
[{"$nulls":13},184,{"$nulls":5},0,null,null,0,0,0]
[{"$nulls":13},185,{"$nulls":5},0,null,null,0,0,0]
[{"$nulls":13},186,{"$nulls":5},0,null,null,0,0,0]
[{"$nulls":13},187,{"$nulls":5},0,null,null,0,0,0]
[{"$nulls":13},188,{"$nulls":5},0,null,null,0,0,0]
[{"$nulls":13},189,{"$nulls":5},0,null,null,0,0,0]
[{"$nulls":13},190,{"$nulls":5},0,null,null,0,0,0]
[{"$nulls":13},191,{"$nulls":5},0,null,null,0,0,0]
[{"$nulls":13},192,{"$nulls":5},0,null,null,0,0,0]
[{"$nulls":13},193,{"$nulls":5},0,null,null,0,0,0]
[{"$nulls":13},194,{"$nulls":5},{"$f":"IF(OR(R197=5,R197=10, R197=15, R197=\"BP\",R197=\"SCR\"),\"NT\",S197)","v":0},null,null,{"$f":"IF(OR(U197=5,U197=10, U197=15, U197=\"BP\",U197=\"SCR\"),\"NT\",V197)","v":0},{"$f":"(T197+W197)","v":0},{"$f":"(T197+W197)/2","v":0}]
[{"$nulls":13},195,{"$nulls":5},0,null,null,0,0,0]
[{"$nulls":13},196,{"$nulls":5},0,null,null,0,0,0]
[{"$nulls":13},197,{"$nulls":5},0,null,null,0,0,0]
[{"$nulls":13},198,{"$nulls":5},0,null,null,0,0,0]
[{"$nulls":13},199,{"$nulls":5},0,null,null,0,0,0]
[{"$nulls":13},200,{"$nulls":5},0,null,null,0,0,0]
[{"$nulls":13},201,{"$nulls":5},0,null,null,0,0,0]
[{"$nulls":13},202,{"$nulls":5},0,null,null,0,0,0]
[{"$nulls":13},203,{"$nulls":5},0,null,null,0,0,0]
[{"$nulls":13},204,{"$nulls":5},0,null,null,0,0,0]
[{"$nulls":13},205,{"$nulls":5},0,null,null,0,0,0]
[{"$nulls":13},206,{"$nulls":5},0,null,null,0,0,0]
[{"$nulls":13},207,{"$nulls":5},0,null,null,0,0,0]
[{"$nulls":13},208,{"$nulls":5},0,null,null,0,0,0]
[{"$nulls":13},209,{"$nulls":5},0,null,null,0,0,0]
[{"$nulls":13},210,{"$nulls":5},0,null,null,0,0,0]
[{"$nulls":13},211,{"$nulls":5},0,null,null,0,0,0]
[{"$nulls":13},212,{"$nulls":5},0,null,null,0,0,0]
[{"$nulls":13},213,{"$nulls":5},0,null,null,0,0,0]
[{"$nulls":13},214,{"$nulls":5},0,null,null,0,0,0]
[{"$nulls":13},215,{"$nulls":5},0,null,null,0,0,0]
[{"$nulls":13},216,{"$nulls":5},0,null,null,0,0,0]
[{"$nulls":13},217,{"$nulls":5},0,null,null,0,0,0]
[{"$nulls":13},218,{"$nulls":5},0,null,null,0,0,0]
[{"$nulls":13},219,{"$nulls":5},0,null,null,0,0,0]
[{"$nulls":13},220,{"$nulls":5},0,null,null,0,0,0]
[{"$nulls":13},221,{"$nulls":5},0,null,null,0,0,0]
[{"$nulls":13},222,{"$nulls":5},0,null,null,0,0,0]
[{"$nulls":13},223,{"$nulls":5},0,null,null,0,0,0]
[{"$nulls":13},224,{"$nulls":5},0,null,null,0,0,0]
[{"$nulls":13},225,{"$nulls":5},0,null,null,0,0,0]
[{"$nulls":13},226,{"$nulls":5},0,null,null,0,0,0]
[{"$nulls":13},227,{"$nulls":5},0,null,null,0,0,0]
[{"$nulls":13},228,{"$nulls":5},0,null,null,0,0,0]
[{"$nulls":13},229,{"$nulls":5},0,null,null,0,0,0]
[{"$nulls":13},230,{"$nulls":5},0,null,null,0,0,0]
[{"$nulls":13},231,{"$nulls":5},0,null,null,0,0,0]
[{"$nulls":13},232,{"$nulls":5},0,null,null,0,0,0]
[{"$nulls":13},233,{"$nulls":5},0,null,null,0,0,0]
[{"$nulls":13},234,{"$nulls":5},0,null,null,0,0,0]
[{"$nulls":13},235,{"$nulls":5},0,null,null,0,0,0]
[{"$nulls":13},236,{"$nulls":5},0,null,null,0,0,0]
[{"$nulls":13},237,{"$nulls":5},0,null,null,0,0,0]
[{"$nulls":13},238,{"$nulls":5},0,null,null,0,0,0]
[{"$nulls":13},239,{"$nulls":5},0,null,null,0,0,0]
[{"$nulls":13},240,{"$nulls":5},0,null,null,0,0,0]
[{"$nulls":13},241,{"$nulls":5},0,null,null,0,0,0]
[{"$nulls":13},242,{"$nulls":5},0,null,null,0,0,0]
[{"$nulls":13},243,{"$nulls":5},0,null,null,0,0,0]
[{"$nulls":13},244,{"$nulls":5},0,null,null,0,0,0]
[{"$nulls":13},245,{"$nulls":5},0,null,null,0,0,0]
[{"$nulls":13},246,{"$nulls":5},0,null,null,0,0,0]
[{"$nulls":13},247,{"$nulls":5},0,null,null,0,0,0]
[{"$nulls":13},248,{"$nulls":5},0,null,null,0,0,0]
[{"$nulls":13},249,{"$nulls":5},0,null,null,0,0,0]
[{"$nulls":13},250,{"$nulls":5},0,null,null,0,0,0]
[{"$nulls":13},251,{"$nulls":5},0,null,null,0,0,0]
[{"$nulls":13},252,{"$nulls":5},0,null,null,0,0,0]
[{"$nulls":13},253,{"$nulls":5},0,null,null,0,0,0]
[{"$nulls":13},254,{"$nulls":5},0,null,null,0,0,0]
[{"$nulls":13},255,{"$nulls":5},0,null,null,0,0,0]
[{"$nulls":13},256,{"$nulls":5},0,null,null,0,0,0]
[{"$nulls":13},257,{"$nulls":5},0,null,null,0,0,0]
[{"$nulls":13},258,{"$nulls":5},{"$f":"IF(OR(R261=5,R261=10, R261=15, R261=\"BP\",R261=\"SCR\"),\"NT\",S261)","v":0},null,null,{"$f":"IF(OR(U261=5,U261=10, U261=15, U261=\"BP\",U261=\"SCR\"),\"NT\",V261)","v":0},{"$f":"(T261+W261)","v":0},{"$f":"(T261+W261)/2","v":0}]
[{"$nulls":13},259,{"$nulls":5},0,null,null,0,0,0]
[{"$nulls":13},260,{"$nulls":5},0,null,null,0,0,0]
[{"$nulls":13},261,{"$nulls":5},0,null,null,0,0,0]
[{"$nulls":13},262,{"$nulls":5},0,null,null,0,0,0]
[{"$nulls":13},263,{"$nulls":5},0,null,null,0,0,0]
[{"$nulls":13},264,{"$nulls":5},0,null,null,0,0,0]
[{"$nulls":13},265,{"$nulls":5},0,null,null,0,0,0]
[{"$nulls":13},266,{"$nulls":5},0,null,null,0,0,0]
[{"$nulls":13},267,{"$nulls":5},0,null,null,0,0,0]
[{"$nulls":13},268,{"$nulls":5},0,null,null,0,0,0]
[{"$nulls":13},269,{"$nulls":5},0,null,null,0,0,0]
[{"$nulls":13},270,{"$nulls":5},0,null,null,0,0,0]
[{"$nulls":13},271,{"$nulls":5},0,null,null,0,0,0]
[{"$nulls":13},272,{"$nulls":5},0,null,null,0,0,0]
[{"$nulls":13},273,{"$nulls":5},0,null,null,0,0,0]
[{"$nulls":13},274,{"$nulls":5},0,null,null,0,0,0]
[{"$nulls":13},275,{"$nulls":5},0,null,null,0,0,0]
[{"$nulls":13},276,{"$nulls":5},0,null,null,0,0,0]
[{"$nulls":13},277,{"$nulls":5},0,null,null,0,0,0]
[{"$nulls":13},278,{"$nulls":5},0,null,null,0,0,0]
[{"$nulls":13},279,{"$nulls":5},0,null,null,0,0,0]
[{"$nulls":13},280,{"$nulls":5},0,null,null,0,0,0]
[{"$nulls":13},281,{"$nulls":5},0,null,null,0,0,0]
[{"$nulls":13},282,{"$nulls":5},0,null,null,0,0,0]
[{"$nulls":13},283,{"$nulls":5},0,null,null,0,0,0]
[{"$nulls":13},284,{"$nulls":5},0,null,null,0,0,0]
[{"$nulls":13},285,{"$nulls":5},0,null,null,0,0,0]
[{"$nulls":13},286,{"$nulls":5},0,null,null,0,0,0]
[{"$nulls":13},287,{"$nulls":5},0,null,null,0,0,0]
[{"$nulls":13},288,{"$nulls":5},0,null,null,0,0,0]
[{"$nulls":13},289,{"$nulls":5},0,null,null,0,0,0]
[{"$nulls":13},290,{"$nulls":5},0,null,null,0,0,0]
[{"$nulls":13},291,{"$nulls":5},0,null,null,0,0,0]
[{"$nulls":13},292,{"$nulls":5},0,null,null,0,0,0]
[{"$nulls":13},293,{"$nulls":5},0,null,null,0,0,0]
[{"$nulls":13},294,{"$nulls":5},0,null,null,0,0,0]
[{"$nulls":13},295,{"$nulls":5},0,null,null,0,0,0]
[{"$nulls":13},296,{"$nulls":5},0,null,null,0,0,0]
[{"$nulls":13},297,{"$nulls":5},0,null,null,0,0,0]
[{"$nulls":13},298,{"$nulls":5},0,null,null,0,0,0]
[{"$nulls":13},299,{"$nulls":5},0,null,null,0,0,0]
[{"$nulls":13},300,{"$nulls":5},0,null,null,0,0,0]
[{"$nulls":13},301,{"$nulls":5},0,null,null,0,0,0]
[{"$nulls":13},302,{"$nulls":5},0,null,null,0,0,0]
[{"$nulls":13},303,{"$nulls":5},0,null,null,0,0,0]
[{"$nulls":13},304,{"$nulls":5},0,null,null,0,0,0]
[{"$nulls":13},305,{"$nulls":5},0,null,null,0,0,0]
[{"$nulls":13},306,{"$nulls":5},0,null,null,0,0,0]
[{"$nulls":13},307,{"$nulls":5},0,null,null,0,0,0]
[{"$nulls":13},308,{"$nulls":5},0,null,null,0,0,0]
[{"$nulls":13},309,{"$nulls":5},0,null,null,0,0,0]
[{"$nulls":13},310,{"$nulls":5},0,null,null,0,0,0]
[{"$nulls":13},311,{"$nulls":5},0,null,null,0,0,0]
[{"$nulls":13},312,{"$nulls":5},0,null,null,0,0,0]
[{"$nulls":13},313,{"$nulls":5},0,null,null,0,0,0]
[{"$nulls":13},314,{"$nulls":5},0,null,null,0,0,0]
[{"$nulls":13},315,{"$nulls":5},0,null,null,0,0,0]
[{"$nulls":13},316,{"$nulls":5},0,null,null,0,0,0]
[{"$nulls":13},317,{"$nulls":5},0,null,null,0,0,0]
[{"$nulls":13},318,{"$nulls":5},0,null,null,0,0,0]
[{"$nulls":13},319,{"$nulls":5},0,null,null,0,0,0]
[{"$nulls":13},320,{"$nulls":5},0,null,null,0,0,0]
[{"$nulls":13},321,{"$nulls":5},0,null,null,0,0,0]
[{"$nulls":13},322,{"$nulls":5},{"$f":"IF(OR(R325=5,R325=10, R325=15, R325=\"BP\",R325=\"SCR\"),\"NT\",S325)","v":0},null,null,{"$f":"IF(OR(U325=5,U325=10, U325=15, U325=\"BP\",U325=\"SCR\"),\"NT\",V325)","v":0},{"$f":"(T325+W325)","v":0},{"$f":"(T325+W325)/2","v":0}]
[{"$nulls":13},323,{"$nulls":5},0,null,null,0,0,0]
[{"$nulls":13},324,{"$nulls":5},0,null,null,0,0,0]
[{"$nulls":13},325,{"$nulls":5},0,null,null,0,0,0]
[{"$nulls":13},326,{"$nulls":5},0,null,null,0,0,0]
[{"$nulls":13},327,{"$nulls":5},0,null,null,0,0,0]
[{"$nulls":13},328,{"$nulls":5},0,null,null,0,0,0]
[{"$nulls":13},329,{"$nulls":5},0,null,null,0,0,0]
[{"$nulls":13},330,{"$nulls":5},0,null,null,0,0,0]
[{"$nulls":13},331,{"$nulls":5},0,null,null,0,0,0]
[{"$nulls":13},332,{"$nulls":5},0,null,null,0,0,0]
[{"$nulls":13},333,{"$nulls":5},0,null,null,0,0,0]
[{"$nulls":13},334,{"$nulls":5},0,null,null,0,0,0]
[{"$nulls":13},335,{"$nulls":5},0,null,null,0,0,0]
[{"$nulls":13},336,{"$nulls":5},0,null,null,0,0,0]
[{"$nulls":13},337,{"$nulls":5},0,null,null,0,0,0]
[{"$nulls":13},338,{"$nulls":5},0,null,null,0,0,0]
[{"$nulls":13},339,{"$nulls":5},0,null,null,0,0,0]
[{"$nulls":13},340,{"$nulls":5},0,null,null,0,0,0]
[{"$nulls":13},341,{"$nulls":5},0,null,null,0,0,0]
[{"$nulls":13},342,{"$nulls":5},0,null,null,0,0,0]
[{"$nulls":13},343,{"$nulls":5},0,null,null,0,0,0]
[{"$nulls":13},344,{"$nulls":5},0,null,null,0,0,0]
[{"$nulls":13},345,{"$nulls":5},0,null,null,0,0,0]
[{"$nulls":13},346,{"$nulls":5},0,null,null,0,0,0]
[{"$nulls":13},347,{"$nulls":5},0,null,null,0,0,0]
[{"$nulls":13},348,{"$nulls":5},0,null,null,0,0,0]
[{"$nulls":13},349,{"$nulls":5},0,null,null,0,0,0]
[{"$nulls":13},350,{"$nulls":5},0,null,null,0,0,0]
[{"$nulls":13},351,{"$nulls":5},0,null,null,0,0,0]
[{"$nulls":13},352,{"$nulls":5},0,null,null,0,0,0]
[{"$nulls":13},353,{"$nulls":5},0,null,null,0,0,0]
[{"$nulls":13},354,{"$nulls":5},0,null,null,0,0,0]
[{"$nulls":13},355,{"$nulls":5},0,null,null,0,0,0]
[{"$nulls":13},356,{"$nulls":5},0,null,null,0,0,0]
[{"$nulls":13},357,{"$nulls":5},0,null,null,0,0,0]
[{"$nulls":13},358,{"$nulls":5},0,null,null,0,0,0]
[{"$nulls":13},359,{"$nulls":5},0,null,null,0,0,0]
[{"$nulls":13},360,{"$nulls":5},0,null,null,0,0,0]
[{"$nulls":13},361,{"$nulls":5},0,null,null,0,0,0]
[{"$nulls":13},362,{"$nulls":5},0,null,null,0,0,0]
[{"$nulls":13},363,{"$nulls":5},0,null,null,0,0,0]
[{"$nulls":13},364,{"$nulls":5},0,null,null,0,0,0]
[{"$nulls":13},365,{"$nulls":5},0,null,null,0,0,0]
[{"$nulls":13},366,{"$nulls":5},0,null,null,0,0,0]
[{"$nulls":13},367,{"$nulls":5},0,null,null,0,0,0]
[{"$nulls":13},368,{"$nulls":5},0,null,null,0,0,0]
[{"$nulls":13},369,{"$nulls":5},0,null,null,0,0,0]
[{"$nulls":13},370,{"$nulls":5},0,null,null,0,0,0]
[{"$nulls":13},371,{"$nulls":5},0,null,null,0,0,0]
[{"$nulls":13},372,{"$nulls":5},0,null,null,0,0,0]
[{"$nulls":13},373,{"$nulls":5},0,null,null,0,0,0]
[{"$nulls":13},374,{"$nulls":5},0,null,null,0,0,0]
[{"$nulls":13},375,{"$nulls":5},0,null,null,0,0,0]
[{"$nulls":13},376,{"$nulls":5},0,null,null,0,0,0]
[{"$nulls":13},377,{"$nulls":5},0,null,null,0,0,0]
[{"$nulls":13},378,{"$nulls":5},0,null,null,0,0,0]
[{"$nulls":13},379,{"$nulls":5},0,null,null,0,0,0]
[{"$nulls":13},380,{"$nulls":5},0,null,null,0,0,0]
[{"$nulls":13},381,{"$nulls":5},0,null,null,0,0,0]
[{"$nulls":13},382,{"$nulls":5},0,null,null,0,0,0]
[{"$nulls":13},383,{"$nulls":5},0,null,null,0,0,0]
[{"$nulls":13},384,{"$nulls":5},0,null,null,0,0,0]
[{"$nulls":13},385,{"$nulls":5},0,null,null,0,0,0]
[{"$nulls":13},386,{"$nulls":5},{"$f":"IF(OR(R389=5,R389=10, R389=15, R389=\"BP\",R389=\"SCR\"),\"NT\",S389)","v":0},null,null,{"$f":"IF(OR(U389=5,U389=10, U389=15, U389=\"BP\",U389=\"SCR\"),\"NT\",V389)","v":0},{"$f":"(T389+W389)","v":0},{"$f":"(T389+W389)/2","v":0}]
[{"$nulls":13},387,{"$nulls":5},0,null,null,0,0,0]
[{"$nulls":13},388,{"$nulls":5},0,null,null,0,0,0]
[{"$nulls":13},389,{"$nulls":5},0,null,null,0,0,0]
[{"$nulls":13},390,{"$nulls":5},0,null,null,0,0,0]
[{"$nulls":13},391,{"$nulls":5},0,null,null,0,0,0]
[{"$nulls":13},392,{"$nulls":5},0,null,null,0,0,0]
[{"$nulls":13},393,{"$nulls":5},0,null,null,0,0,0]
[{"$nulls":13},394,{"$nulls":5},0,null,null,0,0,0]
[{"$nulls":13},395,{"$nulls":5},0,null,null,0,0,0]
[{"$nulls":13},396,{"$nulls":5},0,null,null,0,0,0]
[{"$nulls":13},397,{"$nulls":5},0,null,null,0,0,0]
[{"$nulls":13},398,{"$nulls":5},0,null,null,0,0,0]
[{"$nulls":13},399,{"$nulls":5},0,null,null,0,0,0]
[{"$nulls":13},400,{"$nulls":5},0,null,null,0,0,0]
[{"$nulls":13},401,{"$nulls":5},0,null,null,0,0,0]
[{"$nulls":13},402,{"$nulls":5},0,null,null,0,0,0]
[{"$nulls":13},403,{"$nulls":5},0,null,null,0,0,0]
[{"$nulls":13},404,{"$nulls":5},0,null,null,0,0,0]
[{"$nulls":13},405,{"$nulls":5},0,null,null,0,0,0]
[{"$nulls":13},406,{"$nulls":5},0,null,null,0,0,0]
[{"$nulls":13},407,{"$nulls":5},0,null,null,0,0,0]
[{"$nulls":13},408,{"$nulls":5},0,null,null,0,0,0]
[{"$nulls":13},409,{"$nulls":5},0,null,null,0,0,0]
[{"$nulls":13},410,{"$nulls":5},0,null,null,0,0,0]
[{"$nulls":13},411,{"$nulls":5},0,null,null,0,0,0]
[{"$nulls":13},412,{"$nulls":5},0,null,null,0,0,0]
[{"$nulls":13},413,{"$nulls":5},0,null,null,0,0,0]
[{"$nulls":13},414,{"$nulls":5},0,null,null,0,0,0]
[{"$nulls":13},415,{"$nulls":5},0,null,null,0,0,0]
[{"$nulls":13},416,{"$nulls":5},0,null,null,0,0,0]
[{"$nulls":13},417,{"$nulls":5},0,null,null,0,0,0]
[{"$nulls":13},418,{"$nulls":5},0,null,null,0,0,0]
[{"$nulls":13},419,{"$nulls":5},0,null,null,0,0,0]
[{"$nulls":13},420,{"$nulls":5},0,null,null,0,0,0]
[{"$nulls":13},421,{"$nulls":5},0,null,null,0,0,0]
[{"$nulls":13},422,{"$nulls":5},0,null,null,0,0,0]
[{"$nulls":13},423,{"$nulls":5},0,null,null,0,0,0]
[{"$nulls":13},424,{"$nulls":5},0,null,null,0,0,0]
[{"$nulls":13},425,{"$nulls":5},0,null,null,0,0,0]
[{"$nulls":13},426,{"$nulls":5},0,null,null,0,0,0]
[{"$nulls":13},427,{"$nulls":5},0,null,null,0,0,0]
[{"$nulls":13},428,{"$nulls":5},0,null,null,0,0,0]
[{"$nulls":13},429,{"$nulls":5},0,null,null,0,0,0]
[{"$nulls":13},430,{"$nulls":5},0,null,null,0,0,0]
[{"$nulls":13},431,{"$nulls":5},0,null,null,0,0,0]
[{"$nulls":13},432,{"$nulls":5},0,null,null,0,0,0]
[{"$nulls":13},433,{"$nulls":5},0,null,null,0,0,0]
[{"$nulls":13},434,{"$nulls":5},0,null,null,0,0,0]
[{"$nulls":13},435,{"$nulls":5},0,null,null,0,0,0]
[{"$nulls":13},436,{"$nulls":5},0,null,null,0,0,0]
[{"$nulls":13},437,{"$nulls":5},0,null,null,0,0,0]
[{"$nulls":13},438,{"$nulls":5},0,null,null,0,0,0]
[{"$nulls":13},439,{"$nulls":5},0,null,null,0,0,0]
[{"$nulls":13},440,{"$nulls":5},0,null,null,0,0,0]
[{"$nulls":13},441,{"$nulls":5},0,null,null,0,0,0]
[{"$nulls":13},442,{"$nulls":5},0,null,null,0,0,0]
[{"$nulls":13},443,{"$nulls":5},0,null,null,0,0,0]
[{"$nulls":13},444,{"$nulls":5},0,null,null,0,0,0]
[{"$nulls":13},445,{"$nulls":5},0,null,null,0,0,0]
[{"$nulls":13},446,{"$nulls":5},0,null,null,0,0,0]
[{"$nulls":13},447,{"$nulls":5},0,null,null,0,0,0]
[{"$nulls":13},448,{"$nulls":5},0,null,null,0,0,0]
[{"$nulls":13},449,{"$nulls":5},0,null,null,0,0,0]
[{"$nulls":13},450,{"$nulls":5},{"$f":"IF(OR(R453=5,R453=10, R453=15, R453=\"BP\",R453=\"SCR\"),\"NT\",S453)","v":0},null,null,{"$f":"IF(OR(U453=5,U453=10, U453=15, U453=\"BP\",U453=\"SCR\"),\"NT\",V453)","v":0},{"$f":"(T453+W453)","v":0},{"$f":"(T453+W453)/2","v":0}]
[{"$nulls":13},451,{"$nulls":5},0,null,null,0,0,0]
[{"$nulls":13},452,{"$nulls":5},0,null,null,0,0,0]
[{"$nulls":13},453,{"$nulls":5},0,null,null,0,0,0]
[{"$nulls":13},454,{"$nulls":5},0,null,null,0,0,0]
[{"$nulls":13},455,{"$nulls":5},0,null,null,0,0,0]
[{"$nulls":13},456,{"$nulls":5},0,null,null,0,0,0]
[{"$nulls":13},457,{"$nulls":5},0,null,null,0,0,0]
[{"$nulls":13},458,{"$nulls":5},0,null,null,0,0,0]
[{"$nulls":13},459,{"$nulls":5},0,null,null,0,0,0]
[{"$nulls":13},460,{"$nulls":5},0,null,null,0,0,0]
[{"$nulls":13},461,{"$nulls":5},0,null,null,0,0,0]
[{"$nulls":13},462,{"$nulls":5},0,null,null,0,0,0]
[{"$nulls":13},463,{"$nulls":5},0,null,null,0,0,0]
[{"$nulls":13},464,{"$nulls":5},0,null,null,0,0,0]
[{"$nulls":13},465,{"$nulls":5},0,null,null,0,0,0]
[{"$nulls":13},466,{"$nulls":5},0,null,null,0,0,0]
[{"$nulls":13},467,{"$nulls":5},0,null,null,0,0,0]
[{"$nulls":13},468,{"$nulls":5},0,null,null,0,0,0]
[{"$nulls":13},469,{"$nulls":5},0,null,null,0,0,0]
[{"$nulls":13},470,{"$nulls":5},0,null,null,0,0,0]
[{"$nulls":13},471,{"$nulls":5},0,null,null,0,0,0]
[{"$nulls":13},472,{"$nulls":5},0,null,null,0,0,0]
[{"$nulls":13},473,{"$nulls":5},0,null,null,0,0,0]
[{"$nulls":13},474,{"$nulls":5},0,null,null,0,0,0]
[{"$nulls":13},475,{"$nulls":5},0,null,null,0,0,0]
[{"$nulls":13},476,{"$nulls":5},0,null,null,0,0,0]
[{"$nulls":13},477,{"$nulls":5},0,null,null,0,0,0]
[{"$nulls":13},478,{"$nulls":5},0,null,null,0,0,0]
[{"$nulls":13},479,{"$nulls":5},0,null,null,0,0,0]
[{"$nulls":13},480,{"$nulls":5},0,null,null,0,0,0]
[{"$nulls":13},481,{"$nulls":5},0,null,null,0,0,0]
[{"$nulls":13},482,{"$nulls":5},0,null,null,0,0,0]
[{"$nulls":13},483,{"$nulls":5},0,null,null,0,0,0]
[{"$nulls":13},484,{"$nulls":5},0,null,null,0,0,0]
[{"$nulls":13},485,{"$nulls":5},0,null,null,0,0,0]
[{"$nulls":13},486,{"$nulls":5},0,null,null,0,0,0]
[{"$nulls":13},487,{"$nulls":5},0,null,null,0,0,0]
[{"$nulls":13},488,{"$nulls":5},0,null,null,0,0,0]
[{"$nulls":13},489,{"$nulls":5},0,null,null,0,0,0]
[{"$nulls":13},490,{"$nulls":5},0,null,null,0,0,0]
[{"$nulls":13},491,{"$nulls":5},0,null,null,0,0,0]
[{"$nulls":13},492,{"$nulls":5},0,null,null,0,0,0]
[{"$nulls":13},493,{"$nulls":5},0,null,null,0,0,0]
[{"$nulls":13},494,{"$nulls":5},0,null,null,0,0,0]
[{"$nulls":13},495,{"$nulls":5},0,null,null,0,0,0]
[{"$nulls":13},496,{"$nulls":5},0,null,null,0,0,0]
[{"$nulls":13},497,{"$nulls":5},0,null,null,0,0,0]
[{"$nulls":13},498,{"$nulls":5},0,null,null,0,0,0]
[{"$nulls":13},499,{"$nulls":5},0,null,null,0,0,0]
[{"$nulls":13},500,{"$nulls":5},0,null,null,0,0,0]

{"sheet":"BFA 2D Payout","index":10,"n_rows":52,"n_cols":6,"rows_kept":52,"cut":false,"hidden":true,"merged":[[19,0,19,4],[0,0,0,4],[3,0,3,4],[4,0,4,4],[11,0,11,4],[12,0,12,4],[7,3,9,4],[16,3,17,4],[51,0,51,4],[20,0,20,4],[28,0,28,4],[29,0,29,4],[39,0,39,4],[40,0,40,4],[25,3,26,4],[35,3,37,4],[46,3,49,4]]}
["BFA 2D Payout"]
["Entry Fee","# Entries","% Payback","Added $","  Total Payout","Each Go"]
[25,19,0.8,200,{"$f":"(A3*$C$3)*B3+D3","v":580},0.3]
[{"$nulls":5},{"$f":"$E$3*$F$3","v":174}]
["$5,000-7,500 Pays 5 Places         4 to 1D 1 to 2D"]
["Placings","1D",null,"2D"]
["1st",{"$f":"($F$4*$C$7)","v":57.42},0.33,{"$f":"$F$4*$E$7","v":12.180000000000001},7.0000000000000007E-2]
["2nd",{"$f":"$F$4*$C$8","v":46.980000000000004},0.27]
["3rd",{"$f":"$F$4*$C$9","v":34.800000000000004},0.2]
["4th",{"$f":"$F$4*$C$10","v":22.62},0.13]
["Totals",{"$f":"SUM(B7:B10)","v":161.82000000000002},null,{"$f":"SUM(D7:D10)","v":12.180000000000001},{"$f":"(C7+C8+C9+C10+E7+E8)","v":1}]
[{"$f":"B11+D11","v":174.00000000000003}]
["$7,501 - 10,000 Pays 6 Places        4 to 1D,  2 to 2D"]
["Placings","1D",null,"2D"]
["1st",{"$f":"$F$4*$C$15","v":50.459999999999994},0.28999999999999998,{"$f":"$F$4*$E$15","v":15.66},0.09]
["2nd",{"$f":"+$F$4*$C$16","v":41.76},0.24,{"$f":"F4*E16","v":8.7000000000000011},0.05]
["3rd",{"$f":"$F$4*$C$17","v":33.06},0.19]
["4th",{"$f":"$F$4*$C$18","v":24.360000000000003},0.14000000000000001]
["Totals",{"$f":"SUM(B15:B18)","v":149.64000000000001},null,{"$f":"D16+D15","v":24.36},{"$f":"SUM(C15+C16+C17+C18+E15+E16)","v":1}]
[{"$f":"D19+B19","v":174}]
["   $10,001 - $15,000 Payes 8 Places        5 to 1D, 3 to 2D"]
["Placings","1D",null,"2D"]
["1st",{"$f":"F4*C23","v":41.76},0.24,{"$f":"F4*E23","v":12.180000000000001},7.0000000000000007E-2]
["2nd",{"$f":"F4*C24","v":34.800000000000004},0.2,{"$f":"F4*E24","v":8.7000000000000011},0.05]
["3rd",{"$f":"F4*C25","v":29.580000000000002},0.17,{"$f":"F4*E25","v":6.96},0.04]
["4th",{"$f":"F4*C26","v":22.62},0.13]
["5th",{"$f":"F4*C27","v":17.400000000000002},0.1]
["Totals",{"$f":"SUM(B23:B27)","v":146.16},null,{"$f":"SUM(D23:D27)","v":27.840000000000003},{"$f":"C23+C24+C25+C26+C27+E23+E24+E25","v":1}]
[{"$f":"B28+D28","v":174}]
["$15,001 - $25,000 Payes 11 Places        7 to 1D, 4 to 2D"]
["Placings","1D",null,"2D"]
["1st",{"$f":"$F$4*C32","v":36.54},0.21,{"$f":"$F$4*E32","v":8.7000000000000011},0.05]
["2nd",{"$f":"$F$4*C33","v":31.32},0.18,{"$f":"$F$4*E33","v":6.96},0.04]
["3rd",26.099999999999998,0.15,5.22,0.03]
["4th",19.14,0.11,3.48,0.02]
["5th",13.92,0.08]
["6th",12.180000000000001,7.0000000000000007E-2]
["7th",10.44,0.06]
["Totals",{"$f":"SUM(B32:B38)","v":149.63999999999999},null,{"$f":"SUM(D32:D38)","v":24.36},{"$f":"C32+C33+C34+C35+C36+C37+C38+E32+E33+E34+E35","v":1.0000000000000002}]
[{"$f":"SUM(B39+D39)","v":174}]
["$25,001 - $35,000 Payes 12 Places          8 to 1D, 4 to 2D"]
["Placings","1D",null,"2D"]
["1st",{"$f":"$F$4*C43","v":33.06},0.19,{"$f":"$F$4*E43","v":8.7000000000000011},0.05]
["2nd",{"$f":"$F$4*C44","v":26.099999999999998},0.15,{"$f":"$F$4*E44","v":6.96},0.04]
["3rd",20.88,0.12,5.22,0.03]
["4th",17.400000000000002,0.1,3.48,0.02]
["5th",15.66,0.09]
["6th",13.92,0.08]
["7th",12.180000000000001,7.0000000000000007E-2]
["8th",10.44,0.06]
["Totals",{"$f":"SUM(B43:B50)","v":149.63999999999999},null,{"$f":"SUM(D43:D46)","v":24.36},{"$f":"C43+C44+C45+C46+C47+C48+C49+C50+E43+E44+E45+E46","v":1}]
[{"$f":"D51+B51","v":174}]

{"sheet":"2D Payout","index":11,"n_rows":76,"n_cols":5,"rows_kept":76,"cut":false,"hidden":false,"merged":[[36,3,36,4],[76,0,76,4],[43,0,43,4],[53,0,53,4],[65,0,65,4],[44,0,44,4],[54,0,54,4],[64,0,64,4],[45,3,45,4],[55,3,55,4],[66,3,66,4],[0,0,0,4],[8,0,8,4],[9,0,9,4],[3,0,3,4],[10,3,10,4],[5,3,6,3],[5,4,7,4],[13,0,13,4],[14,0,14,4],[20,0,20,4],[15,3,15,4],[27,0,27,4],[35,0,35,4],[34,0,34,4],[28,3,28,4],[19,0,19,4],[26,0,26,4],[21,3,21,4]]}
["2D Payout"]
["Entry Fee","# Entries","% Payback","Added $","  Total Payout"]
[100,19,0.8,0,{"$f":"(A3*$C$3)*B3+D3","v":1520}]
[" "]
["% in each D",0.6,0.4,"Total % =",{"$f":"SUM(B5:C5)","v":1}]
[null,"1D","2D"]
[null,{"$f":"(($A$3*$B$3*$C$3*$B$5)+($D$3*$B$5))","v":912},{"$f":"(($A$3*$B$3*$C$3*$C$5)+($D$3*$C$5))","v":608}]
["Totals",{"$f":"SUM(B7)","v":912},{"$f":"SUM(C7)","v":608},{"$f":"SUM(B8:C8)","v":1520}]
[]
["For 1-7 riders 1 place"]
["Placings","1D","2D"]
["1st",{"$f":"$B$7*$E$12","v":912},{"$f":"$C$7*$E$5","v":608},"è",1]
["Totals",{"$f":"SUM(B12:B12)","v":912},{"$f":"SUM(C12:C12)","v":608},{"$f":"SUM(B13:C13)","v":1520},{"$f":"SUM(E12)","v":1}]
[]
["For 8-11 riders 2 places"]
["Placings","1D","2D"]
["1st",{"$f":"$B$7*$E$17","v":638.4},{"$f":"$C$7*$E$17","v":425.59999999999997},"è",0.7]
["2nd",{"$f":"$B$7*$E$18","v":273.59999999999997},{"$f":"$C$7*$E$18","v":182.4},"è",0.3]
["Totals",{"$f":"SUM(B17:B18)","v":912},{"$f":"SUM(C17:C18)","v":608},{"$f":"SUM(B19:C19)","v":1520},{"$f":"SUM(E17:E18)","v":1}]
[]
["For 12-15 riders 3 places"]
["Placings","1D","2D"]
["1st",{"$f":"$B$7*$E$23","v":456},{"$f":"$C$7*$E$23","v":304},"è",0.5]
["2nd",{"$f":"$B$7*$E$24","v":273.59999999999997},{"$f":"$C$7*$E$24","v":182.4},"è",0.3]
["3rd",{"$f":"$B$7*$E$25","v":182.4},{"$f":"$C$7*$E$25","v":121.60000000000001},"è",0.2]
["Totals",{"$f":"SUM(B23:B25)","v":911.99999999999989},{"$f":"SUM(C23:C25)","v":608},{"$f":"SUM(B26:C26)","v":1520},{"$f":"SUM(E23:E25)","v":1}]
[]
["For 16-19 riders 4 places"]
["Placings","1D","2D"]
["1st",{"$f":"$B$7*$E$30","v":364.8},{"$f":"$C$7*$E$30","v":243.20000000000002},"è",0.4]
["2nd",{"$f":"$B$7*$E$31","v":273.59999999999997},{"$f":"$C$7*$E$31","v":182.4},"è",0.3]
["3rd",{"$f":"$B$7*$E$32","v":182.4},{"$f":"$C$7*$E$32","v":121.60000000000001},"è",0.2]
["4th",{"$f":"$B$7*$E$33","v":91.2},{"$f":"$C$7*$E$33","v":60.800000000000004},"è",0.1]
["Totals",{"$f":"SUM(B30:B33)","v":912},{"$f":"SUM(C30:C33)","v":608},{"$f":"SUM(B34:C34)","v":1520},{"$f":"SUM(E30:E33)","v":0.99999999999999989}]
[]
["For 20-23 riders 5 places"]
["Placings","1D","2D"]
["1st",{"$f":"$B$7*$E$38","v":273.59999999999997},{"$f":"$C$7*$E$38","v":182.4},"è",0.3]
["2nd",{"$f":"$B$7*$E$39","v":228},{"$f":"$C$7*$E$39","v":152},"è",0.25]
["3rd",{"$f":"$B$7*$E$40","v":182.4},{"$f":"$C$7*$E$40","v":121.60000000000001},"è",0.2]
["4th",{"$f":"$B$7*$E$41","v":136.79999999999998},{"$f":"$C$7*$E$41","v":91.2},"è",0.15]
["5th",{"$f":"$B$7*$E$42","v":91.2},{"$f":"$C$7*$E$42","v":60.800000000000004},"è",0.1]
["Totals",{"$f":"SUM(B38:B42)","v":912},{"$f":"SUM(C38:C42)","v":608},{"$f":"SUM(B43:C43)","v":1520},{"$f":"SUM(E38:E42)","v":1}]
[]
["For 24-27 riders 6 places"]
["Placings","1D","2D"]
["1st",{"$f":"$B$7*$E$47","v":228},{"$f":"$C$7*$E$47","v":152},"è",0.25]
["2nd",{"$f":"$B$7*$E$48","v":182.4},{"$f":"$C$7*$E$48","v":121.60000000000001},"è",0.2]
["3rd",{"$f":"$B$7*$E$49","v":164.16},{"$f":"$C$7*$E$49","v":109.44},"è",0.18]
["4th",{"$f":"$B$7*$E$50","v":136.79999999999998},{"$f":"$C$7*$E$50","v":91.2},"è",0.15]
["5th",{"$f":"$B$7*$E$51","v":109.44},{"$f":"$C$7*$E$51","v":72.959999999999994},"è",0.12]
["6th",{"$f":"$B$7*$E$52","v":91.2},{"$f":"$C$7*$E$52","v":60.800000000000004},"è",0.1]
["Totals",{"$f":"SUM(B47:B52)","v":912},{"$f":"SUM(C47:C52)","v":608},{"$f":"SUM(B53:C53)","v":1520},{"$f":"SUM(E47:E52)","v":1}]
[]
["For 28-31 riders 7 places"]
["Placings","1D","2D"]
["1st",{"$f":"$B$7*$E$57","v":200.64000000000001},{"$f":"$C$7*$E$57","v":133.76},"è",0.22]
["2nd",{"$f":"$B$7*$E$58","v":164.16},{"$f":"$C$7*$E$58","v":109.44},"è",0.18]
["3rd",{"$f":"$B$7*$E$59","v":145.92000000000002},{"$f":"$C$7*$E$59","v":97.28},"è",0.16]
["4th",{"$f":"$B$7*$E$60","v":127.68},{"$f":"$C$7*$E$60","v":85.12},"è",0.14000000000000001]
["5th",{"$f":"$B$7*$E$61","v":109.44},{"$f":"$C$7*$E$61","v":72.959999999999994},"è",0.12]
["6th",{"$f":"$B$7*$E$62","v":91.2},{"$f":"$C$7*$E$62","v":60.800000000000004},"è",0.1]
["7th",{"$f":"$B$7*$E$63","v":72.960000000000008},{"$f":"$C$7*$E$63","v":48.64},"è",0.08]
["Totals",{"$f":"SUM(B57:B63)","v":912.00000000000023},{"$f":"SUM(C57:C63)","v":608},{"$f":"SUM(B64:C64)","v":1520.0000000000002},{"$f":"SUM(E57:E63)","v":1}]
[]
["For 32 or more riders 8 places"]
["Placings","1D","2D"]
["1st",{"$f":"$B$7*$E$68","v":209.76000000000002},{"$f":"$C$7*$E$68","v":139.84},"è",0.23]
["2nd",{"$f":"$B$7*$E$69","v":182.4},{"$f":"$C$7*$E$69","v":121.60000000000001},"è",0.2]
["3rd",{"$f":"$B$7*$E$70","v":155.04000000000002},{"$f":"$C$7*$E$70","v":103.36000000000001},"è",0.17]
["4th",{"$f":"$B$7*$E$71","v":127.68},{"$f":"$C$7*$E$71","v":85.12},"è",0.14000000000000001]
["5th",{"$f":"$B$7*$E$72","v":100.32000000000001},{"$f":"$C$7*$E$72","v":66.88},"è",0.11]
["6th",{"$f":"$B$7*$E$73","v":72.960000000000008},{"$f":"$C$7*$E$73","v":48.64},"è",0.08]
["7th",{"$f":"$B$7*$E$74","v":45.6},{"$f":"$C$7*$E$74","v":30.400000000000002},"è",0.05]
["8th",{"$f":"$B$7*$E$75","v":18.240000000000002},{"$f":"$C$7*$E$75","v":12.16},"è",0.02]
["Totals",{"$f":"SUM(B68:B75)","v":912.00000000000023},{"$f":"SUM(C68:C75)","v":607.99999999999989},{"$f":"SUM(B76:C76)","v":1520},{"$f":"SUM(E68:E75)","v":1}]

{"sheet":"3D Payout","index":12,"n_rows":76,"n_cols":6,"rows_kept":76,"cut":false,"hidden":true,"merged":[[76,0,76,5],[43,0,43,5],[53,0,53,5],[64,0,64,5],[66,4,66,5],[13,0,13,5],[19,0,19,5],[14,0,14,5],[15,4,15,5],[10,4,10,5],[0,0,0,5],[3,0,3,5],[8,0,8,5],[9,0,9,5],[5,5,7,5],[5,4,6,4],[20,0,20,5],[26,0,26,5],[65,0,65,5],[44,0,44,5],[54,0,54,5],[27,0,27,5],[35,0,35,5],[21,4,21,5],[55,4,55,5],[45,4,45,5],[36,4,36,5],[28,4,28,5],[34,0,34,5]]}
["3D Payout"]
["Entry Fee","# Entries","% Payback","$ From Entry","Added $","  Total Payout"]
[10,3,0.8,{"$f":"$A$3*$C$3*$B$3","v":24},null,{"$f":"$D$3+$E$3","v":24}]
[]
["% in each D",0.5,0.3,0.2,"Total % =",{"$f":"SUM(B5:D5)","v":1}]
[null,"1D","2D","3D"]
[null,{"$f":"(($A$3*$B$3*$C$3*$B$5)+($E$3*$B$5))","v":12},{"$f":"(($A$3*$B$3*$C$3*$C$5)+($E$3*$C$5))","v":7.1999999999999993},{"$f":"(($A$3*$B$3*$C$3*$D$5)+($E$3*$D$5))","v":4.8000000000000007}]
["Totals",{"$f":"SUM(B7)","v":12},{"$f":"SUM(C7)","v":7.1999999999999993},4.8000000000000007,{"$f":"SUM(B8:D8)","v":24}]
[]
["For 1-10 riders 1 place"]
["Placings","1D","2D","3D"]
["1st",{"$f":"$B$7*$F$12","v":12},{"$f":"$C$7*$F$12","v":7.1999999999999993},{"$f":"$D$7*$F$12","v":4.8000000000000007},"è",1]
["Totals",{"$f":"SUM(B12:B12)","v":12},{"$f":"SUM(C12:C12)","v":7.1999999999999993},{"$f":"SUM(D12:D12)","v":4.8000000000000007},{"$f":"SUM(B13:D13)","v":24},{"$f":"SUM(F12)","v":1}]
[]
["For 11-15 riders 2 places"]
["Placings","1D","2D","3D"]
["1st",{"$f":"$B$7*$F$17","v":7.1999999999999993},{"$f":"$C$7*$F$17","v":4.3199999999999994},{"$f":"$D$7*$F$17","v":2.8800000000000003},"è",0.6]
["2nd",{"$f":"$B$7*$F$18","v":4.8000000000000007},{"$f":"$C$7*$F$18","v":2.88},{"$f":"$D$7*$F$18","v":1.9200000000000004},"è",0.4]
["Totals",{"$f":"SUM(B17:B18)","v":12},{"$f":"SUM(C17:C18)","v":7.1999999999999993},{"$f":"SUM(D17:D18)","v":4.8000000000000007},{"$f":"SUM(B19:D19)","v":24},{"$f":"SUM(F17:F18)","v":1}]
[]
["For 16-30 riders 3 places"]
["Placings","1D","2D","3D"]
["1st",{"$f":"$B$7*$F$23","v":6},{"$f":"$C$7*$F$23","v":3.5999999999999996},{"$f":"$D$7*$F$23","v":2.4000000000000004},"è",0.5]
["2nd",{"$f":"$B$7*$F$24","v":3.5999999999999996},{"$f":"$C$7*$F$24","v":2.1599999999999997},{"$f":"$D$7*$F$24","v":1.4400000000000002},"è",0.3]
["3rd",{"$f":"$B$7*$F$25","v":2.4000000000000004},{"$f":"$C$7*$F$25","v":1.44},{"$f":"$D$7*$F$25","v":0.96000000000000019},"è",0.2]
["Totals",{"$f":"SUM(B23:B25)","v":12},{"$f":"SUM(C23:C25)","v":7.1999999999999993},{"$f":"SUM(D22:D25)","v":4.8000000000000007},{"$f":"SUM(B26:D26)","v":24},{"$f":"SUM(F23:F25)","v":1}]
[]
["For 31-60 riders 4 places"]
["Placings","1D","2D","3D"]
["1st",{"$f":"$B$7*$F$30","v":5.04},{"$f":"$C$7*$F$30","v":3.0239999999999996},{"$f":"$D$7*$F$30","v":2.016},"è",0.42]
["2nd",{"$f":"$B$7*$F$31","v":3.4799999999999995},{"$f":"$C$7*$F$31","v":2.0879999999999996},{"$f":"$D$7*$F$31","v":1.3920000000000001},"è",0.28999999999999998]
["3rd",{"$f":"$B$7*$F$32","v":2.2800000000000002},{"$f":"$C$7*$F$32","v":1.3679999999999999},{"$f":"$D$7*$F$32","v":0.91200000000000014},"è",0.19]
["4th",{"$f":"$B$7*$F$33","v":1.2000000000000002},{"$f":"$C$7*$F$33","v":0.72},{"$f":"$D$7*$F$33","v":0.48000000000000009},"è",0.1]
["Totals",{"$f":"SUM(B30:B33)","v":12},{"$f":"SUM(C30:C33)","v":7.1999999999999984},{"$f":"SUM(D30:D33)","v":4.8000000000000007},{"$f":"SUM(B34:D34)","v":24},{"$f":"SUM(F30:F33)","v":0.99999999999999989}]
[]
["For 61-90 riders 5 places"]
["Placings","1D","2D","3D"]
["1st",{"$f":"$B$7*$F$38","v":4.5600000000000005},{"$f":"$C$7*$F$38","v":2.7359999999999998},{"$f":"$D$7*$F$38","v":1.8240000000000003},"è",0.38]
["2nd",{"$f":"$B$7*$F$39","v":3.3600000000000003},{"$f":"$C$7*$F$39","v":2.016},{"$f":"$D$7*$F$39","v":1.3440000000000003},"è",0.28000000000000003]
["3rd",{"$f":"$B$7*$F$40","v":2.16},{"$f":"$C$7*$F$40","v":1.2959999999999998},{"$f":"$D$7*$F$40","v":0.8640000000000001},"è",0.18]
["4th",{"$f":"$B$7*$F$41","v":1.2000000000000002},{"$f":"$C$7*$F$41","v":0.72},{"$f":"$D$7*$F$41","v":0.48000000000000009},"è",0.1]
["5th",{"$f":"$B$7*$F$42","v":0.72},{"$f":"$C$7*$F$42","v":0.43199999999999994},{"$f":"$D$7*$F$42","v":0.28800000000000003},"è",0.06]
["Totals",{"$f":"SUM(B38:B42)","v":12.000000000000002},{"$f":"SUM(C38:C42)","v":7.1999999999999993},{"$f":"SUM(D38:D42)","v":4.8000000000000016},{"$f":"SUM(B43:D43)","v":24.000000000000004},{"$f":"SUM(F38:F42)","v":1}]
[]
["For 91-120 riders 6 places"]
["Placings","1D","2D","3D"]
["1st",{"$f":"$B$7*$F$47","v":4.32},{"$f":"$C$7*$F$47","v":2.5919999999999996},{"$f":"$D$7*$F$47","v":1.7280000000000002},"è",0.36]
["2nd",{"$f":"$B$7*$F$48","v":3.12},{"$f":"$C$7*$F$48","v":1.8719999999999999},{"$f":"$D$7*$F$48","v":1.2480000000000002},"è",0.26]
["3rd",{"$f":"$B$7*$F$49","v":1.92},{"$f":"$C$7*$F$49","v":1.1519999999999999},{"$f":"$D$7*$F$49","v":0.76800000000000013},"è",0.16]
["4th",{"$f":"$B$7*$F$50","v":1.2000000000000002},{"$f":"$C$7*$F$50","v":0.72},{"$f":"$D$7*$F$50","v":0.48000000000000009},"è",0.1]
["5th",{"$f":"$B$7*$F$51","v":0.84000000000000008},{"$f":"$C$7*$F$51","v":0.504},{"$f":"$D$7*$F$51","v":0.33600000000000008},"è",7.0000000000000007E-2]
["6th",{"$f":"$B$7*$F$52","v":0.60000000000000009},{"$f":"$C$7*$F$52","v":0.36},{"$f":"$D$7*$F$52","v":0.24000000000000005},"è",0.05]
["Totals",{"$f":"SUM(B47:B52)","v":11.999999999999998},{"$f":"SUM(C47:C52)","v":7.2},{"$f":"SUM(D47:D52)","v":4.8000000000000016},{"$f":"SUM(B53:D53)","v":24},{"$f":"SUM(F47:F52)","v":1}]
[]
["For 121-200 riders 7 places"]
["Placings","1D","2D","3D"]
["1st",{"$f":"$B$7*$F$57","v":3.12},{"$f":"$C$7*$F$57","v":1.8719999999999999},{"$f":"$D$7*$F$57","v":1.2480000000000002},"è",0.26]
["2nd",{"$f":"$B$7*$F$58","v":2.4000000000000004},{"$f":"$C$7*$F$58","v":1.44},{"$f":"$D$7*$F$58","v":0.96000000000000019},"è",0.2]
["3rd",{"$f":"$B$7*$F$59","v":1.7999999999999998},{"$f":"$C$7*$F$59","v":1.0799999999999998},{"$f":"$D$7*$F$59","v":0.72000000000000008},"è",0.15]
["4th",{"$f":"$B$7*$F$60","v":1.44},{"$f":"$C$7*$F$60","v":0.86399999999999988},{"$f":"$D$7*$F$60","v":0.57600000000000007},"è",0.12]
["5th",{"$f":"$B$7*$F$61","v":1.2000000000000002},{"$f":"$C$7*$F$61","v":0.72},{"$f":"$D$7*$F$61","v":0.48000000000000009},"è",0.1]
["6th",{"$f":"$B$7*$F$62","v":1.08},{"$f":"$C$7*$F$62","v":0.64799999999999991},{"$f":"$D$7*$F$62","v":0.43200000000000005},"è",0.09]
["7th",{"$f":"$B$7*$F$63","v":0.96},{"$f":"$C$7*$F$63","v":0.57599999999999996},{"$f":"$D$7*$F$63","v":0.38400000000000006},"è",0.08]
["Totals",{"$f":"SUM(B57:B63)","v":12},{"$f":"SUM(C57:C63)","v":7.1999999999999984},{"$f":"SUM(D57:D63)","v":4.8000000000000007},{"$f":"SUM(B64:D64)","v":24},{"$f":"SUM(F57:F63)","v":0.99999999999999989}]
[]
["For 201 or more riders 8 places"]
["Placings","1D","2D","3D"]
["1st",{"$f":"$B$7*0.24","v":2.88},{"$f":"$C$7*0.24","v":1.7279999999999998},{"$f":"$D$7*0.24","v":1.1520000000000001},"è",0.24]
["2nd",{"$f":"$B$7*0.18","v":2.16},{"$f":"$C$7*0.18","v":1.2959999999999998},{"$f":"$D$7*0.18","v":0.8640000000000001},"è",0.18]
["3rd",{"$f":"$B$7*0.15","v":1.7999999999999998},{"$f":"$C$7*0.15","v":1.0799999999999998},{"$f":"$D$7*0.15","v":0.72000000000000008},"è",0.15]
["4th",{"$f":"$B$7*0.12","v":1.44},{"$f":"$C$7*0.12","v":0.86399999999999988},{"$f":"$D$7*0.12","v":0.57600000000000007},"è",0.12]
["5th",{"$f":"$B$7*0.1","v":1.2000000000000002},{"$f":"$C$7*0.1","v":0.72},{"$f":"$D$7*0.1","v":0.48000000000000009},"è",0.1]
["6th",{"$f":"$B$7*0.08","v":0.96},{"$f":"$C$7*0.08","v":0.57599999999999996},{"$f":"$D$7*0.08","v":0.38400000000000006},"è",0.08]
["7th",{"$f":"$B$7*0.07","v":0.84000000000000008},{"$f":"$C$7*0.07","v":0.504},{"$f":"$D$7*0.07","v":0.33600000000000008},"è",7.0000000000000007E-2]
["8th",{"$f":"$B$7*0.06","v":0.72},{"$f":"$C$7*0.06","v":0.43199999999999994},{"$f":"$D$7*0.06","v":0.28800000000000003},"è",0.06]
["Totals",{"$f":"SUM(B68:B75)","v":12.000000000000002},{"$f":"SUM(C68:C75)","v":7.1999999999999993},{"$f":"SUM(D68:D75)","v":4.8000000000000007},{"$f":"SUM(B76:D76)","v":24.000000000000004},{"$f":"SUM(F68:F75)","v":1}]

{"sheet":"4D Payout BBR","index":13,"n_rows":172,"n_cols":7,"rows_kept":172,"cut":false,"hidden":true,"merged":[[172,0,172,5],[21,5,21,6],[15,5,15,6],[27,0,27,6],[45,5,45,6],[54,0,54,6],[28,5,28,6],[35,0,35,6],[36,5,36,6],[44,0,44,6],[19,0,19,6],[67,5,67,6],[53,0,53,6],[43,0,43,6],[34,0,34,6],[26,0,26,6],[9,0,9,6],[10,5,10,6],[13,0,13,6],[14,0,14,6],[20,0,20,6],[0,0,0,6],[3,0,3,6],[5,5,6,5],[5,6,7,6],[8,0,8,6],[55,5,55,6],[65,0,65,6],[66,0,66,6],[116,5,116,6],[138,0,138,6],[139,0,139,6],[140,5,140,6],[79,0,79,6],[80,0,80,6],[81,5,81,6],[96,0,96,6],[97,5,97,6],[95,0,95,6],[114,0,114,6],[115,0,115,6]]}
["4D Payout BBR"]
["Entry Fee","# Entries","% Payback","$ From Entry","Added $","Total Payout"]
[40,200,0.8,{"$f":"$A$3*$C$3*$B$3","v":6400},1100,{"$f":"($A$3*$C$3)*$B$3+$E$3","v":7500}]
[]
["% in each D",0.35,0.3,0.2,0.15,"Total % Payout",{"$f":"SUM(B5:E5)","v":0.99999999999999989}]
[null,"1D","2D","3D","4D"]
[null,{"$f":"(($A$3*$B$3*$C$3*0.35)+($E$3/4))","v":2515},{"$f":"(($A$3*$B$3*$C$3*0.3)+($E$3/4))","v":2195},{"$f":"(($A$3*$B$3*$C$3*0.2)+($E$3/4))","v":1555},{"$f":"(($A$3*$B$3*$C$3*0.15)+($E$3/4))","v":1235}]
["Totals",{"$f":"SUM(B7)","v":2515},{"$f":"SUM(C7)","v":2195},1555,1235,{"$f":"SUM(B8:E8)","v":7500}]
[]
["For 1-16 riders 1 place"]
["Placings","1D","2D","3D","4D"]
["1st",{"$f":"$B$7*$G$12","v":2515},{"$f":"$C$7*$G$12","v":2195},{"$f":"$D$7*$G$12","v":1555},{"$f":"$E$7*$G$12","v":1235},"è",1]
["Totals",{"$f":"SUM(B12:B12)","v":2515},{"$f":"SUM(C12:C12)","v":2195},{"$f":"SUM(D12:D12)","v":1555},{"$f":"SUM(E12:E12)","v":1235},{"$f":"SUM(B13:E13)","v":7500},{"$f":"SUM(G12)","v":1}]
[]
["For 17-33 riders 2 places"]
["Placings","1D","2D","3D","4D"]
["1st",{"$f":"$B$7*$G$17","v":1509},{"$f":"$C$7*$G$17","v":1317},{"$f":"$D$7*$G$17","v":933},{"$f":"$E$7*$G$17","v":741},"è",0.6]
["2nd",{"$f":"$B$7*$G$18","v":1006},{"$f":"$C$7*$G$18","v":878},{"$f":"$D$7*$G$18","v":622},{"$f":"$E$7*$G$18","v":494},"è",0.4]
["Totals",{"$f":"SUM(B17:B18)","v":2515},{"$f":"SUM(C17:C18)","v":2195},{"$f":"SUM(D17:D18)","v":1555},{"$f":"SUM(E17:E18)","v":1235},{"$f":"SUM(B19:E19)","v":7500},{"$f":"SUM(G17:G18)","v":1}]
[]
["For 34-66 riders 3 places"]
["Placings","1D","2D","3D","4D"]
["1st",{"$f":"$B$7*$G$23","v":1257.5},{"$f":"$C$7*$G$23","v":1097.5},{"$f":"$D$7*$G$23","v":777.5},{"$f":"$E$7*$G$23","v":617.5},"è",0.5]
["2nd",{"$f":"$B$7*$G$24","v":754.5},{"$f":"$C$7*$G$24","v":658.5},{"$f":"$D$7*$G$24","v":466.5},{"$f":"$E$7*$G$24","v":370.5},"è",0.3]
["3rd",{"$f":"$B$7*$G$25","v":503},{"$f":"$C$7*$G$25","v":439},{"$f":"$D$7*$G$25","v":311},{"$f":"$E$7*$G$25","v":247},"è",0.2]
["Totals",{"$f":"SUM(B23:B25)","v":2515},{"$f":"SUM(C23:C25)","v":2195},{"$f":"SUM(D23:D25)","v":1555},{"$f":"SUM(E23:E25)","v":1235},{"$f":"SUM(B26:E26)","v":7500},{"$f":"SUM(G23:G25)","v":1}]
[]
["For 97-95 riders 4 places"]
["Placings","1D","2D","3D","4D"]
["1st",{"$f":"$B$7*$G$30","v":1006},{"$f":"$C$7*$G$30","v":878},{"$f":"$D$7*$G$30","v":622},{"$f":"$E$7*$G$30","v":494},"è",0.4]
["2nd",{"$f":"$B$7*$G$31","v":754.5},{"$f":"$C$7*$G$31","v":658.5},{"$f":"$D$7*$G$31","v":466.5},{"$f":"$E$7*$G$31","v":370.5},"è",0.3]
["3rd",{"$f":"$B$7*$G$32","v":503},{"$f":"$C$7*$G$32","v":439},{"$f":"$D$7*$G$32","v":311},{"$f":"$E$7*$G$32","v":247},"è",0.2]
["4th",{"$f":"$B$7*$G$33","v":251.5},{"$f":"$C$7*$G$33","v":219.5},{"$f":"$D$7*$G$33","v":155.5},{"$f":"$E$7*$G$33","v":123.5},"è",0.1]
["Totals",{"$f":"SUM(B30:B33)","v":2515},{"$f":"SUM(C30:C33)","v":2195},{"$f":"SUM(D30:D33)","v":1555},{"$f":"SUM(E30:E33)","v":1235},{"$f":"SUM(B34:E34)","v":7500},{"$f":"SUM(G30:G33)","v":0.99999999999999989}]
[]
["For 96-133 riders 5 places"]
["Placings","1D","2D","3D","4D"]
["1st",{"$f":"$B$7*$G$38","v":829.95},{"$f":"$C$7*$G$38","v":724.35},{"$f":"$D$7*G38","v":513.15},{"$f":"$E$7*$G$38","v":407.55},"è",0.33]
["2nd",{"$f":"$B$7*$G$39","v":679.05000000000007},{"$f":"$C$7*$G$39","v":592.65000000000009},{"$f":"$D$7*$G$39","v":419.85},{"$f":"$E$7*$G$39","v":333.45000000000005},"è",0.27]
["3rd",{"$f":"$B$7*$G$40","v":503},{"$f":"$C$7*$G$40","v":439},{"$f":"$D$7*$G$40","v":311},{"$f":"$E$7*$G$40","v":247},"è",0.2]
["4th",{"$f":"$B$7*$G$41","v":326.95},{"$f":"$C$7*$G$41","v":285.35000000000002},{"$f":"$D$7*$G$41","v":202.15},{"$f":"$E$7*$G$41","v":160.55000000000001},"è",0.13]
["5th",{"$f":"$B$7*$G$42","v":176.05},{"$f":"$C$7*$G$42","v":153.65},{"$f":"$D$7*$G$42","v":108.85000000000001},{"$f":"$E$7*$G$42","v":86.45},"è",7.0000000000000007E-2]
["Totals",{"$f":"SUM(B38:B42)","v":2515},{"$f":"SUM(C38:C42)","v":2195},{"$f":"SUM(D38:D42)","v":1555},{"$f":"SUM(E38:E42)","v":1235},{"$f":"SUM(B43:E43)","v":7500},{"$f":"SUM(G38:G42)","v":1}]
[]
["For 134-166 riders 6 places"]
["Placings","1D","2D","3D","4D"]
["1st",{"$f":"$B$7*$G$47","v":729.34999999999991},{"$f":"$C$7*$G$47","v":636.54999999999995},{"$f":"$D$7*$G$47","v":450.95},{"$f":"$E$7*$G$47","v":358.15},"è",0.28999999999999998]
["2nd",{"$f":"$B$7*$G$48","v":603.6},{"$f":"$C$7*$G$48","v":526.79999999999995},{"$f":"$D$7*$G$48","v":373.2},{"$f":"$E$7*$G$48","v":296.39999999999998},"è",0.24]
["3rd",{"$f":"$B$7*$G$49","v":477.85},{"$f":"$C$7*$G$49","v":417.05},{"$f":"$D$7*$G$49","v":295.45},{"$f":"$E$7*$G$49","v":234.65},"è",0.19]
["4th",{"$f":"$B$7*$G$50","v":352.1},{"$f":"$C$7*$G$50","v":307.3},{"$f":"$D$7*$G$50","v":217.70000000000002},{"$f":"$E$7*$G$50","v":172.9},"è",0.14000000000000001]
["5th",{"$f":"$B$7*$G$51","v":226.35},{"$f":"$C$7*$G$51","v":197.54999999999998},{"$f":"$D$7*$G$51","v":139.94999999999999},{"$f":"$E$7*$G$51","v":111.14999999999999},"è",0.09]
["6th",{"$f":"$B$7*$G$52","v":125.75},{"$f":"$C$7*$G$52","v":109.75},{"$f":"$D$7*$G$52","v":77.75},{"$f":"$E$7*$G$52","v":61.75},"è",0.05]
["Totals",{"$f":"SUM(B47:B52)","v":2514.9999999999995},{"$f":"SUM(C47:C52)","v":2195},{"$f":"SUM(D47:D52)","v":1555},{"$f":"SUM(E47:E52)","v":1235},{"$f":"SUM(B53:E53)","v":7500},{"$f":"SUM(G47:G52)","v":1}]
[]
["For 167-222 riders 8 places"]
["Placings","1D","2D","3D","4D"]
["1st",{"$f":"$B$7*$G$57","v":603.6},{"$f":"$C$7*$G$57","v":526.79999999999995},{"$f":"$D$7*$G$57","v":373.2},{"$f":"$E$7*$G$57","v":296.39999999999998},"è",0.24]
["2nd",{"$f":"$B$7*$G$58","v":503},{"$f":"$C$7*$G$58","v":439},{"$f":"$D$7*$G$58","v":311},{"$f":"$E$7*$G$58","v":247},"è",0.2]
["3rd",{"$f":"$B$7*$G$59","v":427.55},{"$f":"$C$7*$G$59","v":373.15000000000003},{"$f":"$D$7*$G$59","v":264.35000000000002},{"$f":"$E$7*$G$59","v":209.95000000000002},"è",0.17]
["4th",{"$f":"$B$7*$G$60","v":326.95},{"$f":"$C$7*$G$60","v":285.35000000000002},{"$f":"$D$7*$G$60","v":202.15},{"$f":"$E$7*$G$60","v":160.55000000000001},"è",0.13]
["5th",{"$f":"$B$7*$G$61","v":251.5},{"$f":"$C$7*$G$61","v":219.5},{"$f":"$D$7*$G$61","v":155.5},{"$f":"$E$7*$G$61","v":123.5},"è",0.1]
["6th",{"$f":"$B$7*$G$62","v":176.05},{"$f":"$C$7*$G$62","v":153.65},{"$f":"$D$7*$G$62","v":108.85000000000001},{"$f":"$E$7*$G$62","v":86.45},"è",7.0000000000000007E-2]
["7th",{"$f":"$B$7*$G$63","v":125.75},{"$f":"$C$7*$G$63","v":109.75},{"$f":"$D$7*$G$63","v":77.75},{"$f":"$E$7*$G$63","v":61.75},"è",0.05]
["8th",{"$f":"$B$7*$G$64","v":100.60000000000001},{"$f":"$C$7*$G$64","v":87.8},{"$f":"$D$7*$G$64","v":62.2},{"$f":"$E$7*$G$64","v":49.4},"è",0.04]
["Totals",{"$f":"SUM(B57:B64)","v":2515},{"$f":"SUM(C57:C64)","v":2195.0000000000005},{"$f":"SUM(D57:D64)","v":1555},{"$f":"SUM(E57:E64)","v":1235.0000000000002},{"$f":"SUM(B65:E65)","v":7500},{"$f":"SUM(G57:G64)","v":1}]
[]
["For 223-333 riders 10 places"]
["Placings","1D","2D","3D","4D"]
["1st",{"$f":"$B$7*$G$69","v":528.15},{"$f":"$C$7*$G$69","v":460.95},{"$f":"$D$7*$G$69","v":326.55},{"$f":"$E$7*$G$69","v":259.34999999999997},"è",0.21]
["2nd",{"$f":"$B$7*$G$70","v":452.7},{"$f":"$C$7*$G$70","v":395.09999999999997},{"$f":"$D$7*$G$70","v":279.89999999999998},{"$f":"$E$7*$G$70","v":222.29999999999998},"è",0.18]
["3rd",{"$f":"$B$7*$G$71","v":377.25},{"$f":"$C$7*$G$71","v":329.25},{"$f":"$D$7*$G$71","v":233.25},{"$f":"$E$7*$G$71","v":185.25},"è",0.15]
["4th",{"$f":"$B$7*$G$72","v":301.8},{"$f":"$C$7*$G$72","v":263.39999999999998},{"$f":"$D$7*$G$72","v":186.6},{"$f":"$E$7*$G$72","v":148.19999999999999},"è",0.12]
["5th",{"$f":"$B$7*$G$73","v":226.35},{"$f":"$C$7*$G$73","v":197.54999999999998},{"$f":"$D$7*$G$73","v":139.94999999999999},{"$f":"$E$7*$G$73","v":111.14999999999999},"è",0.09]
["6th",{"$f":"$B$7*$G$74","v":176.05},{"$f":"$C$7*$G$74","v":153.65},{"$f":"$D$7*$G$74","v":108.85000000000001},{"$f":"$E$7*$G$74","v":86.45},"è",7.0000000000000007E-2]
["7th",{"$f":"$B$7*$G$75","v":150.9},{"$f":"$C$7*$G$75","v":131.69999999999999},{"$f":"$D$7*$G$75","v":93.3},{"$f":"$E$7*$G$75","v":74.099999999999994},"è",0.06]
["8th",{"$f":"$B$7*$G$76","v":125.75},{"$f":"$C$7*$G$76","v":109.75},{"$f":"$D$7*$G$76","v":77.75},{"$f":"$E$7*$G$76","v":61.75},"è",0.05]
["9th",{"$f":"$B$7*$G$77","v":100.60000000000001},{"$f":"$C$7*$G$77","v":87.8},{"$f":"$D$7*$G$77","v":62.2},{"$f":"$E$7*$G$77","v":49.4},"è",0.04]
["10th",{"$f":"$B$7*$G$78","v":75.45},{"$f":"$C$7*$G$78","v":65.849999999999994},{"$f":"$D$7*$G$78","v":46.65},{"$f":"$E$7*$G$78","v":37.049999999999997},"è",0.03]
["Totals",{"$f":"SUM(B69:B78)","v":2514.9999999999995},{"$f":"SUM(C69:C78)","v":2195},{"$f":"SUM(D69:D78)","v":1555},{"$f":"SUM(E69:E78)","v":1235},{"$f":"B79+C79+D79+E79","v":7500},{"$f":"SUM(G69:G78)","v":1.0000000000000002}]
[]
["For 334-500 riders 12 places"]
["Placings","1D","2D","3D","4D"]
["1st",{"$f":"$B$7*$G$83","v":477.85},{"$f":"$C$7*$G$83","v":417.05},{"$f":"$D$7*$G$83","v":295.45},{"$f":"$E$7*$G$83","v":234.65},"è",0.19]
["2nd",{"$f":"$B$7*$G$84","v":377.25},{"$f":"$C$7*$G$84","v":329.25},{"$f":"$D$7*$G$84","v":233.25},{"$f":"$E$7*$G$84","v":185.25},"è",0.15]
["3rd",{"$f":"$B$7*$G$85","v":301.8},{"$f":"$C$7*$G$85","v":263.39999999999998},{"$f":"$D$7*$G$85","v":186.6},{"$f":"$E$7*$G$85","v":148.19999999999999},"è",0.12]
["4th",{"$f":"$B$7*$G$86","v":251.5},{"$f":"$C$7*$G$86","v":219.5},{"$f":"$D$7*$G$86","v":155.5},{"$f":"$E$7*$G$86","v":123.5},"è",0.1]
["5th",{"$f":"$B$7*$G$87","v":226.35},{"$f":"$C$7*$G$87","v":197.54999999999998},{"$f":"$D$7*$G$87","v":139.94999999999999},{"$f":"$E$7*$G$87","v":111.14999999999999},"è",0.09]
["6th",{"$f":"$B$7*$G$88","v":201.20000000000002},{"$f":"$C$7*$G$88","v":175.6},{"$f":"$D$7*$G$88","v":124.4},{"$f":"$E$7*$G$88","v":98.8},"è",0.08]
["7th",{"$f":"$B$7*$G$89","v":176.05},{"$f":"$C$7*$G$89","v":153.65},{"$f":"$D$7*$G$89","v":108.85000000000001},{"$f":"$E$7*$G$89","v":86.45},"è",7.0000000000000007E-2]
["8th",{"$f":"$B$7*$G$90","v":150.9},{"$f":"$C$7*$G$90","v":131.69999999999999},{"$f":"$D$7*$G$90","v":93.3},{"$f":"$E$7*$G$90","v":74.099999999999994},"è",0.06]
["9th",{"$f":"$B$7*$G$91","v":125.75},{"$f":"$C$7*$G$91","v":109.75},{"$f":"$D$7*$G$91","v":77.75},{"$f":"$E$7*$G$91","v":61.75},"è",0.05]
["10th",{"$f":"$B$7*$G$92","v":100.60000000000001},{"$f":"$C$7*$G$92","v":87.8},{"$f":"$D$7*$G$92","v":62.2},{"$f":"$E$7*$G$92","v":49.4},"è",0.04]
["11th",{"$f":"$B$7*$G$93","v":75.45},{"$f":"$C$7*$G$93","v":65.849999999999994},{"$f":"$D$7*$G$93","v":46.65},{"$f":"$E$7*$G$93","v":37.049999999999997},"è",0.03]
["12th",{"$f":"$B$7*$G$94","v":50.300000000000004},{"$f":"$C$7*$G$94","v":43.9},{"$f":"$D$7*$G$94","v":31.1},{"$f":"$E$7*$G$94","v":24.7},"è",0.02]
["Totals",{"$f":"SUM(B83:B94)","v":2515},{"$f":"SUM(C83:C94)","v":2195},1555,1235,{"$f":"B95+C95+D95+E95","v":7500},{"$f":"SUM(G83:G94)","v":1}]
[]
["For 501-750 riders 15 places"]
["Placings","1D","2D","3D","4D"]
["1st",{"$f":"$B$7*$G$99","v":452.7},{"$f":"$C$7*$G$99","v":395.09999999999997},{"$f":"$D$7*$G$99","v":279.89999999999998},{"$f":"$E$7*$G$99","v":222.29999999999998},"è",0.18]
["2nd",{"$f":"$B$7*$G$100","v":377.25},{"$f":"$C$7*$G$100","v":329.25},{"$f":"$D$7*$G$100","v":233.25},{"$f":"$E$7*$G$100","v":185.25},"è",0.15]
["3rd",{"$f":"$B$7*$G$101","v":301.8},{"$f":"$C$7*$G$101","v":263.39999999999998},{"$f":"$D$7*$G$101","v":186.6},{"$f":"$E$7*$G$101","v":148.19999999999999},"è",0.12]
["4th",{"$f":"$B$7*$G$102","v":251.5},{"$f":"$C$7*$G$102","v":219.5},{"$f":"$D$7*$G$102","v":155.5},{"$f":"$E$7*$G$102","v":123.5},"è",0.1]
["5th",{"$f":"$B$7*$G$103","v":213.77500000000001},{"$f":"$C$7*$G$103","v":186.57500000000002},{"$f":"$D$7*$G$103","v":132.17500000000001},{"$f":"$E$7*$G$103","v":104.97500000000001},"è",8.5000000000000006E-2]
["6th",{"$f":"$B$7*$G$104","v":176.05},{"$f":"$C$7*$G$104","v":153.65},{"$f":"$D$7*$G$104","v":108.85000000000001},{"$f":"$E$7*$G$104","v":86.45},"è",7.0000000000000007E-2]
["7th",{"$f":"$B$7*$G$105","v":150.9},{"$f":"$C$7*$G$105","v":131.69999999999999},{"$f":"$D$7*$G$105","v":93.3},{"$f":"$E$7*$G$105","v":74.099999999999994},"è",0.06]
["8th",{"$f":"$B$7*$G$106","v":125.75},{"$f":"$C$7*$G$106","v":109.75},{"$f":"$D$7*$G$106","v":77.75},{"$f":"$E$7*$G$106","v":61.75},"è",0.05]
["9th",{"$f":"$B$7*$G$107","v":106.8875},{"$f":"$C$7*$G$107","v":93.287500000000009},{"$f":"$D$7*$G$107","v":66.087500000000006},{"$f":"$E$7*$G$107","v":52.487500000000004},"è",4.2500000000000003E-2]
["10th",{"$f":"$B$7*$G$108","v":88.025000000000006},{"$f":"$C$7*$G$108","v":76.825000000000003},{"$f":"$D$7*$G$108","v":54.425000000000004},{"$f":"$E$7*$G$108","v":43.225000000000001},"è",3.5000000000000003E-2]
["11th",{"$f":"$B$7*$G$109","v":75.45},{"$f":"$C$7*$G$109","v":65.849999999999994},{"$f":"$D$7*$G$109","v":46.65},{"$f":"$E$7*$G$109","v":37.049999999999997},"è",0.03]
["12th",{"$f":"$B$7*$G$110","v":62.875},{"$f":"$C$7*$G$110","v":54.875},{"$f":"$D$7*$G$110","v":38.875},{"$f":"$E$7*$G$110","v":30.875},"è",2.5000000000000001E-2]
["13th",{"$f":"$B$7*$G$111","v":50.300000000000004},{"$f":"$C$7*$G$111","v":43.9},{"$f":"$D$7*$G$111","v":31.1},{"$f":"$E$7*$G$111","v":24.7},"è",0.02]
["14th",{"$f":"$B$7*$G$112","v":44.012500000000003},{"$f":"$C$7*$G$112","v":38.412500000000001},{"$f":"$D$7*$G$112","v":27.212500000000002},{"$f":"$E$7*$G$112","v":21.612500000000001},"è",1.7500000000000002E-2]
["15th",{"$f":"$B$7*$G$113","v":37.725000000000001},{"$f":"$C$7*$G$113","v":32.924999999999997},{"$f":"$D$7*$G$113","v":23.324999999999999},{"$f":"$E$7*$G$113","v":18.524999999999999},"è",1.4999999999999999E-2]
["Totals",{"$f":"SUM(B99:B113)","v":2515},{"$f":"SUM(C99:C113)","v":2195},1555,1235,{"$f":"B114+C114+D114+E114","v":7500},{"$f":"SUM(G99:G113)","v":1}]
[]
["For 751-1200 riders 20 places"]
["Placings","1D","2D","3D","4D"]
["1st",{"$f":"$B$7*$G$118","v":352.1},{"$f":"$C$7*$G$118","v":307.3},{"$f":"$D$7*$G$118","v":217.70000000000002},{"$f":"$E$7*$G$118","v":172.9},"è",0.14000000000000001]
["2nd",{"$f":"$B$7*$G$119","v":276.64999999999998},{"$f":"$C$7*$G$119","v":241.45},{"$f":"$D$7*$G$119","v":171.05},{"$f":"$E$7*$G$119","v":135.85},"è",0.11]
["3rd",{"$f":"$B$7*$G$120","v":226.35},{"$f":"$C$7*$G$120","v":197.54999999999998},{"$f":"$D$7*$G$120","v":139.94999999999999},{"$f":"$E$7*$G$120","v":111.14999999999999},"è",0.09]
["4th",{"$f":"$B$7*$G$121","v":193.655},{"$f":"$C$7*$G$121","v":169.01499999999999},{"$f":"$D$7*$G$121","v":119.735},{"$f":"$E$7*$G$121","v":95.094999999999999},"è",7.6999999999999999E-2]
["5th",{"$f":"$B$7*$G$122","v":176.05},{"$f":"$C$7*$G$122","v":153.65},{"$f":"$D$7*$G$122","v":108.85000000000001},{"$f":"$E$7*$G$122","v":86.45},"è",7.0000000000000007E-2]
["6th",{"$f":"$B$7*$G$123","v":163.47499999999999},{"$f":"$C$7*$G$123","v":142.67500000000001},{"$f":"$D$7*$G$123","v":101.075},{"$f":"$E$7*$G$123","v":80.275000000000006},"è",6.5000000000000002E-2]
["7th",{"$f":"$B$7*$G$124","v":150.9},{"$f":"$C$7*$G$124","v":131.69999999999999},{"$f":"$D$7*$G$124","v":93.3},{"$f":"$E$7*$G$124","v":74.099999999999994},"è",0.06]
["8th",{"$f":"$B$7*$G$125","v":138.32499999999999},{"$f":"$C$7*$G$125","v":120.72499999999999},{"$f":"$D$7*$G$125","v":85.525000000000006},{"$f":"$E$7*$G$125","v":67.924999999999997},"è",5.5E-2]
["9th",{"$f":"$B$7*$G$126","v":125.75},{"$f":"$C$7*$G$126","v":109.75},{"$f":"$D$7*$G$126","v":77.75},{"$f":"$E$7*$G$126","v":61.75},"è",0.05]
["10th",{"$f":"$B$7*$G$127","v":113.175},{"$f":"$C$7*$G$127","v":98.774999999999991},{"$f":"$D$7*$G$127","v":69.974999999999994},{"$f":"$E$7*$G$127","v":55.574999999999996},"è",4.4999999999999998E-2]
["11th",{"$f":"$B$7*$G$128","v":100.60000000000001},{"$f":"$C$7*$G$128","v":87.8},{"$f":"$D$7*$G$128","v":62.2},{"$f":"$E$7*$G$128","v":49.4},"è",0.04]
["12th",{"$f":"$B$7*$G$129","v":93.054999999999993},{"$f":"$C$7*$G$129","v":81.214999999999989},{"$f":"$D$7*$G$129","v":57.534999999999997},{"$f":"$E$7*$G$129","v":45.695},"è",3.6999999999999998E-2]
["13th",{"$f":"$B$7*$G$130","v":82.995000000000005},{"$f":"$C$7*$G$130","v":72.435000000000002},{"$f":"$D$7*$G$130","v":51.315000000000005},{"$f":"$E$7*$G$130","v":40.755000000000003},"è",3.3000000000000002E-2]
["14th",{"$f":"$B$7*$G$131","v":72.935000000000002},{"$f":"$C$7*$G$131","v":63.655000000000001},{"$f":"$D$7*$G$131","v":45.094999999999999},{"$f":"$E$7*$G$131","v":35.815000000000005},"è",2.9000000000000001E-2]
["15th",{"$f":"$B$7*$G$132","v":62.875},{"$f":"$C$7*$G$132","v":54.875},{"$f":"$D$7*$G$132","v":38.875},{"$f":"$E$7*$G$132","v":30.875},"è",2.5000000000000001E-2]
["16th",{"$f":"$B$7*$G$133","v":52.815000000000005},{"$f":"$C$7*$G$133","v":46.095000000000006},{"$f":"$D$7*$G$133","v":32.655000000000001},{"$f":"$E$7*$G$133","v":25.935000000000002},"è",2.1000000000000001E-2]
["17th",{"$f":"$B$7*$G$134","v":42.755000000000003},{"$f":"$C$7*$G$134","v":37.315000000000005},{"$f":"$D$7*$G$134","v":26.435000000000002},{"$f":"$E$7*$G$134","v":20.995000000000001},"è",1.7000000000000001E-2]
["18th",{"$f":"$B$7*$G$135","v":35.21},{"$f":"$C$7*$G$135","v":30.73},{"$f":"$D$7*$G$135","v":21.77},{"$f":"$E$7*$G$135","v":17.29},"è",1.4E-2]
["19th",{"$f":"$B$7*$G$136","v":30.18},{"$f":"$C$7*$G$136","v":26.34},{"$f":"$D$7*$G$136","v":18.66},{"$f":"$E$7*$G$136","v":14.82},"è",1.2E-2]
["20th",{"$f":"$B$7*$G$137","v":25.150000000000002},{"$f":"$C$7*$G$137","v":21.95},{"$f":"$D$7*$G$137","v":15.55},{"$f":"$E$7*$G$137","v":12.35},"è",0.01]
["Totals",{"$f":"SUM(B118:B137)","v":2515},{"$f":"SUM(C118:C137)","v":2194.9999999999995},1555.0000000000002,1234.9999999999998,{"$f":"B138+C138+D138+E138","v":7500},{"$f":"SUM(G118:G137)","v":1.0000000000000004}]
[]
["For 1201 or More riders 30 places"]
["Placings","1D","2D","3D","4D"]
["1st",{"$f":"$B$7*$G$142","v":301.8},{"$f":"$C$7*$G$142","v":263.39999999999998},{"$f":"$D$7*$G$142","v":186.6},{"$f":"$E$7*$G$142","v":148.19999999999999},"è",0.12]
["2nd",{"$f":"$B$7*$G$143","v":238.92500000000001},{"$f":"$C$7*$G$143","v":208.52500000000001},{"$f":"$D$7*$G$143","v":147.72499999999999},{"$f":"$E$7*$G$143","v":117.325},"è",9.5000000000000001E-2]
["3rd",{"$f":"$B$7*$G$144","v":183.595},{"$f":"$C$7*$G$144","v":160.23499999999999},{"$f":"$D$7*$G$144","v":113.51499999999999},{"$f":"$E$7*$G$144","v":90.155000000000001},"è",7.2999999999999995E-2]
["4th",{"$f":"$B$7*$G$145","v":155.93},{"$f":"$C$7*$G$145","v":136.09},{"$f":"$D$7*$G$145","v":96.41},{"$f":"$E$7*$G$145","v":76.569999999999993},"è",6.2E-2]
["5th",{"$f":"$B$7*$G$146","v":125.75},{"$f":"$C$7*$G$146","v":109.75},{"$f":"$D$7*$G$146","v":77.75},{"$f":"$E$7*$G$146","v":61.75},"è",0.05]
["6th",{"$f":"$B$7*$G$147","v":113.175},{"$f":"$C$7*$G$147","v":98.774999999999991},{"$f":"$D$7*$G$147","v":69.974999999999994},{"$f":"$E$7*$G$147","v":55.574999999999996},"è",4.4999999999999998E-2]
["7th",{"$f":"$B$7*$G$148","v":108.145},{"$f":"$C$7*$G$148","v":94.384999999999991},{"$f":"$D$7*$G$148","v":66.864999999999995},{"$f":"$E$7*$G$148","v":53.104999999999997},"è",4.2999999999999997E-2]
["8th",{"$f":"$B$7*$G$149","v":100.60000000000001},{"$f":"$C$7*$G$149","v":87.8},{"$f":"$D$7*$G$149","v":62.2},{"$f":"$E$7*$G$149","v":49.4},"è",0.04]
["9th",{"$f":"$B$7*$G$150","v":93.054999999999993},{"$f":"$C$7*$G$150","v":81.214999999999989},{"$f":"$D$7*$G$150","v":57.534999999999997},{"$f":"$E$7*$G$150","v":45.695},"è",3.6999999999999998E-2]
["10th",{"$f":"$B$7*$G$151","v":88.025000000000006},{"$f":"$C$7*$G$151","v":76.825000000000003},{"$f":"$D$7*$G$151","v":54.425000000000004},{"$f":"$E$7*$G$151","v":43.225000000000001},"è",3.5000000000000003E-2]
["11th",{"$f":"$B$7*$G$152","v":82.995000000000005},{"$f":"$C$7*$G$152","v":72.435000000000002},{"$f":"$D$7*$G$152","v":51.315000000000005},{"$f":"$E$7*$G$152","v":40.755000000000003},"è",3.3000000000000002E-2]
["12th",{"$f":"$B$7*$G$153","v":77.965000000000003},{"$f":"$C$7*$G$153","v":68.045000000000002},{"$f":"$D$7*$G$153","v":48.204999999999998},{"$f":"$E$7*$G$153","v":38.284999999999997},"è",3.1E-2]
["13th",{"$f":"$B$7*$G$154","v":72.935000000000002},{"$f":"$C$7*$G$154","v":63.655000000000001},{"$f":"$D$7*$G$154","v":45.094999999999999},{"$f":"$E$7*$G$154","v":35.815000000000005},"è",2.9000000000000001E-2]
["14th",{"$f":"$B$7*$G$155","v":67.905000000000001},{"$f":"$C$7*$G$155","v":59.265000000000001},{"$f":"$D$7*$G$155","v":41.984999999999999},{"$f":"$E$7*$G$155","v":33.344999999999999},"è",2.7E-2]
["15th",{"$f":"$B$7*$G$156","v":62.875},{"$f":"$C$7*$G$156","v":54.875},{"$f":"$D$7*$G$156","v":38.875},{"$f":"$E$7*$G$156","v":30.875},"è",2.5000000000000001E-2]
["16th",{"$f":"$B$7*$G$157","v":60.36},{"$f":"$C$7*$G$157","v":52.68},{"$f":"$D$7*$G$157","v":37.32},{"$f":"$E$7*$G$157","v":29.64},"è",2.4E-2]
["17th",{"$f":"$B$7*$G$158","v":57.844999999999999},{"$f":"$C$7*$G$158","v":50.484999999999999},{"$f":"$D$7*$G$158","v":35.765000000000001},{"$f":"$E$7*$G$158","v":28.405000000000001},"è",2.3E-2]
["18th",{"$f":"$B$7*$G$159","v":55.33},{"$f":"$C$7*$G$159","v":48.29},{"$f":"$D$7*$G$159","v":34.21},{"$f":"$E$7*$G$159","v":27.169999999999998},"è",2.1999999999999999E-2]
["19th",{"$f":"$B$7*$G$160","v":52.815000000000005},{"$f":"$C$7*$G$160","v":46.095000000000006},{"$f":"$D$7*$G$160","v":32.655000000000001},{"$f":"$E$7*$G$160","v":25.935000000000002},"è",2.1000000000000001E-2]
["20th",{"$f":"$B$7*$G$161","v":50.300000000000004},{"$f":"$C$7*$G$161","v":43.9},{"$f":"$D$7*$G$161","v":31.1},{"$f":"$E$7*$G$161","v":24.7},"è",0.02]
["21st",{"$f":"$B$7*$G$162","v":47.784999999999997},{"$f":"$C$7*$G$162","v":41.704999999999998},{"$f":"$D$7*$G$162","v":29.544999999999998},{"$f":"$E$7*$G$162","v":23.465},"è",1.9E-2]
["22nd",{"$f":"$B$7*$G$163","v":45.269999999999996},{"$f":"$C$7*$G$163","v":39.51},{"$f":"$D$7*$G$163","v":27.99},{"$f":"$E$7*$G$163","v":22.229999999999997},"è",1.7999999999999999E-2]
["23rd",{"$f":"$B$7*$G$164","v":42.755000000000003},{"$f":"$C$7*$G$164","v":37.315000000000005},{"$f":"$D$7*$G$164","v":26.435000000000002},{"$f":"$E$7*$G$164","v":20.995000000000001},"è",1.7000000000000001E-2]
["24th",{"$f":"$B$7*$G$165","v":40.24},{"$f":"$C$7*$G$165","v":35.119999999999997},{"$f":"$D$7*$G$165","v":24.88},{"$f":"$E$7*$G$165","v":19.760000000000002},"è",1.6E-2]
["25th",{"$f":"$B$7*$G$166","v":37.725000000000001},{"$f":"$C$7*$G$166","v":32.924999999999997},{"$f":"$D$7*$G$166","v":23.324999999999999},{"$f":"$E$7*$G$166","v":18.524999999999999},"è",1.4999999999999999E-2]
["26th",{"$f":"$B$7*$G$167","v":35.21},{"$f":"$C$7*$G$167","v":30.73},{"$f":"$D$7*$G$167","v":21.77},{"$f":"$E$7*$G$167","v":17.29},"è",1.4E-2]
["27th",{"$f":"$B$7*$G$168","v":32.695},{"$f":"$C$7*$G$168","v":28.535},{"$f":"$D$7*$G$168","v":20.215},{"$f":"$E$7*$G$168","v":16.055},"è",1.2999999999999999E-2]
["28th",{"$f":"$B$7*$G$169","v":30.18},{"$f":"$C$7*$G$169","v":26.34},{"$f":"$D$7*$G$169","v":18.66},{"$f":"$E$7*$G$169","v":14.82},"è",1.2E-2]
["29th",{"$f":"$B$7*$G$170","v":27.664999999999999},{"$f":"$C$7*$G$170","v":24.145},{"$f":"$D$7*$G$170","v":17.105},{"$f":"$E$7*$G$170","v":13.584999999999999},"è",1.0999999999999999E-2]
["30th",{"$f":"$B$7*$G$171","v":25.150000000000002},{"$f":"$C$7*$G$171","v":21.95},{"$f":"$D$7*$G$171","v":15.55},{"$f":"$E$7*$G$171","v":12.35},"è",0.01]
["Totals",{"$f":"SUM(B142:B171)","v":2514.9999999999995},{"$f":"SUM(C142:C171)","v":2194.9999999999995},{"$f":"SUM(D142:D171)","v":1555},{"$f":"SUM(E142:E171)","v":1234.9999999999998},{"$f":"B172+C172+D172+E172","v":7499.9999999999991},{"$f":"SUM(G142:G171)","v":1.0000000000000002}]

{"sheet":"5D Payout BBR","index":14,"n_rows":172,"n_cols":8,"rows_kept":172,"cut":false,"hidden":false,"merged":[[10,6,10,7],[13,0,13,7],[14,0,14,7],[140,6,140,7],[5,7,7,7],[15,6,15,7],[19,0,19,7],[20,0,20,7],[21,6,21,7],[26,0,26,7],[27,0,27,7],[28,6,28,7],[34,0,34,7],[35,0,35,7],[36,6,36,7],[43,0,43,7],[0,0,0,7],[3,0,3,7],[8,0,8,7],[9,0,9,7],[5,6,6,6],[44,0,44,7],[45,6,45,7],[53,0,53,7],[54,0,54,7],[55,6,55,7],[65,0,65,7],[66,0,66,7],[79,0,79,7],[67,6,67,7],[138,0,138,7],[139,0,139,7],[80,0,80,7],[95,0,95,7],[96,0,96,7],[81,6,81,7],[97,6,97,7],[116,6,116,7],[114,0,114,7],[115,0,115,7]]}
["5D Payout BBR"]
["Entry Fee","# Entries","% Payback","$ From Entry","Added $","Total Payout","Total $ Held"]
[50,317,0.8,{"$f":"$A$3*$C$3*$B$3","v":12680},2000,{"$f":"($A$3*$C$3)*$B$3+$E$3","v":14680},{"$f":"$A$3*(100%-$C$3)*$B$3","v":3169.9999999999995}]
[]
["% in each D",0.3,0.25,0.2,0.15,0.1,"Total % Payout",{"$f":"SUM(B5:F5)","v":1}]
[null,"1D","2D","3D","4D","5D"]
[null,{"$f":"(($A$3*$B$3*$C$3*$B$5)+($E$3*$B$5))","v":4404},{"$f":"(($A$3*$B$3*$C$3*$C$5)+($E$3*$C$5))","v":3670},{"$f":"(($A$3*$B$3*$C$3*$D$5)+($E$3*$D$5))","v":2936},{"$f":"(($A$3*$B$3*$C$3*$E$5)+($E$3*$E$5))","v":2202},{"$f":"(($A$3*$B$3*$C$3*$F$5)+($E$3*$F$5))","v":1468}]
["Totals",{"$f":"SUM(B7)","v":4404},{"$f":"SUM(C7)","v":3670},2936,2202,1468,{"$f":"SUM(B8:F8)","v":14680}]
[]
["For 1-25 riders 1 place"]
["Placings","1D","2D","3D","4D","5D"]
["1st",{"$f":"$B$7*$H$12","v":4404},{"$f":"$C$7*$H$12","v":3670},{"$f":"$D$7*$H$12","v":2936},{"$f":"$E$7*$H$12","v":2202},{"$f":"$F$7*$H$12","v":1468},"è",1]
["Totals",{"$f":"SUM(B12:B12)","v":4404},{"$f":"SUM(C12:C12)","v":3670},{"$f":"SUM(D12:D12)","v":2936},{"$f":"SUM(E12:E12)","v":2202},{"$f":"SUM(F12)","v":1468},{"$f":"SUM(B13:F13)","v":14680},{"$f":"SUM(H12)","v":1}]
[]
["For 26-50 riders 2 places"]
["Placings","1D","2D","3D","4D","5D"]
["1st",{"$f":"$B$7*$H$17","v":2642.4},{"$f":"$C$7*$H$17","v":2202},{"$f":"$D$7*$H$17","v":1761.6},{"$f":"$E$7*$H$17","v":1321.2},{"$f":"$F$7*$H$17","v":880.8},"è",0.6]
["2nd",{"$f":"$B$7*$H$18","v":1761.6000000000001},{"$f":"$C$7*$H$18","v":1468},{"$f":"$D$7*$H$18","v":1174.4000000000001},{"$f":"$E$7*$H$18","v":880.80000000000007},{"$f":"$F$7*$H$18","v":587.20000000000005},"è",0.4]
["Totals",{"$f":"SUM(B17:B18)","v":4404},{"$f":"SUM(C17:C18)","v":3670},{"$f":"SUM(D17:D18)","v":2936},{"$f":"SUM(E17:E18)","v":2202},{"$f":"SUM(F17:F18)","v":1468},{"$f":"SUM(B19:F19)","v":14680},{"$f":"SUM(H17:H18)","v":1}]
[]
["For 51-100 riders 3 places"]
["Placings","1D","2D","3D","4D","5D"]
["1st",{"$f":"$B$7*$H$23","v":2202},{"$f":"$C$7*$H$23","v":1835},{"$f":"$D$7*$H$23","v":1468},{"$f":"$E$7*$H$23","v":1101},{"$f":"$F$7*$H$23","v":734},"è",0.5]
["2nd",{"$f":"$B$7*$H$24","v":1321.2},{"$f":"$C$7*$H$24","v":1101},{"$f":"$D$7*$H$24","v":880.8},{"$f":"$E$7*$H$24","v":660.6},{"$f":"$F$7*$H$24","v":440.4},"è",0.3]
["3rd",{"$f":"$B$7*$H$25","v":880.80000000000007},{"$f":"$C$7*$H$25","v":734},{"$f":"$D$7*$H$25","v":587.20000000000005},{"$f":"$E$7*$H$25","v":440.40000000000003},{"$f":"$F$7*$H$25","v":293.60000000000002},"è",0.2]
["Totals",{"$f":"SUM(B23:B25)","v":4404},{"$f":"SUM(C23:C25)","v":3670},{"$f":"SUM(D23:D25)","v":2936},{"$f":"SUM(E23:E25)","v":2202},{"$f":"SUM(F23:F25)","v":1468},{"$f":"SUM(B26:F26)","v":14680},{"$f":"SUM(H23:H25)","v":1}]
[]
["For 101-143 riders 4 places"]
["Placings","1D","2D","3D","4D","5D"]
["1st",{"$f":"$B$7*$H$30","v":1761.6000000000001},{"$f":"$C$7*$H$30","v":1468},{"$f":"$D$7*$H$30","v":1174.4000000000001},{"$f":"$E$7*$H$30","v":880.80000000000007},{"$f":"$F$7*$H$30","v":587.20000000000005},"è",0.4]
["2nd",{"$f":"$B$7*$H$31","v":1321.2},{"$f":"$C$7*$H$31","v":1101},{"$f":"$D$7*$H$31","v":880.8},{"$f":"$E$7*$H$31","v":660.6},{"$f":"$F$7*$H$31","v":440.4},"è",0.3]
["3rd",{"$f":"$B$7*$H$32","v":880.80000000000007},{"$f":"$C$7*$H$32","v":734},{"$f":"$D$7*$H$32","v":587.20000000000005},{"$f":"$E$7*$H$32","v":440.40000000000003},{"$f":"$F$7*$H$32","v":293.60000000000002},"è",0.2]
["4th",{"$f":"$B$7*$H$33","v":440.40000000000003},{"$f":"$C$7*$H$33","v":367},{"$f":"$D$7*$H$33","v":293.60000000000002},{"$f":"$E$7*$H$33","v":220.20000000000002},{"$f":"$F$7*$H$33","v":146.80000000000001},"è",0.1]
["Totals",{"$f":"SUM(B30:B33)","v":4404},{"$f":"SUM(C30:C33)","v":3670},{"$f":"SUM(D30:D33)","v":2935.9999999999995},{"$f":"SUM(E30:E33)","v":2202},{"$f":"SUM(F30:F33)","v":1467.9999999999998},{"$f":"SUM(B34:F34)","v":14680},{"$f":"SUM(H30:H33)","v":0.99999999999999989}]
[]
["For 144-200 riders 5 places"]
["Placings","1D","2D","3D","4D","5D"]
["1st",{"$f":"$B$7*$H$38","v":1453.3200000000002},{"$f":"$C$7*$H$38","v":1211.1000000000001},{"$f":"$D$7*$H$38","v":968.88},{"$f":"$E$7*$H$38","v":726.66000000000008},{"$f":"$F$7*$H$38","v":484.44},"è",0.33]
["2nd",{"$f":"$B$7*$H$39","v":1189.0800000000002},{"$f":"$C$7*$H$39","v":990.90000000000009},{"$f":"$D$7*$H$39","v":792.72},{"$f":"$E$7*$H$39","v":594.54000000000008},{"$f":"$F$7*$H$39","v":396.36},"è",0.27]
["3rd",{"$f":"$B$7*$H$40","v":880.80000000000007},{"$f":"$C$7*$H$40","v":734},{"$f":"$D$7*$H$40","v":587.20000000000005},{"$f":"$E$7*$H$40","v":440.40000000000003},{"$f":"$F$7*$H$40","v":293.60000000000002},"è",0.2]
["4th",{"$f":"$B$7*$H$41","v":572.52},{"$f":"$C$7*$H$41","v":477.1},{"$f":"$D$7*$H$41","v":381.68},{"$f":"$E$7*$H$41","v":286.26},{"$f":"$F$7*$H$41","v":190.84},"è",0.13]
["5th",{"$f":"$B$7*$H$42","v":308.28000000000003},{"$f":"$C$7*$H$42","v":256.90000000000003},{"$f":"$D$7*$H$42","v":205.52},{"$f":"$E$7*$H$42","v":154.14000000000001},{"$f":"$F$7*$H$42","v":102.76},"è",7.0000000000000007E-2]
["Totals",{"$f":"SUM(B38:B42)","v":4404.0000000000009},{"$f":"SUM(C38:C42)","v":3670},{"$f":"SUM(D38:D42)","v":2936},{"$f":"SUM(E38:E42)","v":2202.0000000000005},{"$f":"SUM(F38:F42)","v":1468},{"$f":"SUM(B43:F43)","v":14680},{"$f":"SUM(H38:H42)","v":1}]
[]
["For 201-250 riders 6 places"]
["Placings","1D","2D","3D","4D","5D"]
["1st",{"$f":"$B$7*$H$47","v":1277.1599999999999},{"$f":"$C$7*$H$47","v":1064.3},{"$f":"$D$7*$H$47","v":851.43999999999994},{"$f":"$E$7*$H$47","v":638.57999999999993},{"$f":"$F$7*$H$47","v":425.71999999999997},"è",0.28999999999999998]
["2nd",{"$f":"$B$7*$H$48","v":1056.96},{"$f":"$C$7*$H$48","v":880.8},{"$f":"$D$7*$H$48","v":704.64},{"$f":"$E$7*$H$48","v":528.48},{"$f":"$F$7*$H$48","v":352.32},"è",0.24]
["3rd",{"$f":"$B$7*$H$49","v":836.76},{"$f":"$C$7*$H$49","v":697.3},{"$f":"$D$7*$H$49","v":557.84},{"$f":"$E$7*$H$49","v":418.38},{"$f":"$F$7*$H$49","v":278.92},"è",0.19]
["4th",{"$f":"$B$7*$H$50","v":616.56000000000006},{"$f":"$C$7*$H$50","v":513.80000000000007},{"$f":"$D$7*$H$50","v":411.04},{"$f":"$E$7*$H$50","v":308.28000000000003},{"$f":"$F$7*$H$50","v":205.52},"è",0.14000000000000001]
["5th",{"$f":"$B$7*$H$51","v":396.36},{"$f":"$C$7*$H$51","v":330.3},{"$f":"$D$7*$H$51","v":264.24},{"$f":"$E$7*$H$51","v":198.18},{"$f":"$F$7*$H$51","v":132.12},"è",0.09]
["6th",{"$f":"$B$7*$H$52","v":220.20000000000002},{"$f":"$C$7*$H$52","v":183.5},{"$f":"$D$7*$H$52","v":146.80000000000001},{"$f":"$E$7*$H$52","v":110.10000000000001},{"$f":"$F$7*$H$52","v":73.400000000000006},"è",0.05]
["Totals",{"$f":"SUM(B47:B52)","v":4404},{"$f":"SUM(C47:C52)","v":3670},{"$f":"SUM(D47:D52)","v":2936},{"$f":"SUM(E47:E52)","v":2202},{"$f":"SUM(F47:F52)","v":1468},{"$f":"SUM(B53:F53)","v":14680},{"$f":"SUM(H47:H52)","v":1}]
[]
["For 251-333 riders 8 places"]
["Placings","1D","2D","3D","4D","5D"]
["1st",{"$f":"$B$7*$H$57","v":1056.96},{"$f":"$C$7*$H$57","v":880.8},{"$f":"$D$7*$H$57","v":704.64},{"$f":"$E$7*$H$57","v":528.48},{"$f":"$F$7*$H$57","v":352.32},"è",0.24]
["2nd",{"$f":"$B$7*$H$58","v":880.80000000000007},{"$f":"$C$7*$H$58","v":734},{"$f":"$D$7*$H$58","v":587.20000000000005},{"$f":"$E$7*$H$58","v":440.40000000000003},{"$f":"$F$7*$H$58","v":293.60000000000002},"è",0.2]
["3rd",{"$f":"$B$7*$H$59","v":748.68000000000006},{"$f":"$C$7*$H$59","v":623.90000000000009},{"$f":"$D$7*$H$59","v":499.12000000000006},{"$f":"$E$7*$H$59","v":374.34000000000003},{"$f":"$F$7*$H$59","v":249.56000000000003},"è",0.17]
["4th",{"$f":"$B$7*$H$60","v":572.52},{"$f":"$C$7*$H$60","v":477.1},{"$f":"$D$7*$H$60","v":381.68},{"$f":"$E$7*$H$60","v":286.26},{"$f":"$F$7*$H$60","v":190.84},"è",0.13]
["5th",{"$f":"$B$7*$H$61","v":440.40000000000003},{"$f":"$C$7*$H$61","v":367},{"$f":"$D$7*$H$61","v":293.60000000000002},{"$f":"$E$7*$H$61","v":220.20000000000002},{"$f":"$F$7*$H$61","v":146.80000000000001},"è",0.1]
["6th",{"$f":"$B$7*$H$62","v":308.28000000000003},{"$f":"$C$7*$H$62","v":256.90000000000003},{"$f":"$D$7*$H$62","v":205.52},{"$f":"$E$7*$H$62","v":154.14000000000001},{"$f":"$F$7*$H$62","v":102.76},"è",7.0000000000000007E-2]
["7th",{"$f":"$B$7*$H$63","v":220.20000000000002},{"$f":"$C$7*$H$63","v":183.5},{"$f":"$D$7*$H$63","v":146.80000000000001},{"$f":"$E$7*$H$63","v":110.10000000000001},{"$f":"$F$7*$H$63","v":73.400000000000006},"è",0.05]
["8th",{"$f":"$B$7*$H$64","v":176.16},{"$f":"$C$7*$H$64","v":146.80000000000001},{"$f":"$D$7*$H$64","v":117.44},{"$f":"$E$7*$H$64","v":88.08},{"$f":"$F$7*$H$64","v":58.72},"è",0.04]
["Totals",{"$f":"SUM(B57:B64)","v":4404.0000000000009},{"$f":"SUM(C57:C64)","v":3670},{"$f":"SUM(D57:D64)","v":2936.0000000000005},{"$f":"SUM(E57:E64)","v":2202.0000000000005},{"$f":"SUM(F57:F64)","v":1468.0000000000002},{"$f":"SUM(B65:F65)","v":14680.000000000002},{"$f":"SUM(H57:H64)","v":1}]
[]
["For 334-500 riders 10 places"]
["Placings","1D","2D","3D","4D","5D"]
["1st",{"$f":"$B$7*$H$69","v":924.83999999999992},{"$f":"$C$7*$H$69","v":770.69999999999993},{"$f":"$D$7*$H$69","v":616.55999999999995},{"$f":"$E$7*$H$69","v":462.41999999999996},{"$f":"$F$7*$H$69","v":308.27999999999997},"è",0.21]
["2nd",{"$f":"$B$7*$H$70","v":792.72},{"$f":"$C$7*$H$70","v":660.6},{"$f":"$D$7*$H$70","v":528.48},{"$f":"$E$7*$H$70","v":396.36},{"$f":"$F$7*$H$70","v":264.24},"è",0.18]
["3rd",{"$f":"$B$7*$H$71","v":660.6},{"$f":"$C$7*$H$71","v":550.5},{"$f":"$D$7*$H$71","v":440.4},{"$f":"$E$7*$H$71","v":330.3},{"$f":"$F$7*$H$71","v":220.2},"è",0.15]
["4th",{"$f":"$B$7*$H$72","v":528.48},{"$f":"$C$7*$H$72","v":440.4},{"$f":"$D$7*$H$72","v":352.32},{"$f":"$E$7*$H$72","v":264.24},{"$f":"$F$7*$H$72","v":176.16},"è",0.12]
["5th",{"$f":"$B$7*$H$73","v":396.36},{"$f":"$C$7*$H$73","v":330.3},{"$f":"$D$7*$H$73","v":264.24},{"$f":"$E$7*$H$73","v":198.18},{"$f":"$F$7*$H$73","v":132.12},"è",0.09]
["6th",{"$f":"$B$7*$H$74","v":308.28000000000003},{"$f":"$C$7*$H$74","v":256.90000000000003},{"$f":"$D$7*$H$74","v":205.52},{"$f":"$E$7*$H$74","v":154.14000000000001},{"$f":"$F$7*$H$74","v":102.76},"è",7.0000000000000007E-2]
["7th",{"$f":"$B$7*$H$75","v":264.24},{"$f":"$C$7*$H$75","v":220.2},{"$f":"$D$7*$H$75","v":176.16},{"$f":"$E$7*$H$75","v":132.12},{"$f":"$F$7*$H$75","v":88.08},"è",0.06]
["8th",{"$f":"$B$7*$H$76","v":220.20000000000002},{"$f":"$C$7*$H$76","v":183.5},{"$f":"$D$7*$H$76","v":146.80000000000001},{"$f":"$E$7*$H$76","v":110.10000000000001},{"$f":"$F$7*$H$76","v":73.400000000000006},"è",0.05]
["9th",{"$f":"$B$7*$H$77","v":176.16},{"$f":"$C$7*$H$77","v":146.80000000000001},{"$f":"$D$7*$H$77","v":117.44},{"$f":"$E$7*$H$77","v":88.08},{"$f":"$F$7*$H$77","v":58.72},"è",0.04]
["10th",{"$f":"$B$7*$H$78","v":132.12},{"$f":"$C$7*$H$78","v":110.1},{"$f":"$D$7*$H$78","v":88.08},{"$f":"$E$7*$H$78","v":66.06},{"$f":"$F$7*$H$78","v":44.04},"è",0.03]
["Totals",{"$f":"SUM(B69:B78)","v":4404},{"$f":"SUM(C69:C78)","v":3670},2936,2202,1468,{"$f":"SUM(B79:F79)","v":14680},{"$f":"SUM(H69:H78)","v":1.0000000000000002}]
[]
["For 501-666 riders 12 places"]
["Placings","1D","2D","3D","4D","5D"]
["1st",{"$f":"$B$7*$H$83","v":836.76},{"$f":"$C$7*$H$83","v":697.3},{"$f":"$D$7*$H$83","v":557.84},{"$f":"$E$7*$H$83","v":418.38},{"$f":"$F$7*$H$83","v":278.92},"è",0.19]
["2nd",{"$f":"$B$7*$H$84","v":660.6},{"$f":"$C$7*$H$84","v":550.5},{"$f":"$D$7*$H$84","v":440.4},{"$f":"$E$7*$H$84","v":330.3},{"$f":"$F$7*$H$84","v":220.2},"è",0.15]
["3rd",{"$f":"$B$7*$H$85","v":528.48},{"$f":"$C$7*$H$85","v":440.4},{"$f":"$D$7*$H$85","v":352.32},{"$f":"$E$7*$H$85","v":264.24},{"$f":"$F$7*$H$85","v":176.16},"è",0.12]
["4th",{"$f":"$B$7*$H$86","v":440.40000000000003},{"$f":"$C$7*$H$86","v":367},{"$f":"$D$7*$H$86","v":293.60000000000002},{"$f":"$E$7*$H$86","v":220.20000000000002},{"$f":"$F$7*$H$86","v":146.80000000000001},"è",0.1]
["5th",{"$f":"$B$7*$H$87","v":396.36},{"$f":"$C$7*$H$87","v":330.3},{"$f":"$D$7*$H$87","v":264.24},{"$f":"$E$7*$H$87","v":198.18},{"$f":"$F$7*$H$87","v":132.12},"è",0.09]
["6th",{"$f":"$B$7*$H$88","v":352.32},{"$f":"$C$7*$H$88","v":293.60000000000002},{"$f":"$D$7*$H$88","v":234.88},{"$f":"$E$7*$H$88","v":176.16},{"$f":"$F$7*$H$88","v":117.44},"è",0.08]
["7th",{"$f":"$B$7*$H$89","v":308.28000000000003},{"$f":"$C$7*$H$89","v":256.90000000000003},{"$f":"$D$7*$H$89","v":205.52},{"$f":"$E$7*$H$89","v":154.14000000000001},{"$f":"$F$7*$H$89","v":102.76},"è",7.0000000000000007E-2]
["8th",{"$f":"$B$7*$H$90","v":264.24},{"$f":"$C$7*$H$90","v":220.2},{"$f":"$D$7*$H$90","v":176.16},{"$f":"$E$7*$H$90","v":132.12},{"$f":"$F$7*$H$90","v":88.08},"è",0.06]
["9th",{"$f":"$B$7*$H$91","v":220.20000000000002},{"$f":"$C$7*$H$91","v":183.5},{"$f":"$D$7*$H$91","v":146.80000000000001},{"$f":"$E$7*$H$91","v":110.10000000000001},{"$f":"$F$7*$H$91","v":73.400000000000006},"è",0.05]
["10th",{"$f":"$B$7*$H$92","v":176.16},{"$f":"$C$7*$H$92","v":146.80000000000001},{"$f":"$D$7*$H$92","v":117.44},{"$f":"$E$7*$H$92","v":88.08},{"$f":"$F$7*$H$92","v":58.72},"è",0.04]
["11th",{"$f":"$B$7*$H$93","v":132.12},{"$f":"$C$7*$H$93","v":110.1},{"$f":"$D$7*$H$93","v":88.08},{"$f":"$E$7*$H$93","v":66.06},{"$f":"$F$7*$H$93","v":44.04},"è",0.03]
["12th",{"$f":"$B$7*$H$94","v":88.08},{"$f":"$C$7*$H$94","v":73.400000000000006},{"$f":"$D$7*$H$94","v":58.72},{"$f":"$E$7*$H$94","v":44.04},{"$f":"$F$7*$H$94","v":29.36},"è",0.02]
["Totals",{"$f":"SUM(B83:B94)","v":4404},{"$f":"SUM(C83:C94)","v":3670},{"$f":"SUM(D83:D94)","v":2935.9999999999995},{"$f":"SUM(E83:E94)","v":2202},{"$f":"SUM(F83:F94)","v":1467.9999999999998},{"$f":"SUM(B95:F95)","v":14680},{"$f":"SUM(H83:H94)","v":1}]
[]
["For 667-1000 riders 15 places"]
["Placings","1D","2D","3D","4D","5D"]
["1st",{"$f":"$B$7*$H$99","v":792.72},{"$f":"$C$7*$H$99","v":660.6},{"$f":"$D$7*$H$99","v":528.48},{"$f":"$E$7*$H$99","v":396.36},{"$f":"$F$7*$H$99","v":264.24},"è",0.18]
["2nd",{"$f":"$B$7*$H$100","v":660.6},{"$f":"$C$7*$H$100","v":550.5},{"$f":"$D$7*$H$100","v":440.4},{"$f":"$E$7*$H$100","v":330.3},{"$f":"$F$7*$H$100","v":220.2},"è",0.15]
["3rd",{"$f":"$B$7*$H$101","v":528.48},{"$f":"$C$7*$H$101","v":440.4},{"$f":"$D$7*$H$101","v":352.32},{"$f":"$E$7*$H$101","v":264.24},{"$f":"$F$7*$H$101","v":176.16},"è",0.12]
["4th",{"$f":"$B$7*$H$102","v":440.40000000000003},{"$f":"$C$7*$H$102","v":367},{"$f":"$D$7*$H$102","v":293.60000000000002},{"$f":"$E$7*$H$102","v":220.20000000000002},{"$f":"$F$7*$H$102","v":146.80000000000001},"è",0.1]
["5th",{"$f":"$B$7*$H$103","v":374.34000000000003},{"$f":"$C$7*$H$103","v":311.95000000000005},{"$f":"$D$7*$H$103","v":249.56000000000003},{"$f":"$E$7*$H$103","v":187.17000000000002},{"$f":"$F$7*$H$103","v":124.78000000000002},"è",8.5000000000000006E-2]
["6th",{"$f":"$B$7*$H$104","v":308.28000000000003},{"$f":"$C$7*$H$104","v":256.90000000000003},{"$f":"$D$7*$H$104","v":205.52},{"$f":"$E$7*$H$104","v":154.14000000000001},{"$f":"$F$7*$H$104","v":102.76},"è",7.0000000000000007E-2]
["7th",{"$f":"$B$7*$H$105","v":264.24},{"$f":"$C$7*$H$105","v":220.2},{"$f":"$D$7*$H$105","v":176.16},{"$f":"$E$7*$H$105","v":132.12},{"$f":"$F$7*$H$105","v":88.08},"è",0.06]
["8th",{"$f":"$B$7*$H$106","v":220.20000000000002},{"$f":"$C$7*$H$106","v":183.5},{"$f":"$D$7*$H$106","v":146.80000000000001},{"$f":"$E$7*$H$106","v":110.10000000000001},{"$f":"$F$7*$H$106","v":73.400000000000006},"è",0.05]
["9th",{"$f":"$B$7*$H$107","v":187.17000000000002},{"$f":"$C$7*$H$107","v":155.97500000000002},{"$f":"$D$7*$H$107","v":124.78000000000002},{"$f":"$E$7*$H$107","v":93.585000000000008},{"$f":"$F$7*$H$107","v":62.390000000000008},"è",4.2500000000000003E-2]
["10th",{"$f":"$B$7*$H$108","v":154.14000000000001},{"$f":"$C$7*$H$108","v":128.45000000000002},{"$f":"$D$7*$H$108","v":102.76},{"$f":"$E$7*$H$108","v":77.070000000000007},{"$f":"$F$7*$H$108","v":51.38},"è",3.5000000000000003E-2]
["11th",{"$f":"$B$7*$H$109","v":132.12},{"$f":"$C$7*$H$109","v":110.1},{"$f":"$D$7*$H$109","v":88.08},{"$f":"$E$7*$H$109","v":66.06},{"$f":"$F$7*$H$109","v":44.04},"è",0.03]
["12th",{"$f":"$B$7*$H$110","v":110.10000000000001},{"$f":"$C$7*$H$110","v":91.75},{"$f":"$D$7*$H$110","v":73.400000000000006},{"$f":"$E$7*$H$110","v":55.050000000000004},{"$f":"$F$7*$H$110","v":36.700000000000003},"è",2.5000000000000001E-2]
["13th",{"$f":"$B$7*$H$111","v":88.08},{"$f":"$C$7*$H$111","v":73.400000000000006},{"$f":"$D$7*$H$111","v":58.72},{"$f":"$E$7*$H$111","v":44.04},{"$f":"$F$7*$H$111","v":29.36},"è",0.02]
["14th",{"$f":"$B$7*$H$112","v":77.070000000000007},{"$f":"$C$7*$H$112","v":64.225000000000009},{"$f":"$D$7*$H$112","v":51.38},{"$f":"$E$7*$H$112","v":38.535000000000004},{"$f":"$F$7*$H$112","v":25.69},"è",1.7500000000000002E-2]
["15th",{"$f":"$B$7*$H$113","v":66.06},{"$f":"$C$7*$H$113","v":55.05},{"$f":"$D$7*$H$113","v":44.04},{"$f":"$E$7*$H$113","v":33.03},{"$f":"$F$7*$H$113","v":22.02},"è",1.4999999999999999E-2]
["Totals",{"$f":"SUM(B99:B113)","v":4404},{"$f":"SUM(C99:C113)","v":3669.9999999999995},{"$f":"SUM(D99:D113)","v":2936.0000000000005},{"$f":"SUM(E99:E113)","v":2202},{"$f":"SUM(F99:F113)","v":1468.0000000000002},{"$f":"SUM(B114:F114)","v":14680},{"$f":"SUM(H99:H113)","v":1}]
[]
["For 1001-1500 riders 20 places"]
["Placings","1D","2D","3D","4D","5D"]
["1st",{"$f":"$B$7*$H$118","v":616.56000000000006},{"$f":"$C$7*$H$118","v":513.80000000000007},{"$f":"$D$7*$H$118","v":411.04},{"$f":"$E$7*$H$118","v":308.28000000000003},{"$f":"$F$7*$H$118","v":205.52},"è",0.14000000000000001]
["2nd",{"$f":"$B$7*$H$119","v":484.44},{"$f":"$C$7*$H$119","v":403.7},{"$f":"$D$7*$H$119","v":322.95999999999998},{"$f":"$E$7*$H$119","v":242.22},{"$f":"$F$7*$H$119","v":161.47999999999999},"è",0.11]
["3rd",{"$f":"$B$7*$H$120","v":396.36},{"$f":"$C$7*$H$120","v":330.3},{"$f":"$D$7*$H$120","v":264.24},{"$f":"$E$7*$H$120","v":198.18},{"$f":"$F$7*$H$120","v":132.12},"è",0.09]
["4th",{"$f":"$B$7*$H$121","v":339.108},{"$f":"$C$7*$H$121","v":282.58999999999997},{"$f":"$D$7*$H$121","v":226.072},{"$f":"$E$7*$H$121","v":169.554},{"$f":"$F$7*$H$121","v":113.036},"è",7.6999999999999999E-2]
["5th",{"$f":"$B$7*$H$122","v":308.28000000000003},{"$f":"$C$7*$H$122","v":256.90000000000003},{"$f":"$D$7*$H$122","v":205.52},{"$f":"$E$7*$H$122","v":154.14000000000001},{"$f":"$F$7*$H$122","v":102.76},"è",7.0000000000000007E-2]
["6th",{"$f":"$B$7*$H$123","v":286.26},{"$f":"$C$7*$H$123","v":238.55},{"$f":"$D$7*$H$123","v":190.84},{"$f":"$E$7*$H$123","v":143.13},{"$f":"$F$7*$H$123","v":95.42},"è",6.5000000000000002E-2]
["7th",{"$f":"$B$7*$H$124","v":264.24},{"$f":"$C$7*$H$124","v":220.2},{"$f":"$D$7*$H$124","v":176.16},{"$f":"$E$7*$H$124","v":132.12},{"$f":"$F$7*$H$124","v":88.08},"è",0.06]
["8th",{"$f":"$B$7*$H$125","v":242.22},{"$f":"$C$7*$H$125","v":201.85},{"$f":"$D$7*$H$125","v":161.47999999999999},{"$f":"$E$7*$H$125","v":121.11},{"$f":"$F$7*$H$125","v":80.739999999999995},"è",5.5E-2]
["9th",{"$f":"$B$7*$H$126","v":220.20000000000002},{"$f":"$C$7*$H$126","v":183.5},{"$f":"$D$7*$H$126","v":146.80000000000001},{"$f":"$E$7*$H$126","v":110.10000000000001},{"$f":"$F$7*$H$126","v":73.400000000000006},"è",0.05]
["10th",{"$f":"$B$7*$H$127","v":198.18},{"$f":"$C$7*$H$127","v":165.15},{"$f":"$D$7*$H$127","v":132.12},{"$f":"$E$7*$H$127","v":99.09},{"$f":"$F$7*$H$127","v":66.06},"è",4.4999999999999998E-2]
["11th",{"$f":"$B$7*$H$128","v":176.16},{"$f":"$C$7*$H$128","v":146.80000000000001},{"$f":"$D$7*$H$128","v":117.44},{"$f":"$E$7*$H$128","v":88.08},{"$f":"$F$7*$H$128","v":58.72},"è",0.04]
["12th",{"$f":"$B$7*$H$129","v":162.94799999999998},{"$f":"$C$7*$H$129","v":135.79},{"$f":"$D$7*$H$129","v":108.63199999999999},{"$f":"$E$7*$H$129","v":81.47399999999999},{"$f":"$F$7*$H$129","v":54.315999999999995},"è",3.6999999999999998E-2]
["13th",{"$f":"$B$7*$H$130","v":145.33199999999999},{"$f":"$C$7*$H$130","v":121.11},{"$f":"$D$7*$H$130","v":96.888000000000005},{"$f":"$E$7*$H$130","v":72.665999999999997},{"$f":"$F$7*$H$130","v":48.444000000000003},"è",3.3000000000000002E-2]
["14th",{"$f":"$B$7*$H$131","v":127.71600000000001},{"$f":"$C$7*$H$131","v":106.43},{"$f":"$D$7*$H$131","v":85.144000000000005},{"$f":"$E$7*$H$131","v":63.858000000000004},{"$f":"$F$7*$H$131","v":42.572000000000003},"è",2.9000000000000001E-2]
["15th",{"$f":"$B$7*$H$132","v":110.10000000000001},{"$f":"$C$7*$H$132","v":91.75},{"$f":"$D$7*$H$132","v":73.400000000000006},{"$f":"$E$7*$H$132","v":55.050000000000004},{"$f":"$F$7*$H$132","v":36.700000000000003},"è",2.5000000000000001E-2]
["16th",{"$f":"$B$7*$H$133","v":92.484000000000009},{"$f":"$C$7*$H$133","v":77.070000000000007},{"$f":"$D$7*$H$133","v":61.656000000000006},{"$f":"$E$7*$H$133","v":46.242000000000004},{"$f":"$F$7*$H$133","v":30.828000000000003},"è",2.1000000000000001E-2]
["17th",{"$f":"$B$7*$H$134","v":74.868000000000009},{"$f":"$C$7*$H$134","v":62.390000000000008},{"$f":"$D$7*$H$134","v":49.912000000000006},{"$f":"$E$7*$H$134","v":37.434000000000005},{"$f":"$F$7*$H$134","v":24.956000000000003},"è",1.7000000000000001E-2]
["18th",{"$f":"$B$7*$H$135","v":61.655999999999999},{"$f":"$C$7*$H$135","v":51.38},{"$f":"$D$7*$H$135","v":41.103999999999999},{"$f":"$E$7*$H$135","v":30.827999999999999},{"$f":"$F$7*$H$135","v":20.552},"è",1.4E-2]
["19th",{"$f":"$B$7*$H$136","v":52.847999999999999},{"$f":"$C$7*$H$136","v":44.04},{"$f":"$D$7*$H$136","v":35.231999999999999},{"$f":"$E$7*$H$136","v":26.423999999999999},{"$f":"$F$7*$H$136","v":17.616},"è",1.2E-2]
["20th",{"$f":"$B$7*$H$137","v":44.04},{"$f":"$C$7*$H$137","v":36.700000000000003},{"$f":"$D$7*$H$137","v":29.36},{"$f":"$E$7*$H$137","v":22.02},{"$f":"$F$7*$H$137","v":14.68},"è",0.01]
["Totals",{"$f":"SUM(B118:B137)","v":4403.9999999999991},{"$f":"SUM(C118:C137)","v":3670},2936,2201.9999999999995,1468,{"$f":"SUM(B138:F138)","v":14680},{"$f":"SUM(H118:H137)","v":1.0000000000000004}]
[]
["For 1501 or More riders 30 places"]
["Placings","1D","2D","3D","4D","5D"]
["1st",{"$f":"$B$7*$H142","v":528.48},{"$f":"$C$7*$H142","v":440.4},{"$f":"$D$7*$H142","v":352.32},{"$f":"$E$7*$H142","v":264.24},{"$f":"$F$7*$H142","v":176.16},"è",0.12]
["2nd",{"$f":"$B$7*$H143","v":418.38},348.65,278.92,209.19,139.46,"è",9.5000000000000001E-2]
["3rd",{"$f":"$B$7*$H144","v":321.49199999999996},267.90999999999997,214.32799999999997,160.74599999999998,107.16399999999999,"è",7.2999999999999995E-2]
["4th",{"$f":"$B$7*$H145","v":273.048},227.54,182.03200000000001,136.524,91.016000000000005,"è",6.2E-2]
["5th",220.20000000000002,183.5,146.80000000000001,110.10000000000001,73.400000000000006,"è",0.05]
["6th",198.18,165.15,132.12,99.09,66.06,"è",4.4999999999999998E-2]
["7th",189.37199999999999,157.80999999999997,126.24799999999999,94.685999999999993,63.123999999999995,"è",4.2999999999999997E-2]
["8th",176.16,146.80000000000001,117.44,88.08,58.72,"è",0.04]
["9th",162.94799999999998,135.79,108.63199999999999,81.47399999999999,54.315999999999995,"è",3.6999999999999998E-2]
["10th",154.14000000000001,128.45000000000002,102.76,77.070000000000007,51.38,"è",3.5000000000000003E-2]
["11th",145.33199999999999,121.11,96.888000000000005,72.665999999999997,48.444000000000003,"è",3.3000000000000002E-2]
["12th",136.524,113.77,91.016000000000005,68.262,45.508000000000003,"è",3.1E-2]
["13th",127.71600000000001,106.43,85.144000000000005,63.858000000000004,42.572000000000003,"è",2.9000000000000001E-2]
["14th",118.908,99.09,79.272000000000006,59.454000000000001,39.636000000000003,"è",2.7E-2]
["15th",110.10000000000001,91.75,73.400000000000006,55.050000000000004,36.700000000000003,"è",2.5000000000000001E-2]
["16th",105.696,88.08,70.463999999999999,52.847999999999999,35.231999999999999,"è",2.4E-2]
["17th",101.292,84.41,67.528000000000006,50.646000000000001,33.764000000000003,"è",2.3E-2]
["18th",96.887999999999991,80.739999999999995,64.591999999999999,48.443999999999996,32.295999999999999,"è",2.1999999999999999E-2]
["19th",92.484000000000009,77.070000000000007,61.656000000000006,46.242000000000004,30.828000000000003,"è",2.1000000000000001E-2]
["20th",88.08,73.400000000000006,58.72,44.04,29.36,"è",0.02]
["21st",83.676000000000002,69.73,55.783999999999999,41.838000000000001,27.891999999999999,"è",1.9E-2]
["22nd",79.271999999999991,66.059999999999988,52.847999999999999,39.635999999999996,26.423999999999999,"è",1.7999999999999999E-2]
["23rd",74.868000000000009,62.390000000000008,49.912000000000006,37.434000000000005,24.956000000000003,"è",1.7000000000000001E-2]
["24th",70.463999999999999,58.72,46.975999999999999,35.231999999999999,23.488,"è",1.6E-2]
["25th",66.06,55.05,44.04,33.03,22.02,"è",1.4999999999999999E-2]
["26th",61.655999999999999,51.38,41.103999999999999,30.827999999999999,20.552,"è",1.4E-2]
["27th",57.251999999999995,47.71,38.167999999999999,28.625999999999998,19.084,"è",1.2999999999999999E-2]
["28th",52.847999999999999,44.04,35.231999999999999,26.423999999999999,17.616,"è",1.2E-2]
["29th",48.443999999999996,40.369999999999997,32.295999999999999,24.221999999999998,16.148,"è",1.0999999999999999E-2]
["30th",44.04,36.700000000000003,29.36,22.02,14.68,"è",0.01]
["Totals",{"$f":"SUM(B142:B171)","v":4403.9999999999991},{"$f":"SUM(C142:C171)","v":3669.9999999999995},2935.9999999999995,2201.9999999999995,1467.9999999999998,{"$f":"SUM(B172:F172)","v":14679.999999999998},{"$f":"SUM(H142:H171)","v":1.0000000000000002}]

{"sheet":"DON'T TOUCH","index":15,"n_rows":6,"n_cols":5,"rows_kept":6,"cut":false,"hidden":true,"merged":[]}
[]
["Yes",null,"S",5,"X"]
[null,null,"A",10]
[null,null,"Y",15]
[null,null,"P","BP"]
[null,null,null,"SCR"]